{"text_format":"1","workbook":"xlsx","n_sheets":11,"sheets":["REMISE %","Dimensionnement par chaudière","Calcul dim par chaudière","calculs par chaud","gamme DD chaud","References","Language","Price List","texte","DEVIS","Mise à jour"],"not_rendered":{"charts":0,"images":13,"macros":1,"external_links":0,"defined_names":17,"comments":0,"pivot_tables":0},"unopened":[],"bounds":{"document_bytes":16777216,"sheet_cells":100000,"rows_first":2000,"rows_last":500,"rows_between":2000,"halvings":0,"cell_chars":16384,"cell_head_chars":4096},"cells_cut":0,"cells_raw":0,"read":"whole","date_system":"1900"}

{"sheet":"REMISE %","index":0,"n_rows":4,"n_cols":3,"rows_kept":4,"cut":false,"hidden":true,"merged":[]}
[]
[]
[]
[null,"REMISE IA",0]

{"sheet":"Dimensionnement par chaudière","index":1,"n_rows":120,"n_cols":14,"rows_kept":120,"cut":false,"hidden":false,"merged":[[95,2,96,2],[100,5,100,9],[101,5,101,9],[7,16,7,17],[10,4,10,13],[11,4,11,13],[7,13,7,14],[33,6,33,9],[12,4,12,13],[95,6,95,9],[98,5,98,9],[117,5,117,9],[97,5,97,9],[99,5,99,9],[115,5,115,9],[106,5,106,9],[113,5,113,9],[116,5,116,9],[107,5,107,9],[114,5,114,9],[105,5,105,9],[104,5,104,9],[110,5,110,9],[111,5,111,9],[112,5,112,9],[109,5,109,9],[4,13,4,14],[108,5,108,9],[5,13,5,14],[102,5,102,9],[103,5,103,9]]}
[]
[null,null,null,null,null,null,null,null,null,"Détermination et chiffrage des systèmes cascade"]
[]
[null,null,null,null,null,null,null,null,null,"Pour GMR 6160"]
[null,null,null,null,null,null,null,null,null,null,null,null,null,"Version 04/2020"]
[null,null,null,null,null,null,null,null,null,null,null,null,null," Prix net 2020"]
[]
[null,null,{"$f":"texte!B7","v":"Identification de l'étude"},null,null,null,null,null,null,null,null,null,null,{"$f":"TODAY()","v":"2020-04-06"}]
[]
[]
[null,null,null,{"$f":"CONCATENATE(texte!B8,\"     \")","v":"Référence     "}]
[]
[]
[null,null,{"$f":"texte!B9","v":"Données"}]
[]
[]
[null,null,null,null,null,null,null,"GMR 6160"]
[null,null,null,{"$f":"texte!B21","v":"Nombre de chaudières"},3,null,null,{"$f":"E18","v":3}]
[]
[null,null,null,{"$f":"texte!B13","v":"Alignement de la cascade"},"mural \"LW\""]
[]
[]
[null,null,null,{"$f":"texte!B14","v":"Système cascade"},{"$f":"IF(H18<0,texte!B16,'Calcul dim par chaudière'!M37)","v":"LW.0456kW.00003"}]
[]
[null,null,null,null,{"$f":"texte!B44","v":"Code à rappeler lors de la commande."}]
[null,null,null,"Nombre de chaudière(s) "]
[null,null,null,"Oetro-Com-2 :",0]
[]
[null,null,null,{"$f":"texte!B15","v":"Attention ! Lorsque vous modifiez une des sélections, il faut toujours revalider les suivantes !"}]
[]
[null,null,"Solution Oertli"]
[]
[]
[null,null,null,{"$f":"texte!B36","v":"Système"},{"$f":"texte!B34","v":"Référence"},null,{"$f":"texte!B35","v":"Désignation"},null,null,null,"Colis",{"$f":"texte!B32","v":"Prix unitaire"},{"$f":"texte!B31","v":"Qtté"},"Prix net"]
[null,null,null,null,null,null,null,null,null,null,null,{"$f":"texte!B29","v":"en €"},null,{"$f":"texte!B29","v":"en €"}]
[null,null,null,{"$f":"'Calcul dim par chaudière'!C142","v":"LW.0456kW.00003"},"Chaudières"]
[]
[null,null,null,null,{"$f":"IF('Calcul dim par chaudière'!$G$44<>0,'Calcul dim par chaudière'!$I$45,\"\")","v":7677083},null,{"$f":"IF($E38=\"\",\"\",'Calcul dim par chaudière'!$J45)","v":" GMR 6160 Condens COM-3"},null,null,null,{"$f":"IF($E38=\"\",\"\",\"-\")","v":"-"},{"$f":"IF($E38=\"\",\"\",'Calcul dim par chaudière'!$K45)","v":10557},{"$f":"IF($E38=\"\",\"\",'Calcul dim par chaudière'!$G$44)","v":3},{"$f":"IF($E38=\"\",\"\",$M$38*$L$38)","v":31671}]
[null,null,null,null,{"$f":"IF('Calcul dim par chaudière'!$C$48-'Calcul dim par chaudière'!$G$44<>0,'Calcul dim par chaudière'!$I$44,\"\")","v":""},null,{"$f":"IF($E39=\"\",\"\",'Calcul dim par chaudière'!$J44)","v":""},null,null,null,{"$f":"IF($E39=\"\",\"\",\"-\")","v":""},{"$f":"IF($E39=\"\",\"\",'Calcul dim par chaudière'!$K44)","v":""},{"$f":"IF($E39=\"\",\"\",'Calcul dim par chaudière'!$C$48-'Calcul dim par chaudière'!$G$44)","v":""},{"$f":"IF($E39=\"\",\"\",$M$39*$L$39)","v":""}]
[]
[]
[null,null,null,null,{"$f":"'Calcul dim par chaudière'!$D$143","v":"Support"}]
[]
[null,null,null,null,{"$f":"'Calcul dim par chaudière'!D145","v":""},null,{"$f":"'Calcul dim par chaudière'!E145","v":""},null,null,null,{"$f":"'Calcul dim par chaudière'!J145","v":""},{"$f":"'Calcul dim par chaudière'!K145","v":""},{"$f":"'Calcul dim par chaudière'!L145","v":""},{"$f":"'Calcul dim par chaudière'!M145","v":""}]
[null,null,null,null,{"$f":"'Calcul dim par chaudière'!D146","v":""},null,{"$f":"'Calcul dim par chaudière'!E146","v":""},null,null,null,{"$f":"'Calcul dim par chaudière'!J146","v":""},{"$f":"'Calcul dim par chaudière'!K146","v":""},{"$f":"'Calcul dim par chaudière'!L146","v":""},{"$f":"'Calcul dim par chaudière'!M146","v":""}]
[null,null,null,null,{"$f":"'Calcul dim par chaudière'!D147","v":""},null,{"$f":"'Calcul dim par chaudière'!E147","v":""},null,null,null,{"$f":"'Calcul dim par chaudière'!J147","v":""},{"$f":"'Calcul dim par chaudière'!K147","v":""},{"$f":"'Calcul dim par chaudière'!L147","v":""},{"$f":"'Calcul dim par chaudière'!M147","v":""}]
[null,null,null,null,{"$f":"'Calcul dim par chaudière'!D148","v":7637088},null,{"$f":"'Calcul dim par chaudière'!E148","v":"RAIL DE MONTAGE MURAL 3 CHAUDIÈRES MCA 160"},null,null,null,{"$f":"'Calcul dim par chaudière'!J148","v":"EH671"},{"$f":"'Calcul dim par chaudière'!K148","v":70},{"$f":"'Calcul dim par chaudière'!L148","v":1},{"$f":"'Calcul dim par chaudière'!M148","v":70}]
[null,null,null,null,{"$f":"'Calcul dim par chaudière'!D149","v":""},null,{"$f":"'Calcul dim par chaudière'!E149","v":""},null,null,null,{"$f":"'Calcul dim par chaudière'!J149","v":""},{"$f":"'Calcul dim par chaudière'!K149","v":""},{"$f":"'Calcul dim par chaudière'!L149","v":""},{"$f":"'Calcul dim par chaudière'!M149","v":""}]
[null,null,null,null,{"$f":"'Calcul dim par chaudière'!D150","v":""},null,{"$f":"'Calcul dim par chaudière'!E150","v":""},null,null,null,{"$f":"'Calcul dim par chaudière'!J150","v":""},{"$f":"'Calcul dim par chaudière'!K150","v":""},{"$f":"'Calcul dim par chaudière'!L150","v":""},{"$f":"'Calcul dim par chaudière'!M150","v":""}]
[]
[null,null,null,null,{"$f":"'Calcul dim par chaudière'!D152","v":"Hydraulique"}]
[]
[null,null,null,null,{"$f":"'Calcul dim par chaudière'!D154","v":""},null,{"$f":"'Calcul dim par chaudière'!E154","v":""},null,null,null,{"$f":"'Calcul dim par chaudière'!J154","v":""},{"$f":"'Calcul dim par chaudière'!K154","v":""},{"$f":"'Calcul dim par chaudière'!L154","v":""},{"$f":"'Calcul dim par chaudière'!M154","v":""}]
[null,null,null,null,{"$f":"'Calcul dim par chaudière'!D155","v":7665728},null,{"$f":"'Calcul dim par chaudière'!E155","v":"COLLECTEUR DN100-3 CHAUDIERES  MCA 160  FR"},null,null,null,{"$f":"'Calcul dim par chaudière'!J155","v":"EH653"},{"$f":"'Calcul dim par chaudière'!K155","v":1551},{"$f":"'Calcul dim par chaudière'!L155","v":1},{"$f":"'Calcul dim par chaudière'!M155","v":1551}]
[null,null,null,null,{"$f":"'Calcul dim par chaudière'!D156","v":111712},null,{"$f":"'Calcul dim par chaudière'!E156","v":"BOUTEILLE DE DÉCOUPLAGE DN65 > 350 et < 460 kW"},null,null,null,{"$f":"'Calcul dim par chaudière'!J156","v":"HC200"},{"$f":"'Calcul dim par chaudière'!K156","v":1101},{"$f":"'Calcul dim par chaudière'!L156","v":1},{"$f":"'Calcul dim par chaudière'!M156","v":1101}]
[null,null,null,null,{"$f":"'Calcul dim par chaudière'!D157","v":""},null,{"$f":"'Calcul dim par chaudière'!E157","v":""},null,null,null,{"$f":"'Calcul dim par chaudière'!J157","v":""},{"$f":"'Calcul dim par chaudière'!K157","v":""},{"$f":"'Calcul dim par chaudière'!L157","v":""},{"$f":"'Calcul dim par chaudière'!M157","v":""}]
[null,null,null,null,{"$f":"'Calcul dim par chaudière'!D158","v":""},null,{"$f":"'Calcul dim par chaudière'!E158","v":""},null,null,null,{"$f":"'Calcul dim par chaudière'!J158","v":""},{"$f":"'Calcul dim par chaudière'!K158","v":""},{"$f":"'Calcul dim par chaudière'!L158","v":""},{"$f":"'Calcul dim par chaudière'!M158","v":""}]
[null,null,null,null,{"$f":"'Calcul dim par chaudière'!D159","v":7633244},null,{"$f":"'Calcul dim par chaudière'!E159","v":"ADAPTATEUR DN100/DN65"},null,null,null,{"$f":"'Calcul dim par chaudière'!J159","v":"EH654"},{"$f":"'Calcul dim par chaudière'!K159","v":328},{"$f":"'Calcul dim par chaudière'!L159","v":1},{"$f":"'Calcul dim par chaudière'!M159","v":328}]
[null,null,null,null,{"$f":"'Calcul dim par chaudière'!D160","v":""},null,{"$f":"'Calcul dim par chaudière'!E160","v":""},null,null,null,{"$f":"'Calcul dim par chaudière'!J160","v":""},{"$f":"'Calcul dim par chaudière'!K160","v":""},{"$f":"'Calcul dim par chaudière'!L160","v":""},{"$f":"'Calcul dim par chaudière'!M160","v":""}]
[null,null,null,null,{"$f":"'Calcul dim par chaudière'!D161","v":7622701},null,{"$f":"'Calcul dim par chaudière'!E161","v":"RAC COLLEC L MCA 160 EH656"},null,null,null,{"$f":"'Calcul dim par chaudière'!J161","v":"EH656"},{"$f":"'Calcul dim par chaudière'!K161","v":767},{"$f":"'Calcul dim par chaudière'!L161","v":3},{"$f":"'Calcul dim par chaudière'!M161","v":2301}]
[null,null,null,null,{"$f":"'Calcul dim par chaudière'!D162","v":111708},null,{"$f":"'Calcul dim par chaudière'!E162","v":"JEU DE BOUCHONS"},null,null,null,{"$f":"'Calcul dim par chaudière'!J162","v":"HC195"},{"$f":"'Calcul dim par chaudière'!K162","v":43},{"$f":"'Calcul dim par chaudière'!L162","v":3},{"$f":"'Calcul dim par chaudière'!M162","v":129}]
[null,null,null,null,{"$f":"'Calcul dim par chaudière'!D163","v":""},null,{"$f":"'Calcul dim par chaudière'!E163","v":""},null,null,null,{"$f":"'Calcul dim par chaudière'!J163","v":""},{"$f":"'Calcul dim par chaudière'!K163","v":""},{"$f":"'Calcul dim par chaudière'!L163","v":""},{"$f":"'Calcul dim par chaudière'!M163","v":""}]
[null,null,null,null,{"$f":"'Calcul dim par chaudière'!D164","v":111703},null,{"$f":"'Calcul dim par chaudière'!E164","v":"BRIDES PLEINES EAU DN100"},null,null,null,{"$f":"'Calcul dim par chaudière'!J164","v":"HC199"},{"$f":"'Calcul dim par chaudière'!K164","v":203},{"$f":"'Calcul dim par chaudière'!L164","v":1},{"$f":"'Calcul dim par chaudière'!M164","v":203}]
[null,null,null,null,{"$f":"'Calcul dim par chaudière'!D165","v":""},null,{"$f":"'Calcul dim par chaudière'!E165","v":""},null,null,null,{"$f":"'Calcul dim par chaudière'!J165","v":""},{"$f":"'Calcul dim par chaudière'!K165","v":""},{"$f":"'Calcul dim par chaudière'!L165","v":""},{"$f":"'Calcul dim par chaudière'!M165","v":""}]
[null,null,null,null,{"$f":"'Calcul dim par chaudière'!D166","v":7637223},null,{"$f":"'Calcul dim par chaudière'!E166","v":"POMPE UPM XL GRUNDFOS 25-105 H180"},null,null,null,{"$f":"'Calcul dim par chaudière'!J166","v":"EH651"},{"$f":"'Calcul dim par chaudière'!K166","v":652},{"$f":"'Calcul dim par chaudière'!L166","v":3},{"$f":"'Calcul dim par chaudière'!M166","v":1956}]
[null,null,null,null,{"$f":"'Calcul dim par chaudière'!D167","v":7638518},null,{"$f":"'Calcul dim par chaudière'!E167","v":"JEU DE CONTRE BRIDE A SOUDER DN65"},null,null,null,{"$f":"'Calcul dim par chaudière'!J167","v":"EH669"},{"$f":"'Calcul dim par chaudière'!K167","v":150},{"$f":"'Calcul dim par chaudière'!L167","v":1},{"$f":"'Calcul dim par chaudière'!M167","v":150}]
[null,null,null,null,{"$f":"'Calcul dim par chaudière'!D168","v":""},null,{"$f":"'Calcul dim par chaudière'!E168","v":""},null,null,null,{"$f":"'Calcul dim par chaudière'!J168","v":""},{"$f":"'Calcul dim par chaudière'!K168","v":""},{"$f":"'Calcul dim par chaudière'!L168","v":""},{"$f":"'Calcul dim par chaudière'!M168","v":""}]
[null,null,null,null,{"$f":"'Calcul dim par chaudière'!D169","v":""},null,{"$f":"'Calcul dim par chaudière'!E169","v":""},null,null,null,{"$f":"'Calcul dim par chaudière'!J169","v":""},{"$f":"'Calcul dim par chaudière'!K169","v":""},{"$f":"'Calcul dim par chaudière'!L169","v":""},{"$f":"'Calcul dim par chaudière'!M169","v":""}]
[null,null,null,null,{"$f":"'Calcul dim par chaudière'!D170","v":""},null,{"$f":"'Calcul dim par chaudière'!E170","v":""},null,null,null,{"$f":"'Calcul dim par chaudière'!J170","v":""},{"$f":"'Calcul dim par chaudière'!K170","v":""},{"$f":"'Calcul dim par chaudière'!L170","v":""},{"$f":"'Calcul dim par chaudière'!M170","v":""}]
[null,null,null,null,{"$f":"'Calcul dim par chaudière'!D171","v":""},null,{"$f":"'Calcul dim par chaudière'!E171","v":""},null,null,null,{"$f":"'Calcul dim par chaudière'!J171","v":""},{"$f":"'Calcul dim par chaudière'!K171","v":""},{"$f":"'Calcul dim par chaudière'!L171","v":""},{"$f":"'Calcul dim par chaudière'!M171","v":""}]
[null,null,null,null,{"$f":"'Calcul dim par chaudière'!D172","v":""},null,{"$f":"'Calcul dim par chaudière'!E172","v":""},null,null,null,{"$f":"'Calcul dim par chaudière'!J172","v":""},{"$f":"'Calcul dim par chaudière'!K172","v":""},{"$f":"'Calcul dim par chaudière'!L172","v":""},{"$f":"'Calcul dim par chaudière'!M172","v":""}]
[]
[null,null,null,null,{"$f":"'Calcul dim par chaudière'!D174","v":""},null,{"$f":"'Calcul dim par chaudière'!E174","v":""},null,null,null,{"$f":"'Calcul dim par chaudière'!J174","v":""},{"$f":"'Calcul dim par chaudière'!K174","v":""},{"$f":"'Calcul dim par chaudière'!L174","v":""},{"$f":"'Calcul dim par chaudière'!M174","v":""}]
[null,null,null,null,{"$f":"'Calcul dim par chaudière'!D175","v":""},null,{"$f":"'Calcul dim par chaudière'!E175","v":""},null,null,null,{"$f":"'Calcul dim par chaudière'!J175","v":""},{"$f":"'Calcul dim par chaudière'!K175","v":""},{"$f":"'Calcul dim par chaudière'!L175","v":""},{"$f":"'Calcul dim par chaudière'!M175","v":""}]
[null,null,null,null,{"$f":"'Calcul dim par chaudière'!D176","v":""},null,{"$f":"'Calcul dim par chaudière'!E176","v":""},null,null,null,{"$f":"'Calcul dim par chaudière'!J176","v":""},{"$f":"'Calcul dim par chaudière'!K176","v":""},{"$f":"'Calcul dim par chaudière'!L176","v":""},{"$f":"'Calcul dim par chaudière'!M176","v":""}]
[]
[null,null,null,null,{"$f":"'Calcul dim par chaudière'!D178","v":"Régulation"}]
[]
[null,null,null,null,{"$f":"'Calcul dim par chaudière'!D180","v":""},null,{"$f":"'Calcul dim par chaudière'!E180","v":""},null,null,null,{"$f":"'Calcul dim par chaudière'!J180","v":""},{"$f":"'Calcul dim par chaudière'!K180","v":""},{"$f":"'Calcul dim par chaudière'!L180","v":""},{"$f":"'Calcul dim par chaudière'!M180","v":""}]
[null,null,null,null,{"$f":"'Calcul dim par chaudière'!D181","v":100008701},null,{"$f":"'Calcul dim par chaudière'!E181","v":"SONDE DE DÉPART + DOIGT DE GANT"},null,null,null,{"$f":"'Calcul dim par chaudière'!J181","v":"HC206"},{"$f":"'Calcul dim par chaudière'!K181","v":167},{"$f":"'Calcul dim par chaudière'!L181","v":1},{"$f":"'Calcul dim par chaudière'!M181","v":167}]
[null,null,null,null,{"$f":"'Calcul dim par chaudière'!D182","v":7663561},null,{"$f":"'Calcul dim par chaudière'!E182","v":"CABLE S-BUS 12M AVEC BOUCHONS"},null,null,null,{"$f":"'Calcul dim par chaudière'!J182","v":"AD309"},{"$f":"'Calcul dim par chaudière'!K182","v":106},{"$f":"'Calcul dim par chaudière'!L182","v":2},{"$f":"'Calcul dim par chaudière'!M182","v":212}]
[null,null,null,null,{"$f":"'Calcul dim par chaudière'!D183","v":85757741},null,{"$f":"'Calcul dim par chaudière'!E183","v":"SONDE EXTERIEURE"},null,null,null,{"$f":"'Calcul dim par chaudière'!J183","v":"FM46"},{"$f":"'Calcul dim par chaudière'!K183","v":43},{"$f":"'Calcul dim par chaudière'!L183","v":1},{"$f":"'Calcul dim par chaudière'!M183","v":43}]
[]
[]
[null,null,null,null,{"$f":"'Calcul dim par chaudière'!D185","v":"Mise en service"},null,null,null,null,null,null,null,null,{"$f":"'Calcul dim par chaudière'!M186","v":504}]
[]
[]
[]
[]
[null,null,null,null,{"$f":"'Calcul dim par chaudière'!D190","v":"Prix du système cascade (Prix net 2020)"},null,null,null,null,null,null,null,null,{"$f":"'Calcul dim par chaudière'!$M$190","v":8211}]
[null,null,null,null,{"$f":"'Calcul dim par chaudière'!D191","v":"Prix des chaudières (Prix net 2020)"},null,null,null,null,null,null,null,null,{"$f":"'Calcul dim par chaudière'!$M$191","v":31671}]
[null,null,null,null,{"$f":"'Calcul dim par chaudière'!D192","v":"Prix total du système cascade + chaudières + Mise en service (Prix net 2020)"},null,null,null,null,null,null,null,null,{"$f":"'Calcul dim par chaudière'!$M$192","v":40386}]
[]
[]
[]
[null,null,null,{"$f":"texte!B37","v":"Accessoires"},{"$f":"E34","v":"Référence"},null,{"$f":"G34","v":"Désignation"},null,null,null,"Colis",{"$f":"L34","v":"Prix unitaire"},{"$f":"M34","v":"Qtté"},{"$f":"N34","v":"Prix net"}]
[null,null,null,null,null,null,null,null,null,null,null,{"$f":"L35","v":"en €"},null,{"$f":"N35","v":"en €"}]
[]
[null,null,null,null,{"$f":"'Calcul dim par chaudière'!D197","v":7622201},{"$f":"'Calcul dim par chaudière'!E197","v":"ISOLATION ADAPTATEUR 100/65"},null,null,null,null,{"$f":"'Calcul dim par chaudière'!J197","v":""},{"$f":"'Calcul dim par chaudière'!K197","v":""},{"$f":"'Calcul dim par chaudière'!L197","v":""},{"$f":"'Calcul dim par chaudière'!$M197","v":""}]
[null,null,null,null,{"$f":"'Calcul dim par chaudière'!D198","v":"S101656"},{"$f":"'Calcul dim par chaudière'!E198","v":"FILTRE GAZ DN65"},null,null,null,null,{"$f":"'Calcul dim par chaudière'!J198","v":""},{"$f":"'Calcul dim par chaudière'!K198","v":""},{"$f":"'Calcul dim par chaudière'!L198","v":""},{"$f":"'Calcul dim par chaudière'!$M198","v":""}]
[null,null,null,null,{"$f":"'Calcul dim par chaudière'!D199","v":111788},{"$f":"'Calcul dim par chaudière'!E199","v":"COUDES DN65"},null,null,null,null,{"$f":"'Calcul dim par chaudière'!J199","v":""},{"$f":"'Calcul dim par chaudière'!K199","v":""},{"$f":"'Calcul dim par chaudière'!L199","v":""},{"$f":"'Calcul dim par chaudière'!$M199","v":""}]
[null,null,null,null,{"$f":"'Calcul dim par chaudière'!D200","v":""},{"$f":"'Calcul dim par chaudière'!E200","v":""},null,null,null,null,{"$f":"'Calcul dim par chaudière'!J200","v":""},{"$f":"'Calcul dim par chaudière'!K200","v":""},{"$f":"'Calcul dim par chaudière'!L200","v":""},{"$f":"'Calcul dim par chaudière'!$M200","v":""}]
[null,null,null,null,{"$f":"'Calcul dim par chaudière'!D201","v":""},{"$f":"'Calcul dim par chaudière'!E201","v":""},null,null,null,null,{"$f":"'Calcul dim par chaudière'!J201","v":""},{"$f":"'Calcul dim par chaudière'!K201","v":""},{"$f":"'Calcul dim par chaudière'!L201","v":""},{"$f":"'Calcul dim par chaudière'!M201","v":""}]
[null,null,null,null,{"$f":"'Calcul dim par chaudière'!D202","v":7613401},{"$f":"'Calcul dim par chaudière'!E202","v":"ISOLATION COLLECTEUR MCA 160"},null,null,null,null,{"$f":"'Calcul dim par chaudière'!J202","v":""},{"$f":"'Calcul dim par chaudière'!K202","v":""},{"$f":"'Calcul dim par chaudière'!L202","v":""},{"$f":"'Calcul dim par chaudière'!M202","v":""}]
[null,null,null,null,{"$f":"'Calcul dim par chaudière'!D203","v":7611804},{"$f":"'Calcul dim par chaudière'!E203","v":"ISOLATION RACCORD MCA 160 "},null,null,null,null,{"$f":"'Calcul dim par chaudière'!J203","v":""},{"$f":"'Calcul dim par chaudière'!K203","v":""},{"$f":"'Calcul dim par chaudière'!L203","v":""},{"$f":"'Calcul dim par chaudière'!M203","v":""}]
[null,null,null,null,{"$f":"'Calcul dim par chaudière'!D204","v":""},{"$f":"'Calcul dim par chaudière'!E204","v":""},null,null,null,null,{"$f":"'Calcul dim par chaudière'!J204","v":""},{"$f":"'Calcul dim par chaudière'!K204","v":""},{"$f":"'Calcul dim par chaudière'!L204","v":""},{"$f":"'Calcul dim par chaudière'!M204","v":""}]
[null,null,null,null,{"$f":"'Calcul dim par chaudière'!D205","v":""},{"$f":"'Calcul dim par chaudière'!E205","v":""},null,null,null,null,{"$f":"'Calcul dim par chaudière'!J205","v":""},{"$f":"'Calcul dim par chaudière'!K205","v":""},{"$f":"'Calcul dim par chaudière'!L205","v":""},{"$f":"'Calcul dim par chaudière'!M205","v":""}]
[null,null,null,null,{"$f":"'Calcul dim par chaudière'!D206","v":111067},{"$f":"'Calcul dim par chaudière'!E206","v":"ISOLATION BOUTEILLE DE DÉCOUPLAGE"},null,null,null,null,{"$f":"'Calcul dim par chaudière'!J206","v":""},{"$f":"'Calcul dim par chaudière'!K206","v":""},{"$f":"'Calcul dim par chaudière'!L206","v":""},{"$f":"'Calcul dim par chaudière'!M206","v":""}]
[null,null,null,null,null,null,null,null,null,null,null,null,null,{"$f":"IF(M109=\"\",\"\",(1-remise)*L109*M109)","v":""}]
[null,null,null,null,null,null,null,null,null,null,null,null,null,""]
[null,null,null,null,null,null,null,null,null,null,null,null,null,""]
[null,null,null,null,null,null,null,null,null,null,null,null,null,""]
[null,null,null,null,null,null,null,null,null,null,null,null,null,""]
[null,null,null,null,null,null,null,null,null,null,null,null,null,""]
[null,null,null,null,null,null,null,null,null,null,null,null,null,""]
[null,null,null,null,null,null,null,null,null,null,null,null,null,""]
[null,null,null,null,null,null,null,null,null,null,null,null,null,""]
[null,null,null,null,null,null,null,null,null,null,null,null,null,""]
[null,null,null,{"$f":"CONCATENATE(\"PRIX TOTAL DES ACCESSOIRES\",\" \",\"(\",N6,\" \",\" \",\")\")","v":"PRIX TOTAL DES ACCESSOIRES ( Prix net 2020  )"},null,null,null,null,null,null,null,null,null,{"$f":"'Calcul dim par chaudière'!$M$225","v":0}]
[null,null,null,{"$f":"CONCATENATE(\"PRIX TOTAL DU SYSTÈME CASCADE AVEC CHAUDIERES + ACCESSOIRES (\",N6,\")\")","v":"PRIX TOTAL DU SYSTÈME CASCADE AVEC CHAUDIERES + ACCESSOIRES ( Prix net 2020)"},null,null,null,null,null,null,null,null,null,{"$f":"'Calcul dim par chaudière'!$M$226","v":40386}]

{"sheet":"Calcul dim par chaudière","index":2,"n_rows":291,"n_cols":46,"rows_kept":291,"cut":false,"hidden":true,"merged":[[85,0,85,7],[85,9,85,16],[53,2,53,6],[8,5,8,6],[50,0,51,17],[42,5,42,6],[53,22,53,26],[55,20,56,27],[53,11,53,15],[57,29,105,36],[50,19,51,50],[193,1,194,1],[123,2,123,5],[117,2,117,5],[118,2,118,5],[119,2,119,5],[120,2,120,5],[121,2,121,5],[122,2,122,5],[192,20,193,24],[288,2,288,4],[289,2,289,4],[290,2,290,4],[291,2,291,4],[286,2,286,4],[287,2,287,4],[116,2,116,5],[193,5,193,8],[141,38,142,45],[132,1,134,15],[106,38,107,45],[106,29,107,36],[106,20,107,27],[107,2,107,5],[108,2,108,5],[109,2,109,5],[110,2,110,5],[111,2,111,5],[112,2,112,5],[113,2,113,5],[114,2,114,5],[115,2,115,5]]}
[]
[null,"Dimensionnement par chaudière"]
[]
[null,"Composition de la cascade "]
[]
[null,null,"nbchaud",{"$f":"'Dimensionnement par chaudière'!E18","v":3}]
[null,null,2,null,null,null,null,null,"Indications régulation",null,null,null,null,"Indications Montage"]
[null,null,3]
[null,null,4,null,null,"nb iniControl2",null,null,null,null,"iniControl2","Diematic",null,"mural \"LW\""]
[null,null,5,null,null,0,{"$f":"IF(F10>=$D$6,\"\",F10)","v":0},null,"GMR 5045",null,null,null,null,"sol \"LV\""]
[null,null,6,null,null,1,{"$f":"IF(F11>=$D$6,\"\",F11)","v":1},null,"GMR 5065"]
[null,null,7,null,null,2,{"$f":"IF(F12>=$D$6,\"\",F12)","v":2},null,"GMR 5090"]
[null,null,8,null,null,3,"",null,"GMR 5115"]
[null,null,9,null,null,4,"",null,"GMR 6160",{"$f":"D6","v":3},{"$f":"'Dimensionnement par chaudière'!$E$27","v":0},{"$f":"J14-K14","v":3}]
[null,null,10]
[null,null,"nb IniControl",{"$f":"'Dimensionnement par chaudière'!E27","v":0}]
[]
[]
[null,null,null,"mc45",0,null,null,"mc65",0,null,null,"mc90",0,null,null,"mc115",0,null,"mca 160",{"$f":"D6-E19-I19-M19-Q19","v":3}]
[null,null,null,{"$f":"D6","v":3},{"$f":"IF(D20>=0,D20,\"\")","v":3},null,null,{"$f":"D6-E19","v":3},{"$f":"IF(H20>=0,H20,\"\")","v":3},null,null,{"$f":"D6-E19-I19","v":3},{"$f":"IF(L20>=0,L20,\"\")","v":3},null,null,{"$f":"D6-I19-M19","v":3},{"$f":"IF(P20<0,\"\",P20)","v":3}]
[null,null,null,{"$f":"D20-1","v":2},{"$f":"IF(D21>=0,D21,\"\")","v":2},null,null,{"$f":"H20-1","v":2},{"$f":"IF(H21>=0,H21,\"\")","v":2},null,null,{"$f":"L20-1","v":2},{"$f":"IF(L21>=0,L21,\"\")","v":2},null,null,{"$f":"P20-1","v":2},{"$f":"IF(P21<0,\"\",P21)","v":2}]
[null,null,null,{"$f":"D21-1","v":1},1,null,null,{"$f":"H21-1","v":1},1,null,null,{"$f":"L21-1","v":1},1,null,null,{"$f":"P21-1","v":1},1]
[null,null,null,0,0,null,null,0,0,null,null,0,0,null,null,0,0]
[null,null,null,-1,"",null,null,-1,"",null,null,-1,"",null,null,-1,""]
[null,null,null,-2,"",null,null,-2,"",null,null,-2,"",null,null,-2,""]
[null,null,null,-3,"",null,null,-3,"",null,null,-3,"",null,null,-3,""]
[null,null,null,-4,"",null,null,-4,"",null,null,-4,"",null,null,-4,""]
[null,null,null,-5,"",null,null,-5,"",null,null,-5,"",null,null,-5,""]
[null,null,null,-6,"",null,null,-6,"",null,null,-6,"",null,null,-6,""]
[null,null,null,-7,"",null,null,-7,"",null,null,-7,"",null,null,-7,""]
[]
[null,"Nom de la cascade"]
[null,null,null,"Nom","Nb","Puissance (kW)"]
[null,null,null,"MCA 45",{"$f":"J10","v":0},40]
[null,null,null,"MCA 65",{"$f":"J11","v":0},61,null,"Puissance totale (kW)"]
[null,null,null,"MCA 90",{"$f":"J12","v":0},84.2,null,{"$f":"$E$34*$F$34+$E$35*$F$35+$E$36*$F$36+$E$37*$F$37+$E$38*$F$38","v":456},{"$f":"TEXT(TRUNC(H36,0),\"0000\")","v":"0456"}]
[null,null,null,"MCA 115",{"$f":"J13","v":0},107,null,null,null,null,"Nom de la cascade ",null,{"$f":"CONCATENATE(I39,\".\",I36,\"kW.\",E34,E35,E36,E37,E38)","v":"LW.0456kW.00003"}]
[null,null,null,"MCA 160",{"$f":"J14","v":3},152,null,"Montage "]
[null,null,null,null,null,null,null,{"$f":"'Dimensionnement par chaudière'!E20","v":"mural \"LW\""},{"$f":"IF(H39=N9,\"LW\",IF(H39=N10,\"LV\",\"\"))","v":"LW"}]
[]
[null,"Calcul prix mise en service + Prix des chaudières"]
[]
[null,"Nom","Nb","Prix chaudière",null,"Prix Régulation MCA 160 DIEMATIC",null,null,null,null,null,{"$f":"+C48-G44","v":0},null,"Prix Mise en Service","Chaudière 1","Chaudière 2","Chaudière 3","Chaudière 4"]
[null,"GMR 5045",{"$f":"E34","v":0},"/",null,"nb",{"$f":"L14","v":3},null,7677082,0,0,null,"MCA 45",153,{"$f":"IF(E34<>0,1,0)","v":0},{"$f":"IF(E34>1,1,0)","v":0},{"$f":"IF(E34>2,1,0)","v":0},{"$f":"IF(E34>3,1,0)","v":0}]
[null,"GMR 5065",{"$f":"E35","v":0},"/",null,"prix unitaire",{"$f":"+VLOOKUP(I45,I44:K45,3)","v":10557},null,7677083,{"$f":"VLOOKUP($I45,'Price List'!$A:$D,2,FALSE)","v":" GMR 6160 Condens COM-3"},{"$f":"VLOOKUP($I45,'Price List'!$A:$D,4,FALSE)","v":10557},{"$f":"+G44","v":3},"MCA 65",153,{"$f":"IF(AND(E35<>0,E34=0),1,0)","v":0},{"$f":"IF(OR(AND(E34=0,E35>=2),AND(E35>=1,E34=1)),1,0)","v":0},{"$f":"IF(OR(AND(E34=0,E35>=3),AND(E35>=1,E34=2),AND(E35>=2,E34=1)),1,0)","v":0},{"$f":"IF(OR(AND(E34=0,E35=4),AND(E35>=1,E34=3),AND(E35>=3,E34=1),AND(E35>=2,E34=2)),1,0)","v":0}]
[null,"GMR 5090",{"$f":"E36","v":0},"/",null,null,null,null,null,null,null,null,"MCA 90",210,{"$f":"IF(AND(E34=0,E35=0,E36<>0),1,0)","v":0},{"$f":"IF(AND(E36>0,O44+O45+O46+O47+O48+P44+P45<2,O46<>E36),1,0)","v":0},{"$f":"IF(AND(E34-O44-P44=0,E35-O45-P45=0,E36-O46-P47<>0),1,0)","v":0},{"$f":"IF(E36>O46+P46+Q46,1,0)","v":0}]
[null,"GMR 5115",{"$f":"E37","v":0},"/",null,null,null,null,null,null,null,null,"MCA 115",210,{"$f":"IF(AND(E34=0,E35=0,E36=0,E37<>0),1,0)","v":0},{"$f":"IF(AND(E37>0,O44+O45+O46+O47+O48+P44+P45+P46<2),1,0)","v":0},{"$f":"IF(AND(E34-O44-P44=0,E35-O45-P45=0,E36-O46-P46=0,E37>0),1,0)","v":0},{"$f":"IF(E37>O47+P47+Q47,1,0)","v":0}]
[null,"GMR 6160",{"$f":"E38","v":3},{"$f":"$K$45*$G$44+$K$44*($C$48-$G$44)","v":31671},"Total :",null,null,null,null,null,null,null,"MCA 160",210,{"$f":"IF(AND(E34=0,E35=0,E36=0,E37=0,E38<>0),1,0)","v":1},{"$f":"IF(O45+O44+O46+O47+O48+P47+P46+P45+P44<2,1,0)","v":1},{"$f":"IF(D6<3,0,IF(O44+O45+O47+O46+O48+P48+P47+P46+P45+P44+Q44+Q45+Q46+Q47<3,1,0))","v":1},{"$f":"IF(O44+O45+O46+O47+O48+P48+P47+P46+P45+P44+Q44+Q45+Q46+Q47+Q48+R47+R46+R45+R44<D6,1,0)","v":0},"Total :"]
[null,null,null,null,{"$f":"$D$48","v":31671},null,null,null,null,null,null,null,null,null,{"$f":"SUMPRODUCT(O44:O48,$N$44:$N$48)*1","v":210},{"$f":"$O$49*2*0.9","v":378},{"$f":"$O$49*3*0.8","v":504},{"$f":"$O$49*4*0.7","v":588},{"$f":"IF($D$6=2,$P$49,IF($D$6=3,$Q$49,$R$49))","v":504}]
[]
["Références et accessoires Cascade Sans MCA 160 (pas utilisé dans cette version)",null,null,null,null,null,null,null,null,null,null,null,null,null,null,null,null,null,null,"Références et accessoires cascade avec MCA 160"]
[]
[]
["Référence","Colis","Désignation",null,null,null,null,"Quantité",null,"Référence","Colis","Désignation",null,null,null,null,"Quantité",null,null,null,"Référence","Colis","Désignation",null,null,null,null,"Quantité"]
[{"$f":"texte!F7","v":100008701},{"$f":"texte!G7","v":"HC206"},{"$f":"texte!H7","v":"SONDE DE DÉPART + DOIGT DE GANT"},null,null,null,null,{"$f":"VLOOKUP($M$37,'gamme DD chaud'!$E$9:$BM$143,11,FALSE)","v":{"$error":"#N/A"}},null,{"$f":"IF($Q55=\"\",\"\",A55)","v":{"$error":"#N/A"}},{"$error":"#N/A"},{"$error":"#N/A"},null,null,null,null,{"$f":"IF(H55=0,\"\",H55)","v":{"$error":"#N/A"}},null,null,null,null,null,null,null,null,null,null,null,null,"VOIR BdD des Néerlandais pour traduction et quantité de chaque accessoires"]
[{"$f":"texte!F8","v":100013027},{"$f":"texte!G8","v":"HC223"},{"$f":"texte!H8","v":"SONDE DE DÉPART + DOIGT DE GANT-BOUTEILLE < 350 kW"},null,null,null,null,{"$f":"VLOOKUP($M$37,'gamme DD chaud'!$E$9:$BM$143,12,FALSE)","v":{"$error":"#N/A"}},null,{"$error":"#N/A"},{"$error":"#N/A"},{"$error":"#N/A"},null,null,null,null,{"$error":"#N/A"},null,null,null,"Pour chaudière autre que MCA 160"]
[{"$f":"texte!F9","v":88017836},{"$f":"texte!G9","v":"AD124"},{"$f":"texte!H9","v":"CABLE BUS RX11  LG 1,5 M"},null,null,null,null,{"$f":"VLOOKUP($M$37,'gamme DD chaud'!$E$9:$BM$143,13,FALSE)","v":{"$error":"#N/A"}},null,{"$error":"#N/A"},{"$error":"#N/A"},{"$error":"#N/A"},null,null,null,null,{"$error":"#N/A"}]
[{"$f":"texte!F10","v":"S101614"},{"$f":"texte!G10","v":0},{"$f":"texte!H10","v":"POMPE CHAUFFAGE EEI UPM2 25-70 130MM"},null,null,null,null,{"$f":"VLOOKUP($M$37,'gamme DD chaud'!$E$9:$BM$143,14,FALSE)","v":{"$error":"#N/A"}},null,{"$f":"IF($Q58=\"\",\"\",A58)","v":{"$error":"#N/A"}},{"$f":"IF($Q58=\"\",\"\",IF(B58=0,\"-\",B58))","v":{"$error":"#N/A"}},{"$f":"IF($Q58=\"\",\"\",C58)","v":{"$error":"#N/A"}},null,null,null,null,{"$error":"#N/A"},null,null,null,{"$f":"A55","v":100008701},{"$f":"B55","v":"HC206"},{"$f":"C55","v":"SONDE DE DÉPART + DOIGT DE GANT"},null,null,null,null,null,null,"Pas de MCA 45/115 dans cette version"]
[{"$f":"texte!F11","v":"S101614"},{"$f":"texte!G11","v":0},{"$f":"texte!H11","v":"POMPE CHAUFFAGE EEI UPM2 25-70 130MM"},null,null,null,null,{"$f":"VLOOKUP($M$37,'gamme DD chaud'!$E$9:$BM$143,15,FALSE)","v":{"$error":"#N/A"}},null,{"$error":"#N/A"},{"$f":"IF($Q59=\"\",\"\",IF(B59=0,\"-\",B59))","v":{"$error":"#N/A"}},{"$error":"#N/A"},null,null,null,null,{"$error":"#N/A"},null,null,null,100013027,"HC223","SONDE DE DÉPART + DOIGT DE GANT-BOUTEILLE < 350 kW"]
[{"$f":"texte!F12","v":7608398},{"$f":"texte!G12","v":0},{"$f":"texte!H12","v":"POMPE CHAUFFAGE UPML 25-115 130 MM"},null,null,null,null,{"$f":"VLOOKUP($M$37,'gamme DD chaud'!$E$9:$BM$143,16,FALSE)","v":{"$error":"#N/A"}},null,{"$error":"#N/A"},{"$f":"IF($Q60=\"\",\"\",IF(B60=0,\"-\",B60))","v":{"$error":"#N/A"}},{"$error":"#N/A"},null,null,null,null,{"$error":"#N/A"},null,null,null,88017836,"AD124","CABLE BUS RX11  LG 1,5 M"]
[{"$f":"texte!F13","v":90777},{"$f":"texte!G13","v":"HC259"},{"$f":"texte!H13","v":"COLLECTEUR DN65 - 2 CHAUDIERES "},null,null,null,null,{"$f":"VLOOKUP($M$37,'gamme DD chaud'!$E$9:$BM$143,17,FALSE)","v":{"$error":"#N/A"}},null,{"$error":"#N/A"},{"$f":"IF($Q61=\"\",\"\",B61)","v":{"$error":"#N/A"}},{"$error":"#N/A"},null,null,null,null,{"$error":"#N/A"},null,null,null,"S101614",0,"POMPE CHAUFFAGE EEI UPM2 25-70 130MM"]
[{"$f":"texte!F14","v":90778},{"$f":"texte!G14","v":"HC260"},{"$f":"texte!H14","v":"COLLECTEUR DN65 - 3 CHAUDIERES "},null,null,null,null,{"$f":"VLOOKUP($M$37,'gamme DD chaud'!$E$9:$BM$143,18,FALSE)","v":{"$error":"#N/A"}},null,{"$error":"#N/A"},{"$error":"#N/A"},{"$error":"#N/A"},null,null,null,null,{"$error":"#N/A"},null,null,null,"S101614",0,"POMPE CHAUFFAGE EEI UPM2 25-70 130MM"]
[{"$f":"texte!F15","v":""},{"$f":"texte!G15","v":""},{"$f":"texte!H15","v":""},null,null,null,null,null,null,"","","",null,null,null,null,"",null,null,null,7608398,0,"POMPE CHAUFFAGE UPML 25-115 130 MM"]
[{"$f":"texte!F16","v":111712},{"$f":"texte!G16","v":"HC200"},{"$f":"texte!H16","v":"BOUTEILLE DE DÉCOUPLAGE DN65 > 350 et < 460 kW"},null,null,null,null,{"$f":"VLOOKUP($M$37,'gamme DD chaud'!$E$9:$BM$143,20,FALSE)","v":{"$error":"#N/A"}},null,{"$error":"#N/A"},{"$error":"#N/A"},{"$error":"#N/A"},null,null,null,null,{"$error":"#N/A"},null,null,null,90777,"HC259","COLLECTEUR DN65 - 2 CHAUDIERES "]
[{"$f":"texte!F17","v":114311},{"$f":"texte!G17","v":"HC222"},{"$f":"texte!H17","v":"BOUTEILLE DE DÉCOUPLAGE DN65 < 350 kW"},null,null,null,null,{"$f":"VLOOKUP($M$37,'gamme DD chaud'!$E$9:$BM$143,21,FALSE)","v":{"$error":"#N/A"}},null,{"$error":"#N/A"},{"$error":"#N/A"},{"$error":"#N/A"},null,null,null,null,{"$error":"#N/A"},null,null,null,90778,"HC260","COLLECTEUR DN65 - 3 CHAUDIERES "]
[{"$f":"texte!F18","v":""},{"$f":"texte!G18","v":""},{"$f":"texte!H18","v":""},null,null,null,null,null,null,"","","",null,null,null,null,"",null,null,null,"","",""]
[{"$f":"texte!F19","v":""},{"$f":"texte!G19","v":""},{"$f":"texte!H19","v":""},null,null,null,null,null,null,"","","",null,null,null,null,"",null,null,null,111712,"HC200","BOUTEILLE DE DÉCOUPLAGE DN65 > 350 et < 460 kW"]
[{"$f":"texte!F20","v":""},{"$f":"texte!G20","v":""},{"$f":"texte!H20","v":""},null,null,null,null,null,null,"","","",null,null,null,null,"",null,null,null,114311,"HC222","BOUTEILLE DE DÉCOUPLAGE DN65 < 350 kW"]
[{"$f":"texte!F21","v":""},{"$f":"texte!G21","v":""},{"$f":"texte!H21","v":""},null,null,null,null,null,null,"","","",null,null,null,null,"",null,null,null,"","",""]
[{"$f":"texte!F22","v":111022},{"$f":"texte!G22","v":"HC202"},{"$f":"texte!H22","v":"KIT DE RACCORDEMENT AVANT FR + BE"},null,null,null,null,{"$f":"VLOOKUP($M$37,'gamme DD chaud'!$E$9:$BM$143,26,FALSE)","v":{"$error":"#N/A"}},null,{"$error":"#N/A"},{"$error":"#N/A"},{"$error":"#N/A"},null,null,null,null,{"$error":"#N/A"},null,null,null,"","",""]
[{"$f":"texte!F23","v":""},{"$f":"texte!G23","v":""},{"$f":"texte!H23","v":""},null,null,null,null,null,null,"","","",null,null,null,null,"",null,null,null,"","",""]
[{"$f":"texte!F24","v":""},{"$f":"texte!G24","v":""},{"$f":"texte!H24","v":""},null,null,null,null,null,null,"","","",null,null,null,null,"",null,null,null,"","",""]
[{"$f":"texte!F25","v":""},{"$f":"texte!G25","v":""},{"$f":"texte!H25","v":""},null,null,null,null,null,null,"","","",null,null,null,null,"",null,null,null,111022,"HC202","KIT DE RACCORDEMENT AVANT FR + BE"]
[{"$f":"texte!F26","v":111708},{"$f":"texte!G26","v":"HC195"},{"$f":"texte!H26","v":"JEU DE BOUCHONS"},null,null,null,null,{"$f":"VLOOKUP($M$37,'gamme DD chaud'!$E$9:$BM$143,30,FALSE)","v":{"$error":"#N/A"}},null,{"$error":"#N/A"},{"$error":"#N/A"},{"$error":"#N/A"},null,null,null,null,{"$error":"#N/A"},null,null,null,"","",""]
[{"$f":"texte!F27","v":""},{"$f":"texte!G27","v":""},{"$f":"texte!H27","v":""},null,null,null,null,null,null,"","","",null,null,null,null,"",null,null,null,"","",""]
[{"$f":"texte!F28","v":111701},{"$f":"texte!G28","v":"HC198"},{"$f":"texte!H28","v":"BRIDES PLEINES EAU DN65"},null,null,null,null,{"$f":"VLOOKUP($M$37,'gamme DD chaud'!$E$9:$BM$143,32,FALSE)","v":{"$error":"#N/A"}},null,{"$error":"#N/A"},{"$error":"#N/A"},{"$error":"#N/A"},null,null,null,null,{"$error":"#N/A"},null,null,null,"","",""]
[{"$f":"texte!F29","v":""},{"$f":"texte!G29","v":""},{"$f":"texte!H29","v":""},null,null,null,null,null,null,"","","",null,null,null,null,"",null,null,null,111708,"HC195","JEU DE BOUCHONS"]
[{"$f":"texte!F30","v":""},{"$f":"texte!G30","v":""},{"$f":"texte!H30","v":""},null,null,null,null,null,null,"","","",null,null,null,null,"",null,null,null,"","",""]
[{"$f":"texte!F31","v":{"$error":"#N/A"}},{"$f":"texte!G31","v":{"$error":"#N/A"}},{"$f":"texte!H31","v":{"$error":"#N/A"}},null,null,null,null,{"$f":"VLOOKUP($M$37,'gamme DD chaud'!$E$9:$BM$143,35,FALSE)","v":{"$error":"#N/A"}},null,{"$error":"#N/A"},{"$error":"#N/A"},{"$error":"#N/A"},null,null,null,null,{"$error":"#N/A"},null,null,null,111701,"HC198","BRIDES PLEINES EAU DN65"]
[{"$f":"texte!F32","v":120900},{"$f":"texte!G32","v":"HC250"},{"$f":"texte!H32","v":"MONTANT-SUPPORT I GMR 5000"},null,null,null,null,{"$f":"VLOOKUP($M$37,'gamme DD chaud'!$E$9:$BM$143,36,FALSE)","v":{"$error":"#N/A"}},null,{"$error":"#N/A"},{"$error":"#N/A"},{"$error":"#N/A"},null,null,null,null,{"$error":"#N/A"},null,null,null,"","",""]
[{"$f":"texte!F33","v":120918},{"$f":"texte!G33","v":"HC248"},{"$f":"texte!H33","v":"CHASSIS DE MONTAGE GMR 5000"},null,null,null,null,{"$f":"VLOOKUP($M$37,'gamme DD chaud'!$E$9:$BM$143,37,FALSE)","v":{"$error":"#N/A"}},null,{"$error":"#N/A"},{"$error":"#N/A"},{"$error":"#N/A"},null,null,null,null,{"$error":"#N/A"},null,null,null,"","",""]
[{"$f":"texte!F34","v":111688},{"$f":"texte!G34","v":"HC192"},{"$f":"texte!H34","v":"RAIL DE MONTAGE MURAL 2 CHAUDIÈRES "},null,null,null,null,{"$f":"VLOOKUP($M$37,'gamme DD chaud'!$E$9:$BM$143,38,FALSE)","v":{"$error":"#N/A"}},null,{"$error":"#N/A"},{"$error":"#N/A"},{"$error":"#N/A"},null,null,null,null,{"$error":"#N/A"},null,null,null,{"$error":"#N/A"},{"$error":"#N/A"},{"$error":"#N/A"}]
[{"$f":"texte!F35","v":111689},{"$f":"texte!G35","v":"HC193"},{"$f":"texte!H35","v":"RAIL DE MONTAGE MURAL 3 CHAUDIÈRES "},null,null,null,null,{"$f":"VLOOKUP($M$37,'gamme DD chaud'!$E$9:$BM$143,39,FALSE)","v":{"$error":"#N/A"}},null,{"$error":"#N/A"},{"$error":"#N/A"},{"$error":"#N/A"},null,null,null,null,{"$error":"#N/A"},null,null,null,120900,"HC250","MONTANT-SUPPORT I GMR 5000"]
[{"$f":"texte!F36","v":111690},{"$f":"texte!G36","v":"HC194"},{"$f":"texte!H36","v":"RAIL DE MONTAGE MURAL 4 CHAUDIÈRES "},null,null,null,null,{"$f":"VLOOKUP($M$37,'gamme DD chaud'!$E$9:$BM$143,40,FALSE)","v":{"$error":"#N/A"}},null,{"$error":"#N/A"},{"$error":"#N/A"},{"$error":"#N/A"},null,null,null,null,{"$error":"#N/A"},null,null,null,120918,"HC248","CHASSIS DE MONTAGE GMR 5000"]
[{"$f":"texte!F37","v":""},{"$f":"texte!G37","v":""},{"$f":"texte!H37","v":""},null,null,null,null,null,null,"","","",null,null,null,null,"",null,null,null,111688,"HC192","RAIL DE MONTAGE MURAL 2 CHAUDIÈRES "]
["Options",null,null,null,null,null,null,null,null,"Options",null,null,null,null,null,null,null,null,null,null,111689,"HC193","RAIL DE MONTAGE MURAL 3 CHAUDIÈRES "]
[{"$f":"texte!F39","v":84887768},{"$f":"texte!G39","v":"DY768"},{"$f":"texte!H39","v":"ADAPTATEUR Ø 80 - 100 MM"},null,null,null,null,{"$f":"VLOOKUP($M$37,'gamme DD chaud'!$E$9:$BM$143,43,FALSE)","v":{"$error":"#N/A"}},null,{"$f":"IF($Q87=\"\",\"\",A87)","v":{"$error":"#N/A"}},{"$f":"IF($Q87=\"\",\"\",B87)","v":{"$error":"#N/A"}},{"$f":"IF($Q87=\"\",\"\",C87)","v":{"$error":"#N/A"}},null,null,null,null,{"$f":"IF(H87=0,\"\",H87)","v":{"$error":"#N/A"}},null,null,null,111690,"HC194","RAIL DE MONTAGE MURAL 4 CHAUDIÈRES "]
[{"$f":"texte!F40","v":""},{"$f":"texte!G40","v":""},{"$f":"texte!H40","v":""},null,null,null,null,null,null,"","","",null,null,null,null,"",null,null,null,"","",""]
[{"$f":"texte!F41","v":""},{"$f":"texte!G41","v":""},{"$f":"texte!H41","v":""},null,null,null,null,null,null,"","","",null,null,null,null,"",null,null,null,{"$f":"A87","v":84887768},{"$f":"B87","v":"DY768"},{"$f":"C87","v":"ADAPTATEUR Ø 80 - 100 MM"}]
[{"$f":"texte!F42","v":""},{"$f":"texte!G42","v":""},{"$f":"texte!H42","v":""},null,null,null,null,null,null,"","","",null,null,null,null,"",null,null,null,"","",""]
[{"$f":"texte!F43","v":"S101655"},{"$f":"texte!G43","v":"HC255"},{"$f":"texte!H43","v":"FILTRE GAZ DN50"},null,null,null,null,{"$f":"VLOOKUP($M$37,'gamme DD chaud'!$E$9:$BM$143,47,FALSE)","v":{"$error":"#N/A"}},null,{"$error":"#N/A"},{"$error":"#N/A"},{"$error":"#N/A"},null,null,null,null,{"$error":"#N/A"},null,null,null,"","",""]
[{"$f":"texte!F44","v":""},{"$f":"texte!G44","v":""},{"$f":"texte!H44","v":""},null,null,null,null,null,null,"","","",null,null,null,null,"",null,null,null,"","",""]
[{"$f":"texte!F45","v":"S103345"},{"$f":"texte!G45","v":"HC261"},{"$f":"texte!H45","v":"JEUX DE BRIDES À SOUDER DN50 POUR FILTRE A GAZ"},null,null,null,null,{"$f":"H91","v":{"$error":"#N/A"}},null,{"$error":"#N/A"},{"$error":"#N/A"},{"$error":"#N/A"},null,null,null,null,{"$error":"#N/A"},null,null,null,"S101655","HC255","FILTRE GAZ DN50"]
[{"$f":"texte!F46","v":111788},{"$f":"texte!G46","v":"HC209"},{"$f":"texte!H46","v":"COUDES DN65"},null,null,null,null,{"$f":"VLOOKUP($M$37,'gamme DD chaud'!$E$9:$BM$143,50,FALSE)","v":{"$error":"#N/A"}},null,{"$error":"#N/A"},{"$error":"#N/A"},{"$error":"#N/A"},null,null,null,null,{"$error":"#N/A"},null,null,null,"","",""]
[{"$f":"texte!F47","v":""},{"$f":"texte!G47","v":""},{"$f":"texte!H47","v":""},null,null,null,null,null,null,"","","",null,null,null,null,"",null,null,null,"S103345","HC261","JEUX DE BRIDES À SOUDER DN50 POUR FILTRE A GAZ"]
[{"$f":"texte!F48","v":""},{"$f":"texte!G48","v":""},{"$f":"texte!H48","v":""},null,null,null,null,null,null,"","","",null,null,null,null,"",null,null,null,111788,"HC209","COUDES DN65"]
[{"$f":"texte!F49","v":""},{"$f":"texte!G49","v":""},{"$f":"texte!H49","v":""},null,null,null,null,null,null,"","","",null,null,null,null,"",null,null,null,"","",""]
[{"$f":"texte!F50","v":111069},{"$f":"texte!G50","v":"HC213"},{"$f":"texte!H50","v":"ISOLATION COLLECTEUR"},null,null,null,null,{"$f":"VLOOKUP($M$37,'gamme DD chaud'!$E$9:$BM$143,54,FALSE)","v":{"$error":"#N/A"}},null,{"$error":"#N/A"},{"$error":"#N/A"},{"$error":"#N/A"},null,null,null,null,{"$error":"#N/A"},null,null,null,"","",""]
[122441,"HC252","ISOLATION RACCORDEMENT CHAUDIERE",null,null,null,null,{"$f":"VLOOKUP($M$37,'gamme DD chaud'!$E$9:$BM$143,55,FALSE)","v":{"$error":"#N/A"}},null,{"$error":"#N/A"},{"$error":"#N/A"},{"$error":"#N/A"},null,null,null,null,{"$error":"#N/A"},null,null,null,"","",""]
[{"$f":"texte!F52","v":111067},{"$f":"texte!G52","v":"HC215"},{"$f":"texte!H52","v":"ISOLATION BOUTEILLE DE DÉCOUPLAGE"},null,null,null,null,{"$f":"VLOOKUP($M$37,'gamme DD chaud'!$E$9:$BM$143,56,FALSE)","v":{"$error":"#N/A"}},null,{"$error":"#N/A"},{"$error":"#N/A"},{"$error":"#N/A"},null,null,null,null,{"$error":"#N/A"},null,null,null,111069,"HC213","ISOLATION COLLECTEUR"]
[{"$f":"texte!F53","v":115269},{"$f":"texte!G53","v":"HC224"},{"$f":"texte!H53","v":"ISOLATION BOUTEILLE DE DÉCOUPLAGE < 350 kW"},null,null,null,null,{"$f":"VLOOKUP($M$37,'gamme DD chaud'!$E$9:$BM$143,57,FALSE)","v":{"$error":"#N/A"}},null,{"$error":"#N/A"},{"$error":"#N/A"},{"$error":"#N/A"},null,null,null,null,{"$error":"#N/A"},null,null,null,122441,"HC252","ISOLATION RACCORDEMENT CHAUDIERE"]
[{"$f":"texte!F54","v":111167},{"$f":"texte!G54","v":"HC216"},{"$f":"texte!H54","v":"ISOLATION COUDES 90°C"},null,null,null,null,{"$f":"VLOOKUP($M$37,'gamme DD chaud'!$E$9:$BM$143,58,FALSE)","v":{"$error":"#N/A"}},null,{"$error":"#N/A"},{"$error":"#N/A"},{"$error":"#N/A"},null,null,null,null,{"$error":"#N/A"},null,null,null,111067,"HC215","ISOLATION BOUTEILLE DE DÉCOUPLAGE"]
[{"$f":"texte!F55","v":111807},{"$f":"texte!G55","v":"HC219"},{"$f":"texte!H55","v":"PIED RÉGLABLE"},null,null,null,null,{"$f":"VLOOKUP($M$37,'gamme DD chaud'!$E$9:$BM$143,59,FALSE)","v":{"$error":"#N/A"}},null,{"$error":"#N/A"},{"$error":"#N/A"},{"$error":"#N/A"},null,null,null,null,{"$error":"#N/A"},null,null,null,115269,"HC224","ISOLATION BOUTEILLE DE DÉCOUPLAGE < 350 kW"]
[{"$f":"texte!F56","v":112632},{"$f":"texte!G56","v":"HC217"},{"$f":"texte!H56","v":"JEU DE CONTRE-BRIDES À SOUDER DN65"},null,null,null,null,{"$f":"VLOOKUP($M$37,'gamme DD chaud'!$E$9:$BM$143,60,FALSE)","v":{"$error":"#N/A"}},null,{"$error":"#N/A"},{"$error":"#N/A"},{"$error":"#N/A"},null,null,null,null,{"$error":"#N/A"},null,null,null,111167,"HC216","ISOLATION COUDES 90°C"]
[null,null,null,null,null,null,null,null,null,null,null,null,null,null,null,null,null,null,null,null,111807,"HC219","PIED RÉGLABLE"]
[null,null,null,null,null,null,null,null,null,null,null,null,null,null,null,null,null,null,null,null,112632,"HC217","JEU DE CONTRE-BRIDES À SOUDER DN65"]
["Références du tableau gamme DD non utilisées ou sans références valides",null,null,null,null,null,null,null,null,null,null,null,null,null,null,null,null,null,null,null,"Pour chaudière  MCA 160 ",null,null,null,null,null,null,null,null,{"$f":"U107","v":"Pour chaudière  MCA 160 "},null,null,null,null,null,null,null,null,"Pour chaudière  MCA 160 (trié pour le devis)"]
[null,110966,"Collect. 4         DN65"]
[null,110961,"Collect. 2         DN100",null,null,null,null,null,null,null,null,null,null,null,null,null,null,null,null,null,"référence","colis","Désignation",null,null,null,"prix","Qté",null,"référence","colis","Désignation",null,null,null,"prix","Qté",null,"référence","colis","Désignation",null,null,null,"prix","Qté"]
[null,110960,"Collect. 3         DN100",null,null,null,null,null,null,null,null,null,null,null,null,null,null,null,null,null,{"$f":"VLOOKUP($V110,'Price List'!$X:$AB,3,FALSE)","v":7637550},"EH680",{"$f":"VLOOKUP($V110,'Price List'!$X:$AB,2,FALSE)","v":"CONNECTION CH SOLO MCA 160 EH680"},null,null,null,{"$f":"VLOOKUP($V110,'Price List'!$X:$AB,5,FALSE)","v":688},null,null,{"$f":"IF($AB110>0,U110,\"\")","v":""},{"$f":"IF($AB110>0,V110,\"\")","v":""},"",null,null,null,"",""]
[null,110954,"Collect. 4         DN100",null,null,null,null,null,null,null,null,null,null,null,null,null,null,null,null,null,{"$f":"VLOOKUP($V111,'Price List'!$X:$AB,3,FALSE)","v":7637223},"EH651",{"$f":"VLOOKUP($V111,'Price List'!$X:$AB,2,FALSE)","v":"POMPE UPM XL GRUNDFOS 25-105 H180"},null,null,null,{"$f":"VLOOKUP($V111,'Price List'!$X:$AB,5,FALSE)","v":652},{"$f":"VLOOKUP($M$37,'gamme DD chaud'!$E$154:$AO$159,12,FALSE)","v":3},null,{"$f":"IF($AB111>0,U111,\"\")","v":7637223},{"$f":"IF($AB111>0,V111,\"\")","v":"EH651"},{"$f":"IF($AB111>0,W111,\"\")","v":"POMPE UPM XL GRUNDFOS 25-105 H180"},null,null,null,{"$f":"IF($AB111>0,AA111,\"\")","v":652},{"$f":"IF($AB111>0,AB111,\"\")","v":3},null,null,"Support"]
[null,111714,"Bouteille découpl. DN100",null,null,null,null,null,null,null,null,null,null,null,null,null,null,null,null,null,{"$f":"VLOOKUP($V112,'Price List'!$X:$AB,3,FALSE)","v":100019348},"GV47",{"$f":"VLOOKUP($V112,'Price List'!$X:$AB,2,FALSE)","v":"BOUTEILLE DE DECOUPLAGE  120/80-2''   "},null,null,null,{"$f":"VLOOKUP($V112,'Price List'!$X:$AB,5,FALSE)","v":658},null,null,{"$f":"IF($AB112>0,U112,\"\")","v":""},{"$f":"IF($AB112>0,V112,\"\")","v":""},{"$f":"IF($AB112>0,W112,\"\")","v":""},null,null,null,{"$f":"IF($AB112>0,AA112,\"\")","v":""},"",null,{"$f":"\"\"","v":""},{"$f":"\"\"","v":""},{"$f":"\"\"","v":""},{"$f":"\"\"","v":""},{"$f":"\"\"","v":""},{"$f":"\"\"","v":""},{"$f":"\"\"","v":""},{"$f":"\"\"","v":""}]
[null,111037,"Raccordt. Arrière",null,null,null,null,null,null,null,null,null,null,null,null,null,null,null,null,null,{"$f":"VLOOKUP($V113,'Price List'!$X:$AB,3,FALSE)","v":7656909},"EH693",{"$f":"VLOOKUP($V113,'Price List'!$X:$AB,2,FALSE)","v":"KIT DE CONVERSION PROP. MCA 160KW"},null,null,null,{"$f":"VLOOKUP($V113,'Price List'!$X:$AB,5,FALSE)","v":73},null,null,"","","",null,null,null,"","",null,{"$f":"AD168","v":""},{"$f":"AE168","v":""},"",null,null,null,"",""]
[null,112906,"Raccordt. Avant",null,null,null,null,null,null,null,null,null,null,null,null,null,null,null,null,null,{"$f":"VLOOKUP($V114,'Price List'!$X:$AB,3,FALSE)","v":7628753},"SA12",{"$f":"VLOOKUP($V114,'Price List'!$X:$AB,2,FALSE)","v":"REGULATEUR DE PRESSION  GDJ 20 300MBAR"},null,null,null,{"$f":"VLOOKUP($V114,'Price List'!$X:$AB,5,FALSE)","v":190},null,null,"","","",null,null,null,"","",null,{"$f":"AD169","v":""},{"$f":"AE169","v":""},{"$f":"AF169","v":""},null,null,null,{"$f":"AJ169","v":""},{"$f":"AK169","v":""}]
[null,112908,"Raccordt. Arrière",null,null,null,null,null,null,null,null,null,null,null,null,null,null,null,null,null,{"$f":"VLOOKUP($V115,'Price List'!$X:$AB,3,FALSE)","v":{"$error":"#N/A"}},"AD245",{"$f":"VLOOKUP($V115,'Price List'!$X:$AB,2,FALSE)","v":{"$error":"#N/A"}},null,null,null,{"$f":"VLOOKUP($V115,'Price List'!$X:$AB,5,FALSE)","v":{"$error":"#N/A"}},null,null,"","","",null,null,null,"","",null,"","",{"$f":"AF170","v":""},null,null,null,"",""]
[null,111698,"1 Bride pleine gaz DN50",null,null,null,null,null,null,null,null,null,null,null,null,null,null,null,null,null,{"$f":"VLOOKUP($V116,'Price List'!$X:$AB,3,FALSE)","v":88027177},"AD246",{"$f":"VLOOKUP($V116,'Price List'!$X:$AB,2,FALSE)","v":"REGUL PRESSION GDJ 50  300MB "},null,null,null,{"$f":"VLOOKUP($V116,'Price List'!$X:$AB,5,FALSE)","v":483},null,null,"","","",null,null,null,"","",null,7637088,"EH671","RAIL DE MONTAGE MURAL 3 CHAUDIÈRES MCA 160",null,null,null,70,1]
[null,111699,"1 Bride pleine gaz DN65",null,null,null,null,null,null,null,null,null,null,null,null,null,null,null,null,null,{"$f":"VLOOKUP($V117,'Price List'!$X:$AB,3,FALSE)","v":7613609},"SA3",{"$f":"VLOOKUP($V117,'Price List'!$X:$AB,2,FALSE)","v":"STATION DE NEUTRALISATION DN2 "},null,null,null,{"$f":"VLOOKUP($V117,'Price List'!$X:$AB,5,FALSE)","v":648},null,null,"","","",null,null,null,"","",null,{"$f":"\"\"","v":""},{"$f":"\"\"","v":""},{"$f":"\"\"","v":""},{"$f":"\"\"","v":""},{"$f":"\"\"","v":""},{"$f":"\"\"","v":""},{"$f":"\"\"","v":""},{"$f":"\"\"","v":""}]
[null,111703,"2 Brides pleines eau DN100",null,null,null,null,null,null,null,null,null,null,null,null,null,null,null,null,null,{"$f":"VLOOKUP($V118,'Price List'!$X:$AB,3,FALSE)","v":7613610},"SA4",{"$f":"VLOOKUP($V118,'Price List'!$X:$AB,2,FALSE)","v":"STATION DE NEUTRALISATION AVEC POMPE"},null,null,null,{"$f":"VLOOKUP($V118,'Price List'!$X:$AB,5,FALSE)","v":1314},null,null,"","","",null,null,null,"","",null,null,"Hydraulique"]
[null,114419,"Vanne de sécurité gaz DN 65",null,null,null,null,null,null,null,null,null,null,null,null,null,null,null,null,null,{"$f":"VLOOKUP($V119,'Price List'!$X:$AB,3,FALSE)","v":83877011},"DU15",{"$f":"VLOOKUP($V119,'Price List'!$X:$AB,2,FALSE)","v":"STATION NEUTRALISATION"},null,null,null,{"$f":"VLOOKUP($V119,'Price List'!$X:$AB,5,FALSE)","v":1457},null,null,"","","",null,null,null,"",""]
[null,111780,"Filtre Gaz DN65",null,null,null,null,null,null,null,null,null,null,null,null,null,null,null,null,null,94225601,null,{"$f":"VLOOKUP($U120,'Price List'!$A:$AB,2,FALSE)","v":"RECHARGE DE GRANULATS DE NEUTRALISATION 10 KG**"},null,null,null,{"$f":"VLOOKUP($U120,'Price List'!$A:$AB,5,FALSE)","v":0},null,null,"","","",null,null,null,"","",null,{"$f":"AD144","v":""},{"$f":"AE144","v":""},"",null,null,null,"",""]
[null,111790,"Coude DN100",null,null,null,null,null,null,null,null,null,null,null,null,null,null,null,null,null,{"$f":"VLOOKUP($V121,'Price List'!$X:$AB,3,FALSE)","v":7613613},"SA7",{"$f":"VLOOKUP($V121,'Price List'!$X:$AB,2,FALSE)","v":"GRANULATS DE NEUTRALISATION (SAC DE 25 KG)"},null,null,null,{"$f":"VLOOKUP($V121,'Price List'!$X:$AB,5,FALSE)","v":89},null,null,"","","",null,null,null,"","",null,{"$f":"AD145","v":7665728},{"$f":"AE145","v":"EH653"},{"$f":"AF145","v":"COLLECTEUR DN100-3 CHAUDIERES  MCA 160  FR"},null,null,null,{"$f":"AJ145","v":1551},{"$f":"AK145","v":1}]
[null,111805,"Tube rallonge filtre gaz DN50",null,null,null,null,null,null,null,null,null,null,null,null,null,null,null,null,null,{"$f":"VLOOKUP($V122,'Price List'!$X:$AB,3,FALSE)","v":7619539},"EH692",{"$f":"VLOOKUP($V122,'Price List'!$X:$AB,2,FALSE)","v":"KIT RAC CHAUD  100/150 EH692"},null,null,null,{"$f":"VLOOKUP($V122,'Price List'!$X:$AB,5,FALSE)","v":117},null,null,"","","",null,null,null,"","",null,{"$f":"AD152","v":111712},{"$f":"AE152","v":"HC200"},"BOUTEILLE DE DÉCOUPLAGE DN65 > 350 et < 460 kW",null,null,null,1101,1]
[null,111806,"Tube rallonge filtre gaz DN65",null,null,null,null,null,null,null,null,null,null,null,null,null,null,null,null,null,{"$f":"VLOOKUP($V123,'Price List'!$X:$AB,3,FALSE)","v":7627596},"EH645",{"$f":"VLOOKUP($V123,'Price List'!$X:$AB,2,FALSE)","v":"EXPANSION  150/200MM PPS EH645"},null,null,null,{"$f":"VLOOKUP($V123,'Price List'!$X:$AB,5,FALSE)","v":100},null,null,"","","",null,null,null,"","",null,{"$f":"AD153","v":""},{"$f":"AE153","v":""},{"$f":"AF153","v":""},null,null,null,{"$f":"AJ153","v":""},{"$f":"AK153","v":""}]
[null,112633,"Contre-brides à souder DN100",null,null,null,null,null,null,null,null,null,null,null,null,null,null,null,null,null,{"$f":"VLOOKUP($V124,'Price List'!$X:$AB,3,FALSE)","v":7624821},"EH646",{"$f":"VLOOKUP($V124,'Price List'!$X:$AB,2,FALSE)","v":"FILTRE A AIR"},null,null,null,{"$f":"VLOOKUP($V124,'Price List'!$X:$AB,5,FALSE)","v":474},null,null,"","","",null,null,null,"","",null,"",{"$f":"AE154","v":""},"",null,null,null,"",""]
[null,null,null,null,null,null,null,null,null,null,null,null,null,null,null,null,null,null,null,null,{"$f":"VLOOKUP($V125,'Price List'!$X:$AB,3,FALSE)","v":100000030},"AD212",{"$f":"VLOOKUP($V125,'Price List'!$X:$AB,2,FALSE)","v":"COLIS OPTION SONDE ECS"},null,null,null,{"$f":"VLOOKUP($V125,'Price List'!$X:$AB,5,FALSE)","v":53},null,null,"","","",null,null,null,"","",null,{"$f":"\"\"","v":""},{"$f":"\"\"","v":""},{"$f":"\"\"","v":""},{"$f":"\"\"","v":""},{"$f":"\"\"","v":""},{"$f":"\"\"","v":""},{"$f":"\"\"","v":""},{"$f":"\"\"","v":""}]
[null,null,null,null,null,null,null,null,null,null,null,null,null,null,null,null,null,null,null,null,{"$f":"VLOOKUP($V126,'Price List'!$X:$AB,3,FALSE)","v":"S101655"},"HC255",{"$f":"VLOOKUP($V126,'Price List'!$X:$AB,2,FALSE)","v":"FILTRE GAZ DN50"},null,null,null,{"$f":"VLOOKUP($V126,'Price List'!$X:$AB,5,FALSE)","v":558},null,null,"","","",null,null,null,"","",null,{"$f":"AD147","v":7622701},{"$f":"AE147","v":"EH656"},{"$f":"AF147","v":"RAC COLLEC L MCA 160 EH656"},null,null,null,767,3]
[null,null,null,null,null,null,null,null,null,null,null,null,null,null,null,null,null,null,null,null,{"$f":"VLOOKUP($V127,'Price List'!$X:$AB,3,FALSE)","v":"S101656"},"HC256",{"$f":"VLOOKUP($V127,'Price List'!$X:$AB,2,FALSE)","v":"FILTRE GAZ DN65"},null,null,null,{"$f":"VLOOKUP($V127,'Price List'!$X:$AB,5,FALSE)","v":769},{"$f":"VLOOKUP($M$37,'gamme DD chaud'!$E$154:$AO$159,25,FALSE)","v":1},null,"S101656","HC256","FILTRE GAZ DN65",null,null,null,769,1,null,{"$f":"AD176","v":111708},{"$f":"AE176","v":"HC195"},{"$f":"AF176","v":"JEU DE BOUCHONS"},null,null,null,43,3]
[null,null,null,null,null,null,null,null,null,null,null,null,null,null,null,null,null,null,null,null,{"$f":"VLOOKUP($V128,'Price List'!$X:$AB,3,FALSE)","v":111788},"HC209",{"$f":"VLOOKUP($V128,'Price List'!$X:$AB,2,FALSE)","v":"COUDES DN65"},null,null,null,{"$f":"VLOOKUP($V128,'Price List'!$X:$AB,5,FALSE)","v":714},{"$f":"VLOOKUP($M$37,'gamme DD chaud'!$E$154:$AO$159,26,FALSE)","v":1},null,111788,"HC209","COUDES DN65",null,null,null,714,1,null,{"$f":"\"\"","v":""},{"$f":"\"\"","v":""},{"$f":"\"\"","v":""},{"$f":"\"\"","v":""},{"$f":"\"\"","v":""},{"$f":"\"\"","v":""},{"$f":"\"\"","v":""},{"$f":"\"\"","v":""}]
[null,null,null,null,null,null,null,null,null,null,null,null,null,null,null,null,null,null,null,null,{"$f":"VLOOKUP($V129,'Price List'!$X:$AB,3,FALSE)","v":111790},"HC210",{"$f":"VLOOKUP($V129,'Price List'!$X:$AB,2,FALSE)","v":"COUDES DN100"},null,null,null,{"$f":"VLOOKUP($V129,'Price List'!$X:$AB,5,FALSE)","v":959},{"$f":"VLOOKUP($M$37,'gamme DD chaud'!$E$154:$AO$159,27,FALSE)","v":0},null,"","","",null,null,null,"","",null,{"$f":"AD173","v":111703},{"$f":"AE173","v":"HC199"},"BRIDES PLEINES EAU DN100",null,null,null,203,1]
[null,null,null,null,null,null,null,null,null,null,null,null,null,null,null,null,null,null,null,null,{"$f":"VLOOKUP($V130,'Price List'!$X:$AB,3,FALSE)","v":7638518},"EH669",{"$f":"VLOOKUP($V130,'Price List'!$X:$AB,2,FALSE)","v":"JEU DE CONTRE BRIDE A SOUDER DN65"},null,null,null,{"$f":"VLOOKUP($V130,'Price List'!$X:$AB,5,FALSE)","v":150},{"$f":"VLOOKUP($M$37,'gamme DD chaud'!$E$154:$AO$159,36,FALSE)","v":1},null,{"$f":"IF($AB130>0,U130,\"\")","v":7638518},"EH669","JEU DE CONTRE BRIDE A SOUDER DN65",null,null,null,150,1,null,{"$f":"AD140","v":""},{"$f":"AE140","v":""},{"$f":"AF140","v":""},null,null,null,{"$f":"AJ140","v":""},{"$f":"AK140","v":""}]
[null,null,null,null,null,null,null,null,null,null,null,null,null,null,null,null,null,null,null,null,{"$f":"VLOOKUP($V131,'Price List'!$X:$AB,3,FALSE)","v":112633},"HC218",{"$f":"VLOOKUP($V131,'Price List'!$X:$AB,2,FALSE)","v":"JEU DE CONTRE-BRIDES À SOUDER DN100"},null,null,null,{"$f":"VLOOKUP($V131,'Price List'!$X:$AB,5,FALSE)","v":183},{"$f":"VLOOKUP($M$37,'gamme DD chaud'!$E$154:$AO$159,37,FALSE)","v":0},null,"","","",null,null,null,"","",null,{"$f":"AD111","v":7637223},{"$f":"AE111","v":"EH651"},"POMPE UPM XL GRUNDFOS 25-105 H180",null,null,null,652,3]
[null,null,null,null,null,null,null,null,null,null,null,null,null,null,null,null,null,null,null,null,{"$f":"VLOOKUP($V132,'Price List'!$X:$AB,3,FALSE)","v":7613401},"EH647",{"$f":"VLOOKUP($V132,'Price List'!$X:$AB,2,FALSE)","v":"ISOLATION COLLECTEUR MCA 160"},null,null,null,{"$f":"VLOOKUP($V132,'Price List'!$X:$AB,5,FALSE)","v":96},{"$f":"VLOOKUP($M$37,'gamme DD chaud'!$E$154:$AO$159,28,FALSE)","v":3},null,7613401,"EH647","ISOLATION COLLECTEUR MCA 160",null,null,null,96,3,null,{"$f":"IF($AD$178<>\"\",AD178,AD177)","v":7638518},{"$f":"IF($AD$178<>\"\",AE178,AE177)","v":"EH669"},"JEU DE CONTRE BRIDE A SOUDER DN65",null,null,null,150,1]
[null,"DEVIS  MCA CASCADE 160",null,null,null,null,null,null,null,null,null,null,null,null,null,null,null,null,null,null,{"$f":"VLOOKUP($V133,'Price List'!$X:$AB,3,FALSE)","v":7611804},"EH648",{"$f":"VLOOKUP($V133,'Price List'!$X:$AB,2,FALSE)","v":"ISOLATION RACCORD MCA 160 "},null,null,null,{"$f":"VLOOKUP($V133,'Price List'!$X:$AB,5,FALSE)","v":93},{"$f":"VLOOKUP($M$37,'gamme DD chaud'!$E$154:$AO$159,29,FALSE)","v":3},null,7611804,"EH648","ISOLATION RACCORD MCA 160 ",null,null,null,93,3,null,{"$f":"\"\"","v":""},{"$f":"\"\"","v":""},{"$f":"\"\"","v":""},{"$f":"\"\"","v":""},{"$f":"\"\"","v":""},{"$f":"\"\"","v":""},{"$f":"\"\"","v":""},{"$f":"\"\"","v":""}]
[null,null,null,null,null,null,null,null,null,null,null,null,null,null,null,null,null,null,null,null,{"$f":"VLOOKUP($V134,'Price List'!$X:$AB,3,FALSE)","v":7631858},"EH649",{"$f":"VLOOKUP($V134,'Price List'!$X:$AB,2,FALSE)","v":"PLAQ ISOLATION AR"},null,null,null,{"$f":"VLOOKUP($V134,'Price List'!$X:$AB,5,FALSE)","v":85},{"$f":"VLOOKUP($M$37,'gamme DD chaud'!$E$154:$AO$159,30,FALSE)","v":0},null,"","","",null,null,null,"","",null,null,"Régulation"]
[null,null,null,null,null,null,null,null,null,null,null,null,null,null,null,null,null,null,null,null,{"$f":"VLOOKUP($V135,'Price List'!$X:$AB,3,FALSE)","v":115269},"HC224",{"$f":"VLOOKUP($V135,'Price List'!$X:$AB,2,FALSE)","v":"ISOLATION BOUTEILLE DE DÉCOUPLAGE < 350 kW"},null,null,null,{"$f":"VLOOKUP($V135,'Price List'!$X:$AB,5,FALSE)","v":40},{"$f":"VLOOKUP($M$37,'gamme DD chaud'!$E$154:$AO$159,33,FALSE)","v":0},null,"","","",null,null,null,"",""]
[null,null,null,null,null,null,null,null,null,null,null,null,null,null,null,null,null,null,null,null,{"$f":"VLOOKUP($V136,'Price List'!$X:$AB,3,FALSE)","v":111067},"HC215",{"$f":"VLOOKUP($V136,'Price List'!$X:$AB,2,FALSE)","v":"ISOLATION BOUTEILLE DE DÉCOUPLAGE"},null,null,null,{"$f":"VLOOKUP($V136,'Price List'!$X:$AB,5,FALSE)","v":260},{"$f":"VLOOKUP($M$37,'gamme DD chaud'!$E$154:$AO$159,31,FALSE)","v":1},null,111067,"HC215","ISOLATION BOUTEILLE DE DÉCOUPLAGE",null,null,null,260,1,null,{"$f":"AD149","v":""},{"$f":"AE149","v":""},"",null,null,null,"",""]
[null,null,null,null,null,null,null,null,null,null,null,null,null,null,null,null,null,null,null,null,{"$f":"VLOOKUP($V137,'Price List'!$X:$AB,3,FALSE)","v":111167},"HC216",{"$f":"VLOOKUP($V137,'Price List'!$X:$AB,2,FALSE)","v":"ISOLATION COUDES 90°C"},null,null,null,{"$f":"VLOOKUP($V137,'Price List'!$X:$AB,5,FALSE)","v":111},{"$f":"VLOOKUP($M$37,'gamme DD chaud'!$E$154:$AO$159,34,FALSE)","v":1},null,111167,"HC216","ISOLATION COUDES 90°C",null,null,null,111,1,null,{"$f":"AD150","v":100008701},{"$f":"AE150","v":"HC206"},"SONDE DE DÉPART + DOIGT DE GANT",null,null,null,167,1]
[null,"Chiffrage ",null,null,null,null,null,null,null,null,null,null,null,null,null,null,null,null,null,null,null,null,null,null,null,null,null,null,null,"","","",null,null,null,"","",null,{"$f":"AD141","v":7663561},{"$f":"AE141","v":"AD309"},"CABLE S-BUS 12M AVEC BOUCHONS",null,null,null,106,2]
[null,null,null,null,null,null,null,null,null,null,null,null,null,null,null,null,null,null,null,null,{"$f":"VLOOKUP($V139,'Price List'!$X:$AB,3,FALSE)","v":7622201},"EH650",{"$f":"VLOOKUP($V139,'Price List'!$X:$AB,2,FALSE)","v":"ISOLATION ADAPTATEUR 100/65"},null,null,null,{"$f":"VLOOKUP($V139,'Price List'!$X:$AB,5,FALSE)","v":49},{"$f":"VLOOKUP($M$37,'gamme DD chaud'!$E$154:$AO$159,32,FALSE)","v":1},null,7622201,"EH650","ISOLATION ADAPTATEUR 100/65",null,null,null,49,1]
[null,null,"Système","Référence",null,"Désignation",null,null,null,"Colis","Prix unitaire","Qtté","Prix net",null,null,null,null,null,null,null,{"$f":"VLOOKUP($V140,'Price List'!$X:$AB,3,FALSE)","v":111807},"HC219",{"$f":"VLOOKUP($V140,'Price List'!$X:$AB,2,FALSE)","v":"PIED RÉGLABLE"},null,null,null,{"$f":"VLOOKUP($V140,'Price List'!$X:$AB,5,FALSE)","v":4},{"$f":"VLOOKUP($M$37,'gamme DD chaud'!$E$154:$AO$159,35,FALSE)","v":0},null,"","","",null,null,null,"",""]
[null,null,null,null,null,null,null,null,null,null,"en €",null,"en €",null,null,null,null,null,null,null,{"$f":"VLOOKUP($V141,'Price List'!$X:$AB,3,FALSE)","v":7663561},"AD309",{"$f":"VLOOKUP($V141,'Price List'!$X:$AB,2,FALSE)","v":"CABLE S-BUS 12M AVEC BOUCHONS"},null,null,null,{"$f":"VLOOKUP($V141,'Price List'!$X:$AB,5,FALSE)","v":106},{"$f":"D6-1","v":2},null,7663561,"AD309","CABLE S-BUS 12M AVEC BOUCHONS",null,null,null,106,2]
[null,null,{"$f":"M37","v":"LW.0456kW.00003"},null,null,null,null,null,null,null,null,null,null,null,null,null,null,null,null,null,{"$f":"VLOOKUP($V142,'Price List'!$X:$AB,3,FALSE)","v":7663619},"AD310",{"$f":"VLOOKUP($V142,'Price List'!$X:$AB,2,FALSE)","v":"CABLE S-BUS 20M AVEC BOUCHONS"},null,null,null,{"$f":"VLOOKUP($V142,'Price List'!$X:$AB,5,FALSE)","v":140},null,null,"","","",null,null,null,"","",null,"Options"]
[null,null,null,"Support",null,null,null,null,null,null,null,null,null,null,null,null,null,null,null,null,null,null,null,null,null,null,null,null,null,{"$f":"IF($AB143>0,U143,\"\")","v":""},{"$f":"IF($AB143>0,V143,\"\")","v":""},{"$f":"IF($AB143>0,W143,\"\")","v":""},null,null,null,{"$f":"IF($AB143>0,AA143,\"\")","v":""},""]
[null,null,null,null,null,null,null,null,null,null,null,null,null,null,null,null,null,null,null,null,{"$f":"VLOOKUP($V144,'Price List'!$X:$AB,3,FALSE)","v":7665725},"EH652",{"$f":"VLOOKUP($V144,'Price List'!$X:$AB,2,FALSE)","v":"COLLECTEUR DN100-2 CHAUDIERES MCA  160 FR"},null,null,null,{"$f":"VLOOKUP($V144,'Price List'!$X:$AB,5,FALSE)","v":1224},{"$f":"VLOOKUP($M$37,'gamme DD chaud'!$E$154:$AO$159,13,FALSE)","v":0},null,"","","",null,null,null,"","",null,"référence","colis","Désignation",null,null,null,"prix","Qté"]
[null,null,null,{"$f":"IF('Dimensionnement par chaudière'!$H$18=0,$J$79,AM113)","v":""},{"$f":"IF('Dimensionnement par chaudière'!$H$18=0,$J$79,AO113)","v":""},null,null,null,null,{"$f":"IF('Dimensionnement par chaudière'!$H$18=0,'Calcul dim par chaudière'!$K$79,AN113)","v":""},{"$f":"IF('Dimensionnement par chaudière'!$H$18=0,IF($D$145=\"\",\"\",VLOOKUP($D$145,'Price List'!A:E,5,FALSE)),AS113)","v":""},{"$f":"IF('Dimensionnement par chaudière'!$H$18=0,'Calcul dim par chaudière'!$Q$79,AT113)","v":""},{"$f":"IF($E$145=\"\",\"\",$K$145*$L$145)","v":""},null,null,null,null,null,null,null,{"$f":"VLOOKUP($V145,'Price List'!$X:$AB,3,FALSE)","v":7665728},"EH653",{"$f":"VLOOKUP($V145,'Price List'!$X:$AB,2,FALSE)","v":"COLLECTEUR DN100-3 CHAUDIERES  MCA 160  FR"},null,null,null,{"$f":"VLOOKUP($V145,'Price List'!$X:$AB,5,FALSE)","v":1551},{"$f":"VLOOKUP($M$37,'gamme DD chaud'!$E$154:$AO$159,14,FALSE)","v":1},null,7665728,"EH653","COLLECTEUR DN100-3 CHAUDIERES  MCA 160  FR",null,null,null,1551,1,null,{"$f":"AD156","v":7633244},{"$f":"AE156","v":"EH654"},{"$f":"IF($AT$145=\"\",\"\",$AF$156)","v":"ADAPTATEUR DN100/DN65"},null,null,null,328,{"$f":"AK156","v":1}]
[null,null,null,{"$f":"IF('Dimensionnement par chaudière'!$H$18=0,$J$79,AM114)","v":""},{"$f":"IF('Dimensionnement par chaudière'!$H$18=0,$J$79,AO114)","v":""},null,null,null,null,{"$f":"IF('Dimensionnement par chaudière'!$H$18=0,'Calcul dim par chaudière'!$K$79,AN114)","v":""},{"$f":"IF('Dimensionnement par chaudière'!$H$18=0,IF($D$145=\"\",\"\",VLOOKUP($D$145,'Price List'!A:E,5,FALSE)),AS114)","v":""},{"$f":"IF('Dimensionnement par chaudière'!$H$18=0,'Calcul dim par chaudière'!$Q$79,AT114)","v":""},{"$f":"IF($E$146=\"\",\"\",$K$146*$L$146)","v":""},null,null,null,null,null,null,null,null,null,null,null,null,null,null,null,null,"","","",null,null,null,"","",null,{"$f":"AD139","v":7622201},{"$f":"AE139","v":"EH650"},{"$f":"IF(AT146=\"\",\"\",W139)","v":"ISOLATION ADAPTATEUR 100/65"},null,null,null,49,{"$f":"AK139","v":1}]
[null,null,null,{"$f":"IF('Dimensionnement par chaudière'!$H$18=0,$J$79,AM115)","v":""},{"$f":"IF('Dimensionnement par chaudière'!$H$18=0,$J$79,AO115)","v":""},null,null,null,null,{"$f":"IF('Dimensionnement par chaudière'!$H$18=0,'Calcul dim par chaudière'!$K$79,AN115)","v":""},{"$f":"IF('Dimensionnement par chaudière'!$H$18=0,IF($D$145=\"\",\"\",VLOOKUP($D$145,'Price List'!A:E,5,FALSE)),AS115)","v":""},{"$f":"IF('Dimensionnement par chaudière'!$H$18=0,'Calcul dim par chaudière'!$Q$79,AT115)","v":""},{"$f":"IF($E$147=\"\",\"\",$K$147*$L$147)","v":""},null,null,null,null,null,null,null,{"$f":"VLOOKUP($V147,'Price List'!$X:$AB,3,FALSE)","v":7622701},"EH656",{"$f":"VLOOKUP($V147,'Price List'!$X:$AB,2,FALSE)","v":"RAC COLLEC L MCA 160 EH656"},null,null,null,{"$f":"VLOOKUP($V147,'Price List'!$X:$AB,5,FALSE)","v":767},{"$f":"VLOOKUP($M$37,'gamme DD chaud'!$E$154:$AO$159,19,FALSE)","v":3},null,7622701,"EH656","RAC COLLEC L MCA 160 EH656",null,null,null,767,3,null,{"$f":"AD127","v":"S101656"},{"$f":"AE127","v":"HC256"},{"$f":"IF(AT147=\"\",\"\",W127)","v":"FILTRE GAZ DN65"},null,null,null,{"$f":"AJ127","v":769},{"$f":"AK127","v":1}]
[null,null,null,{"$f":"IF('Dimensionnement par chaudière'!$H$18=0,$J$79,AM116)","v":7637088},{"$f":"IF('Dimensionnement par chaudière'!$H$18=0,$J$79,AO116)","v":"RAIL DE MONTAGE MURAL 3 CHAUDIÈRES MCA 160"},null,null,null,null,{"$f":"IF('Dimensionnement par chaudière'!$H$18=0,'Calcul dim par chaudière'!$K$79,AN116)","v":"EH671"},{"$f":"IF('Dimensionnement par chaudière'!$H$18=0,IF($D$145=\"\",\"\",VLOOKUP($D$145,'Price List'!A:E,5,FALSE)),AS116)","v":70},{"$f":"IF('Dimensionnement par chaudière'!$H$18=0,'Calcul dim par chaudière'!$Q$79,AT116)","v":1},{"$f":"IF($E$148=\"\",\"\",$K$148*$L$148)","v":70},null,null,null,null,null,null,null,null,null,null,null,null,null,null,null,null,"","","",null,null,null,"","",null,{"$f":"AD128","v":111788},{"$f":"AE128","v":"HC209"},{"$f":"IF(AT148=\"\",\"\",W128)","v":"COUDES DN65"},null,null,null,{"$f":"AJ128","v":714},{"$f":"AK128","v":1}]
[null,null,null,{"$f":"IF('Dimensionnement par chaudière'!$H$18=0,$J$79,\"\")","v":""},{"$f":"IF('Dimensionnement par chaudière'!$H$18=0,$J$79,\"\")","v":""},null,null,null,null,{"$f":"IF('Dimensionnement par chaudière'!$H$18=0,'Calcul dim par chaudière'!$K$79,\"\")","v":""},{"$f":"IF('Dimensionnement par chaudière'!$H$18=0,IF($D$145=\"\",\"\",VLOOKUP($D$145,'Price List'!A:E,5,FALSE)),\"\")","v":""},{"$f":"IF('Dimensionnement par chaudière'!$H$18=0,'Calcul dim par chaudière'!$Q$83,\"\")","v":""},{"$f":"IF($E$149=\"\",\"\",$K$149*$L$149)","v":""},null,null,null,null,null,null,null,{"$f":"VLOOKUP($V149,'Price List'!$X:$AB,3,FALSE)","v":100013027},"HC223",{"$f":"VLOOKUP($V149,'Price List'!$X:$AB,2,FALSE)","v":"SONDE DE DÉPART + DOIGT DE GANT-BOUTEILLE < 350 kW"},null,null,null,{"$f":"VLOOKUP($V149,'Price List'!$X:$AB,5,FALSE)","v":141},{"$f":"VLOOKUP($M$37,'gamme DD chaud'!$E$154:$AZ$159,38,FALSE)","v":0},null,"","","",null,null,null,"","",null,"","",{"$f":"IF(AT149=\"\",\"\",W129)","v":""},null,null,null,"",""]
[null,null,null,{"$f":"IF('Dimensionnement par chaudière'!$H$18=0,$J$84,\"\")","v":""},{"$f":"IF('Dimensionnement par chaudière'!$H$18=0,'Calcul dim par chaudière'!$L$84,\"\")","v":""},null,null,null,null,{"$f":"IF('Dimensionnement par chaudière'!$H$18=0,'Calcul dim par chaudière'!$K$84,\"\")","v":""},{"$f":"IF('Dimensionnement par chaudière'!$H$18=0,IF($D$150=\"\",\"\",VLOOKUP($D$150,'Price List'!A:E,5,FALSE)),\"\")","v":""},{"$f":"IF('Dimensionnement par chaudière'!$H$18=0,'Calcul dim par chaudière'!$Q$84,\"\")","v":""},{"$f":"IF($E$150=\"\",\"\",$K$150*$L$150)","v":""},null,null,null,null,null,null,null,{"$f":"VLOOKUP($V150,'Price List'!$X:$AB,3,FALSE)","v":100008701},"HC206",{"$f":"VLOOKUP($V150,'Price List'!$X:$AB,2,FALSE)","v":"SONDE DE DÉPART + DOIGT DE GANT"},null,null,null,{"$f":"VLOOKUP($V150,'Price List'!$X:$AB,5,FALSE)","v":167},{"$f":"VLOOKUP($M$37,'gamme DD chaud'!$E$154:$AZ$159,39,FALSE)","v":1},null,100008701,"HC206","SONDE DE DÉPART + DOIGT DE GANT",null,null,null,167,1,null,{"$f":"AD131","v":""},"",{"$f":"IF(AT150=\"\",\"\",W131)","v":""},null,null,null,{"$f":"AJ131","v":""},""]
[null,null,null,null,null,null,null,null,null,null,null,null,null,null,null,null,null,null,null,null,null,null,null,null,null,null,null,null,null,"","","",null,null,null,"","",null,7613401,"EH647","ISOLATION COLLECTEUR MCA 160",null,null,null,96,3]
[null,null,null,"Hydraulique",null,null,null,null,null,null,null,null,null,null,null,null,null,null,null,null,{"$f":"VLOOKUP($V152,'Price List'!$X:$AB,3,FALSE)","v":111712},"HC200",{"$f":"VLOOKUP($V152,'Price List'!$X:$AB,2,FALSE)","v":"BOUTEILLE DE DÉCOUPLAGE DN65 > 350 et < 460 kW"},null,null,null,{"$f":"VLOOKUP($V152,'Price List'!$X:$AB,5,FALSE)","v":1101},{"$f":"VLOOKUP($M$37,'gamme DD chaud'!$E$154:$AO$159,16,FALSE)","v":1},null,111712,"HC200","BOUTEILLE DE DÉCOUPLAGE DN65 > 350 et < 460 kW",null,null,null,1101,1,null,7611804,"EH648","ISOLATION RACCORD MCA 160 ",null,null,null,93,3]
[null,null,null,null,null,null,null,null,null,null,null,null,null,null,null,null,null,null,null,null,{"$f":"VLOOKUP($V153,'Price List'!$X:$AB,3,FALSE)","v":111714},"HC201",{"$f":"VLOOKUP($V153,'Price List'!$X:$AB,2,FALSE)","v":"BOUTEILLE DE DÉCOUPLAGE DN100 > 460 kW"},null,null,null,{"$f":"VLOOKUP($V153,'Price List'!$X:$AB,5,FALSE)","v":1334},{"$f":"VLOOKUP($M$37,'gamme DD chaud'!$E$154:$AO$159,17,FALSE)","v":0},null,"","","",null,null,null,"","",null,"","","",null,null,null,"",""]
[null,null,null,{"$f":"IF('Dimensionnement par chaudière'!$H$18=0,$J61,AM120)","v":""},{"$f":"IF('Dimensionnement par chaudière'!$H$18=0,'Calcul dim par chaudière'!$L$61,$AO120)","v":""},null,null,null,null,{"$f":"IF('Dimensionnement par chaudière'!$H$18=0,'Calcul dim par chaudière'!$K$61,$AN120)","v":""},{"$f":"IF('Dimensionnement par chaudière'!$H$18=0,IF($D$154=\"\",\"\",VLOOKUP($D$154,'Price List'!A:E,5,FALSE)),$AS120)","v":""},{"$f":"IF('Dimensionnement par chaudière'!$H$18=0,'Calcul dim par chaudière'!$Q$61,$AT120)","v":""},{"$f":"IF($E$154=\"\",\"\",$K$154*$L$154)","v":""},null,null,null,null,null,null,null,{"$f":"VLOOKUP($V154,'Price List'!$X:$AB,3,FALSE)","v":114311},"HC222",{"$f":"VLOOKUP($V154,'Price List'!$X:$AB,2,FALSE)","v":"BOUTEILLE DE DÉCOUPLAGE DN65 < 350 kW"},null,null,null,{"$f":"VLOOKUP($V154,'Price List'!$X:$AB,5,FALSE)","v":664},{"$f":"VLOOKUP($M$37,'gamme DD chaud'!$E$154:$AO$159,15,FALSE)","v":0},null,"","","",null,null,null,"","",null,"","","",null,null,null,"",""]
[null,null,null,{"$f":"IF('Dimensionnement par chaudière'!$H$18=0,$J62,AM121)","v":7665728},{"$f":"IF('Dimensionnement par chaudière'!$H$18=0,'Calcul dim par chaudière'!$L$61,$AO121)","v":"COLLECTEUR DN100-3 CHAUDIERES  MCA 160  FR"},null,null,null,null,{"$f":"IF('Dimensionnement par chaudière'!$H$18=0,'Calcul dim par chaudière'!$K$61,$AN121)","v":"EH653"},{"$f":"IF('Dimensionnement par chaudière'!$H$18=0,IF($D$154=\"\",\"\",VLOOKUP($D$154,'Price List'!A:E,5,FALSE)),$AS121)","v":1551},{"$f":"IF('Dimensionnement par chaudière'!$H$18=0,'Calcul dim par chaudière'!$Q$61,$AT121)","v":1},{"$f":"IF($E$155=\"\",\"\",$K$155*$L$155)","v":1551},null,null,null,null,null,null,null,null,null,null,null,null,null,null,null,null,"","","",null,null,null,"","",null,111067,"HC215","ISOLATION BOUTEILLE DE DÉCOUPLAGE",null,null,null,260,1]
[null,null,null,{"$f":"IF('Dimensionnement par chaudière'!$H$18=0,$J63,AM122)","v":111712},{"$f":"IF('Dimensionnement par chaudière'!$H$18=0,'Calcul dim par chaudière'!$L$61,$AO122)","v":"BOUTEILLE DE DÉCOUPLAGE DN65 > 350 et < 460 kW"},null,null,null,null,{"$f":"IF('Dimensionnement par chaudière'!$H$18=0,'Calcul dim par chaudière'!$K$61,$AN122)","v":"HC200"},{"$f":"IF('Dimensionnement par chaudière'!$H$18=0,IF($D$154=\"\",\"\",VLOOKUP($D$154,'Price List'!A:E,5,FALSE)),$AS122)","v":1101},{"$f":"IF('Dimensionnement par chaudière'!$H$18=0,'Calcul dim par chaudière'!$Q$61,$AT122)","v":1},{"$f":"IF($E$156=\"\",\"\",$K$156*$L$156)","v":1101},null,null,null,null,null,null,null,{"$f":"VLOOKUP($V156,'Price List'!$X:$AB,3,FALSE)","v":7633244},"EH654",{"$f":"VLOOKUP($V156,'Price List'!$X:$AB,2,FALSE)","v":"ADAPTATEUR DN100/DN65"},null,null,null,{"$f":"VLOOKUP($V156,'Price List'!$X:$AB,5,FALSE)","v":328},{"$f":"VLOOKUP($M$37,'gamme DD chaud'!$E$154:$AO$159,18,FALSE)","v":1},null,7633244,"EH654","ADAPTATEUR DN100/DN65",null,null,null,328,{"$f":"IF($AB156>0,AB156,\"\")","v":1},null,111167,"HC216",{"$f":"W137","v":"ISOLATION COUDES 90°C"},null,null,null,111,1]
[null,null,null,{"$f":"IF('Dimensionnement par chaudière'!$H$18=0,$J64,AM123)","v":""},{"$f":"IF('Dimensionnement par chaudière'!$H$18=0,'Calcul dim par chaudière'!$L$61,$AO123)","v":""},null,null,null,null,{"$f":"IF('Dimensionnement par chaudière'!$H$18=0,'Calcul dim par chaudière'!$K$61,$AN123)","v":""},{"$f":"IF('Dimensionnement par chaudière'!$H$18=0,IF($D$154=\"\",\"\",VLOOKUP($D$154,'Price List'!A:E,5,FALSE)),$AS123)","v":""},{"$f":"IF('Dimensionnement par chaudière'!$H$18=0,'Calcul dim par chaudière'!$Q$61,$AT123)","v":""},{"$f":"IF($E$157=\"\",\"\",$K$157*$L$157)","v":""},null,null,null,null,null,null,null,null,null,null,null,null,null,null,null,null,"","","",null,null,null,"",""]
[null,null,null,{"$f":"IF('Dimensionnement par chaudière'!$H$18=0,$J65,AM124)","v":""},{"$f":"IF('Dimensionnement par chaudière'!$H$18=0,\"\",$AO124)","v":""},null,null,null,null,{"$f":"IF('Dimensionnement par chaudière'!$H$18=0,'Calcul dim par chaudière'!$K$61,$AN124)","v":""},{"$f":"IF('Dimensionnement par chaudière'!$H$18=0,IF($D$154=\"\",\"\",VLOOKUP($D$154,'Price List'!A:E,5,FALSE)),$AS124)","v":""},{"$f":"IF('Dimensionnement par chaudière'!$H$18=0,'Calcul dim par chaudière'!$Q$61,$AT124)","v":""},{"$f":"IF($E$158=\"\",\"\",$K$158*$L$158)","v":""},null,null,null,null,null,null,null,null,null,null,null,null,null,null,null,null,"","","",null,null,null,"",""]
[null,null,null,{"$f":"IF($L$159=0,\"\",$AM$145)","v":7633244},{"$f":"IF($L$159=0,\"\",$AO$145)","v":"ADAPTATEUR DN100/DN65"},null,null,null,null,{"$f":"AN145","v":"EH654"},{"$f":"IF('Dimensionnement par chaudière'!$H$18=0,IF($D$154=\"\",\"\",VLOOKUP($D$154,'Price List'!A:E,5,FALSE)),$AS145)","v":328},{"$f":"IF(AT145=0,\"\",AT145)","v":1},{"$f":"IF(L159=\"\",\"\",$K159*$L159)","v":328},null,null,null,null,null,null,null,null,null,null,null,null,null,null,null,null,"","","",null,null,null,"",""]
[null,null,null,{"$f":"IF('Dimensionnement par chaudière'!$H$18=0,$J66,AM125)","v":""},{"$f":"IF('Dimensionnement par chaudière'!$H$18=0,'Calcul dim par chaudière'!$L$61,$AO125)","v":""},null,null,null,null,{"$f":"IF('Dimensionnement par chaudière'!$H$18=0,'Calcul dim par chaudière'!$K$61,$AN125)","v":""},{"$f":"IF('Dimensionnement par chaudière'!$H$18=0,IF($D$154=\"\",\"\",VLOOKUP($D$154,'Price List'!A:E,5,FALSE)),$AS125)","v":""},{"$f":"IF('Dimensionnement par chaudière'!$H$18=0,'Calcul dim par chaudière'!$Q$61,$AT125)","v":""},{"$f":"IF($E$160=\"\",\"\",$K$160*$L$160)","v":""},null,null,null,null,null,null,null,null,null,null,null,null,null,null,null,null,"","","",null,null,null,"",""]
[null,null,null,{"$f":"IF('Dimensionnement par chaudière'!$H$18=0,$J67,AM126)","v":7622701},{"$f":"IF('Dimensionnement par chaudière'!$H$18=0,'Calcul dim par chaudière'!$L$61,$AO126)","v":"RAC COLLEC L MCA 160 EH656"},null,null,null,null,{"$f":"IF('Dimensionnement par chaudière'!$H$18=0,'Calcul dim par chaudière'!$K$61,$AN126)","v":"EH656"},{"$f":"IF('Dimensionnement par chaudière'!$H$18=0,IF($D$154=\"\",\"\",VLOOKUP($D$154,'Price List'!A:E,5,FALSE)),$AS126)","v":767},{"$f":"IF('Dimensionnement par chaudière'!$H$18=0,'Calcul dim par chaudière'!$Q$61,$AT126)","v":3},{"$f":"IF($E$161=\"\",\"\",$K$161*$L$161)","v":2301},null,null,null,null,null,null,null,null,null,null,null,null,null,null,null,null,"","","",null,null,null,"",""]
[null,null,null,{"$f":"IF('Dimensionnement par chaudière'!$H$18=0,$J68,AM127)","v":111708},{"$f":"IF('Dimensionnement par chaudière'!$H$18=0,'Calcul dim par chaudière'!$L$61,$AO127)","v":"JEU DE BOUCHONS"},null,null,null,null,{"$f":"IF('Dimensionnement par chaudière'!$H$18=0,'Calcul dim par chaudière'!$K$61,$AN127)","v":"HC195"},{"$f":"IF('Dimensionnement par chaudière'!$H$18=0,IF($D$154=\"\",\"\",VLOOKUP($D$154,'Price List'!A:E,5,FALSE)),$AS127)","v":43},{"$f":"IF('Dimensionnement par chaudière'!$H$18=0,'Calcul dim par chaudière'!$Q$61,$AT127)","v":3},{"$f":"IF($E$162=\"\",\"\",$K$162*$L$162)","v":129},null,null,null,null,null,null,null,null,null,null,null,null,null,null,null,null,"","","",null,null,null,"",""]
[null,null,null,{"$f":"IF('Dimensionnement par chaudière'!$H$18=0,$J69,AM128)","v":""},{"$f":"IF('Dimensionnement par chaudière'!$H$18=0,'Calcul dim par chaudière'!$L$61,$AO128)","v":""},null,null,null,null,{"$f":"IF('Dimensionnement par chaudière'!$H$18=0,'Calcul dim par chaudière'!$K$61,$AN128)","v":""},{"$f":"IF('Dimensionnement par chaudière'!$H$18=0,IF($D$154=\"\",\"\",VLOOKUP($D$154,'Price List'!A:E,5,FALSE)),$AS128)","v":""},{"$f":"IF('Dimensionnement par chaudière'!$H$18=0,'Calcul dim par chaudière'!$Q$61,$AT128)","v":""},{"$f":"IF($E$163=\"\",\"\",$K$163*$L$163)","v":""},null,null,null,null,null,null,null,null,null,null,null,null,null,null,null,null,"","","",null,null,null,"",""]
[null,null,null,{"$f":"IF('Dimensionnement par chaudière'!$H$18=0,$J70,AM129)","v":111703},{"$f":"IF('Dimensionnement par chaudière'!$H$18=0,'Calcul dim par chaudière'!$L$61,$AO129)","v":"BRIDES PLEINES EAU DN100"},null,null,null,null,{"$f":"IF('Dimensionnement par chaudière'!$H$18=0,'Calcul dim par chaudière'!$K$61,$AN129)","v":"HC199"},{"$f":"IF('Dimensionnement par chaudière'!$H$18=0,IF($D$154=\"\",\"\",VLOOKUP($D$154,'Price List'!A:E,5,FALSE)),$AS129)","v":203},{"$f":"IF('Dimensionnement par chaudière'!$H$18=0,'Calcul dim par chaudière'!$Q$61,$AT129)","v":1},{"$f":"IF($E$164=\"\",\"\",$K$164*$L$164)","v":203},null,null,null,null,null,null,null,null,null,null,null,null,null,null,null,null,"","","",null,null,null,"",""]
[null,null,null,{"$f":"IF('Dimensionnement par chaudière'!$H$18=0,$J71,AM130)","v":""},{"$f":"IF('Dimensionnement par chaudière'!$H$18=0,'Calcul dim par chaudière'!$L$61,$AO130)","v":""},null,null,null,null,{"$f":"IF('Dimensionnement par chaudière'!$H$18=0,'Calcul dim par chaudière'!$K$61,$AN130)","v":""},{"$f":"IF('Dimensionnement par chaudière'!$H$18=0,IF($D$154=\"\",\"\",VLOOKUP($D$154,'Price List'!A:E,5,FALSE)),$AS130)","v":""},{"$f":"IF('Dimensionnement par chaudière'!$H$18=0,'Calcul dim par chaudière'!$Q$61,$AT130)","v":""},{"$f":"IF($E$165=\"\",\"\",$K$165*$L$165)","v":""},null,null,null,null,null,null,null,null,null,null,null,null,null,null,null,null,"","","",null,null,null,"",""]
[null,null,null,{"$f":"IF('Dimensionnement par chaudière'!$H$18=0,$J72,AM131)","v":7637223},{"$f":"IF('Dimensionnement par chaudière'!$H$18=0,'Calcul dim par chaudière'!$L$61,$AO131)","v":"POMPE UPM XL GRUNDFOS 25-105 H180"},null,null,null,null,{"$f":"IF('Dimensionnement par chaudière'!$H$18=0,'Calcul dim par chaudière'!$K$61,$AN131)","v":"EH651"},{"$f":"IF('Dimensionnement par chaudière'!$H$18=0,IF($D$154=\"\",\"\",VLOOKUP($D$154,'Price List'!A:E,5,FALSE)),$AS131)","v":652},{"$f":"IF('Dimensionnement par chaudière'!$H$18=0,'Calcul dim par chaudière'!$Q$61,$AT131)","v":3},{"$f":"IF($E$166=\"\",\"\",$K$166*$L$166)","v":1956},null,null,null,null,null,null,null,null,null,null,null,null,null,null,null,null,"","","",null,null,null,"",""]
[null,null,null,{"$f":"IF('Dimensionnement par chaudière'!$H$18=0,$J73,AM132)","v":7638518},{"$f":"IF('Dimensionnement par chaudière'!$H$18=0,$J73,AO132)","v":"JEU DE CONTRE BRIDE A SOUDER DN65"},null,null,null,null,{"$f":"IF('Dimensionnement par chaudière'!$H$18=0,$J73,AN132)","v":"EH669"},{"$f":"IF('Dimensionnement par chaudière'!$H$18=0,$J73,AS132)","v":150},{"$f":"IF('Dimensionnement par chaudière'!$H$18=0,$J73,AT132)","v":1},{"$f":"IF($J$167=\"\",\"\",$K$167*$L$167)","v":150},null,null,null,null,null,null,null,null,null,null,null,null,null,null,null,null,"","","",null,null,null,"",""]
[null,null,null,{"$f":"IF('Dimensionnement par chaudière'!$H$18=0,$J74,\"\")","v":""},{"$f":"IF('Dimensionnement par chaudière'!$H$18=0,'Calcul dim par chaudière'!$L$74,\"\")","v":""},null,null,null,null,{"$f":"IF('Dimensionnement par chaudière'!$H$18=0,'Calcul dim par chaudière'!$K$74,\"\")","v":""},{"$f":"IF('Dimensionnement par chaudière'!$H$18=0,IF($D$168=\"\",\"\",VLOOKUP($D$168,'Price List'!A:E,5,FALSE)),\"\")","v":""},{"$f":"IF('Dimensionnement par chaudière'!$H$18=0,'Calcul dim par chaudière'!$Q$74,\"\")","v":""},{"$f":"IF($E$168=\"\",\"\",$K$168*$L$168)","v":""},null,null,null,null,null,null,null,{"$f":"VLOOKUP($V168,'Price List'!$X:$AB,3,FALSE)","v":7621566},"EH664",{"$f":"VLOOKUP($V168,'Price List'!$X:$AB,2,FALSE)","v":"CHASSIS DE MONTAGE MCA 160"},null,null,null,{"$f":"VLOOKUP($V168,'Price List'!$X:$AB,5,FALSE)","v":208},{"$f":"VLOOKUP($M$37,'gamme DD chaud'!$E$154:$AO$159,22,FALSE)","v":0},null,"","","",null,null,null,"",""]
[null,null,null,{"$f":"IF('Dimensionnement par chaudière'!$H$18=0,$J75,\"\")","v":""},{"$f":"IF('Dimensionnement par chaudière'!$H$18=0,'Calcul dim par chaudière'!$L$75,\"\")","v":""},null,null,null,null,{"$f":"IF('Dimensionnement par chaudière'!$H$18=0,'Calcul dim par chaudière'!$K$75,\"\")","v":""},{"$f":"IF('Dimensionnement par chaudière'!$H$18=0,IF($D$169=\"\",\"\",VLOOKUP($D$169,'Price List'!A:E,5,FALSE)),\"\")","v":""},{"$f":"IF('Dimensionnement par chaudière'!$H$18=0,'Calcul dim par chaudière'!$Q$75,\"\")","v":""},{"$f":"IF($E$169=\"\",\"\",$K$169*$L$169)","v":""},null,null,null,null,null,null,null,{"$f":"VLOOKUP($V169,'Price List'!$X:$AB,3,FALSE)","v":7612941},"EH663",{"$f":"VLOOKUP($V169,'Price List'!$X:$AB,2,FALSE)","v":"MONTANT-SUPPORT I MCA 160"},null,null,null,{"$f":"VLOOKUP($V169,'Price List'!$X:$AB,5,FALSE)","v":126},{"$f":"VLOOKUP($M$37,'gamme DD chaud'!$E$154:$AO$159,21,FALSE)","v":0},null,"","","",null,null,null,"",""]
[null,null,null,{"$f":"IF('Dimensionnement par chaudière'!$H$18=0,$J76,\"\")","v":""},{"$f":"IF('Dimensionnement par chaudière'!$H$18=0,'Calcul dim par chaudière'!$L$76,\"\")","v":""},null,null,null,null,{"$f":"IF('Dimensionnement par chaudière'!$H$18=0,'Calcul dim par chaudière'!$K$76,\"\")","v":""},{"$f":"IF('Dimensionnement par chaudière'!$H$18=0,IF($D$170=\"\",\"\",VLOOKUP($D$170,'Price List'!A:E,5,FALSE)),\"\")","v":""},{"$f":"IF('Dimensionnement par chaudière'!$H$18=0,'Calcul dim par chaudière'!$Q$76,\"\")","v":""},{"$f":"IF($E$170=\"\",\"\",$K$170*$L$170)","v":""},null,null,null,null,null,null,null,{"$f":"VLOOKUP($V170,'Price List'!$X:$AB,3,FALSE)","v":7637077},"EH670",{"$f":"VLOOKUP($V170,'Price List'!$X:$AB,2,FALSE)","v":"RAIL DE MONTAGE MURAL 2 CHAUDIÈRES MCA 160"},null,null,null,{"$f":"VLOOKUP($V170,'Price List'!$X:$AB,5,FALSE)","v":49},{"$f":"VLOOKUP($M$37,'gamme DD chaud'!$E$154:$AO$159,23,FALSE)","v":0},null,"","","",null,null,null,"",""]
[null,null,null,{"$f":"IF('Dimensionnement par chaudière'!$H$18=0,$J77,\"\")","v":""},{"$f":"IF('Dimensionnement par chaudière'!$H$18=0,'Calcul dim par chaudière'!$L$77,\"\")","v":""},null,null,null,null,{"$f":"IF('Dimensionnement par chaudière'!$H$18=0,'Calcul dim par chaudière'!$K$77,\"\")","v":""},{"$f":"IF('Dimensionnement par chaudière'!$H$18=0,IF($D$171=\"\",\"\",VLOOKUP($D$171,'Price List'!A:E,5,FALSE)),\"\")","v":""},{"$f":"IF('Dimensionnement par chaudière'!$H$18=0,'Calcul dim par chaudière'!$Q$77,\"\")","v":""},{"$f":"IF($E$171=\"\",\"\",$K$171*$L$171)","v":""},null,null,null,null,null,null,null,{"$f":"VLOOKUP($V171,'Price List'!$X:$AB,3,FALSE)","v":7637088},"EH671",{"$f":"VLOOKUP($V171,'Price List'!$X:$AB,2,FALSE)","v":"RAIL DE MONTAGE MURAL 3 CHAUDIÈRES MCA 160"},null,null,null,{"$f":"VLOOKUP($V171,'Price List'!$X:$AB,5,FALSE)","v":70},{"$f":"VLOOKUP($M$37,'gamme DD chaud'!$E$154:$AO$159,24,FALSE)","v":1},null,7637088,"EH671","RAIL DE MONTAGE MURAL 3 CHAUDIÈRES MCA 160",null,null,null,70,1]
[null,null,null,{"$f":"IF('Dimensionnement par chaudière'!$H$18=0,$J78,\"\")","v":""},{"$f":"IF('Dimensionnement par chaudière'!$H$18=0,'Calcul dim par chaudière'!$L$78,\"\")","v":""},null,null,null,null,{"$f":"IF('Dimensionnement par chaudière'!$H$18=0,'Calcul dim par chaudière'!$K$78,\"\")","v":""},{"$f":"IF('Dimensionnement par chaudière'!$H$18=0,IF($D$172=\"\",\"\",VLOOKUP($D$172,'Price List'!A:E,5,FALSE)),\"\")","v":""},{"$f":"IF('Dimensionnement par chaudière'!$H$18=0,'Calcul dim par chaudière'!$Q$78,\"\")","v":""},{"$f":"IF($E$172=\"\",\"\",$K$172*$L$172)","v":""},null,null,null,null,null,null,null,null,null,null,null,null,null,null,null,null,"","","",null,null,null,"",""]
[null,null,null,{"$f":"IF('Dimensionnement par chaudière'!$H$18=0,$J79,\"\")","v":""},null,null,null,null,null,null,null,null,null,null,null,null,null,null,null,null,{"$f":"VLOOKUP($V173,'Price List'!$X:$AB,3,FALSE)","v":111703},"HC199",{"$f":"VLOOKUP($V173,'Price List'!$X:$AB,2,FALSE)","v":"BRIDES PLEINES EAU DN100"},null,null,null,{"$f":"VLOOKUP($V173,'Price List'!$X:$AB,5,FALSE)","v":203},{"$f":"VLOOKUP($M$37,'gamme DD chaud'!$E$154:$AO$159,20,FALSE)","v":1},null,111703,"HC199","BRIDES PLEINES EAU DN100",null,null,null,203,1]
[null,null,null,{"$f":"IF('Dimensionnement par chaudière'!$H$18=0,$J80,\"\")","v":""},{"$f":"IF('Dimensionnement par chaudière'!$H$18=0,'Calcul dim par chaudière'!$L$58,\"\")","v":""},null,null,null,null,{"$f":"IF('Dimensionnement par chaudière'!$H$18=0,'Calcul dim par chaudière'!$K$58,\"\")","v":""},{"$f":"IF('Dimensionnement par chaudière'!$H$18=0,IF($D$174=\"\",\"\",VLOOKUP($D$174,'Price List'!A:E,5,FALSE)),\"\")","v":""},{"$f":"IF('Dimensionnement par chaudière'!$H$18=0,'Calcul dim par chaudière'!$Q$58,\"\")","v":""},{"$f":"IF($E$174=\"\",\"\",$K$174*$L$174)","v":""},null,null,null,null,null,null,null,{"$f":"VLOOKUP($V174,'Price List'!$X:$AB,3,FALSE)","v":7631858},"EH649",{"$f":"VLOOKUP($V174,'Price List'!$X:$AB,2,FALSE)","v":"PLAQ ISOLATION AR"},null,null,null,{"$f":"VLOOKUP($V174,'Price List'!$X:$AB,5,FALSE)","v":85},null,null,"","","",null,null,null,"",""]
[null,null,null,{"$f":"IF('Dimensionnement par chaudière'!$H$18=0,$J81,\"\")","v":""},{"$f":"IF('Dimensionnement par chaudière'!$H$18=0,'Calcul dim par chaudière'!$L$59,\"\")","v":""},null,null,null,null,{"$f":"IF('Dimensionnement par chaudière'!$H$18=0,'Calcul dim par chaudière'!$K$59,\"\")","v":""},{"$f":"IF('Dimensionnement par chaudière'!$H$18=0,IF($D$175=\"\",\"\",VLOOKUP($D$175,'Price List'!A:E,5,FALSE)),\"\")","v":""},{"$f":"IF('Dimensionnement par chaudière'!$H$18=0,'Calcul dim par chaudière'!$Q$59,\"\")","v":""},{"$f":"IF($E$175=\"\",\"\",$K$175*$L$175)","v":""},null,null,null,null,null,null,null,null,null,null,null,null,null,null,null,null,{"$f":"IF($AB175>0,U175,\"\")","v":""},{"$f":"IF($AB175>0,V175,\"\")","v":""},{"$f":"IF($AB175>0,W175,\"\")","v":""},null,null,null,{"$f":"IF($AB175>0,AA175,\"\")","v":""},{"$f":"IF($AB175>0,AB175,\"\")","v":""}]
[null,null,null,{"$f":"IF('Dimensionnement par chaudière'!$H$18=0,$J82,\"\")","v":""},{"$f":"IF('Dimensionnement par chaudière'!$H$18=0,'Calcul dim par chaudière'!$L$60,\"\")","v":""},null,null,null,null,{"$f":"IF('Dimensionnement par chaudière'!$H$18=0,'Calcul dim par chaudière'!$K$60,\"\")","v":""},{"$f":"IF('Dimensionnement par chaudière'!$H$18=0,IF($D$176=\"\",\"\",VLOOKUP($D$176,'Price List'!A:E,5,FALSE)),\"\")","v":""},{"$f":"IF('Dimensionnement par chaudière'!$H$18=0,'Calcul dim par chaudière'!$Q$60,\"\")","v":""},{"$f":"IF($E$176=\"\",\"\",$K$176*$L$176)","v":""},null,null,null,null,null,null,null,{"$f":"VLOOKUP($V176,'Price List'!$X:$AB,3,FALSE)","v":111708},"HC195",{"$f":"VLOOKUP($V176,'Price List'!$X:$AB,2,FALSE)","v":"JEU DE BOUCHONS"},null,null,null,{"$f":"VLOOKUP($V176,'Price List'!$X:$AB,5,FALSE)","v":43},{"$f":"D6","v":3},null,111708,"HC195","JEU DE BOUCHONS",null,null,null,43,3]
[null,null,null,null,null,null,null,null,null,null,null,null,null,null,null,null,null,null,null,null,{"$f":"VLOOKUP($V177,'Price List'!$X:$AB,3,FALSE)","v":7638518},"EH669",{"$f":"VLOOKUP($V177,'Price List'!$X:$AB,2,FALSE)","v":"JEU DE CONTRE BRIDE A SOUDER DN65"},null,null,null,{"$f":"VLOOKUP($V177,'Price List'!$X:$AB,5,FALSE)","v":150},{"$f":"VLOOKUP($M$37,'gamme DD chaud'!$E$154:$AO$159,36,FALSE)","v":1},null,7638518,"EH669","JEU DE CONTRE BRIDE A SOUDER DN65",null,null,null,150,1]
[null,null,null,"Régulation",null,null,null,null,null,null,null,null,null,null,null,null,null,null,null,null,{"$f":"VLOOKUP($V178,'Price List'!$X:$AB,3,FALSE)","v":112633},"HC218",{"$f":"VLOOKUP($V178,'Price List'!$X:$AB,2,FALSE)","v":"JEU DE CONTRE-BRIDES À SOUDER DN100"},null,null,null,{"$f":"VLOOKUP($V178,'Price List'!$X:$AB,5,FALSE)","v":183},{"$f":"VLOOKUP($M$37,'gamme DD chaud'!$E$154:$AO$159,37,FALSE)","v":0},null,"","","",null,null,null,"",""]
[null,null,null,null,null,null,null,null,null,null,null,null,null,null,null,null,null,null,null,null,null,null,null,null,null,null,null,null,null,"","","",null,null,null,"",""]
[null,null,null,{"$f":"IF('Dimensionnement par chaudière'!$H$18=0,$J$55,AM136)","v":""},{"$f":"IF('Dimensionnement par chaudière'!$H$18=0,'Calcul dim par chaudière'!$L$55,AO136)","v":""},null,null,null,null,{"$f":"IF('Dimensionnement par chaudière'!$H$18=0,'Calcul dim par chaudière'!$K$55,AN136)","v":""},{"$f":"IF('Dimensionnement par chaudière'!$H$18=0,IF($D$180=\"\",\"\",VLOOKUP($D$180,'Price List'!A:E,5,FALSE)),AS136)","v":""},{"$f":"IF('Dimensionnement par chaudière'!$H$18=0,'Calcul dim par chaudière'!$Q$55,AT136)","v":""},{"$f":"IF($E$180=\"\",\"\",$K$180*$L$180)","v":""},null,null,null,null,null,null,null,null,"Régulation",null,null,null,null,null,null,null,"","","",null,null,null,"",""]
[null,null,null,{"$f":"IF('Dimensionnement par chaudière'!$H$18=0,$J$55,AM137)","v":100008701},{"$f":"IF('Dimensionnement par chaudière'!$H$18=0,'Calcul dim par chaudière'!$L$55,AO137)","v":"SONDE DE DÉPART + DOIGT DE GANT"},null,null,null,null,{"$f":"IF('Dimensionnement par chaudière'!$H$18=0,'Calcul dim par chaudière'!$K$55,AN137)","v":"HC206"},{"$f":"IF('Dimensionnement par chaudière'!$H$18=0,IF($D$180=\"\",\"\",VLOOKUP($D$180,'Price List'!A:E,5,FALSE)),AS137)","v":167},{"$f":"IF('Dimensionnement par chaudière'!$H$18=0,'Calcul dim par chaudière'!$Q$55,AT137)","v":1},{"$f":"IF($E$181=\"\",\"\",$K$181*$L$181)","v":167},null,null,null,null,null,null,null,{"$f":"VLOOKUP($V181,'Price List'!$X:$AB,3,FALSE)","v":100013304},"AD249",{"$f":"VLOOKUP($V181,'Price List'!$X:$AB,2,FALSE)","v":"COLIS OPTION V3V OE-TRONIC 4"},null,null,null,{"$f":"VLOOKUP($V181,'Price List'!$X:$AB,5,FALSE)","v":170},null,null,"","","",null,null,null,"",""]
[null,null,null,{"$f":"IF('Dimensionnement par chaudière'!$H$18=0,$J$55,AM138)","v":7663561},{"$f":"IF('Dimensionnement par chaudière'!$H$18=0,'Calcul dim par chaudière'!$L$55,AO138)","v":"CABLE S-BUS 12M AVEC BOUCHONS"},null,null,null,null,{"$f":"IF('Dimensionnement par chaudière'!$H$18=0,'Calcul dim par chaudière'!$K$55,AN138)","v":"AD309"},{"$f":"IF('Dimensionnement par chaudière'!$H$18=0,IF($D$180=\"\",\"\",VLOOKUP($D$180,'Price List'!A:E,5,FALSE)),AS138)","v":106},{"$f":"IF('Dimensionnement par chaudière'!$H$18=0,'Calcul dim par chaudière'!$Q$55,AT138)","v":2},{"$f":"IF($E$182=\"\",\"\",$K$182*$L$182)","v":212},null,null,null,null,null,null,null,{"$f":"VLOOKUP($V182,'Price List'!$X:$AB,3,FALSE)","v":85757741},"FM46",{"$f":"VLOOKUP($V182,'Price List'!$X:$AB,2,FALSE)","v":"SONDE EXTERIEURE"},null,null,null,{"$f":"VLOOKUP($V182,'Price List'!$X:$AB,5,FALSE)","v":43},null,null,"","","",null,null,null,"",""]
[null,null,null,{"$f":"VLOOKUP($V182,'Price List'!$X:$AB,3,FALSE)","v":85757741},{"$f":"+W182","v":"SONDE EXTERIEURE"},null,null,null,null,{"$f":"+V182","v":"FM46"},{"$f":"+AA182","v":43},1,{"$f":"IF($E$182=\"\",\"\",$K$183*$L$183)","v":43},null,null,null,null,null,null,null,{"$f":"VLOOKUP($V183,'Price List'!$X:$AB,3,FALSE)","v":88017017},"AD199",{"$f":"VLOOKUP($V183,'Price List'!$X:$AB,2,FALSE)","v":"SONDE DEPART v3v"},null,null,null,{"$f":"VLOOKUP($V183,'Price List'!$X:$AB,5,FALSE)","v":85},null,null,"","","",null,null,null,"",""]
[null,null,null,null,null,null,null,null,null,null,null,null,null,null,null,null,null,null,null,null,{"$f":"VLOOKUP($V184,'Price List'!$X:$AB,3,FALSE)","v":100000030},"AD212",{"$f":"VLOOKUP($V184,'Price List'!$X:$AB,2,FALSE)","v":"COLIS OPTION SONDE ECS"},null,null,null,{"$f":"VLOOKUP($V184,'Price List'!$X:$AB,5,FALSE)","v":53},null,null,"","","",null,null,null,"",""]
[null,null,null,"Mise en service",null,null,null,null,null,null,null,null,null,null,null,null,null,null,null,null,{"$f":"VLOOKUP($V185,'Price List'!$X:$AB,3,FALSE)","v":100013305},"AD250",{"$f":"VLOOKUP($V185,'Price List'!$X:$AB,2,FALSE)","v":"SONDE SYSTÈME ECS"},null,null,null,{"$f":"VLOOKUP($V185,'Price List'!$X:$AB,5,FALSE)","v":49},null,null,"","","",null,null,null,"",""]
[null,null,null,null,null,null,null,null,null,null,null,null,{"$f":"$S$49","v":504},null,null,null,null,null,null,null,{"$f":"VLOOKUP($V186,'Price List'!$X:$AB,3,FALSE)","v":{"$error":"#N/A"}},"AD137",{"$f":"VLOOKUP($V186,'Price List'!$X:$AB,2,FALSE)","v":{"$error":"#N/A"}},null,null,null,{"$f":"VLOOKUP($V186,'Price List'!$X:$AB,5,FALSE)","v":{"$error":"#N/A"}},null,null,"","","",null,null,null,"",""]
[null,null,null,null,null,null,null,null,null,null,null,null,null,null,null,null,null,null,null,null,{"$f":"VLOOKUP($V187,'Price List'!$X:$AB,3,FALSE)","v":{"$error":"#N/A"}},"AD200",{"$f":"VLOOKUP($V187,'Price List'!$X:$AB,2,FALSE)","v":{"$error":"#N/A"}},null,null,null,{"$f":"VLOOKUP($V187,'Price List'!$X:$AB,5,FALSE)","v":{"$error":"#N/A"}},null,null,"","","",null,null,null,"",""]
[null,null,null,null,null,null,null,null,null,null,null,null,null,null,null,null,null,null,null,null,{"$f":"VLOOKUP($V188,'Price List'!$X:$AB,3,FALSE)","v":88017859},"AD140",{"$f":"VLOOKUP($V188,'Price List'!$X:$AB,2,FALSE)","v":"THERMOSTAT D'AMBIANCE NON PROGRAMMABLE"},null,null,null,{"$f":"VLOOKUP($V188,'Price List'!$X:$AB,5,FALSE)","v":54},null,null,"","","",null,null,null,"",""]
[]
[null,null,null,"Prix du système cascade (Prix net 2020)",null,null,null,null,null,null,null,null,{"$f":"SUM($M$143:$M$183)","v":8211}]
[null,null,null,"Prix des chaudières (Prix net 2020)",null,null,null,null,null,null,null,null,{"$f":"$E$49","v":31671},null,null,null,null,null,null,null,null,null,null,null,null,null,null,null,null,null,null," fait parti du \"système cascade \" "]
[null,null,null,"Prix total du système cascade + chaudières + Mise en service (Prix net 2020)",null,null,null,null,null,null,null,null,{"$f":"$M$190+$M$191+$M$186","v":40386},null,null,null,null,null,null,null,null,null,null,null,null,null,null,null,null,null,null,"voir catalogue"]
[null,null,null,null,null,null,null,null,null,null,null,null,null,null,null,null,null,null,null,null,"Liste des accessoires utilisés dans \"gamme DD chaud\"",null,null,null,null,null,null,null,null,null,null,"Le reste en option"]
[null,null,"Accessoires","Référence",null,"Désignation",null,null,null,"Colis","Prix unitaire","Qtté","Prix net",null,null,null,null,null,null,null,null,null,null,null,null,null,null,null,null,null,null,"En option avec case à cocher ( nombre donné automatiquement)"]
[null,null,null,null,null,null,null,null,null,null,"en €",null,"en €",null,null,null,null,null,null,null,null,"colis DD","Désignation","Référence ","Prix"]
[null,null,null,null,null,null,null,null,null,null,null,null,null,null,null,null,null,null,null,null,null,"EH651","POMPE UPM XL GRUNDFOS 25-105 H180",7637223,605.79999999999995]
[null,null,null,{"$f":"+AM146","v":7622201},{"$f":"AO146","v":"ISOLATION ADAPTATEUR 100/65"},null,null,null,null,{"$f":"IF(AND(E197<>\"\",N197=TRUE),AN146,\"\")","v":""},{"$f":"IFERROR(IF(AND(E197<>\"\",N197=TRUE),VLOOKUP($D197,'Price List'!$1:$1048576,4,FALSE),\"\"),\"\")","v":""},{"$f":"IF(AND(E197<>\"\",N197=TRUE),IF(AT146=0,\"\",AT146),\"\")","v":""},{"$f":"IF(L197=\"\",\"\",IF(N197=TRUE,$K197*$L197,\"\"))","v":""},false,null,null,null,null,null,null,null,"EH652","COLLECTEUR DN100-2 CHAUDIERES MCA  160 FR",7665725,1137.5]
[null,null,null,"S101656",{"$f":"+AO147","v":"FILTRE GAZ DN65"},null,null,null,null,{"$f":"IF(AND(E198<>\"\",N198=TRUE),AN147,\"\")","v":""},{"$f":"IFERROR(IF(AND(E198<>\"\",N198=TRUE),VLOOKUP($D198,'Price List'!$1:$1048576,4,FALSE),\"\"),\"\")","v":""},{"$f":"IF(AND(E198<>\"\",N198=TRUE),IF(AT147=0,\"\",AT147),\"\")","v":""},{"$f":"IF(L198=\"\",\"\",IF(N198=TRUE,$K198*$L198,\"\"))","v":""},false,null,null,null,null,null,null,null,"EH653","COLLECTEUR DN100-3 CHAUDIERES  MCA 160  FR",7665728,1442]
[null,null,null,111788,"COUDES DN65",null,null,null,null,"",{"$f":"IFERROR(IF(AND(E199<>\"\",N199=TRUE),VLOOKUP($D199,'Price List'!$1:$1048576,4,FALSE),\"\"),\"\")","v":""},"","",false,null,null,null,null,null,null,null,"HC222","BOUTEILLE DE DÉCOUPLAGE DN65 < 350 kW",114311,617.5]
[null,null,null,"","",null,null,null,null,"",{"$f":"IFERROR(IF(AND(E200<>\"\",N200=TRUE),VLOOKUP($D200,'Price List'!$1:$1048576,4,FALSE),\"\"),\"\")","v":""},"","",false,null,null,null,null,null,null,null,"HC200","BOUTEILLE DE DÉCOUPLAGE DN65 > 350 et < 460 kW",111712,1028.2]
[null,null,null,{"$f":"+AM150","v":""},{"$f":"+AO150","v":""},null,null,null,null,{"$f":"IF(AND(E201<>\"\",N201=TRUE),AN150,\"\")","v":""},{"$f":"IFERROR(IF(AND(E201<>\"\",N201=TRUE),VLOOKUP($D201,'Price List'!$1:$1048576,4,FALSE),\"\"),\"\")","v":""},{"$f":"IF(AND(E201<>\"\",N201=TRUE),IF(AT150=0,\"\",AT150),\"\")","v":""},"",false,null,null,null,null,null,null,null,"HC201","BOUTEILLE DE DÉCOUPLAGE DN100 > 460 kW",111714,1239.7]
[null,null,null,7613401,"ISOLATION COLLECTEUR MCA 160",null,null,null,null,"",{"$f":"IFERROR(IF(AND(E202<>\"\",N202=TRUE),VLOOKUP($D202,'Price List'!$1:$1048576,4,FALSE),\"\"),\"\")","v":""},"","",false,null,null,null,null,null,null,null,"EH654","ADAPTATEUR DN100/DN65",7633244,304.89999999999998]
[null,null,null,7611804,"ISOLATION RACCORD MCA 160 ",null,null,null,null,"",{"$f":"IFERROR(IF(AND(E203<>\"\",N203=TRUE),VLOOKUP($D203,'Price List'!$1:$1048576,4,FALSE),\"\"),\"\")","v":""},"","",false,null,null,null,null,null,null,null,"EH656","RAC COLLEC L MCA 160 EH656",7622701,712.3]
[null,null,null,"","",null,null,null,null,"",{"$f":"IFERROR(IF(AND(E204<>\"\",N204=TRUE),VLOOKUP($D204,'Price List'!$1:$1048576,4,FALSE),\"\"),\"\")","v":""},"","",false,null,null,null,null,null,null,null,"HC199","BRIDES PLEINES EAU DN100",111703,189.1]
[null,null,null,"","",null,null,null,null,"",{"$f":"IFERROR(IF(AND(E205<>\"\",N205=TRUE),VLOOKUP($D205,'Price List'!$1:$1048576,4,FALSE),\"\"),\"\")","v":""},"","",false,null,null,null,null,null,null,null,"EH663","MONTANT-SUPPORT I MCA 160",7612941,116.7]
[null,null,null,111067,"ISOLATION BOUTEILLE DE DÉCOUPLAGE",null,null,null,null,"",{"$f":"IFERROR(IF(AND(E206<>\"\",N206=TRUE),VLOOKUP($D206,'Price List'!$1:$1048576,4,FALSE),\"\"),\"\")","v":""},"","",false,null,null,null,null,null,null,null,"EH664","CHASSIS DE MONTAGE MCA 160",7621566,193.1]
[null,null,null,null,null,null,null,null,null,null,null,null,null,null,null,null,null,null,null,null,null,"EH670","RAIL DE MONTAGE MURAL 2 CHAUDIÈRES MCA 160",7637077,46.5]
[null,null,null,null,null,null,null,null,null,null,null,null,null,null,null,null,null,null,null,null,null,"EH671","RAIL DE MONTAGE MURAL 3 CHAUDIÈRES MCA 160",7637088,65.2]
[null,null,null,null,null,"Modif des options pour devis ",null,null,null,null,null,null,null,null,null,null,null,null,null,null,null,"HC256","FILTRE GAZ DN65","S101656",714.5]
[null,null,null,null,null,null,null,null,null,null,null,null,null,null,null,null,null,null,null,null,null,"HC209","COUDES DN65",111788,647.70000000000005]
[null,null,null,{"$f":"'Dimensionnement par chaudière'!E109","v":0},{"$f":"'Dimensionnement par chaudière'!F109","v":0},null,null,null,null,{"$f":"'Dimensionnement par chaudière'!K109","v":0},{"$f":"'Dimensionnement par chaudière'!L109","v":0},{"$f":"'Dimensionnement par chaudière'!M109","v":0},{"$f":"'Dimensionnement par chaudière'!N109","v":""},null,null,null,null,null,null,null,null,"HC210","COUDES DN100",111790,893.1]
[null,null,null,{"$f":"'Dimensionnement par chaudière'!E110","v":0},{"$f":"'Dimensionnement par chaudière'!F110","v":0},null,null,null,null,{"$f":"'Dimensionnement par chaudière'!K110","v":0},{"$f":"'Dimensionnement par chaudière'!L110","v":0},{"$f":"'Dimensionnement par chaudière'!M110","v":0},{"$f":"'Dimensionnement par chaudière'!N110","v":""},null,null,null,null,null,null,null,null,"EH647","ISOLATION COLLECTEUR MCA 160",7613401,89.2]
[null,null,null,{"$f":"'Dimensionnement par chaudière'!E111","v":0},{"$f":"'Dimensionnement par chaudière'!F111","v":0},null,null,null,null,{"$f":"'Dimensionnement par chaudière'!K111","v":0},{"$f":"'Dimensionnement par chaudière'!L111","v":0},{"$f":"'Dimensionnement par chaudière'!M111","v":0},{"$f":"'Dimensionnement par chaudière'!N111","v":""},null,null,null,null,null,null,null,null,"EH648","ISOLATION RACCORD MCA 160 ",7611804,86.6]
[null,null,null,{"$f":"'Dimensionnement par chaudière'!E112","v":0},{"$f":"'Dimensionnement par chaudière'!F112","v":0},null,null,null,null,{"$f":"'Dimensionnement par chaudière'!K112","v":0},{"$f":"'Dimensionnement par chaudière'!L112","v":0},{"$f":"'Dimensionnement par chaudière'!M112","v":0},{"$f":"'Dimensionnement par chaudière'!N112","v":""},null,null,null,null,null,null,null,null,"EH649","PLAQ ISOLATION AR",7631858,79.8]
[null,null,null,{"$f":"'Dimensionnement par chaudière'!E113","v":0},{"$f":"'Dimensionnement par chaudière'!F113","v":0},null,null,null,null,{"$f":"'Dimensionnement par chaudière'!K113","v":0},{"$f":"'Dimensionnement par chaudière'!L113","v":0},{"$f":"'Dimensionnement par chaudière'!M113","v":0},{"$f":"'Dimensionnement par chaudière'!N113","v":""},null,null,null,null,null,null,null,null,"HC215","ISOLATION BOUTEILLE DE DÉCOUPLAGE",111067,237.6]
[null,null,null,{"$f":"'Dimensionnement par chaudière'!E114","v":0},{"$f":"'Dimensionnement par chaudière'!F114","v":0},null,null,null,null,{"$f":"'Dimensionnement par chaudière'!K114","v":0},{"$f":"'Dimensionnement par chaudière'!L114","v":0},{"$f":"'Dimensionnement par chaudière'!M114","v":0},{"$f":"'Dimensionnement par chaudière'!N114","v":""},null,null,null,null,null,null,null,null,"EH650","ISOLATION ADAPTATEUR 100/65",7622201,46.7]
[null,null,null,{"$f":"'Dimensionnement par chaudière'!E115","v":0},{"$f":"'Dimensionnement par chaudière'!F115","v":0},null,null,null,null,{"$f":"'Dimensionnement par chaudière'!K115","v":0},{"$f":"'Dimensionnement par chaudière'!L115","v":0},{"$f":"'Dimensionnement par chaudière'!M115","v":0},{"$f":"'Dimensionnement par chaudière'!N115","v":""},null,null,null,null,null,null,null,null,"HC224","ISOLATION BOUTEILLE DE DÉCOUPLAGE < 350 kW",115269,35.1]
[null,null,null,{"$f":"'Dimensionnement par chaudière'!E116","v":0},{"$f":"'Dimensionnement par chaudière'!F116","v":0},null,null,null,null,{"$f":"'Dimensionnement par chaudière'!K116","v":0},{"$f":"'Dimensionnement par chaudière'!L116","v":0},{"$f":"'Dimensionnement par chaudière'!M116","v":0},{"$f":"'Dimensionnement par chaudière'!N116","v":""},null,null,null,null,null,null,null,null,"HC216","ISOLATION COUDES 90°",111167,100]
[null,null,null,{"$f":"'Dimensionnement par chaudière'!E117","v":0},{"$f":"'Dimensionnement par chaudière'!F117","v":0},null,null,null,null,{"$f":"'Dimensionnement par chaudière'!K117","v":0},{"$f":"'Dimensionnement par chaudière'!L117","v":0},{"$f":"'Dimensionnement par chaudière'!M117","v":0},{"$f":"'Dimensionnement par chaudière'!N117","v":""},null,null,null,null,null,null,null,null,"HC219","PIED RÉGLABLE",111807,4.2]
[null,null,null,null,null,null,null,null,null,null,null,null,null,null,null,null,null,null,null,null,null,"EH669","JEU DE CONTRE BRIDE A SOUDER DN65",7638518,139.6]
[null,null,null,null,null,null,null,null,null,null,null,null,null,null,null,null,null,null,null,null,null,"HC218","JEU DE CONTRE-BRIDES À SOUDER DN100",112633,170.8]
[]
[]
[]
[null,null,null,"Prix total des accessoires (Prix net 2020)",null,null,null,null,null,null,null,null,{"$f":"SUM(M196:M224)","v":0}]
[null,null,null,"Prix total du système cascade avec chaudières + Accessoires ( Prix net 2020)",null,null,null,null,null,null,null,null,{"$f":"$M$192+$M$225","v":40386}]
[]
[]
[]
[]
[]
[]
[]
[]
[]
[]
[]
[]
[]
[]
[]
[]
[]
[]
[]
[]
[]
[]
[]
[]
[]
[]
[]
[]
[]
[]
[]
[]
[]
[]
[]
[]
[]
[]
[]
[]
[]
[]
[]
[]
[]
[]
[]
[]
[]
[]
[]
[]
[]
[]
[]
[]
[]
[]
[null,null,null,"Montage"]
[null,null,null,"Nb chaudières",{"$f":"IF('Dimensionnement par chaudière'!$E$18=2,1,IF('Dimensionnement par chaudière'!$E$18=3,2,3))","v":2}]
[null,"images",{"$f":"E286","v":2}]
[null,1]
[null,2]
[null,3]
[null,4]

{"sheet":"calculs par chaud","index":3,"n_rows":223,"n_cols":67,"rows_kept":223,"cut":false,"hidden":true,"merged":[[36,0,37,23],[36,27,37,46]]}
[null,"nbchaud",{"$f":"'Dimensionnement par chaudière'!E18","v":3},{"$f":"'Dimensionnement par chaudière'!E27","v":0}]
[null,2,null,null,null,null,null,"iSystem","iniControl",null,null,"nb iSystem"]
[null,3,null,null,null,"MCA 45",{"$f":"D12","v":0},{"$f":"IF(D1-H4-H5-H6<G3,D1-H4-H5-H6,G3)","v":{"$error":"#REF!"}},{"$f":"G3-H3","v":{"$error":"#REF!"}},null,null,0,{"$f":"IF(L3>$C$1,\"\",L3)","v":0}]
[null,4,null,null,null,"MCA 65",{"$f":"H12","v":{"$error":"#REF!"}},{"$f":"IF(D1-H5-H6<G4,D1-H5-H6,G4)","v":{"$error":"#REF!"}},{"$f":"G4-H4","v":{"$error":"#REF!"}},null,null,1,{"$f":"IF(L4>$C$1,\"\",L4)","v":1}]
[null,5,null,null,null,"MCA 90",{"$f":"L12","v":0},{"$f":"IF(D1-H6<G5,D1-H6,G5)","v":0},{"$f":"G5-H5","v":0},null,null,2,{"$f":"IF(L5>$C$1,\"\",L5)","v":2}]
[null,6,null,null,null,"MCA 115",{"$f":"O12","v":0},{"$f":"IF(D1<G6,D1,G6)","v":0},{"$f":"G6-H6","v":0},null,null,3,{"$f":"IF(L6>$C$1,\"\",L6)","v":3}]
[null,7,null,null,null,"MCA 160",{"$f":"R12","v":{"$error":"#REF!"}},{"$f":"IF(D1<G7,D1,G7)","v":{"$error":"#REF!"}},{"$f":"G7-H7","v":{"$error":"#REF!"}},null,null,4,{"$f":"IF(L7>$C$1,\"\",L7)","v":""}]
[null,8]
[null,9]
[null,10]
[]
[null,"mc45",{"$f":"B12","v":"mc45"},{"$f":"'Dimensionnement par chaudière'!G18","v":0},null,"mc65","mc65",{"$f":"'Dimensionnement par chaudière'!#REF!","v":{"$error":"#REF!"}},null,"mc90","mc90",{"$f":"'Dimensionnement par chaudière'!I18","v":0},null,"mc115",{"$f":"'Dimensionnement par chaudière'!J18","v":0},null,"mca 160",{"$f":"C1-D12-H12-L12-O12","v":{"$error":"#REF!"}}]
[null,{"$f":"C1","v":3},{"$f":"IF(B13>=0,B13,\"\")","v":3},null,null,{"$f":"C1-D12","v":3},{"$f":"IF(F13>=0,F13,\"\")","v":3},null,null,{"$f":"C1-D12-H12","v":{"$error":"#REF!"}},{"$f":"IF(J13>=0,J13,\"\")","v":{"$error":"#REF!"}},null,null,{"$f":"$C$1-H12-L12","v":{"$error":"#REF!"}},{"$f":"IF(N13<0,\"\",N13)","v":{"$error":"#REF!"}}]
[null,{"$f":"B13-1","v":2},{"$f":"IF(B14>=0,B14,\"\")","v":2},null,null,{"$f":"F13-1","v":2},{"$f":"IF(F14>=0,F14,\"\")","v":2},null,null,{"$f":"J13-1","v":{"$error":"#REF!"}},{"$f":"IF(J14>=0,J14,\"\")","v":{"$error":"#REF!"}},null,null,{"$f":"N13-1","v":{"$error":"#REF!"}},{"$f":"IF(N14<0,\"\",N14)","v":{"$error":"#REF!"}}]
[null,{"$f":"B14-1","v":1},1,null,null,{"$f":"F14-1","v":1},1,null,null,{"$f":"J14-1","v":{"$error":"#REF!"}},{"$error":"#REF!"},null,null,{"$f":"N14-1","v":{"$error":"#REF!"}},{"$error":"#REF!"}]
[null,0,0,null,null,0,0,null,null,{"$error":"#REF!"},{"$error":"#REF!"},null,null,{"$error":"#REF!"},{"$error":"#REF!"}]
[null,-1,"",null,null,-1,"",null,null,{"$error":"#REF!"},{"$error":"#REF!"},null,null,{"$error":"#REF!"},{"$error":"#REF!"}]
[null,-2,"",null,null,-2,"",null,null,{"$error":"#REF!"},{"$error":"#REF!"},null,null,{"$error":"#REF!"},{"$error":"#REF!"}]
[null,-3,"",null,null,-3,"",null,null,{"$error":"#REF!"},{"$error":"#REF!"},null,null,{"$error":"#REF!"},{"$error":"#REF!"}]
[null,-4,"",null,null,-4,"",null,null,{"$error":"#REF!"},{"$error":"#REF!"},null,null,{"$error":"#REF!"},{"$error":"#REF!"}]
[{"$f":"texte!B40","v":"mural \"LW\""},-5,"",null,null,-5,"",null,null,{"$error":"#REF!"},{"$error":"#REF!"},null,null,{"$error":"#REF!"},{"$error":"#REF!"}]
[{"$f":"texte!B41","v":"sol \"LV\""},-6,"",null,null,-6,"",null,null,{"$error":"#REF!"},{"$error":"#REF!"},null,null,{"$error":"#REF!"},{"$error":"#REF!"}]
[{"$f":"texte!B42","v":"dos à dos \"RG\""},-7,"",null,null,-7,"",null,null,{"$error":"#REF!"},{"$error":"#REF!"},null,null,{"$error":"#REF!"},{"$error":"#REF!"}]
[]
["type",{"$f":"'Dimensionnement par chaudière'!E20","v":"mural \"LW\""}]
[{"$f":"IF(C1>7,\"\",A21)","v":"mural \"LW\""},{"$f":"IF(B25=A21,\"LW\",IF(B25=A22,\"LV\",IF(B25=A23,\"RG\",\"\")))","v":"LW"},null,null,null,null,null,null,null,{"$f":"IF(AND(B26=\"RG\",C1=2),0,IF(AND(C1>7,B26=\"LV\"),0,IF(AND(C1>7,B26=\"LW\"),0,1)))","v":1}]
[{"$f":"IF(C1>7,\"\",A22)","v":"sol \"LV\""}]
[{"$f":"IF(C1=2,\"\",A23)","v":"dos à dos \"RG\""}]
[]
[]
[null,{"$f":"TEXT(TRUNC(C31*C34+D31*D34+E31*E34+F31*F34+G34*G31),\"0000\")","v":{"$error":"#REF!"}},{"$f":"D12","v":0},{"$f":"H12","v":{"$error":"#REF!"}},{"$f":"L12","v":0},{"$f":"O12","v":0},{"$f":"R12","v":{"$error":"#REF!"}},{"$f":"B26","v":"LW"},null,{"$f":"CONCATENATE(H31,\".\",B31,\"kW\",\".\",C31,D31,E31,F31,G31)","v":{"$error":"#REF!"}}]
[]
[null,null,"MC 45","MC 65","MC 90","MC 115","MC 160",null,null,{"$f":"IF(J26=0,texte!B16,J31)","v":{"$error":"#REF!"}}]
[null,null,40,61,84.2,107,152]
[]
[]
["Références des accessoires et options pour MCA 45 à 115",null,null,null,null,null,null,null,null,null,null,null,null,null,null,null,null,null,null,null,null,null,null,null,null,null,null,"Références des accessoires et options pour MCA 160"]
[]
[]
[{"$f":"VLOOKUP($J$31,'gamme DD chaud'!$E$14:$BM$143,1)","v":{"$error":"#REF!"}},{"$f":"VLOOKUP($J$31,'gamme DD chaud'!$E$14:$BM$143,9)","v":{"$error":"#REF!"}},{"$f":"VLOOKUP($J$31,'gamme DD chaud'!$E$14:$BM$143,38)","v":{"$error":"#REF!"}},{"$f":"VLOOKUP($J$31,'gamme DD chaud'!$E$14:$BM$143,39)","v":{"$error":"#REF!"}}]
[{"$f":"VLOOKUP($J$31,'gamme DD chaud'!$E$14:$BM$143,2)","v":{"$error":"#REF!"}},null,null,null,null,null,null,null,null,null,null,null,null,null,null,null,null,null,null,null,null,null,null,null,null,null,null,null,"Base de Données du catalogue p 80/81/83 MCA 160 seule ou Cascade",null,null,null,null,null,"Base de Données Tarif "]
[{"$f":"texte!H7","v":"SONDE DE DÉPART + DOIGT DE GANT"},{"$f":"VLOOKUP($J$31,'gamme DD chaud'!$E$14:$BM$143,11)","v":{"$error":"#REF!"}},{"$f":"'gamme DD chaud'!$O11","v":167},{"$f":"'gamme DD chaud'!$O12","v":100008701},{"$f":"IF('Dimensionnement par chaudière'!$E$23=texte!$B$16,\"\",IF($B42=0,\"\",A42))","v":{"$error":"#REF!"}},{"$f":"IF('Dimensionnement par chaudière'!$E$23=texte!$B$16,\"\",IF($B42=0,\"\",B42))","v":{"$error":"#REF!"}},{"$f":"IF('Dimensionnement par chaudière'!$E$23=texte!$B$16,\"\",IF($B42=0,\"\",C42))","v":{"$error":"#REF!"}},{"$f":"IF('Dimensionnement par chaudière'!$E$23=texte!$B$16,\"\",IF($B42=0,\"\",D42))","v":{"$error":"#REF!"}},null,null,null,null,"Support",null,null,null,"SONDE DE DÉPART + DOIGT DE GANT-BOUTEILLE > 350 kW",0,151.9,100008701,"","","","",null,null,null,null,null,null,null,null,null,null,null,null,null,null,null,null,null,null,null,"Ex Composition du système (pour 1 *45 + 1*65 + 2*90)",null,null,null,null,null,null,null,null,null,"Si MCA 160 sélectionnée "]
[{"$f":"texte!H8","v":"SONDE DE DÉPART + DOIGT DE GANT-BOUTEILLE < 350 kW"},{"$f":"VLOOKUP($J$31,'gamme DD chaud'!$E$14:$BM$143,11)","v":{"$error":"#REF!"}},{"$f":"'gamme DD chaud'!$P11","v":141},{"$f":"'gamme DD chaud'!$P12","v":100013027},{"$f":"IF('Dimensionnement par chaudière'!$E$23=texte!$B$16,\"\",IF($B43=0,\"\",A43))","v":{"$error":"#REF!"}},{"$f":"IF('Dimensionnement par chaudière'!$E$23=texte!$B$16,\"\",IF($B43=0,\"\",B43))","v":{"$error":"#REF!"}},{"$f":"IF('Dimensionnement par chaudière'!$E$23=texte!$B$16,\"\",IF($B43=0,\"\",C43))","v":{"$error":"#REF!"}},{"$f":"IF('Dimensionnement par chaudière'!$E$23=texte!$B$16,\"\",IF($B43=0,\"\",D43))","v":{"$error":"#REF!"}},null,null,null,null,"Hydraulique",null,null,null,"SONDE DE DÉPART + DOIGT DE GANT-BOUTEILLE < 350 kW",1,129.6,100013027,"SONDE DE DÉPART + DOIGT DE GANT-BOUTEILLE < 350 kW",1,129.6,100013027,null,null,null,null,null,null,"Référence absente du tarif 2017 de janvier",null,null,null,null,"A partir de ligne 6037"]
[{"$f":"texte!H9","v":"CABLE BUS RX11  LG 1,5 M"},{"$f":"VLOOKUP($J$31,'gamme DD chaud'!$E$14:$BM$143,12)","v":{"$error":"#REF!"}},{"$f":"'gamme DD chaud'!$Q11","v":90},{"$f":"'gamme DD chaud'!$Q12","v":88017836},{"$f":"IF('Dimensionnement par chaudière'!$E$23=texte!$B$16,\"\",IF($B44=0,\"\",A44))","v":{"$error":"#REF!"}},{"$f":"IF('Dimensionnement par chaudière'!$E$23=texte!$B$16,\"\",IF($B44=0,\"\",B44))","v":{"$error":"#REF!"}},{"$f":"IF('Dimensionnement par chaudière'!$E$23=texte!$B$16,\"\",IF($B44=0,\"\",C44))","v":{"$error":"#REF!"}},{"$f":"IF('Dimensionnement par chaudière'!$E$23=texte!$B$16,\"\",IF($B44=0,\"\",D44))","v":{"$error":"#REF!"}},null,null,null,null,"Pompe",null,null,null,"CABLE DE LIAISON INTER-MODULE RX 11",1,84.5,88017836,"CABLE DE LIAISON INTER-MODULE RX 11",1,84.5,88017836,null,null,null,null,null,null,"Référence absente du tarif 2017 en mars (en cours de correction )( suivi par N.OGET)",null,null,null,null,null,null,null,null,null,null,null,null,111690,null,"RAIL DE MONTAGE MURAL 4 CHAUDIÈRES",null,null,null,"HC194",64.8,1,64.8,"Voir pour rail de montage (si plusieurs taille nécessaire)"]
[{"$f":"texte!H10","v":"POMPE CHAUFFAGE EEI UPM2 25-70 130MM"},{"$f":"VLOOKUP($J$31,'gamme DD chaud'!$E$14:$BM$143,13)","v":{"$error":"#REF!"}},{"$f":"'gamme DD chaud'!$R11","v":326},{"$f":"'gamme DD chaud'!$R12","v":"S101614"},{"$f":"IF('Dimensionnement par chaudière'!$E$23=texte!$B$16,\"\",IF($B45=0,\"\",A45))","v":{"$error":"#REF!"}},{"$f":"IF('Dimensionnement par chaudière'!$E$23=texte!$B$16,\"\",IF($B45=0,\"\",B45))","v":{"$error":"#REF!"}},{"$f":"IF('Dimensionnement par chaudière'!$E$23=texte!$B$16,\"\",IF($B45=0,\"\",C45))","v":{"$error":"#REF!"}},{"$f":"IF('Dimensionnement par chaudière'!$E$23=texte!$B$16,\"\",IF($B45=0,\"\",D45))","v":{"$error":"#REF!"}},null,null,null,null,"Régulation",null,null,null,"POMPE CHAUFFAGE EEI UPM 25/70 POUR MCA 45",0,297,"S101614","","","","",null,null,null,null,null,null,null,null,null,null,"INNOVENS PRO MCA 160",null,null,null,null,"Support"]
[{"$f":"texte!H11","v":"POMPE CHAUFFAGE EEI UPM2 25-70 130MM"},{"$f":"VLOOKUP($J$31,'gamme DD chaud'!$E$14:$BM$143,14)","v":{"$error":"#REF!"}},{"$f":"'gamme DD chaud'!$S11","v":326},{"$f":"'gamme DD chaud'!$S12","v":"S101614"},{"$f":"IF('Dimensionnement par chaudière'!$E$23=texte!$B$16,\"\",IF($B46=0,\"\",A46))","v":{"$error":"#REF!"}},{"$f":"IF('Dimensionnement par chaudière'!$E$23=texte!$B$16,\"\",IF($B46=0,\"\",B46))","v":{"$error":"#REF!"}},{"$f":"IF('Dimensionnement par chaudière'!$E$23=texte!$B$16,\"\",IF($B46=0,\"\",C46))","v":{"$error":"#REF!"}},{"$f":"IF('Dimensionnement par chaudière'!$E$23=texte!$B$16,\"\",IF($B46=0,\"\",D46))","v":{"$error":"#REF!"}},null,null,null,null,null,null,null,null,"POMPE CHAUFFAGE EEI UPM 25/70 POUR MCA 45",0,297,"S101614","","","","",null,null,null,null,null,"Absence dans le catalogue de l'accessoire (rail de montage pour MCA 160) ( p81) (voir tarif ligne 6083)",null,null,null,null,null,null,null,null,null,"Hydraulique",null,null,null,"Hydraulique"]
[{"$f":"texte!H12","v":"POMPE CHAUFFAGE UPML 25-115 130 MM"},{"$f":"VLOOKUP($J$31,'gamme DD chaud'!$E$14:$BM$143,15)","v":{"$error":"#REF!"}},{"$f":"'gamme DD chaud'!$T11","v":421},{"$f":"'gamme DD chaud'!$T12","v":7608398},{"$f":"IF('Dimensionnement par chaudière'!$E$23=texte!$B$16,\"\",IF($B47=0,\"\",A47))","v":{"$error":"#REF!"}},{"$f":"IF('Dimensionnement par chaudière'!$E$23=texte!$B$16,\"\",IF($B47=0,\"\",B47))","v":{"$error":"#REF!"}},{"$f":"IF('Dimensionnement par chaudière'!$E$23=texte!$B$16,\"\",IF($B47=0,\"\",C47))","v":{"$error":"#REF!"}},{"$f":"IF('Dimensionnement par chaudière'!$E$23=texte!$B$16,\"\",IF($B47=0,\"\",D47))","v":{"$error":"#REF!"}},null,null,null,null,null,null,null,null,"POMPE UPML 25-115 130 MM",2,384.6,7608398,"POMPE UPML 25-115 130 MM",2,384.6,7608398,null,null,null,null,"EH664",7621566,"CHASSIS DE MONTAGE MCA 160",193.1,null,null,"Références tarif concernant MCA 160",null,null,null,null,"Pompe"]
[{"$f":"texte!H13","v":"COLLECTEUR DN65 - 2 CHAUDIERES "},{"$f":"VLOOKUP($J$31,'gamme DD chaud'!$E$14:$BM$143,16)","v":{"$error":"#REF!"}},{"$f":"'gamme DD chaud'!$U11","v":712},{"$f":"'gamme DD chaud'!$U12","v":90777},{"$f":"IF('Dimensionnement par chaudière'!$E$23=texte!$B$16,\"\",IF($B48=0,\"\",A48))","v":{"$error":"#REF!"}},{"$f":"IF('Dimensionnement par chaudière'!$E$23=texte!$B$16,\"\",IF($B48=0,\"\",B48))","v":{"$error":"#REF!"}},{"$f":"IF('Dimensionnement par chaudière'!$E$23=texte!$B$16,\"\",IF($B48=0,\"\",C48))","v":{"$error":"#REF!"}},{"$f":"IF('Dimensionnement par chaudière'!$E$23=texte!$B$16,\"\",IF($B48=0,\"\",D48))","v":{"$error":"#REF!"}},null,null,null,null,null,null,null,null,"COLLECTEUR DN65-2 CHAUDIERES",1,680.8,90777,"COLLECTEUR DN65-2 CHAUDIERES",1,680.8,90777,null,null,null,null,null,null,null,null,null,null,null,null,null,null,null,"Régulation",null,null,null,90777,null,"COLLECTEUR DN65-2 CHAUDIERES",null,null,null,"HC259",695.1,2,1390.2,"voir taille des collecteurs"]
[{"$f":"texte!H14","v":"COLLECTEUR DN65 - 3 CHAUDIERES "},{"$f":"VLOOKUP($J$31,'gamme DD chaud'!$E$14:$BM$143,17)","v":{"$error":"#REF!"}},{"$f":"'gamme DD chaud'!$V11","v":964},{"$f":"'gamme DD chaud'!$V12","v":90778},{"$f":"IF('Dimensionnement par chaudière'!$E$23=texte!$B$16,\"\",IF($B49=0,\"\",A49))","v":{"$error":"#REF!"}},{"$f":"IF('Dimensionnement par chaudière'!$E$23=texte!$B$16,\"\",IF($B49=0,\"\",B49))","v":{"$error":"#REF!"}},{"$f":"IF('Dimensionnement par chaudière'!$E$23=texte!$B$16,\"\",IF($B49=0,\"\",C49))","v":{"$error":"#REF!"}},{"$f":"IF('Dimensionnement par chaudière'!$E$23=texte!$B$16,\"\",IF($B49=0,\"\",D49))","v":{"$error":"#REF!"}},null,null,null,null,null,null,null,null,"COLLECTEUR DN65-3 CHAUDIERES",0,922.2,90778,"","","","",null,null,null,null,"Catalogue p80/ MCA 160 seule",null,null,null,null,null,7674140,"MCA 160 INIC2",null,10073,null,null,null,null,null,"",null,"",null,null,null,"","","",""]
[{"$f":"texte!H15","v":""},{"$f":"VLOOKUP($J$31,'gamme DD chaud'!$E$14:$BM$143,18)","v":{"$error":"#REF!"}},{"$f":"'gamme DD chaud'!$W11","v":""},{"$f":"'gamme DD chaud'!$W12","v":110966},{"$f":"IF('Dimensionnement par chaudière'!$E$23=texte!$B$16,\"\",IF($B50=0,\"\",A50))","v":{"$error":"#REF!"}},{"$f":"IF('Dimensionnement par chaudière'!$E$23=texte!$B$16,\"\",IF($B50=0,\"\",B50))","v":{"$error":"#REF!"}},{"$f":"IF('Dimensionnement par chaudière'!$E$23=texte!$B$16,\"\",IF($B50=0,\"\",C50))","v":{"$error":"#REF!"}},{"$f":"IF('Dimensionnement par chaudière'!$E$23=texte!$B$16,\"\",IF($B50=0,\"\",D50))","v":{"$error":"#REF!"}},null,null,null,null,null,null,null,null,"",0,"",110966,"","","","",null,null,null,null,"EH680",{"$f":"VLOOKUP('calculs par chaud'!$AC50,'Price List'!$C:$V,24,FALSE)","v":{"$error":"#REF!"}},{"$f":"VLOOKUP('calculs par chaud'!$AC50,'Price List'!$C:$V,25,FALSE)","v":{"$error":"#REF!"}},{"$f":"VLOOKUP('calculs par chaud'!$AC50,'Price List'!$C:$V,3,FALSE)","v":0},null,null,null,null,null,null,null,null,null,null,null,"",null,"",null,null,null,"","","",""]
[{"$f":"texte!H16","v":"BOUTEILLE DE DÉCOUPLAGE DN65 > 350 et < 460 kW"},{"$f":"IF(AND(O66>350,O66<=460),1,0)","v":{"$error":"#REF!"}},{"$f":"'gamme DD chaud'!$X11","v":1101},{"$f":"'gamme DD chaud'!$X12","v":111712},{"$f":"IF('Dimensionnement par chaudière'!$E$23=texte!$B$16,\"\",IF($B51=0,\"\",A51))","v":{"$error":"#REF!"}},{"$f":"IF('Dimensionnement par chaudière'!$E$23=texte!$B$16,\"\",IF($B51=0,\"\",B51))","v":{"$error":"#REF!"}},{"$f":"IF('Dimensionnement par chaudière'!$E$23=texte!$B$16,\"\",IF($B51=0,\"\",C51))","v":{"$error":"#REF!"}},{"$f":"IF('Dimensionnement par chaudière'!$E$23=texte!$B$16,\"\",IF($B51=0,\"\",D51))","v":{"$error":"#REF!"}},null,null,null,null,null,null,null,null,"BOUTEILLE DE DÉCOUPLAGE DN65 > 350 et < 460 kW",0,1007.1,111712,"","","","",null,null,null,null,"EH651",{"$f":"VLOOKUP('calculs par chaud'!$AC51,'Price List'!$C:$V,24,FALSE)","v":{"$error":"#REF!"}},{"$f":"VLOOKUP('calculs par chaud'!$AC51,'Price List'!$C:$V,25,FALSE)","v":{"$error":"#REF!"}},{"$f":"VLOOKUP('calculs par chaud'!$AC51,'Price List'!$C:$V,3,FALSE)","v":0},null,null,7674142,"MCA 160 DIEM EVO",null,10731,null,null,null,null,null,"",null,"",null,null,null,"","","",""]
[{"$f":"texte!H17","v":"BOUTEILLE DE DÉCOUPLAGE DN65 < 350 kW"},{"$f":"IF(O66<=350,1,0)","v":{"$error":"#REF!"}},{"$f":"'gamme DD chaud'!$Y11","v":664},{"$f":"'gamme DD chaud'!$Y12","v":114311},{"$f":"IF('Dimensionnement par chaudière'!$E$23=texte!$B$16,\"\",IF($B52=0,\"\",A52))","v":{"$error":"#REF!"}},{"$f":"IF('Dimensionnement par chaudière'!$E$23=texte!$B$16,\"\",IF($B52=0,\"\",B52))","v":{"$error":"#REF!"}},{"$f":"IF('Dimensionnement par chaudière'!$E$23=texte!$B$16,\"\",IF($B52=0,\"\",C52))","v":{"$error":"#REF!"}},{"$f":"IF('Dimensionnement par chaudière'!$E$23=texte!$B$16,\"\",IF($B52=0,\"\",D52))","v":{"$error":"#REF!"}},null,null,null,null,null,null,null,null,"BOUTEILLE DE DÉCOUPLAGE DN65 < 350 kW",1,604.79999999999995,114311,"BOUTEILLE DE DÉCOUPLAGE DN65 < 350 kW",1,604.79999999999995,114311,null,null,null,null,"GV47",{"$f":"VLOOKUP('calculs par chaud'!$AC52,'Price List'!$C:$V,24,FALSE)","v":{"$error":"#REF!"}},{"$f":"VLOOKUP('calculs par chaud'!$AC52,'Price List'!$C:$V,25,FALSE)","v":{"$error":"#REF!"}},{"$f":"VLOOKUP('calculs par chaud'!$AC52,'Price List'!$C:$V,3,FALSE)","v":0},null,null,null,null,null,null,null,null,null,null,null,114311,null,"BOUTEILLE DE DÉCOUPLAGE DN65 < 350 kW",null,null,null,"HC222",617.5,1,617.5,"voir taille de bouteille en fonction de la puissance"]
[{"$f":"texte!H18","v":""},{"$f":"VLOOKUP($J$31,'gamme DD chaud'!$E$14:$BM$143,21)","v":{"$error":"#REF!"}},{"$f":"'gamme DD chaud'!$Z11","v":""},{"$f":"'gamme DD chaud'!$Z12","v":110961},{"$f":"IF('Dimensionnement par chaudière'!$E$23=texte!$B$16,\"\",IF($B53=0,\"\",A53))","v":{"$error":"#REF!"}},{"$f":"IF('Dimensionnement par chaudière'!$E$23=texte!$B$16,\"\",IF($B53=0,\"\",B53))","v":{"$error":"#REF!"}},{"$f":"IF('Dimensionnement par chaudière'!$E$23=texte!$B$16,\"\",IF($B53=0,\"\",C53))","v":{"$error":"#REF!"}},{"$f":"IF('Dimensionnement par chaudière'!$E$23=texte!$B$16,\"\",IF($B53=0,\"\",D53))","v":{"$error":"#REF!"}},null,null,null,null,null,null,null,null,"",0,"",110961,"","","","",null,null,null,null,"EH693",{"$f":"VLOOKUP('calculs par chaud'!$AC53,'Price List'!$C:$V,24,FALSE)","v":{"$error":"#REF!"}},{"$f":"VLOOKUP('calculs par chaud'!$AC53,'Price List'!$C:$V,25,FALSE)","v":{"$error":"#REF!"}},{"$f":"VLOOKUP('calculs par chaud'!$AC53,'Price List'!$C:$V,3,FALSE)","v":0},null,null,null,"LISTE DES COLIS",null,null,null,null,null,null,null,"",null,"",null,null,null,"","","",""]
[{"$f":"texte!H19","v":""},{"$f":"VLOOKUP($J$31,'gamme DD chaud'!$E$14:$BM$143,22)","v":{"$error":"#REF!"}},{"$f":"'gamme DD chaud'!$AA11","v":""},{"$f":"'gamme DD chaud'!$AA12","v":110960},{"$f":"IF('Dimensionnement par chaudière'!$E$23=texte!$B$16,\"\",IF($B54=0,\"\",A54))","v":{"$error":"#REF!"}},{"$f":"IF('Dimensionnement par chaudière'!$E$23=texte!$B$16,\"\",IF($B54=0,\"\",B54))","v":{"$error":"#REF!"}},{"$f":"IF('Dimensionnement par chaudière'!$E$23=texte!$B$16,\"\",IF($B54=0,\"\",C54))","v":{"$error":"#REF!"}},{"$f":"IF('Dimensionnement par chaudière'!$E$23=texte!$B$16,\"\",IF($B54=0,\"\",D54))","v":{"$error":"#REF!"}},null,null,null,null,null,null,null,null,"",0,"",110960,"","","","",null,null,null,null,"SA12",{"$f":"VLOOKUP('calculs par chaud'!$AC54,'Price List'!$C:$V,24,FALSE)","v":{"$error":"#REF!"}},{"$f":"VLOOKUP('calculs par chaud'!$AC54,'Price List'!$C:$V,25,FALSE)","v":{"$error":"#REF!"}},{"$f":"VLOOKUP('calculs par chaud'!$AC54,'Price List'!$C:$V,3,FALSE)","v":0},null,null,null,null,null,null,null,null,null,null,null,"",null,"",null,null,null,"","","",""]
[{"$f":"texte!H20","v":""},{"$f":"VLOOKUP($J$31,'gamme DD chaud'!$E$14:$BM$143,23)","v":{"$error":"#REF!"}},{"$f":"'gamme DD chaud'!$AB11","v":""},{"$f":"'gamme DD chaud'!$AB12","v":110954},{"$f":"IF('Dimensionnement par chaudière'!$E$23=texte!$B$16,\"\",IF($B55=0,\"\",A55))","v":{"$error":"#REF!"}},{"$f":"IF('Dimensionnement par chaudière'!$E$23=texte!$B$16,\"\",IF($B55=0,\"\",B55))","v":{"$error":"#REF!"}},{"$f":"IF('Dimensionnement par chaudière'!$E$23=texte!$B$16,\"\",IF($B55=0,\"\",C55))","v":{"$error":"#REF!"}},{"$f":"IF('Dimensionnement par chaudière'!$E$23=texte!$B$16,\"\",IF($B55=0,\"\",D55))","v":{"$error":"#REF!"}},null,null,null,null,null,null,null,null,"",0,"",110954,"","","","",null,null,null,null,"AD245",{"$f":"VLOOKUP('calculs par chaud'!$AC55,'Price List'!$C:$V,24,FALSE)","v":{"$error":"#N/A"}},{"$f":"VLOOKUP('calculs par chaud'!$AC55,'Price List'!$C:$V,25,FALSE)","v":{"$error":"#N/A"}},{"$f":"VLOOKUP('calculs par chaud'!$AC55,'Price List'!$C:$V,3,FALSE)","v":{"$error":"#N/A"}},null,null,7622761,"MCA  160 EH632","EH632",9512,null,null,null,null,null,"",null,"",null,null,null,"","","",""]
[{"$f":"texte!H21","v":""},{"$f":"IF(O66>460,1,0)","v":{"$error":"#REF!"}},{"$f":"'gamme DD chaud'!$AC11","v":""},{"$f":"'gamme DD chaud'!$AC12","v":111714},{"$f":"IF('Dimensionnement par chaudière'!$E$23=texte!$B$16,\"\",IF($B56=0,\"\",A56))","v":{"$error":"#REF!"}},{"$f":"IF('Dimensionnement par chaudière'!$E$23=texte!$B$16,\"\",IF($B56=0,\"\",B56))","v":{"$error":"#REF!"}},{"$f":"IF('Dimensionnement par chaudière'!$E$23=texte!$B$16,\"\",IF($B56=0,\"\",C56))","v":{"$error":"#REF!"}},{"$f":"IF('Dimensionnement par chaudière'!$E$23=texte!$B$16,\"\",IF($B56=0,\"\",D56))","v":{"$error":"#REF!"}},null,null,null,null,null,null,null,null,"",0,"",111714,"","","","",null,null,null,null,"AD246",{"$f":"VLOOKUP('calculs par chaud'!$AC56,'Price List'!$C:$V,24,FALSE)","v":{"$error":"#REF!"}},{"$f":"VLOOKUP('calculs par chaud'!$AC56,'Price List'!$C:$V,25,FALSE)","v":{"$error":"#REF!"}},{"$f":"VLOOKUP('calculs par chaud'!$AC56,'Price List'!$C:$V,3,FALSE)","v":0},null,null,null,null,null,null,null,null,null,null,null,"",null,"",null,null,null,"","","",""]
[{"$f":"texte!H22","v":"KIT DE RACCORDEMENT AVANT FR + BE"},{"$f":"VLOOKUP($J$31,'gamme DD chaud'!$E$14:$BM$143,25)","v":{"$error":"#REF!"}},{"$f":"'gamme DD chaud'!$AD11","v":650},{"$f":"'gamme DD chaud'!$AD12","v":111022},{"$f":"IF('Dimensionnement par chaudière'!$E$23=texte!$B$16,\"\",IF($B57=0,\"\",A57))","v":{"$error":"#REF!"}},{"$f":"IF('Dimensionnement par chaudière'!$E$23=texte!$B$16,\"\",IF($B57=0,\"\",B57))","v":{"$error":"#REF!"}},{"$f":"IF('Dimensionnement par chaudière'!$E$23=texte!$B$16,\"\",IF($B57=0,\"\",C57))","v":{"$error":"#REF!"}},{"$f":"IF('Dimensionnement par chaudière'!$E$23=texte!$B$16,\"\",IF($B57=0,\"\",D57))","v":{"$error":"#REF!"}},null,null,null,null,null,null,null,null,"KIT DE RACCORDEMENT AVANT FR + BE",2,594.79999999999995,111022,"KIT DE RACCORDEMENT AVANT FR + BE",2,594.79999999999995,111022,null,null,null,null,"SA3",{"$f":"VLOOKUP('calculs par chaud'!$AC57,'Price List'!$C:$V,24,FALSE)","v":{"$error":"#REF!"}},{"$f":"VLOOKUP('calculs par chaud'!$AC57,'Price List'!$C:$V,25,FALSE)","v":{"$error":"#REF!"}},{"$f":"VLOOKUP('calculs par chaud'!$AC57,'Price List'!$C:$V,3,FALSE)","v":0},null,null,7613958,"ACC INST MCA 160 INIC2 EH633","EH633",561,null,null,null,null,null,111022,null,"KIT DE RACCORDEMENT AVANT FR + BE",null,null,null,"HC202",607.29999999999995,4,2429.1999999999998,"??"]
[{"$f":"texte!H23","v":""},{"$f":"VLOOKUP($J$31,'gamme DD chaud'!$E$14:$BM$143,26)","v":{"$error":"#REF!"}},{"$f":"'gamme DD chaud'!$AE11","v":""},{"$f":"'gamme DD chaud'!$AE12","v":111037},{"$f":"IF('Dimensionnement par chaudière'!$E$23=texte!$B$16,\"\",IF($B58=0,\"\",A58))","v":{"$error":"#REF!"}},{"$f":"IF('Dimensionnement par chaudière'!$E$23=texte!$B$16,\"\",IF($B58=0,\"\",B58))","v":{"$error":"#REF!"}},{"$f":"IF('Dimensionnement par chaudière'!$E$23=texte!$B$16,\"\",IF($B58=0,\"\",C58))","v":{"$error":"#REF!"}},{"$f":"IF('Dimensionnement par chaudière'!$E$23=texte!$B$16,\"\",IF($B58=0,\"\",D58))","v":{"$error":"#REF!"}},null,null,null,null,null,null,null,null,"",0,"",111037,"","","","",null,null,null,null,"SA4",{"$f":"VLOOKUP('calculs par chaud'!$AC58,'Price List'!$C:$V,24,FALSE)","v":{"$error":"#REF!"}},{"$f":"VLOOKUP('calculs par chaud'!$AC58,'Price List'!$C:$V,25,FALSE)","v":{"$error":"#REF!"}},{"$f":"VLOOKUP('calculs par chaud'!$AC58,'Price List'!$C:$V,3,FALSE)","v":0},null,null,7613959,"ACC INST MCA 160 DIEM EVO EH635","EH635",1219,null,null,null,null,null,"",null,"",null,null,null,"","","",""]
[{"$f":"texte!H24","v":""},{"$f":"VLOOKUP($J$31,'gamme DD chaud'!$E$14:$BM$143,27)","v":{"$error":"#REF!"}},{"$f":"'gamme DD chaud'!$AF11","v":""},{"$f":"'gamme DD chaud'!$AF12","v":112906},{"$f":"IF('Dimensionnement par chaudière'!$E$23=texte!$B$16,\"\",IF($B59=0,\"\",A59))","v":{"$error":"#REF!"}},{"$f":"IF('Dimensionnement par chaudière'!$E$23=texte!$B$16,\"\",IF($B59=0,\"\",B59))","v":{"$error":"#REF!"}},{"$f":"IF('Dimensionnement par chaudière'!$E$23=texte!$B$16,\"\",IF($B59=0,\"\",C59))","v":{"$error":"#REF!"}},{"$f":"IF('Dimensionnement par chaudière'!$E$23=texte!$B$16,\"\",IF($B59=0,\"\",D59))","v":{"$error":"#REF!"}},true,null,null,null,null,null,null,null,"",0,"",112906,"","","","",null,null,null,null,"DU15",{"$f":"VLOOKUP('calculs par chaud'!$AC59,'Price List'!$C:$V,24,FALSE)","v":{"$error":"#REF!"}},{"$f":"VLOOKUP('calculs par chaud'!$AC59,'Price List'!$C:$V,25,FALSE)","v":{"$error":"#REF!"}},{"$f":"VLOOKUP('calculs par chaud'!$AC59,'Price List'!$C:$V,3,FALSE)","v":0},null,null,null,null,null,null,null,null,null,null,null,"",null,"",null,null,null,"","","",""]
[{"$f":"texte!H25","v":""},{"$f":"VLOOKUP($J$31,'gamme DD chaud'!$E$14:$BM$143,28)","v":{"$error":"#REF!"}},{"$f":"'gamme DD chaud'!$AG11","v":""},{"$f":"'gamme DD chaud'!$AG12","v":112908},{"$f":"IF('Dimensionnement par chaudière'!$E$23=texte!$B$16,\"\",IF($B60=0,\"\",A60))","v":{"$error":"#REF!"}},{"$f":"IF('Dimensionnement par chaudière'!$E$23=texte!$B$16,\"\",IF($B60=0,\"\",B60))","v":{"$error":"#REF!"}},{"$f":"IF('Dimensionnement par chaudière'!$E$23=texte!$B$16,\"\",IF($B60=0,\"\",C60))","v":{"$error":"#REF!"}},{"$f":"IF('Dimensionnement par chaudière'!$E$23=texte!$B$16,\"\",IF($B60=0,\"\",D60))","v":{"$error":"#REF!"}},null,null,null,null,"P(80/60)","NB",null,null,"",0,"",112908,"","","","",null,null,null,null,"pas de colis",94225601,{"$f":"VLOOKUP($AD60,'Price List'!$A:$V,2,FALSE)","v":"RECHARGE DE GRANULATS DE NEUTRALISATION 10 KG**"},{"$f":"VLOOKUP($AD60,'Price List'!$A:$V,4,FALSE)","v":66},null,null,null,"OPTIONS EAU CHAUDE SANITAIRE",null,null,null,null,null,null,null,"",null,"",null,null,null,"","","",""]
[{"$f":"texte!H26","v":"JEU DE BOUCHONS"},{"$f":"VLOOKUP($J$31,'gamme DD chaud'!$E$14:$BM$143,29)","v":{"$error":"#REF!"}},{"$f":"'gamme DD chaud'!$AH11","v":43},{"$f":"'gamme DD chaud'!$AH12","v":111708},{"$f":"IF('Dimensionnement par chaudière'!$E$23=texte!$B$16,\"\",IF($B61=0,\"\",A61))","v":{"$error":"#REF!"}},{"$f":"IF('Dimensionnement par chaudière'!$E$23=texte!$B$16,\"\",IF($B61=0,\"\",B61))","v":{"$error":"#REF!"}},{"$f":"IF('Dimensionnement par chaudière'!$E$23=texte!$B$16,\"\",IF($B61=0,\"\",C61))","v":{"$error":"#REF!"}},{"$f":"IF('Dimensionnement par chaudière'!$E$23=texte!$B$16,\"\",IF($B61=0,\"\",D61))","v":{"$error":"#REF!"}},null,null,null,null,40,{"$f":"'Dimensionnement par chaudière'!G18","v":0},{"$f":"M61*N61","v":0},null,"JEU DE BOUCHONS",2,39.700000000000003,111708,"JEU DE BOUCHONS",2,39.700000000000003,111708,null,null,null,null,"SA7",{"$f":"VLOOKUP('calculs par chaud'!$AC61,'Price List'!$C:$V,24,FALSE)","v":{"$error":"#REF!"}},{"$f":"VLOOKUP('calculs par chaud'!$AC61,'Price List'!$C:$V,25,FALSE)","v":{"$error":"#REF!"}},{"$f":"VLOOKUP('calculs par chaud'!$AC61,'Price List'!$C:$V,3,FALSE)","v":0},null,null,null,null,null,null,null,null,null,null,null,111708,null,"JEU DE BOUCHONS",null,null,null,"HC195",40.5,4,162,"idem ?"]
[{"$f":"texte!H27","v":""},{"$f":"VLOOKUP($J$31,'gamme DD chaud'!$E$14:$BM$143,30)","v":{"$error":"#REF!"}},{"$f":"'gamme DD chaud'!$AI11","v":""},{"$f":"'gamme DD chaud'!$AI12","v":111698},{"$f":"IF('Dimensionnement par chaudière'!$E$23=texte!$B$16,\"\",IF($B62=0,\"\",A62))","v":{"$error":"#REF!"}},{"$f":"IF('Dimensionnement par chaudière'!$E$23=texte!$B$16,\"\",IF($B62=0,\"\",B62))","v":{"$error":"#REF!"}},{"$f":"IF('Dimensionnement par chaudière'!$E$23=texte!$B$16,\"\",IF($B62=0,\"\",C62))","v":{"$error":"#REF!"}},{"$f":"IF('Dimensionnement par chaudière'!$E$23=texte!$B$16,\"\",IF($B62=0,\"\",D62))","v":{"$error":"#REF!"}},null,null,null,null,61,{"$f":"'Dimensionnement par chaudière'!#REF!","v":{"$error":"#REF!"}},{"$f":"M62*N62","v":{"$error":"#REF!"}},null,"",0,"",111698,"","","","",null,null,null,null,"EH692",{"$f":"VLOOKUP('calculs par chaud'!$AC62,'Price List'!$C:$V,24,FALSE)","v":{"$error":"#REF!"}},{"$f":"VLOOKUP('calculs par chaud'!$AC62,'Price List'!$C:$V,25,FALSE)","v":{"$error":"#REF!"}},{"$f":"VLOOKUP('calculs par chaud'!$AC62,'Price List'!$C:$V,3,FALSE)","v":0},null,null,100000030,"COLIS OPTION SONDE ECS","AD212",51.5,null,null,null,null,null,"",null,"",null,null,null,"","","",""]
[{"$f":"texte!H28","v":"BRIDES PLEINES EAU DN65"},{"$f":"VLOOKUP($J$31,'gamme DD chaud'!$E$14:$BM$143,31)","v":{"$error":"#REF!"}},{"$f":"'gamme DD chaud'!$AJ11","v":160},{"$f":"'gamme DD chaud'!$AJ12","v":111701},{"$f":"IF('Dimensionnement par chaudière'!$E$23=texte!$B$16,\"\",IF($B63=0,\"\",A63))","v":{"$error":"#REF!"}},{"$f":"IF('Dimensionnement par chaudière'!$E$23=texte!$B$16,\"\",IF($B63=0,\"\",B63))","v":{"$error":"#REF!"}},{"$f":"IF('Dimensionnement par chaudière'!$E$23=texte!$B$16,\"\",IF($B63=0,\"\",C63))","v":{"$error":"#REF!"}},{"$f":"IF('Dimensionnement par chaudière'!$E$23=texte!$B$16,\"\",IF($B63=0,\"\",D63))","v":{"$error":"#REF!"}},null,null,null,null,84.2,{"$f":"'Dimensionnement par chaudière'!I18","v":0},{"$f":"M63*N63","v":0},null,"BRIDES PLEINES EAU DN65",1,145.19999999999999,111701,"BRIDES PLEINES EAU DN65",1,145.19999999999999,111701,null,null,null,null,"EH645",{"$f":"VLOOKUP('calculs par chaud'!$AC63,'Price List'!$C:$V,24,FALSE)","v":{"$error":"#REF!"}},{"$f":"VLOOKUP('calculs par chaud'!$AC63,'Price List'!$C:$V,25,FALSE)","v":{"$error":"#REF!"}},{"$f":"VLOOKUP('calculs par chaud'!$AC63,'Price List'!$C:$V,3,FALSE)","v":0},null,null,7637550,"CONNECTION CH SOLO MCA 160 EH680","EH680",639.29999999999995,null,null,null,null,null,111701,null,"BRIDES PLEINES EAU DN65",null,null,null,"HC198",148.19999999999999,1,148.19999999999999,"voir Ø"]
[{"$f":"texte!H29","v":""},{"$f":"VLOOKUP($J$31,'gamme DD chaud'!$E$14:$BM$143,32)","v":{"$error":"#REF!"}},{"$f":"'gamme DD chaud'!$AK11","v":""},{"$f":"'gamme DD chaud'!$AK12","v":111699},{"$f":"IF('Dimensionnement par chaudière'!$E$23=texte!$B$16,\"\",IF($B64=0,\"\",A64))","v":{"$error":"#REF!"}},{"$f":"IF('Dimensionnement par chaudière'!$E$23=texte!$B$16,\"\",IF($B64=0,\"\",B64))","v":{"$error":"#REF!"}},{"$f":"IF('Dimensionnement par chaudière'!$E$23=texte!$B$16,\"\",IF($B64=0,\"\",C64))","v":{"$error":"#REF!"}},{"$f":"IF('Dimensionnement par chaudière'!$E$23=texte!$B$16,\"\",IF($B64=0,\"\",D64))","v":{"$error":"#REF!"}},null,null,null,null,107,{"$f":"'Dimensionnement par chaudière'!J18","v":0},{"$f":"M64*N64","v":0},null,"",0,"",111699,"","","","",null,null,null,null,"EH646",{"$f":"VLOOKUP('calculs par chaud'!$AC64,'Price List'!$C:$V,24,FALSE)","v":{"$error":"#REF!"}},{"$f":"VLOOKUP('calculs par chaud'!$AC64,'Price List'!$C:$V,25,FALSE)","v":{"$error":"#REF!"}},{"$f":"VLOOKUP('calculs par chaud'!$AC64,'Price List'!$C:$V,3,FALSE)","v":0},null,null,7637223,"POMPE UPM XL GRUNDFOS 25-105 H180","EH651",605.79999999999995,null,null,null,null,null,"",null,"",null,null,null,"","","",""]
[{"$f":"texte!H30","v":""},{"$f":"VLOOKUP($J$31,'gamme DD chaud'!$E$14:$BM$143,33)","v":{"$error":"#REF!"}},{"$f":"'gamme DD chaud'!$AL11","v":""},{"$f":"'gamme DD chaud'!$AL12","v":111703},{"$f":"IF('Dimensionnement par chaudière'!$E$23=texte!$B$16,\"\",IF($B65=0,\"\",A65))","v":{"$error":"#REF!"}},{"$f":"IF('Dimensionnement par chaudière'!$E$23=texte!$B$16,\"\",IF($B65=0,\"\",B65))","v":{"$error":"#REF!"}},{"$f":"IF('Dimensionnement par chaudière'!$E$23=texte!$B$16,\"\",IF($B65=0,\"\",C65))","v":{"$error":"#REF!"}},{"$f":"IF('Dimensionnement par chaudière'!$E$23=texte!$B$16,\"\",IF($B65=0,\"\",D65))","v":{"$error":"#REF!"}},null,null,null,null,null,null,null,null,"",0,"",111703,"","","","",null,null,null,null,"AD212",{"$f":"VLOOKUP('calculs par chaud'!$AC65,'Price List'!$C:$V,24,FALSE)","v":{"$error":"#REF!"}},{"$f":"VLOOKUP('calculs par chaud'!$AC65,'Price List'!$C:$V,25,FALSE)","v":{"$error":"#REF!"}},{"$f":"VLOOKUP('calculs par chaud'!$AC65,'Price List'!$C:$V,3,FALSE)","v":0},null,null,7630016,"POMPE CHAUFFAGE ELECTRONIQUE HEE POUR MCA - DTG130 65/115     ","SA13",405.7,null,null,null,null,null,"",null,"",null,null,null,"","","",""]
[{"$f":"texte!H31","v":{"$error":"#N/A"}},{"$f":"VLOOKUP($J$31,'gamme DD chaud'!$E$14:$BM$143,34)","v":{"$error":"#REF!"}},{"$f":"'gamme DD chaud'!$AM11","v":{"$error":"#N/A"}},120842,{"$f":"IF('Dimensionnement par chaudière'!$E$23=texte!$B$16,\"\",IF($B66=0,\"\",A66))","v":{"$error":"#REF!"}},{"$f":"IF('Dimensionnement par chaudière'!$E$23=texte!$B$16,\"\",IF($B66=0,\"\",B66))","v":{"$error":"#REF!"}},{"$f":"IF('Dimensionnement par chaudière'!$E$23=texte!$B$16,\"\",IF($B66=0,\"\",C66))","v":{"$error":"#REF!"}},{"$f":"IF('Dimensionnement par chaudière'!$E$23=texte!$B$16,\"\",IF($B66=0,\"\",D66))","v":{"$error":"#REF!"}},null,null,null,null,null,"Ptot",{"$f":"SUM(O61:O64)","v":{"$error":"#REF!"}},null,"MONTANT-SUPPORT L MCA",0,139.1,120842,"","","","",null,null,null,null,"Catalogue p81 / MCA 160 Cascade",null,null,null,null,null,100019348,"BOUTEILLE DE DECOUPLAGE  120/80-2''   ","GV47",616.5]
[{"$f":"texte!H32","v":"MONTANT-SUPPORT I GMR 5000"},{"$f":"VLOOKUP($J$31,'gamme DD chaud'!$E$14:$BM$143,35)","v":{"$error":"#REF!"}},{"$f":"'gamme DD chaud'!$AN11","v":95},120900,{"$f":"IF('Dimensionnement par chaudière'!$E$23=texte!$B$16,\"\",IF($B67=0,\"\",A67))","v":{"$error":"#REF!"}},{"$f":"IF('Dimensionnement par chaudière'!$E$23=texte!$B$16,\"\",IF($B67=0,\"\",B67))","v":{"$error":"#REF!"}},{"$f":"IF('Dimensionnement par chaudière'!$E$23=texte!$B$16,\"\",IF($B67=0,\"\",C67))","v":{"$error":"#REF!"}},{"$f":"IF('Dimensionnement par chaudière'!$E$23=texte!$B$16,\"\",IF($B67=0,\"\",D67))","v":{"$error":"#REF!"}},null,null,null,null,null,null,null,null,"MONTANT-SUPPORT I MCA",3,88,120900,"MONTANT-SUPPORT I MCA",3,88,120900,null,null,null,"absent du catalogue","EH664",7621566,"CHASSIS DE MONTAGE MCA 160",193.1,null,null,7613610,"STATION DE NEUTRALISATION HN 1.6 (AVEC POMPE;JUSQU'À 300KW)","SA4",1222.4000000000001,null,null,null,null,null,"S101614",null,"POMPE CHAUFFAGE EEI UPM 25/70 POUR MCA 45",null,null,null,0,303.2,1,303.2,"voir si taille pompe identiques"]
[{"$f":"texte!H33","v":"CHASSIS DE MONTAGE GMR 5000"},{"$f":"VLOOKUP($J$31,'gamme DD chaud'!$E$14:$BM$143,36)","v":{"$error":"#REF!"}},{"$f":"'gamme DD chaud'!$AO11","v":100},120918,{"$f":"IF('Dimensionnement par chaudière'!$E$23=texte!$B$16,\"\",IF($B68=0,\"\",A68))","v":{"$error":"#REF!"}},{"$f":"IF('Dimensionnement par chaudière'!$E$23=texte!$B$16,\"\",IF($B68=0,\"\",B68))","v":{"$error":"#REF!"}},{"$f":"IF('Dimensionnement par chaudière'!$E$23=texte!$B$16,\"\",IF($B68=0,\"\",C68))","v":{"$error":"#REF!"}},{"$f":"IF('Dimensionnement par chaudière'!$E$23=texte!$B$16,\"\",IF($B68=0,\"\",D68))","v":{"$error":"#REF!"}},null,null,null,null,null,null,null,null,"CHASSIS DE MONTAGE MCA",2,92.7,120918,"CHASSIS DE MONTAGE MCA",2,92.7,120918,null,null,null,null,"HC255",{"$f":"VLOOKUP('calculs par chaud'!$AC68,'Price List'!$C:$V,24,FALSE)","v":{"$error":"#REF!"}},{"$f":"VLOOKUP('calculs par chaud'!$AC68,'Price List'!$C:$V,25,FALSE)","v":{"$error":"#REF!"}},{"$f":"VLOOKUP('calculs par chaud'!$AC68,'Price List'!$C:$V,3,FALSE)","v":0},null,null,7613613,"GRANULATS DE NEUTRALISATION (SAC DE 25 KG)","SA7",83.2,null,null,null,null,null,"S101614",null,"POMPE CHAUFFAGE EEI UPM 25/70 POUR MCA 45",null,null,null,0,303.2,1,303.2]
[{"$f":"texte!H34","v":"RAIL DE MONTAGE MURAL 2 CHAUDIÈRES "},{"$f":"VLOOKUP($J$31,'gamme DD chaud'!$E$14:$BM$143,37)","v":{"$error":"#REF!"}},{"$f":"'gamme DD chaud'!$AP11","v":45},{"$f":"'gamme DD chaud'!$AP12","v":111688},{"$f":"IF('Dimensionnement par chaudière'!$E$23=texte!$B$16,\"\",IF($B69=0,\"\",A69))","v":{"$error":"#REF!"}},{"$f":"IF('Dimensionnement par chaudière'!$E$23=texte!$B$16,\"\",IF($B69=0,\"\",B69))","v":{"$error":"#REF!"}},{"$f":"IF('Dimensionnement par chaudière'!$E$23=texte!$B$16,\"\",IF($B69=0,\"\",C69))","v":{"$error":"#REF!"}},{"$f":"IF('Dimensionnement par chaudière'!$E$23=texte!$B$16,\"\",IF($B69=0,\"\",D69))","v":{"$error":"#REF!"}},null,null,null,null,null,null,null,null,"RAIL DE MONTAGE MURAL 2 CHAUDIÈRES",0,42.3,111688,"","","","",null,null,null,null,"HC256",{"$f":"VLOOKUP('calculs par chaud'!$AC69,'Price List'!$C:$V,24,FALSE)","v":{"$error":"#REF!"}},{"$f":"VLOOKUP('calculs par chaud'!$AC69,'Price List'!$C:$V,25,FALSE)","v":{"$error":"#REF!"}},{"$f":"VLOOKUP('calculs par chaud'!$AC69,'Price List'!$C:$V,3,FALSE)","v":0},null,null,7628753,"REGULATEUR DE PRESSION  GDJ 20 300MBAR","SA12",176.8,null,null,null,null,null,7608398,null,"POMPE UPML 25-115 130 MM",null,null,null,0,392.7,2,785.4]
[{"$f":"texte!H35","v":"RAIL DE MONTAGE MURAL 3 CHAUDIÈRES "},{"$f":"VLOOKUP($J$31,'gamme DD chaud'!$E$14:$BM$143,38)","v":{"$error":"#REF!"}},{"$f":"'gamme DD chaud'!$AQ11","v":54},{"$f":"'gamme DD chaud'!$AQ12","v":111689},{"$f":"IF('Dimensionnement par chaudière'!$E$23=texte!$B$16,\"\",IF($B70=0,\"\",A70))","v":{"$error":"#REF!"}},{"$f":"IF('Dimensionnement par chaudière'!$E$23=texte!$B$16,\"\",IF($B70=0,\"\",B70))","v":{"$error":"#REF!"}},{"$f":"IF('Dimensionnement par chaudière'!$E$23=texte!$B$16,\"\",IF($B70=0,\"\",C70))","v":{"$error":"#REF!"}},{"$f":"IF('Dimensionnement par chaudière'!$E$23=texte!$B$16,\"\",IF($B70=0,\"\",D70))","v":{"$error":"#REF!"}},null,null,null,null,null,null,null,null,"RAIL DE MONTAGE MURAL 3 CHAUDIÈRES",0,50.6,111689,"","","","",null,null,null,null,"HC209",{"$f":"VLOOKUP('calculs par chaud'!$AC70,'Price List'!$C:$V,24,FALSE)","v":{"$error":"#REF!"}},{"$f":"VLOOKUP('calculs par chaud'!$AC70,'Price List'!$C:$V,25,FALSE)","v":{"$error":"#REF!"}},{"$f":"VLOOKUP('calculs par chaud'!$AC70,'Price List'!$C:$V,3,FALSE)","v":0},null,null,7656909,"KIT DE CONVERSION PROP. MCA 160KW","EH693",68]
[{"$f":"texte!H36","v":"RAIL DE MONTAGE MURAL 4 CHAUDIÈRES "},{"$f":"VLOOKUP($J$31,'gamme DD chaud'!$E$14:$BM$143,39)","v":{"$error":"#REF!"}},{"$f":"'gamme DD chaud'!$AR11","v":71},{"$f":"'gamme DD chaud'!$AR12","v":111690},{"$f":"IF('Dimensionnement par chaudière'!$E$23=texte!$B$16,\"\",IF($B71=0,\"\",A71))","v":{"$error":"#REF!"}},{"$f":"IF('Dimensionnement par chaudière'!$E$23=texte!$B$16,\"\",IF($B71=0,\"\",B71))","v":{"$error":"#REF!"}},{"$f":"IF('Dimensionnement par chaudière'!$E$23=texte!$B$16,\"\",IF($B71=0,\"\",C71))","v":{"$error":"#REF!"}},{"$f":"IF('Dimensionnement par chaudière'!$E$23=texte!$B$16,\"\",IF($B71=0,\"\",D71))","v":{"$error":"#REF!"}},null,null,null,null,null,null,null,null,"RAIL DE MONTAGE MURAL 4 CHAUDIÈRES",0,63.5,111690,"","","","",null,null,null,null,"HC210",{"$f":"VLOOKUP('calculs par chaud'!$AC71,'Price List'!$C:$V,24,FALSE)","v":{"$error":"#REF!"}},{"$f":"VLOOKUP('calculs par chaud'!$AC71,'Price List'!$C:$V,25,FALSE)","v":{"$error":"#REF!"}},{"$f":"VLOOKUP('calculs par chaud'!$AC71,'Price List'!$C:$V,3,FALSE)","v":0},null,null,null,null,null,null,null,null,null,null,null,"",null,"",null,null,null,"","","",""]
[{"$f":"\"\"","v":""},{"$f":"\"\"","v":""},{"$f":"\"\"","v":""},{"$f":"\"\"","v":""},null,null,null,null,null,null,null,null,null,null,null,null,"","","","",null,null,null,null,null,null,null,null,"EH669",{"$f":"VLOOKUP('calculs par chaud'!$AC72,'Price List'!$C:$V,24,FALSE)","v":{"$error":"#REF!"}},{"$f":"VLOOKUP('calculs par chaud'!$AC72,'Price List'!$C:$V,25,FALSE)","v":{"$error":"#REF!"}},{"$f":"VLOOKUP('calculs par chaud'!$AC72,'Price List'!$C:$V,3,FALSE)","v":0},null,null,null,"OPTIONS REGULATION"]
[{"$f":"\"\"","v":""},{"$f":"\"\"","v":""},{"$f":"\"\"","v":""},{"$f":"\"\"","v":""},"Chaudières",null,{"$f":"D12*'gamme DD chaud'!H11+'calculs par chaud'!H12*'gamme DD chaud'!I11+'calculs par chaud'!L12*'gamme DD chaud'!J11+'calculs par chaud'!O12*'gamme DD chaud'!K11+'Dimensionnement par chaudière'!E27*texte!C27","v":{"$error":"#REF!"}},null,null,null,null,null,null,null,null,null,"","","","","Chaudières",null,15040,null,null,null,null,null,"HC218",{"$f":"VLOOKUP('calculs par chaud'!$AC73,'Price List'!$C:$V,24,FALSE)","v":{"$error":"#REF!"}},{"$f":"VLOOKUP('calculs par chaud'!$AC73,'Price List'!$C:$V,25,FALSE)","v":{"$error":"#REF!"}},{"$f":"VLOOKUP('calculs par chaud'!$AC73,'Price List'!$C:$V,3,FALSE)","v":0},null,null,null,null,null,null,null,null,null,null,null,"Régulation"]
[{"$f":"texte!H39","v":"ADAPTATEUR Ø 80 - 100 MM"},0,{"$f":"'gamme DD chaud'!$AU11","v":58},{"$f":"'gamme DD chaud'!$AU12","v":84887768},{"$f":"IF('Dimensionnement par chaudière'!$E$23=texte!$B$16,\"\",IF($B74=0,\"\",A74))","v":""},{"$f":"IF('Dimensionnement par chaudière'!$E$23=texte!$B$16,\"\",IF($B74=0,\"\",IF(I74=FALSE,\"\",B74)))","v":""},{"$f":"IF('Dimensionnement par chaudière'!$E$23=texte!$B$16,\"\",IF($B74=0,\"\",IF(I74=FALSE,\"\",C74)))","v":""},{"$f":"IF('Dimensionnement par chaudière'!$E$23=texte!$B$16,\"\",IF($B74=0,\"\",D74))","v":""},{"$f":"I75","v":true},null,{"$f":"VLOOKUP($J$31,'gamme DD chaud'!$E$14:$BM$143,42)","v":{"$error":"#REF!"}},"Formule case rouge B71",null,null,null,null,"ADAPTATEUR Ø 80 - 100 MM",0,56.2,84887768,"","","","",null,null,null,null,"EH647",{"$f":"VLOOKUP('calculs par chaud'!$AC74,'Price List'!$C:$V,24,FALSE)","v":{"$error":"#REF!"}},{"$f":"VLOOKUP('calculs par chaud'!$AC74,'Price List'!$C:$V,25,FALSE)","v":{"$error":"#REF!"}},{"$f":"VLOOKUP('calculs par chaud'!$AC74,'Price List'!$C:$V,3,FALSE)","v":0}]
[{"$f":"\"\"","v":""},{"$f":"\"\"","v":""},{"$f":"\"\"","v":""},{"$f":"\"\"","v":""},{"$f":"\"\"","v":""},{"$f":"\"\"","v":""},{"$f":"\"\"","v":""},{"$f":"\"\"","v":""},true,null,null,null,null,null,null,null,"","","","","","","","",null,null,null,"absent du tarif","HC648",{"$f":"VLOOKUP('calculs par chaud'!$AC75,'Price List'!$C:$V,24,FALSE)","v":{"$error":"#N/A"}},{"$f":"VLOOKUP('calculs par chaud'!$AC75,'Price List'!$C:$V,25,FALSE)","v":{"$error":"#N/A"}},{"$f":"VLOOKUP('calculs par chaud'!$AC75,'Price List'!$C:$V,3,FALSE)","v":{"$error":"#N/A"}},null,null,88017017,"SONDE DEPART V3V","AD199",82,null,null,null,null,null,"",null,"",null,null,null,"","","",""]
[{"$f":"texte!L55","v":"ADAPTATEUR Ø 80 - 100 MM"},{"$f":"VLOOKUP($J$31,'gamme DD chaud'!$E$14:$BM$143,44)","v":{"$error":"#REF!"}},{"$f":"texte!N55","v":58},{"$f":"texte!K55","v":84887768},{"$f":"IF('Dimensionnement par chaudière'!$E$23=texte!$B$16,\"\",IF($B76=0,\"\",A76))","v":{"$error":"#REF!"}},{"$f":"IF('Dimensionnement par chaudière'!$E$23=texte!$B$16,\"\",IF($B76=0,\"\",IF(I76=FALSE,\"\",B76)))","v":{"$error":"#REF!"}},{"$f":"IF('Dimensionnement par chaudière'!$E$23=texte!$B$16,\"\",IF($B76=0,\"\",IF(I76=FALSE,\"\",C76)))","v":{"$error":"#REF!"}},{"$f":"IF('Dimensionnement par chaudière'!$E$23=texte!$B$16,\"\",IF($B76=0,\"\",D76))","v":{"$error":"#REF!"}},false,null,null,null,null,null,null,null,"ADAPTATEUR Ø 80 - 100 MM",0,56.2,84887768,"","","","",null,null,null,null,"EH649",{"$f":"VLOOKUP('calculs par chaud'!$AC76,'Price List'!$C:$V,24,FALSE)","v":{"$error":"#REF!"}},{"$f":"VLOOKUP('calculs par chaud'!$AC76,'Price List'!$C:$V,25,FALSE)","v":{"$error":"#REF!"}},{"$f":"VLOOKUP('calculs par chaud'!$AC76,'Price List'!$C:$V,3,FALSE)","v":0},null,null,100013305,"SONDE SYSTÈME ECS","AD250",46,null,null,null,null,null,100013027,null,"SONDE DE DÉPART + DOIGT DE GANT-BOUTEILLE < 350 kW",null,null,null,"HC223",132.30000000000001,1,132.30000000000001]
[{"$f":"\"\"","v":""},{"$f":"\"\"","v":""},{"$f":"\"\"","v":""},{"$f":"\"\"","v":""},{"$f":"\"\"","v":""},{"$f":"\"\"","v":""},{"$f":"\"\"","v":""},{"$f":"\"\"","v":""},{"$f":"\"\"","v":""},null,null,null,null,null,null,null,"","","","","","","","",null,null,null,null,"HC224",{"$f":"VLOOKUP('calculs par chaud'!$AC77,'Price List'!$C:$V,24,FALSE)","v":{"$error":"#REF!"}},{"$f":"VLOOKUP('calculs par chaud'!$AC77,'Price List'!$C:$V,25,FALSE)","v":{"$error":"#REF!"}},{"$f":"VLOOKUP('calculs par chaud'!$AC77,'Price List'!$C:$V,3,FALSE)","v":0},null,null,85757741,"SONDE EXTERIEURE","FM46",40.799999999999997,null,null,null,null,null,88017836,null,"CABLE DE LIAISON INTER-MODULE RX 11",null,null,null,"AD124",86.3,3,258.89999999999998]
[{"$f":"texte!H43","v":"FILTRE GAZ DN50"},{"$f":"VLOOKUP($J$31,'gamme DD chaud'!$E$14:$BM$143,47)","v":{"$error":"#REF!"}},{"$f":"'gamme DD chaud'!$AY11","v":558},"S101655",{"$f":"IF('Dimensionnement par chaudière'!$E$23=texte!$B$16,\"\",IF($B78=0,\"\",A78))","v":{"$error":"#REF!"}},{"$f":"IF('Dimensionnement par chaudière'!$E$23=texte!$B$16,\"\",IF($B78=0,\"\",IF(I78=FALSE,\"\",B78)))","v":{"$error":"#REF!"}},{"$f":"IF('Dimensionnement par chaudière'!$E$23=texte!$B$16,\"\",IF($B78=0,\"\",IF(I78=FALSE,\"\",C78)))","v":{"$error":"#REF!"}},{"$f":"IF('Dimensionnement par chaudière'!$E$23=texte!$B$16,\"\",IF($B78=0,\"\",D78))","v":{"$error":"#REF!"}},false,null,null,null,null,null,null,null,"FILTRE GAZ DN50",1,507.6,"S101655","FILTRE GAZ DN50","","","S101655",null,null,null,null,"HC215",{"$f":"VLOOKUP('calculs par chaud'!$AC78,'Price List'!$C:$V,24,FALSE)","v":{"$error":"#REF!"}},{"$f":"VLOOKUP('calculs par chaud'!$AC78,'Price List'!$C:$V,25,FALSE)","v":{"$error":"#REF!"}},{"$f":"VLOOKUP('calculs par chaud'!$AC78,'Price List'!$C:$V,3,FALSE)","v":0},null,null,100013304,"OPTION V3V DIEMATIC iSystem","AD249",157.9,null,null,null,null,null,null,null,null,null,null,null,null,null,null,null,"voir si rien de plus "]
[{"$f":"texte!H44","v":""},{"$f":"texte!I44","v":""},{"$f":"texte!J44","v":""},{"$f":"texte!K44","v":""},{"$f":"IF('Dimensionnement par chaudière'!$E$23=texte!$B$16,\"\",IF($B79=0,\"\",A79))","v":""},{"$f":"IF('Dimensionnement par chaudière'!$E$23=texte!$B$16,\"\",IF($B79=0,\"\",IF(I79=FALSE,\"\",B79)))","v":""},{"$f":"IF('Dimensionnement par chaudière'!$E$23=texte!$B$16,\"\",IF($B79=0,\"\",IF(I79=FALSE,\"\",C79)))","v":""},{"$f":"IF('Dimensionnement par chaudière'!$E$23=texte!$B$16,\"\",IF($B79=0,\"\",D79))","v":""},false,null,null,null,null,null,null,null,"","","","","","","","",null,null,null,null,"HC216",{"$f":"VLOOKUP('calculs par chaud'!$AC79,'Price List'!$C:$V,24,FALSE)","v":{"$error":"#REF!"}},{"$f":"VLOOKUP('calculs par chaud'!$AC79,'Price List'!$C:$V,25,FALSE)","v":{"$error":"#REF!"}},{"$f":"VLOOKUP('calculs par chaud'!$AC79,'Price List'!$C:$V,3,FALSE)","v":0},null,null,88017859,"THERMOSTAT D'AMBIANCE NON PROGRAMMABLE","AD140",50.6]
[{"$f":"texte!H45","v":"JEUX DE BRIDES À SOUDER DN50 POUR FILTRE A GAZ"},{"$f":"B78","v":{"$error":"#REF!"}},{"$f":"'gamme DD chaud'!$BA11","v":90},"S103345",{"$f":"IF('Dimensionnement par chaudière'!$E$23=texte!$B$16,\"\",IF($B80=0,\"\",A80))","v":{"$error":"#REF!"}},{"$f":"IF('Dimensionnement par chaudière'!$E$23=texte!$B$16,\"\",IF($B80=0,\"\",IF(I80=FALSE,\"\",B80)))","v":{"$error":"#REF!"}},{"$f":"IF('Dimensionnement par chaudière'!$E$23=texte!$B$16,\"\",IF($B80=0,\"\",IF(I80=FALSE,\"\",C80)))","v":{"$error":"#REF!"}},{"$f":"IF('Dimensionnement par chaudière'!$E$23=texte!$B$16,\"\",IF($B80=0,\"\",D80))","v":{"$error":"#REF!"}},true,null,null,null,null,null,null,null,"JEUX DE BRIDES À SOUDER DN50 POUR FILTRE A GAZ",1,88,"S103345","JEUX DE BRIDES À SOUDER DN50 POUR FILTRE A GAZ","","","S103345",null,null,null,null,"EH649",{"$f":"VLOOKUP('calculs par chaud'!$AC80,'Price List'!$C:$V,24,FALSE)","v":{"$error":"#REF!"}},{"$f":"VLOOKUP('calculs par chaud'!$AC80,'Price List'!$C:$V,25,FALSE)","v":{"$error":"#REF!"}},{"$f":"VLOOKUP('calculs par chaud'!$AC80,'Price List'!$C:$V,3,FALSE)","v":0},null,null,88017855,"THERMOSTAT D'AMBIANCE PROGRAMMABLE (FILAIRE)","AD137",163]
[{"$f":"texte!H46","v":"COUDES DN65"},{"$f":"VLOOKUP($J$31,'gamme DD chaud'!$E$14:$BM$143,50)","v":{"$error":"#REF!"}},{"$f":"'gamme DD chaud'!$BB11","v":714},{"$f":"'gamme DD chaud'!$BB12","v":111788},{"$f":"IF('Dimensionnement par chaudière'!$E$23=texte!$B$16,\"\",IF($B81=0,\"\",A81))","v":{"$error":"#REF!"}},{"$f":"IF('Dimensionnement par chaudière'!$E$23=texte!$B$16,\"\",IF($B81=0,\"\",IF(I81=FALSE,\"\",B81)))","v":{"$error":"#REF!"}},{"$f":"IF('Dimensionnement par chaudière'!$E$23=texte!$B$16,\"\",IF($B81=0,\"\",IF(I81=FALSE,\"\",C81)))","v":{"$error":"#REF!"}},{"$f":"IF('Dimensionnement par chaudière'!$E$23=texte!$B$16,\"\",IF($B81=0,\"\",D81))","v":{"$error":"#REF!"}},false,null,null,null,null,null,null,null,"COUDES DN65",1,634.4,111788,"COUDES DN65","","",111788,null,null,null,null,"EH650",{"$f":"VLOOKUP('calculs par chaud'!$AC81,'Price List'!$C:$V,24,FALSE)","v":{"$error":"#REF!"}},{"$f":"VLOOKUP('calculs par chaud'!$AC81,'Price List'!$C:$V,25,FALSE)","v":{"$error":"#REF!"}},{"$f":"VLOOKUP('calculs par chaud'!$AC81,'Price List'!$C:$V,3,FALSE)","v":0},null,null,88017018,"THERMOSTAT D'AMBIANCE PROGRAMMABLE (SANS FILS)","AD200",287.10000000000002]
[{"$f":"texte!H56","v":"JEU DE CONTRE-BRIDES À SOUDER DN65"},{"$f":"VLOOKUP($J$31,'gamme DD chaud'!$E$14:$BM$143,60)","v":{"$error":"#REF!"}},{"$f":"texte!I56","v":165},{"$f":"texte!E56","v":112632},{"$f":"IF('Dimensionnement par chaudière'!$E$23=texte!$B$16,\"\",IF($B82=0,\"\",A82))","v":{"$error":"#REF!"}},{"$f":"IF('Dimensionnement par chaudière'!$E$23=texte!$B$16,\"\",IF($B82=0,\"\",IF(I82=FALSE,\"\",B82)))","v":{"$error":"#REF!"}},{"$f":"IF('Dimensionnement par chaudière'!$E$23=texte!$B$16,\"\",IF($B82=0,\"\",IF(I82=FALSE,\"\",C82)))","v":{"$error":"#REF!"}},{"$f":"IF('Dimensionnement par chaudière'!$E$23=texte!$B$16,\"\",IF($B82=0,\"\",D82))","v":{"$error":"#REF!"}},false,null,null,null,null,null,null,null,"JEU DE CONTRE-BRIDES À SOUDER DN65",1,145.19999999999999,112632,"JEU DE CONTRE-BRIDES À SOUDER DN65","","",112632,null,null,null,null,"HC219",{"$f":"VLOOKUP('calculs par chaud'!$AC82,'Price List'!$C:$V,24,FALSE)","v":{"$error":"#REF!"}},{"$f":"VLOOKUP('calculs par chaud'!$AC82,'Price List'!$C:$V,25,FALSE)","v":{"$error":"#REF!"}},{"$f":"VLOOKUP('calculs par chaud'!$AC82,'Price List'!$C:$V,3,FALSE)","v":0},null,null,7663561,"CABLE S-BUS 12M AVEC BOUCHONS","AD309",97.9]
[{"$f":"texte!H48","v":""},{"$f":"VLOOKUP($J$31,'gamme DD chaud'!$E$14:$BM$143,52)","v":{"$error":"#REF!"}},{"$f":"'gamme DD chaud'!$BD11","v":""},{"$f":"'gamme DD chaud'!$BD12","v":111805},{"$f":"IF('Dimensionnement par chaudière'!$E$23=texte!$B$16,\"\",IF($B83=0,\"\",A83))","v":{"$error":"#REF!"}},{"$f":"IF('Dimensionnement par chaudière'!$E$23=texte!$B$16,\"\",IF($B83=0,\"\",IF(I83=FALSE,\"\",B83)))","v":{"$error":"#REF!"}},{"$f":"IF('Dimensionnement par chaudière'!$E$23=texte!$B$16,\"\",IF($B83=0,\"\",IF(I83=FALSE,\"\",C83)))","v":{"$error":"#REF!"}},{"$f":"IF('Dimensionnement par chaudière'!$E$23=texte!$B$16,\"\",IF($B83=0,\"\",D83))","v":{"$error":"#REF!"}},true,null,null,null,null,null,null,null,"",0,"",111805,"","","","",null,null,null,null,"AD309",{"$f":"VLOOKUP('calculs par chaud'!$AC83,'Price List'!$C:$V,24,FALSE)","v":{"$error":"#REF!"}},{"$f":"VLOOKUP('calculs par chaud'!$AC83,'Price List'!$C:$V,25,FALSE)","v":{"$error":"#REF!"}},{"$f":"VLOOKUP('calculs par chaud'!$AC83,'Price List'!$C:$V,3,FALSE)","v":0},null,null,7663619,"CABLE S-BUS 20M AVEC BOUCHONS","AD310",130.19999999999999]
[{"$f":"texte!H49","v":""},{"$f":"VLOOKUP($J$31,'gamme DD chaud'!$E$14:$BM$143,53)","v":{"$error":"#REF!"}},{"$f":"'gamme DD chaud'!$BE11","v":""},{"$f":"'gamme DD chaud'!$BE12","v":111806},{"$f":"IF('Dimensionnement par chaudière'!$E$23=texte!$B$16,\"\",IF($B84=0,\"\",A84))","v":{"$error":"#REF!"}},{"$f":"IF('Dimensionnement par chaudière'!$E$23=texte!$B$16,\"\",IF($B84=0,\"\",IF(I84=FALSE,\"\",B84)))","v":{"$error":"#REF!"}},{"$f":"IF('Dimensionnement par chaudière'!$E$23=texte!$B$16,\"\",IF($B84=0,\"\",IF(I84=FALSE,\"\",C84)))","v":{"$error":"#REF!"}},{"$f":"IF('Dimensionnement par chaudière'!$E$23=texte!$B$16,\"\",IF($B84=0,\"\",D84))","v":{"$error":"#REF!"}},false,null,null,null,null,null,null,null,"",0,"",111806,"","","","",null,null,null,null,"AD310",{"$f":"VLOOKUP('calculs par chaud'!$AC84,'Price List'!$C:$V,24,FALSE)","v":{"$error":"#REF!"}},{"$f":"VLOOKUP('calculs par chaud'!$AC84,'Price List'!$C:$V,25,FALSE)","v":{"$error":"#REF!"}},{"$f":"VLOOKUP('calculs par chaud'!$AC84,'Price List'!$C:$V,3,FALSE)","v":0}]
[{"$f":"texte!H50","v":"ISOLATION COLLECTEUR"},{"$f":"VLOOKUP($J$31,'gamme DD chaud'!$E$14:$BM$143,54)","v":{"$error":"#REF!"}},{"$f":"'gamme DD chaud'!$BF11","v":92},{"$f":"'gamme DD chaud'!$BF12","v":111069},{"$f":"IF('Dimensionnement par chaudière'!$E$23=texte!$B$16,\"\",IF($B85=0,\"\",A85))","v":{"$error":"#REF!"}},{"$f":"IF('Dimensionnement par chaudière'!$E$23=texte!$B$16,\"\",IF($B85=0,\"\",IF(I85=FALSE,\"\",B85)))","v":{"$error":"#REF!"}},{"$f":"IF('Dimensionnement par chaudière'!$E$23=texte!$B$16,\"\",IF($B85=0,\"\",IF(I85=FALSE,\"\",C85)))","v":{"$error":"#REF!"}},{"$f":"IF('Dimensionnement par chaudière'!$E$23=texte!$B$16,\"\",IF($B85=0,\"\",D85))","v":{"$error":"#REF!"}},false,null,null,null,null,null,null,null,"ISOLATION COLLECTEUR",2,84.5,111069,"ISOLATION COLLECTEUR","","",111069,null,null,null,null,"Catalogue p83 / Régulations",null,null,null,null,null,"CASCADES INNOVENS PRO MCA 160"]
[{"$f":"texte!L46","v":"ISOLATION ARRIERE KIT DE RACCORDEMENT HYDRAULIQUE"},{"$f":"VLOOKUP($J$31,'gamme DD chaud'!$E$14:$BM$143,55)","v":{"$error":"#REF!"}},{"$f":"texte!N46","v":73},122441,{"$f":"IF('Dimensionnement par chaudière'!$E$23=texte!$B$16,\"\",IF($B86=0,\"\",A86))","v":{"$error":"#REF!"}},{"$f":"IF('Dimensionnement par chaudière'!$E$23=texte!$B$16,\"\",IF($B86=0,\"\",IF(I86=FALSE,\"\",B86)))","v":{"$error":"#REF!"}},{"$f":"IF('Dimensionnement par chaudière'!$E$23=texte!$B$16,\"\",IF($B86=0,\"\",IF(I86=FALSE,\"\",C86)))","v":{"$error":"#REF!"}},{"$f":"IF('Dimensionnement par chaudière'!$E$23=texte!$B$16,\"\",IF($B86=0,\"\",D86))","v":{"$error":"#REF!"}},false,null,null,null,null,null,null,null,"ISOLATION RACCORDEMENT CHAUDIÈRE",2,63.5,122441,"ISOLATION RACCORDEMENT CHAUDIÈRE","","",122441,null,null,null,null,"AD249",{"$f":"VLOOKUP('calculs par chaud'!$AC86,'Price List'!$C:$V,24,FALSE)","v":{"$error":"#REF!"}},{"$f":"VLOOKUP('calculs par chaud'!$AC86,'Price List'!$C:$V,25,FALSE)","v":{"$error":"#REF!"}},{"$f":"VLOOKUP('calculs par chaud'!$AC86,'Price List'!$C:$V,3,FALSE)","v":0},null,null,"REFERENCE","DESIGNATION","COLIS","PRIX 03/2017"]
[{"$f":"texte!H52","v":"ISOLATION BOUTEILLE DE DÉCOUPLAGE"},{"$f":"VLOOKUP($J$31,'gamme DD chaud'!$E$14:$BM$143,56)","v":{"$error":"#REF!"}},{"$f":"'gamme DD chaud'!$BH11","v":260},{"$f":"'gamme DD chaud'!$BH12","v":111067},{"$f":"IF('Dimensionnement par chaudière'!$E$23=texte!$B$16,\"\",IF($B87=0,\"\",A87))","v":{"$error":"#REF!"}},{"$f":"IF('Dimensionnement par chaudière'!$E$23=texte!$B$16,\"\",IF($B87=0,\"\",IF(I87=FALSE,\"\",B87)))","v":{"$error":"#REF!"}},{"$f":"IF('Dimensionnement par chaudière'!$E$23=texte!$B$16,\"\",IF($B87=0,\"\",IF(I87=FALSE,\"\",C87)))","v":{"$error":"#REF!"}},{"$f":"IF('Dimensionnement par chaudière'!$E$23=texte!$B$16,\"\",IF($B87=0,\"\",D87))","v":{"$error":"#REF!"}},false,null,null,null,null,null,null,null,"ISOLATION BOUTEILLE DE DÉCOUPLAGE",0,232.7,111067,"","","","",null,null,null,null,"FM46",{"$f":"VLOOKUP('calculs par chaud'!$AC87,'Price List'!$C:$V,24,FALSE)","v":{"$error":"#REF!"}},{"$f":"VLOOKUP('calculs par chaud'!$AC87,'Price List'!$C:$V,25,FALSE)","v":{"$error":"#REF!"}},{"$f":"VLOOKUP('calculs par chaud'!$AC87,'Price List'!$C:$V,3,FALSE)","v":0},null,null,null,null,null,"EUR"]
[{"$f":"texte!H53","v":"ISOLATION BOUTEILLE DE DÉCOUPLAGE < 350 kW"},{"$f":"VLOOKUP($J$31,'gamme DD chaud'!$E$14:$BM$143,57)","v":{"$error":"#REF!"}},{"$f":"'gamme DD chaud'!$BI11","v":40},{"$f":"'gamme DD chaud'!$BI12","v":115269},{"$f":"IF('Dimensionnement par chaudière'!$E$23=texte!$B$16,\"\",IF($B88=0,\"\",A88))","v":{"$error":"#REF!"}},{"$f":"IF('Dimensionnement par chaudière'!$E$23=texte!$B$16,\"\",IF($B88=0,\"\",IF(I88=FALSE,\"\",B88)))","v":{"$error":"#REF!"}},{"$f":"IF('Dimensionnement par chaudière'!$E$23=texte!$B$16,\"\",IF($B88=0,\"\",IF(I88=FALSE,\"\",C88)))","v":{"$error":"#REF!"}},{"$f":"IF('Dimensionnement par chaudière'!$E$23=texte!$B$16,\"\",IF($B88=0,\"\",D88))","v":{"$error":"#REF!"}},false,null,null,null,null,null,null,null,"ISOLATION BOUTEILLE DE DÉCOUPLAGE < 350 kW",1,34.4,115269,"ISOLATION BOUTEILLE DE DÉCOUPLAGE < 350 kW","","",115269,null,null,null,null,"AD199",{"$f":"VLOOKUP('calculs par chaud'!$AC88,'Price List'!$C:$V,24,FALSE)","v":{"$error":"#REF!"}},{"$f":"VLOOKUP('calculs par chaud'!$AC88,'Price List'!$C:$V,25,FALSE)","v":{"$error":"#REF!"}},{"$f":"VLOOKUP('calculs par chaud'!$AC88,'Price List'!$C:$V,3,FALSE)","v":0}]
[{"$f":"texte!H54","v":"ISOLATION COUDES 90°C"},{"$f":"VLOOKUP($J$31,'gamme DD chaud'!$E$14:$BM$143,58)","v":{"$error":"#REF!"}},{"$f":"'gamme DD chaud'!$BJ11","v":111},{"$f":"'gamme DD chaud'!$BJ12","v":111167},{"$f":"IF('Dimensionnement par chaudière'!$E$23=texte!$B$16,\"\",IF($B89=0,\"\",A89))","v":{"$error":"#REF!"}},{"$f":"IF('Dimensionnement par chaudière'!$E$23=texte!$B$16,\"\",IF($B89=0,\"\",IF(I89=FALSE,\"\",B89)))","v":{"$error":"#REF!"}},{"$f":"IF('Dimensionnement par chaudière'!$E$23=texte!$B$16,\"\",IF($B89=0,\"\",IF(I89=FALSE,\"\",C89)))","v":{"$error":"#REF!"}},{"$f":"IF('Dimensionnement par chaudière'!$E$23=texte!$B$16,\"\",IF($B89=0,\"\",D89))","v":{"$error":"#REF!"}},false,null,null,null,null,null,null,null,"ISOLATION COUDES 90°C",1,97.9,111167,"ISOLATION COUDES 90°C","","",111167,null,null,null,null,"AD212",{"$f":"VLOOKUP('calculs par chaud'!$AC89,'Price List'!$C:$V,24,FALSE)","v":{"$error":"#REF!"}},{"$f":"VLOOKUP('calculs par chaud'!$AC89,'Price List'!$C:$V,25,FALSE)","v":{"$error":"#REF!"}},{"$f":"VLOOKUP('calculs par chaud'!$AC89,'Price List'!$C:$V,3,FALSE)","v":0},null,null,null,"REFERENCES DES COMPOSANTS DE BASE DE LA CASCADE :"]
[{"$f":"texte!H55","v":"PIED RÉGLABLE"},{"$f":"VLOOKUP($J$31,'gamme DD chaud'!$E$14:$BM$143,59)","v":{"$error":"#REF!"}},{"$f":"'gamme DD chaud'!$BK11","v":4},{"$f":"'gamme DD chaud'!$BK12","v":111807},{"$f":"IF('Dimensionnement par chaudière'!$E$23=texte!$B$16,\"\",IF($B90=0,\"\",A90))","v":{"$error":"#REF!"}},{"$f":"IF('Dimensionnement par chaudière'!$E$23=texte!$B$16,\"\",IF($B90=0,\"\",IF(I90=FALSE,\"\",B90)))","v":{"$error":"#REF!"}},{"$f":"IF('Dimensionnement par chaudière'!$E$23=texte!$B$16,\"\",IF($B90=0,\"\",IF(I90=FALSE,\"\",C90)))","v":{"$error":"#REF!"}},{"$f":"IF('Dimensionnement par chaudière'!$E$23=texte!$B$16,\"\",IF($B90=0,\"\",D90))","v":{"$error":"#REF!"}},false,null,null,null,null,null,null,null,"PIED RÉGLABLE",5,4.0999999999999996,111807,"PIED RÉGLABLE","","",111807,null,null,null,null,"AD250",{"$f":"VLOOKUP('calculs par chaud'!$AC90,'Price List'!$C:$V,24,FALSE)","v":{"$error":"#REF!"}},{"$f":"VLOOKUP('calculs par chaud'!$AC90,'Price List'!$C:$V,25,FALSE)","v":{"$error":"#REF!"}},{"$f":"VLOOKUP('calculs par chaud'!$AC90,'Price List'!$C:$V,3,FALSE)","v":0}]
[{"$f":"\"\"","v":""},{"$f":"\"\"","v":""},{"$f":"\"\"","v":""},{"$f":"\"\"","v":""},{"$f":"\"\"","v":""},{"$f":"\"\"","v":""},{"$f":"\"\"","v":""},{"$f":"\"\"","v":""},false,null,null,null,null,null,null,null,"","","","","","","","",null,null,null,null,"AD137",{"$f":"VLOOKUP('calculs par chaud'!$AC91,'Price List'!$C:$V,24,FALSE)","v":{"$error":"#N/A"}},{"$f":"VLOOKUP('calculs par chaud'!$AC91,'Price List'!$C:$V,25,FALSE)","v":{"$error":"#N/A"}},{"$f":"VLOOKUP('calculs par chaud'!$AC91,'Price List'!$C:$V,3,FALSE)","v":{"$error":"#N/A"}},null,null,7621566,"CHASSIS DE MONTAGE MCA 160","EH664",193.1,null,null,null,null,null,null,null,100018920,"BOITIER MURAL INTERFACE  OTH / ModBus","AD286",138.5,138.5,3661238544918,213,113,100,null,null,null,null,null,null,null,null,null,"95010",0.12,1,"GC"]
[{"$f":"\"\"","v":""},{"$f":"\"\"","v":""},{"$f":"\"\"","v":""},{"$f":"\"\"","v":""},{"$f":"\"\"","v":""},{"$f":"\"\"","v":""},{"$f":"\"\"","v":""},{"$f":"\"\"","v":""},false,null,null,null,null,null,null,null,"","","","","","","","",null,null,null,null,"AD200",{"$f":"VLOOKUP('calculs par chaud'!$AC92,'Price List'!$C:$V,24,FALSE)","v":{"$error":"#N/A"}},{"$f":"VLOOKUP('calculs par chaud'!$AC92,'Price List'!$C:$V,25,FALSE)","v":{"$error":"#N/A"}},{"$f":"VLOOKUP('calculs par chaud'!$AC92,'Price List'!$C:$V,3,FALSE)","v":{"$error":"#N/A"}},null,null,7612942,"MONTANT-SUPPORT L MCA 160","EH662",157.9]
[null,null,null,null,null,null,null,null,null,null,null,null,null,null,null,null,null,null,null,null,null,null,null,null,null,null,null,null,"AD140",{"$f":"VLOOKUP('calculs par chaud'!$AC93,'Price List'!$C:$V,24,FALSE)","v":{"$error":"#REF!"}},{"$f":"VLOOKUP('calculs par chaud'!$AC93,'Price List'!$C:$V,25,FALSE)","v":{"$error":"#REF!"}},{"$f":"VLOOKUP('calculs par chaud'!$AC93,'Price List'!$C:$V,3,FALSE)","v":0},null,null,7612941,"MONTANT-SUPPORT I MCA 160","EH663",116.7]
[{"$f":"VLOOKUP(D94,'Price List'!$1:$1048576,2,FALSE)","v":{"$error":"#N/A"}},{"$f":"IF(#REF!=\"\",I3,#REF!)","v":{"$error":"#REF!"}},{"$f":"VLOOKUP(D94,'Price List'!$1:$1048576,4,FALSE)","v":{"$error":"#N/A"}},100016195,null,null,null,null,null,null,null,null,null,null,null,null,null,null,null,null,null,null,null,null,null,null,null,null,null,null,null,null,null,null,7637077,"RAIL DE MONTAGE MURAL 2 CHAUDIÈRES MCA 160","EH670",46.5]
[{"$f":"VLOOKUP(D95,'Price List'!$1:$1048576,2,FALSE)","v":{"$error":"#N/A"}},{"$f":"IF(#REF!=\"\",H3,#REF!)","v":{"$error":"#REF!"}},{"$f":"VLOOKUP(D95,'Price List'!$1:$1048576,4,FALSE)","v":{"$error":"#N/A"}},100016199,null,null,null,null,null,null,null,null,null,null,null,null,null,null,null,null,null,null,null,null,null,null,null,null,null,null,null,null,null,null,7637088,"RAIL DE MONTAGE MURAL 3 CHAUDIÈRES MCA 160","EH671",65.2]
[{"$f":"VLOOKUP(D96,'Price List'!$1:$1048576,2,FALSE)","v":{"$error":"#N/A"}},{"$f":"IF(#REF!=\"\",I4,#REF!)","v":{"$error":"#REF!"}},{"$f":"VLOOKUP(D96,'Price List'!$1:$1048576,4,FALSE)","v":{"$error":"#N/A"}},100016196,null,null,null,null,null,null,null,null,null,null,null,null,null,null,null,null,null,null,null,null,null,null,null,null,null,null,null,null,null,null,7665725,"COLLECTEUR DN100-2 CHAUDIERES MCA  160 FR","EH652",1137.5]
[{"$f":"VLOOKUP(D97,'Price List'!$1:$1048576,2,FALSE)","v":{"$error":"#N/A"}},{"$f":"IF(#REF!=\"\",H4,#REF!)","v":{"$error":"#REF!"}},{"$f":"VLOOKUP(D97,'Price List'!$1:$1048576,4,FALSE)","v":{"$error":"#N/A"}},100016200,null,null,null,null,null,null,null,null,null,null,null,null,null,null,null,null,null,null,null,null,null,null,null,null,null,null,null,null,null,null,7665728,"COLLECTEUR DN100-3 CHAUDIERES  MCA 160  FR","EH653",1442]
[{"$f":"VLOOKUP(D98,'Price List'!$1:$1048576,2,FALSE)","v":{"$error":"#N/A"}},{"$f":"IF(#REF!=\"\",I5,#REF!)","v":{"$error":"#REF!"}},{"$f":"VLOOKUP(D98,'Price List'!$1:$1048576,4,FALSE)","v":{"$error":"#N/A"}},100016197,null,null,null,null,null,null,null,null,null,null,null,null,null,null,null,null,null,null,null,null,null,null,null,null,null,null,null,null,null,null,7622699,"RAC COLLEC L MCA 45/115 EH655","EH655",799.9]
[{"$f":"VLOOKUP(D99,'Price List'!$1:$1048576,2,FALSE)","v":{"$error":"#N/A"}},{"$f":"IF(#REF!=\"\",H5,#REF!)","v":{"$error":"#REF!"}},{"$f":"VLOOKUP(D99,'Price List'!$1:$1048576,4,FALSE)","v":{"$error":"#N/A"}},100016201,null,null,null,null,null,null,null,null,null,null,null,null,null,null,null,null,null,null,null,null,null,null,null,null,null,null,null,null,null,null,7622701,"RAC COLLEC L MCA 160 EH656","EH656",712.3]
[{"$f":"VLOOKUP(D100,'Price List'!$1:$1048576,2,FALSE)","v":{"$error":"#N/A"}},{"$f":"IF(#REF!=\"\",I6,#REF!)","v":{"$error":"#REF!"}},{"$f":"VLOOKUP(D100,'Price List'!$1:$1048576,4,FALSE)","v":{"$error":"#N/A"}},100016198,null,null,null,null,null,null,null,null,null,null,null,null,null,null,null,null,null,null,null,null,null,null,null,null,null,null,null,null,null,null,111703,"BRIDES PLEINES EAU DN100","HC199",189.1]
[{"$f":"VLOOKUP(D101,'Price List'!$1:$1048576,2,FALSE)","v":{"$error":"#N/A"}},{"$f":"IF(#REF!=\"\",H6,#REF!)","v":{"$error":"#REF!"}},{"$f":"VLOOKUP(D101,'Price List'!$1:$1048576,4,FALSE)","v":{"$error":"#N/A"}},100016202,null,null,null,null,null,null,null,null,null,null,null,null,null,null,null,null,null,null,null,null,null,null,null,null,null,null,null,null,null,null,111701,"BRIDES PLEINES EAU DN65","HC198",148.19999999999999]
[null,null,null,null,null,null,null,null,null,null,null,null,null,null,null,null,null,null,null,null,null,null,null,null,null,null,null,null,null,null,null,null,null,null,111708,"JEU DE BOUCHONS","HC195",40.5]
[null,null,null,null,null,null,null,null,null,null,null,null,null,null,null,null,null,null,null,null,null,null,null,null,null,null,null,null,null,null,null,null,null,null,7633244,"ADAPTATEUR DN100/DN65","EH654",304.89999999999998]
[null,null,null,null,null,null,null,null,null,null,null,null,null,null,null,null,null,null,null,null,null,null,null,null,null,null,null,null,null,null,null,null,null,null,114311,"BOUTEILLE DE DÉCOUPLAGE DN65 < 350 kW","HC222",617.5]
[null,null,null,null,null,null,null,null,null,null,null,null,null,null,null,null,null,null,null,null,null,null,null,null,null,null,null,null,null,null,null,null,null,null,111712,"BOUTEILLE DE DÉCOUPLAGE DN65 > 350 et < 460 kW","HC200",1028.2]
[null,null,null,null,null,null,null,null,null,null,null,null,null,null,null,null,null,null,null,null,null,null,null,null,null,null,null,null,null,null,null,null,null,null,111714,"BOUTEILLE DE DÉCOUPLAGE DN100 > 460 kW","HC201",1239.7]
[null,null,null,null,null,null,null,null,null,null,null,null,null,null,null,null,null,null,null,null,null,null,null,null,null,null,null,null,null,null,null,null,null,null,100013027,"SONDE DE DÉPART + DOIGT DE GANT-BOUTEILLE < 350 kW","HC223",132.30000000000001]
[null,null,null,null,null,null,null,null,null,null,null,null,null,null,null,null,null,null,null,null,null,null,null,null,null,null,null,null,null,null,null,null,null,null,100008701,"SONDE DE DÉPART + DOIGT DE GANT-BOUTEILLE > 350 kW","HC206",155.1]
[null,null,null,null,null,null,null,null,null,null,null,null,null,null,null,null,null,null,null,null,null,null,null,null,null,null,null,null,null,null,null,null,null,null,7663618,"CABLE S-BUS 1,5M AVEC BOUCHONS","AD308",32.299999999999997]
[]
[null,null,null,null,null,"LW",{"$f":"IF($C$1=2,D117,IF($C$1=3,D118,D119))","v":2},null,null,null,null,null,null,null,null,null,null,null,null,null,null,null,null,null,null,null,null,null,null,null,null,null,null,null,null,"OPTIONS CASCADE"]
[null,null,null,null,null,"LV",{"$f":"IF($C$1=2,D120,IF($C$1=3,D121,D122))","v":5}]
[null,null,null,null,null,"RG",{"$f":"IF($C$1=2,\"\",IF($C$1=3,D123,D124))","v":7},null,null,null,null,null,null,null,null,null,null,null,null,null,null,null,null,null,null,null,null,null,null,null,null,null,null,null,7638518,"JEU DE CONTRE BRIDE A SOUDER DN65","EH669",139.6]
[null,null,null,null,null,null,null,null,null,null,null,null,null,null,null,null,null,null,null,null,null,null,null,null,null,null,null,null,null,null,null,null,null,null,112633,"JEU DE CONTRE-BRIDES À SOUDER DN100","HC218",170.8]
[null,null,null,null,null,null,null,null,null,null,null,null,null,null,null,null,null,null,null,null,null,null,null,null,null,null,null,null,null,null,null,null,null,null,111788,"COUDES DN65","HC209",647.70000000000005]
[null,null,null,"images",{"$f":"IF(B26=\"LW\",G111,IF(B26=\"LV\",G112,IF(B26=\"RG\",G113,\"\")))","v":2},null,null,null,null,null,null,null,null,null,null,null,null,null,null,null,null,null,null,null,null,null,null,null,null,null,null,null,null,null,111790,"COUDES DN100","HC210",893.1]
[null,null,null,1,null,null,null,null,null,null,null,null,null,null,null,null,null,null,null,null,null,null,null,null,null,null,null,null,null,null,null,null,null,null,7613401,"ISOLATION COLLECTEUR MCA 160","EH647",89.2]
[null,null,null,2,null,null,null,null,null,null,null,null,null,null,null,null,null,null,null,null,null,null,null,null,null,null,null,null,null,null,null,null,null,null,7611804,"ISOLATION RACCORD MCA 160 ","EH648",86.6]
[null,null,null,3,null,null,null,null,null,null,null,null,null,null,null,null,null,null,null,null,null,null,null,null,null,null,null,null,null,null,null,null,null,null,7631858,"PLAQ ISOLATION AR","EH649",79.8]
[null,null,null,4,null,null,null,null,null,null,null,null,null,null,null,null,null,null,null,null,null,null,null,null,null,null,null,null,null,null,null,null,null,null,7622201,"ISOLATION ADAPTATEUR 100/65","EH650",46.7]
[null,null,null,5,null,null,null,null,null,null,null,null,null,null,null,null,null,null,null,null,null,null,null,null,null,null,null,null,null,null,null,null,null,null,111167,"ISOLATION COUDES 90°(DN65 ET 100)","HC216",100]
[null,null,null,6,null,null,null,null,null,null,null,null,null,null,null,null,null,null,null,null,null,null,null,null,null,null,null,null,null,null,null,null,null,null,115269,"ISOLATION BOUTEILLE DE DÉCOUPLAGE < 350 kW","HC224",35.1]
[null,null,null,7,null,null,null,null,null,null,null,null,null,null,null,null,null,null,null,null,null,null,null,null,null,null,null,null,null,null,null,null,null,null,111067,"ISOLATION BOUTEILLE DE DÉCOUPLAGE","HC215",237.6]
[null,null,null,8]
[null,null,null,null,null,null,null,null,null,null,null,null,null,null,null,null,null,null,null,null,null,null,null,null,null,null,null,null,null,null,null,null,null,null,"S101655","FILTRE GAZ DN50","HC255",518.29999999999995]
[null,null,null,null,null,null,null,null,null,null,null,null,null,null,null,null,null,null,null,null,null,null,null,null,null,null,null,null,null,null,null,null,null,null,"S101656","FILTRE GAZ DN65","HC256",714.5]
[null,null,null,null,null,null,null,null,null,null,null,null,null,null,null,null,null,null,null,null,null,null,null,null,null,null,null,null,null,null,null,null,null,null,100011223,"REGULATEUR DE PRESSION  GDJ 25 300MBAR  raccordt Ø 1'","AD245",184.7]
[null,null,null,null,null,null,null,null,null,null,null,null,null,null,null,null,null,null,null,null,null,null,null,null,null,null,null,null,null,null,null,null,null,null,88027177,"REGULATEUR DE PRESSION  GDJ 50 300MBAR","AD246",441.1]
[null,null,null,null,null,null,null,null,null,null,null,null,null,null,null,null,null,null,null,null,null,null,null,null,null,null,null,null,null,null,null,null,null,null,83877011,"SYSTEME DE NEUTRALISATION DES CONDENSATS  (CHAUDIERES ≥ 350KW)","DU15",1361.4]
[null,null,null,null,null,null,null,null,null,null,null,null,null,null,null,null,null,null,null,null,null,null,null,null,null,null,null,null,null,null,null,null,null,null,94225601,"RECHARGE DE GRANULATS DE NEUTRALISATION 10 KG**",null,60.7]
[]
[null,null,null,null,null,null,null,null,null,null,null,null,null,null,null,null,null,null,null,null,null,null,null,null,null,null,null,null,null,null,null,null,null,null,"OPTIONS FUMISTERIE INNOVENS PRO MCA 160"]
[null,null,null,null,null,null,null,null,null,null,null,null,null,null,null,null,null,null,null,null,null,null,null,null,null,null,null,null,null,null,null,null,null,null,"REFERENCE","DESIGNATION","COLIS","PRIX 03/2017"]
[null,null,null,null,null,null,null,null,null,null,null,null,null,null,null,null,null,null,null,null,null,null,null,null,null,null,null,null,null,null,null,null,null,null,null,null,null,"EUR"]
[null,null,null,null,null,null,null,null,null,null,null,null,null,null,null,null,null,null,null,null,null,null,null,null,null,null,null,null,null,null,null,null,null,null,7624821,"FILTRE A AIR","EH646",440.4]
[null,null,null,null,null,null,null,null,null,null,null,null,null,null,null,null,null,null,null,null,null,null,null,null,null,null,null,null,null,null,null,null,null,null,7619539,"KIT RAC CHAUD  110/150 EH692","EH692",109.19999999999999]
[null,null,null,null,null,null,null,null,null,null,null,null,null,null,null,null,null,null,null,null,null,null,null,null,null,null,null,null,null,null,null,null,null,null,7627596,"EXPANSION  150/200MM PPS EH645","EH645",93.6]
[]
[null,null,null,null,null,null,null,null,null,null,null,null,null,null,null,null,null,null,null,null,null,null,null,null,null,null,null,null,null,null,null,null,null,null,null,"PPS 110/150 MM"]
[]
[null,null,null,null,null,null,null,null,null,null,null,null,null,null,null,null,null,null,null,null,null,null,null,null,null,null,null,null,null,null,null,null,null,null,100011364,"PPS/ALU KIT VENTOUSE HORIZONTALE Ø 110/150MM","DY881",454.2]
[null,null,null,null,null,null,null,null,null,null,null,null,null,null,null,null,null,null,null,null,null,null,null,null,null,null,null,null,null,null,null,null,null,null,100002734,"TERMINAL VERTICAL PPS/GALV Ø 110/150 MM NOIR","DY845",269.7]
[null,null,null,null,null,null,null,null,null,null,null,null,null,null,null,null,null,null,null,null,null,null,null,null,null,null,null,null,null,null,null,null,null,null,100002360,"KIT N° 3 RACCORDEMENT CHAUDIÈRE  PPS Ø 100/150 MM","DY818",299.8]
[null,null,null,null,null,null,null,null,null,null,null,null,null,null,null,null,null,null,null,null,null,null,null,null,null,null,null,null,null,null,null,null,null,null,100002351,"RALLONGE PPS-ALU  Ø 110/150 MM LG=  500 MM","DY811",69.400000000000006]
[null,null,null,null,null,null,null,null,null,null,null,null,null,null,null,null,null,null,null,null,null,null,null,null,null,null,null,null,null,null,null,null,null,null,100002352,"RALLONGE PPS-ALU Ø 110/150 MM LG=1000 MM","DY812",103.4]
[null,null,null,null,null,null,null,null,null,null,null,null,null,null,null,null,null,null,null,null,null,null,null,null,null,null,null,null,null,null,null,null,null,null,100002353,"COUDE PPS-ALU  87°Ø 110/150 MM  ","DY813",125.8]
[null,null,null,null,null,null,null,null,null,null,null,null,null,null,null,null,null,null,null,null,null,null,null,null,null,null,null,null,null,null,null,null,null,null,100002354,"COUDE PPS-ALU  45°Ø 110/150 MM (2 PIÈCES)","DY814",218.7]
[null,null,null,null,null,null,null,null,null,null,null,null,null,null,null,null,null,null,null,null,null,null,null,null,null,null,null,null,null,null,null,null,null,null,100002355,"PIÈCE DE RÉVISION DROITE PPS-ALU  Ø 110/150 MM","DY815",133]
[null,null,null,null,null,null,null,null,null,null,null,null,null,null,null,null,null,null,null,null,null,null,null,null,null,null,null,null,null,null,null,null,null,null,100002356,"TÉ DE RÉVISION PPS-ALU  Ø 110/150 MM","DY816",190.4]
[null,null,null,null,null,null,null,null,null,null,null,null,null,null,null,null,null,null,null,null,null,null,null,null,null,null,null,null,null,null,null,null,null,null,100002357," ADAPTATEUR PPS-ALU  100/150 - 110/150 MM","DY817",112.4]
[null,null,null,null,null,null,null,null,null,null,null,null,null,null,null,null,null,null,null,null,null,null,null,null,null,null,null,null,null,null,null,null,null,null,84827104,"TUILE A DOUILLE NOIRE AVEC ROTULE NOIRE POUR PENTE DE 25 ° A 45 °","CX104",109]
[null,null,null,null,null,null,null,null,null,null,null,null,null,null,null,null,null,null,null,null,null,null,null,null,null,null,null,null,null,null,null,null,null,null,84827106,"TUILE A DOUILLE NOIRE AVEC ROTULE ROUGE POUR PENTE DE 25 ° A 45 °","CX106",109]
[null,null,null,null,null,null,null,null,null,null,null,null,null,null,null,null,null,null,null,null,null,null,null,null,null,null,null,null,null,null,null,null,null,null,84827111,"COLLIER DE FIXATION Ø 150 MM","CX111",15.1]
[null,null,null,null,null,null,null,null,null,null,null,null,null,null,null,null,null,null,null,null,null,null,null,null,null,null,null,null,null,null,null,null,null,null,84827115,"PLATINES DE FINITION ( 2 PIECES )","CX115",24.3]
[null,null,null,null,null,null,null,null,null,null,null,null,null,null,null,null,null,null,null,null,null,null,null,null,null,null,null,null,null,null,null,null,null,null,100005004,"GRILLE DE PROTECTION INOX Ø 100/150 MM","DY866",180.7]
[null,null,null,null,null,null,null,null,null,null,null,null,null,null,null,null,null,null,null,null,null,null,null,null,null,null,null,null,null,null,null,null,null,null,84827103,"EMBASE D'ETANCHEITE POUR TOIT PLAT","CX103",57.3]
[]
[null,null,null,null,null,null,null,null,null,null,null,null,null,null,null,null,null,null,null,null,null,null,null,null,null,null,null,null,null,null,null,null,null,null,null,"PPS Ø 110 MM"]
[]
[null,null,null,null,null,null,null,null,null,null,null,null,null,null,null,null,null,null,null,null,null,null,null,null,null,null,null,null,null,null,null,null,null,null,100008312,"KIT DE RACCORDEMENT CHEMINÉE Ø 80 - 110 MM PPS","DY876",209]
[null,null,null,null,null,null,null,null,null,null,null,null,null,null,null,null,null,null,null,null,null,null,null,null,null,null,null,null,null,null,null,null,null,null,100002357," ADAPTATEUR PPS-ALU  100/150 - 110/150 MM","DY817",112.4]
[null,null,null,null,null,null,null,null,null,null,null,null,null,null,null,null,null,null,null,null,null,null,null,null,null,null,null,null,null,null,null,null,null,null,100017529,"KIT DE BASE PPS/ALU D110/150","DY914",282.89999999999998]
[null,null,null,null,null,null,null,null,null,null,null,null,null,null,null,null,null,null,null,null,null,null,null,null,null,null,null,null,null,null,null,null,null,null,84887577,"KIT DE RACCORDEMENT CHEMINÉE PPS Ø 110 MM","DY177",258.39999999999998]
[null,null,null,null,null,null,null,null,null,null,null,null,null,null,null,null,null,null,null,null,null,null,null,null,null,null,null,null,null,null,null,null,null,null,84887589,"TERMINAL AVEC SOLIN DIAMÉTRE 100/110","DY189",229.7]
[null,null,null,null,null,null,null,null,null,null,null,null,null,null,null,null,null,null,null,null,null,null,null,null,null,null,null,null,null,null,null,null,null,null,84887578,"TUYAU PPS Ø 110 MM LG = 1950 MM (GRIS)","DY178",71.900000000000006]
[null,null,null,null,null,null,null,null,null,null,null,null,null,null,null,null,null,null,null,null,null,null,null,null,null,null,null,null,null,null,null,null,null,null,84887579,"TUYAU PPS Ø 110 MM LG = 1000 MM (GRIS)","DY179",40.200000000000003]
[null,null,null,null,null,null,null,null,null,null,null,null,null,null,null,null,null,null,null,null,null,null,null,null,null,null,null,null,null,null,null,null,null,null,84887580,"TUYAU PPS Ø 110 MM LG = 500 MM (GRIS)","DY180",27.3]
[null,null,null,null,null,null,null,null,null,null,null,null,null,null,null,null,null,null,null,null,null,null,null,null,null,null,null,null,null,null,null,null,null,null,84887581,"COUDE PPS 87° Ø 110 MM (GRIS)","DY181",33.200000000000003]
[null,null,null,null,null,null,null,null,null,null,null,null,null,null,null,null,null,null,null,null,null,null,null,null,null,null,null,null,null,null,null,null,null,null,84887582,"COUDE PPS 45° Ø 110 MM (GRIS)","DY182",50.2]
[null,null,null,null,null,null,null,null,null,null,null,null,null,null,null,null,null,null,null,null,null,null,null,null,null,null,null,null,null,null,null,null,null,null,84887583,"TUBE DE VISITE DROIT Ø 110 MM (GRIS)","DY183",50.2]
[null,null,null,null,null,null,null,null,null,null,null,null,null,null,null,null,null,null,null,null,null,null,null,null,null,null,null,null,null,null,null,null,null,null,84887587,"ETOILE DE CENTRAGE PPS  Ø 110 MM (2 PIÈCES)","DY187",15.1]
[null,null,null,null,null,null,null,null,null,null,null,null,null,null,null,null,null,null,null,null,null,null,null,null,null,null,null,null,null,null,null,null,null,null,100010270,"PLAQUE DE FINITION CHEMINEE Ø 110 MM","DY879",43.2]
[null,null,null,null,null,null,null,null,null,null,null,null,null,null,null,null,null,null,null,null,null,null,null,null,null,null,null,null,null,null,null,null,null,null,84887588,"COUDE DE REVISION PPS 87° Ø 110 MM (GRIS)","DY188",71.900000000000006]
[]
[null,null,null,null,null,null,null,null,null,null,null,null,null,null,null,null,null,null,null,null,null,null,null,null,null,null,null,null,null,null,null,null,null,null,null,"EN ALU Ø 150 MM"]
[]
[null,null,null,null,null,null,null,null,null,null,null,null,null,null,null,null,null,null,null,null,null,null,null,null,null,null,null,null,null,null,null,null,null,null,100002473,"VENTOUSE VERTICALE ALU / GALVA Ø 150/220 MM","DY835",841.1]
[null,null,null,null,null,null,null,null,null,null,null,null,null,null,null,null,null,null,null,null,null,null,null,null,null,null,null,null,null,null,null,null,null,null,100002404,"PIÈCE DE RACCORDEMENT AIR POUR VENTOUSE Ø 150 MM","DY830",105.2]
[null,null,null,null,null,null,null,null,null,null,null,null,null,null,null,null,null,null,null,null,null,null,null,null,null,null,null,null,null,null,null,null,null,null,100002470,"TÉ D'INSPECTION Ø 150 MM ALU","DY832",225.7]
[null,null,null,null,null,null,null,null,null,null,null,null,null,null,null,null,null,null,null,null,null,null,null,null,null,null,null,null,null,null,null,null,null,null,84887645,"RALLONGE  Ø 150 MM   LG = 500 MM","DY645",46.4]
[null,null,null,null,null,null,null,null,null,null,null,null,null,null,null,null,null,null,null,null,null,null,null,null,null,null,null,null,null,null,null,null,null,null,84887646,"RALLONGE  Ø 150 MM   LG = 1000 MM ","DY646",80.7]
[null,null,null,null,null,null,null,null,null,null,null,null,null,null,null,null,null,null,null,null,null,null,null,null,null,null,null,null,null,null,null,null,null,null,84887647,"RALLONGE  Ø 150 MM   LG = 1950 MM","DY647",139.30000000000001]
[null,null,null,null,null,null,null,null,null,null,null,null,null,null,null,null,null,null,null,null,null,null,null,null,null,null,null,null,null,null,null,null,null,null,84887435,"GRILLE D'AERATION EXTERIEURE 175 CM²","DY35",20.9]
[null,null,null,null,null,null,null,null,null,null,null,null,null,null,null,null,null,null,null,null,null,null,null,null,null,null,null,null,null,null,null,null,null,null,84887436,"GRILLE D'AERATION INTERIEURE 175 CM²","DY36",24.3]
[null,null,null,null,null,null,null,null,null,null,null,null,null,null,null,null,null,null,null,null,null,null,null,null,null,null,null,null,null,null,null,null,null,null,84887648,"ETOILE DE CENTRAGE Ø 150 MM (2 PIÈCES)","DY648",54.8]
[null,null,null,null,null,null,null,null,null,null,null,null,null,null,null,null,null,null,null,null,null,null,null,null,null,null,null,null,null,null,null,null,null,null,84887649,"COUDE A 87° Ø 150 MM","DY649",86.8]
[null,null,null,null,null,null,null,null,null,null,null,null,null,null,null,null,null,null,null,null,null,null,null,null,null,null,null,null,null,null,null,null,null,null,84887650,"COUDE A 45° Ø 150 MM  (2 PIÈCES)","DY650",161.19999999999999]
[null,null,null,null,null,null,null,null,null,null,null,null,null,null,null,null,null,null,null,null,null,null,null,null,null,null,null,null,null,null,null,null,null,null,100002402,"SOLIN POUR TOIT PLAT Ø 160/220 MM","DY828",74.599999999999994]
[null,null,null,null,null,null,null,null,null,null,null,null,null,null,null,null,null,null,null,null,null,null,null,null,null,null,null,null,null,null,null,null,null,null,100002403,"SOLIN POUR TOIT INCLINÉ Ø 160/220 MM","DY829",160.9]
[null,null,null,null,null,null,null,null,null,null,null,null,null,null,null,null,null,null,null,null,null,null,null,null,null,null,null,null,null,null,null,null,null,null,100002692,"COLLIER DE FIXATION Ø 150 MM","DY841",12.3]
[null,null,null,null,null,null,null,null,null,null,null,null,null,null,null,null,null,null,null,null,null,null,null,null,null,null,null,null,null,null,null,null,null,null,100002700,"PLATINES DE FINITION INTERIEURES Ø 220 MM","DY840",35.1]
[]
[null,null,null,null,null,null,null,null,null,null,null,null,null,null,null,null,null,null,null,null,null,null,null,null,null,null,null,null,null,null,null,null,null,null,null,"EN PPS Ø 160 MM"]
[]
[null,null,null,null,null,null,null,null,null,null,null,null,null,null,null,null,null,null,null,null,null,null,null,null,null,null,null,null,null,null,null,null,null,null,100002400,"VENTOUSE VERTICALE PPS GALVA Ø 160/220 MM","DY826",841.1]
[null,null,null,null,null,null,null,null,null,null,null,null,null,null,null,null,null,null,null,null,null,null,null,null,null,null,null,null,null,null,null,null,null,null,100002404,"PIÈCE DE RACCORDEMENT AIR POUR VENTOUSE Ø 150 MM","DY830",105.2]
[null,null,null,null,null,null,null,null,null,null,null,null,null,null,null,null,null,null,null,null,null,null,null,null,null,null,null,null,null,null,null,null,null,null,100002399,"ADAPTATEUR PPS  Ø 150-160 MM","DY825",102.4]
[null,null,null,null,null,null,null,null,null,null,null,null,null,null,null,null,null,null,null,null,null,null,null,null,null,null,null,null,null,null,null,null,null,null,100002395,"RALLONGE PPS  Ø 160 MM LG = 1000 MM","DY821",121.8]
[null,null,null,null,null,null,null,null,null,null,null,null,null,null,null,null,null,null,null,null,null,null,null,null,null,null,null,null,null,null,null,null,null,null,100002396,"RALLONGE PPS  Ø 160 MM LG =  500 MM","DY822",85.2]
[null,null,null,null,null,null,null,null,null,null,null,null,null,null,null,null,null,null,null,null,null,null,null,null,null,null,null,null,null,null,null,null,null,null,100002397,"COUDE PPS  87° Ø 160 MM","DY823",99.4]
[null,null,null,null,null,null,null,null,null,null,null,null,null,null,null,null,null,null,null,null,null,null,null,null,null,null,null,null,null,null,null,null,null,null,100002398,"COUDE PPS  45° Ø 160 MM","DY824",181.5]
[null,null,null,null,null,null,null,null,null,null,null,null,null,null,null,null,null,null,null,null,null,null,null,null,null,null,null,null,null,null,null,null,null,null,100002471,"TUBE D'INSPECTION Ø 160 MM LG = 300 MM","DY833",157.6]
[null,null,null,null,null,null,null,null,null,null,null,null,null,null,null,null,null,null,null,null,null,null,null,null,null,null,null,null,null,null,null,null,null,null,100002472,"COUDE  DE RÉVISION Ø 160 MM","DY834",185.9]
[null,null,null,null,null,null,null,null,null,null,null,null,null,null,null,null,null,null,null,null,null,null,null,null,null,null,null,null,null,null,null,null,null,null,100002402,"SOLIN POUR TOIT PLAT Ø 160/220 MM","DY828",74.599999999999994]
[null,null,null,null,null,null,null,null,null,null,null,null,null,null,null,null,null,null,null,null,null,null,null,null,null,null,null,null,null,null,null,null,null,null,100002403,"SOLIN POUR TOIT INCLINÉ Ø 160/220 MM","DY829",160.9]
[null,null,null,null,null,null,null,null,null,null,null,null,null,null,null,null,null,null,null,null,null,null,null,null,null,null,null,null,null,null,null,null,null,null,100002693,"COLLIER DE FIXATION Ø 160 MM","DY842",13.6]
[null,null,null,null,null,null,null,null,null,null,null,null,null,null,null,null,null,null,null,null,null,null,null,null,null,null,null,null,null,null,null,null,null,null,100002700,"PLATINES DE FINITION INTERIEURES Ø 220 MM","DY840",35.1]
[]
[null,null,null,null,null,null,null,null,null,null,null,null,null,null,null,null,null,null,null,null,null,null,null,null,null,null,null,null,null,null,null,null,null,null,null,"CONFIGURATION VENTOUSE HORIZONTALE"]
[null,null,null,null,null,null,null,null,null,null,null,null,null,null,null,null,null,null,null,null,null,null,null,null,null,null,null,null,null,null,null,null,null,null,null,"EN PPS Ø 160 MM"]
[]
[null,null,null,null,null,null,null,null,null,null,null,null,null,null,null,null,null,null,null,null,null,null,null,null,null,null,null,null,null,null,null,null,null,null,100002401,"VENTOUSE HORIZONTALE PPS GALVA Ø 160/220 MM","DY827",693.2]
[null,null,null,null,null,null,null,null,null,null,null,null,null,null,null,null,null,null,null,null,null,null,null,null,null,null,null,null,null,null,null,null,null,null,100004040,"RALLONGE VENTOUSE PPS HORIZONTALE Ø160/200 L.1M ","DY857",258.39999999999998]
[null,null,null,null,null,null,null,null,null,null,null,null,null,null,null,null,null,null,null,null,null,null,null,null,null,null,null,null,null,null,null,null,null,null,100004243,"RALLONGE GALVA/ALU VENTOUSE HORIZONTALE F 150/220 LONG. 1M","DY864",301.5]
[null,null,null,null,null,null,null,null,null,null,null,null,null,null,null,null,null,null,null,null,null,null,null,null,null,null,null,null,null,null,null,null,null,null,100002404,"PIÈCE DE RACCORDEMENT AIR POUR VENTOUSE Ø 150 MM","DY830",105.2]
[null,null,null,null,null,null,null,null,null,null,null,null,null,null,null,null,null,null,null,null,null,null,null,null,null,null,null,null,null,null,null,null,null,null,100002399," ADAPTATEUR PPS  Ø 150-160 MM","DY825",102.4]
[null,null,null,null,null,null,null,null,null,null,null,null,null,null,null,null,null,null,null,null,null,null,null,null,null,null,null,null,null,null,null,null,null,null,100002395," RALLONGE PPS  Ø 160 MM LG = 1000 MM","DY821",121.8]
[null,null,null,null,null,null,null,null,null,null,null,null,null,null,null,null,null,null,null,null,null,null,null,null,null,null,null,null,null,null,null,null,null,null,100002396," RALLONGE PPS  Ø 160 MM LG = 500 MM","DY822",85.2]
[null,null,null,null,null,null,null,null,null,null,null,null,null,null,null,null,null,null,null,null,null,null,null,null,null,null,null,null,null,null,null,null,null,null,100002397," COUDE PPS  87° Ø 160 MM","DY823",99.4]
[null,null,null,null,null,null,null,null,null,null,null,null,null,null,null,null,null,null,null,null,null,null,null,null,null,null,null,null,null,null,null,null,null,null,100002398," COUDE PPS  45° Ø 160 MM","DY824",181.5]
[null,null,null,null,null,null,null,null,null,null,null,null,null,null,null,null,null,null,null,null,null,null,null,null,null,null,null,null,null,null,null,null,null,null,100002471,"TUBE D'INSPECTION Ø 160 MM LG = 300 MM","DY833",157.6]
[null,null,null,null,null,null,null,null,null,null,null,null,null,null,null,null,null,null,null,null,null,null,null,null,null,null,null,null,null,null,null,null,null,null,100002472,"COUDE  DE RÉVISION Ø 160 MM","DY834",185.9]
[null,null,null,null,null,null,null,null,null,null,null,null,null,null,null,null,null,null,null,null,null,null,null,null,null,null,null,null,null,null,null,null,null,null,100002693,"COLLIER DE FIXATION Ø 160 MM","DY842",13.6]

{"sheet":"gamme DD chaud","index":4,"n_rows":264,"n_cols":65,"rows_kept":264,"cut":false,"hidden":true,"merged":[[151,13,151,14],[7,29,7,30],[7,31,7,32],[149,4,150,12],[149,13,149,14],[150,13,150,14]]}
[]
[null,null,null,null,1,2,3,4,5,6,7,8,9,10,11,12,13,14,15,16,17,18,19,20,21,22,23,24,25,26,27,28,29,30,31,32,33,34,35,36,37,38,39,40,41,42,43,44,45,46,47,48,49,50,51,52,53,54,55,56,57,58,59,60,61]
[]
[]
[null,null,null,null,null,null,null,null,null," non utilisé"]
[]
[null,null,null,null,null,null,null,null,null,null,null,null,null,null,null,null,null,null,null,null,null,null,null,null,null,null,null,null,null,null,null,"NON","NON"]
[null,null,null,null,null,null,null,null,null,null,null,null,null,null,null,null,null,null,null,null,null,null,null,null,null,null,null,null,null,"France",null,"Autres Pays",null,null,null,null,null,null,null,null,null,null,null,null,null,null,null,null,null,null,null,"Obligatoire BE"]
[null,null,null,null,null,null,null,"MC 45","MC 65","MC 90","MC 115","MCA 160"]
[null,null,null,null,null,null,"Puissance [kW] (80/60)",40,61,84.2,107,152.1,null,null,"Sonde départ doigt de gant (> 350 kW)","Sonde départ doigt de gant (< 350 kW)","Câble Bus RX11","Pompe MC 45","Pompe MC 65","Pompe            MC 90/MC 115","Collect. 2         DN65","Collect. 3         DN65","Collect. 4         DN65","Bouteille découpl. DN65","Bouteille découpl. DN65 (<350 kW)","Collect. 2         DN100","Collect. 3         DN100","Collect. 4         DN100","Bouteille découpl. DN100","Raccordt. Avant","Raccordt. Arrière","Raccordt. Avant","Raccordt. Arrière","Kit Bouchons","1 Bride pleine gaz DN50","2 Brides pleines eau DN65","1 Bride pleine gaz DN65","2 Brides pleines eau DN100","Support L","Support I","Cadre de montage","Rail mural LW2","Rail mural LW3","Rail mural LW4",null,null,{"$f":"texte!H39","v":"ADAPTATEUR Ø 80 - 100 MM"},null,null,null,"Filtre Gaz DN50","Vanne de sécurité gaz DN 65","Filtre Gaz DN65","Coude DN65","Coude DN100","Tube rallonge filtre gaz DN50","Tube rallonge filtre gaz DN65","Isolation collecteur","Isolation raccordt. chaudière","Isolation Bouteille Découplage (>350 kW)","Isolation Bouteille Découplage (<350 kW)","Isolation Coude 90°","Pied reglable"," Jeux de Contre-brides à souder DN65","Contre-brides à souder DN100"]
[null,null,null,null,"Prix",null,"Prix",null,null,null,null,null,null,null,{"$f":"texte!I7","v":167},{"$f":"texte!I8","v":141},{"$f":"texte!I9","v":90},{"$f":"texte!I10","v":326},{"$f":"texte!I11","v":326},{"$f":"texte!I12","v":421},{"$f":"texte!I13","v":712},{"$f":"texte!I14","v":964},{"$f":"texte!I15","v":""},{"$f":"texte!I16","v":1101},{"$f":"texte!I17","v":664},{"$f":"texte!I18","v":""},{"$f":"texte!I19","v":""},{"$f":"texte!I20","v":""},{"$f":"texte!I21","v":""},{"$f":"texte!I22","v":650},{"$f":"texte!I23","v":""},{"$f":"texte!I24","v":""},{"$f":"texte!I25","v":""},{"$f":"texte!I26","v":43},{"$f":"texte!I27","v":""},{"$f":"texte!I28","v":160},{"$f":"texte!I29","v":""},{"$f":"texte!I30","v":""},{"$f":"texte!I31","v":{"$error":"#N/A"}},{"$f":"texte!I32","v":95},{"$f":"texte!I33","v":100},{"$f":"texte!I34","v":45},{"$f":"texte!I35","v":54},{"$f":"texte!I36","v":71},null,null,{"$f":"texte!I39","v":58},null,null,null,{"$f":"texte!I43","v":558},{"$f":"texte!I44","v":""},{"$f":"texte!I45","v":90},{"$f":"texte!I46","v":714},{"$f":"texte!I47","v":""},{"$f":"texte!I48","v":""},{"$f":"texte!I49","v":""},{"$f":"texte!I50","v":92},{"$f":"texte!I51","v":""},{"$f":"texte!I52","v":260},{"$f":"texte!I53","v":40},{"$f":"texte!I54","v":111},{"$f":"texte!I55","v":4},{"$f":"texte!I56","v":165},{"$f":"texte!I57","v":0}]
[null,null,null,null,null,null,"Référence",100002181,100002182,100002183,100006745,7677082,null,null,100008701,100013027,88017836,"S101614","S101614",7608398,90777,90778,110966,111712,114311,110961,110960,110954,111714,111022,111037,112906,112908,111708,111698,111701,111699,111703,120842,120900,120918,111688,111689,111690,null,null,84887768,null,null,null,"S101655",114419,111780,111788,111790,111805,111806,111069,122441,111067,115269,111167,111807,162632,112633]
[null,null,null,null,"N° Référence DD","volgnr","Nombre de chaudières","MC 45","MC 65","MC 90","MC 115","MCA 160","Type","P (80/60) [kW]",{"$f":"O10","v":"Sonde départ doigt de gant (> 350 kW)"},"Sonde départ doigt de gant (< 350 kW)","Câble Bus RX11","Pompe MC 45","Pompe MC 65","Pompe            MC 90/MC 115","Collect. 2         DN65","Collect. 3         DN65","Collect. 4         DN65","Bouteille découpl. DN65","Bouteille découpl. DN65 (<350 kW)","Collect. 2         DN100","Collect. 3         DN100","Collect. 4         DN100","Bouteille découpl. DN100","Raccordt. Avant","Raccordt. Arrière","Raccordt. Avant","Raccordt. Arrière","Kit Bouchons","1 Bride pleine gaz DN50","2 Brides pleines eau DN65","1 Bride pleine gaz DN65","2 Brides pleines eau DN100","Support L","Support I","Cadre de montage","Rail mural LW2","Rail mural LW3","Rail mural LW4","Prix cascade","Prix cascade + chaudières",{"$f":"AU10","v":"ADAPTATEUR Ø 80 - 100 MM"},null,null,null,{"$f":"AY10","v":"Filtre Gaz DN50"},"Vanne de sécurité gaz DN 65",{"$f":"BA10","v":"Filtre Gaz DN65"},"Coude DN65","Coude DN100","Tube rallonge filtre gaz DN50","Tube rallonge filtre gaz DN65","Isolation collecteur","Isolation raccordt. chaudière","Isolation Bouteille Découplage (>350 kW)","Isolation Bouteille Découplage (<350 kW)","Isolation Coude 90°","Pied reglable"," Jeux de Contre-brides à souder DN65","Contre-brides à souder DN100"]
[null,null,null,null,{"$f":"M14&\".\"&TEXT(FLOOR(N14,1),\"0000\")&\"kW.\"&H14&I14&J14&K14&L14","v":"LV.0080kW.20000"},{"$f":"E14","v":"LV.0080kW.20000"},2,2,0,0,0,0,"LV",{"$f":"SUMPRODUCT($H$10:$L$10,H14:L14)","v":80},0,1,{"$f":"G14-1","v":1},2,0,0,{"$f":"IF(G14=2,1,IF(G14=4,2,0))","v":1},{"$f":"IF(G14=3,1,0)","v":0},0,0,1,0,0,0,0,2,0,0,0,2,0,1,0,0,0,3,2,0,0,0,{"$f":"SUMPRODUCT(O14:AR14,$O$11:$AR$11)","v":{"$error":"#N/A"}},{"$f":"SUMPRODUCT(H14:K14,$H$11:$K$11)+AS14","v":{"$error":"#N/A"}},{"$f":"H14","v":2},null,null,null,1,0,0,1,0,0,0,2,{"$f":"G14","v":2},0,1,1,{"$f":"IF(G14=2,5,IF(G14=3,6,IF(G14=4,8,IF(G14=5,9,IF(G14=6,10,IF(G14=7,12,0))))))","v":5},0,0]
[null,null,null,null,{"$f":"M15&\".\"&TEXT(FLOOR(N15,1),\"0000\")&\"kW.\"&H15&I15&J15&K15&L15","v":"LV.0101kW.11000"},{"$f":"E15","v":"LV.0101kW.11000"},2,1,1,0,0,0,"LV",101,0,1,1,1,1,0,{"$f":"IF(G15=2,1,IF(G15=4,2,0))","v":1},{"$f":"IF(G15=3,1,0)","v":0},0,0,1,0,0,0,0,2,0,0,0,2,0,1,0,0,0,3,2,0,0,0,{"$error":"#N/A"},{"$error":"#N/A"},{"$f":"H15","v":1},null,null,null,1,0,0,1,0,0,0,2,{"$f":"G15","v":2},0,1,1,{"$f":"IF(G15=2,5,IF(G15=3,6,IF(G15=4,8,IF(G15=5,9,IF(G15=6,10,IF(G15=7,12,0))))))","v":5},0,0]
[null,null,null,null,"LV.0120kW.30000","LV.0120kW.30000",3,3,0,0,0,0,"LV",120,0,1,2,3,0,0,0,1,0,0,1,0,0,0,0,3,0,0,0,3,0,1,0,0,0,4,3,0,0,0,{"$error":"#N/A"},{"$error":"#N/A"},3,null,null,null,1,0,0,1,0,0,0,3,3,0,1,1,6,0,0]
[null,null,null,null,"LV.0122kW.02000","LV.0122kW.02000",2,0,2,0,0,0,"LV",122,0,1,1,0,2,0,1,0,0,0,1,0,0,0,0,2,0,0,0,2,0,1,0,0,0,3,2,0,0,0,{"$error":"#N/A"},{"$error":"#N/A"},0,null,null,null,1,0,0,1,0,0,0,2,2,0,1,1,5,0,0]
[null,null,null,null,"LV.0124kW.10100","LV.0124kW.10100",2,1,0,1,0,0,"LV",124.2,0,1,1,1,0,1,1,0,0,0,1,0,0,0,0,2,0,0,0,2,0,1,0,0,0,3,2,0,0,0,{"$error":"#N/A"},{"$error":"#N/A"},1,null,null,null,1,0,0,1,0,0,0,2,2,0,1,1,5,0,0]
[null,null,null,null,"LV.0141kW.21000","LV.0141kW.21000",3,2,1,0,0,0,"LV",141,0,1,2,2,1,0,0,1,0,0,1,0,0,0,0,3,0,0,0,3,0,1,0,0,0,4,3,0,0,0,{"$error":"#N/A"},{"$error":"#N/A"},2,null,null,null,1,0,0,1,0,0,0,3,3,0,1,1,6,0,0]
[null,null,null,null,"LV.0145kW.01100","LV.0145kW.01100",2,0,1,1,0,0,"LV",145.19999999999999,0,1,1,0,1,1,1,0,0,0,1,0,0,0,0,2,0,0,0,2,0,1,0,0,0,3,2,0,0,0,{"$error":"#N/A"},{"$error":"#N/A"},0,null,null,null,1,0,0,1,0,0,0,2,2,0,1,1,5,0,0]
[null,null,null,null,"LV.0147kW.10010","LV.0147kW.10010",2,1,0,0,1,0,"LV",147,0,1,1,1,0,1,1,0,0,0,1,0,0,0,0,2,0,0,0,2,0,1,0,0,0,3,2,0,0,0,{"$error":"#N/A"},{"$error":"#N/A"},1,null,null,null,1,0,0,1,0,0,0,2,2,0,1,1,5,0,0]
[null,null,null,null,"LV.0160kW.40000","LV.0160kW.40000",4,4,0,0,0,0,"LV",160,0,1,3,4,0,0,2,0,0,0,1,0,0,0,0,4,0,0,0,4,0,1,0,0,0,5,4,0,0,0,{"$error":"#N/A"},{"$error":"#N/A"},4,null,null,null,1,0,0,1,0,0,0,4,4,0,1,1,8,0,0]
[null,null,null,null,"LV.0162kW.12000","LV.0162kW.12000",3,1,2,0,0,0,"LV",162,0,1,2,1,2,0,0,1,0,0,1,0,0,0,0,3,0,0,0,3,0,1,0,0,0,4,3,0,0,0,{"$error":"#N/A"},{"$error":"#N/A"},1,null,null,null,1,0,0,1,0,0,0,3,3,0,1,1,6,0,0]
[null,null,null,null,"LV.0164kW.20100","LV.0164kW.20100",3,2,0,1,0,0,"LV",164.2,0,1,2,2,0,1,0,1,0,0,1,0,0,0,0,3,0,0,0,3,0,1,0,0,0,4,3,0,0,0,{"$error":"#N/A"},{"$error":"#N/A"},2,null,null,null,1,0,0,1,0,0,0,3,3,0,1,1,6,0,0]
[null,null,null,null,"LV.0168kW.00200","LV.0168kW.00200",2,0,0,2,0,0,"LV",168.4,0,1,1,0,0,2,1,0,0,0,1,0,0,0,0,2,0,0,0,2,0,1,0,0,0,3,2,0,0,0,{"$error":"#N/A"},{"$error":"#N/A"},0,null,null,null,1,0,0,1,0,0,0,2,2,0,1,1,5,0,0]
[null,null,null,null,"LV.0168kW.01010","LV.0168kW.01010",2,0,1,0,1,0,"LV",168,0,1,1,0,1,1,1,0,0,0,1,0,0,0,0,2,0,0,0,2,0,1,0,0,0,3,2,0,0,0,{"$error":"#N/A"},{"$error":"#N/A"},0,null,null,null,1,0,0,1,0,0,0,2,2,0,1,1,5,0,0]
[null,null,null,null,"LV.0181kW.31000","LV.0181kW.31000",4,3,1,0,0,0,"LV",181,0,1,3,3,1,0,2,0,0,0,1,0,0,0,0,4,0,0,0,4,0,1,0,0,0,5,4,0,0,0,{"$error":"#N/A"},{"$error":"#N/A"},3,null,null,null,1,0,0,1,0,0,0,4,4,0,1,1,8,0,0]
[null,null,null,null,"LV.0183kW.03000","LV.0183kW.03000",3,0,3,0,0,0,"LV",183,0,1,2,0,3,0,0,1,0,0,1,0,0,0,0,3,0,0,0,3,0,1,0,0,0,4,3,0,0,0,{"$error":"#N/A"},{"$error":"#N/A"},0,null,null,null,1,0,0,1,0,0,0,3,3,0,1,1,6,0,0]
[null,null,null,null,"LV.0185kW.11100","LV.0185kW.11100",3,1,1,1,0,0,"LV",185.2,0,1,2,1,1,1,0,1,0,0,1,0,0,0,0,3,0,0,0,3,0,1,0,0,0,4,3,0,0,0,{"$error":"#N/A"},{"$error":"#N/A"},1,null,null,null,1,0,0,1,0,0,0,3,3,0,1,1,6,0,0]
[null,null,null,null,"LV.0187kW.20010","LV.0187kW.20010",3,2,0,0,1,0,"LV",187,0,1,2,2,0,1,0,1,0,0,1,0,0,0,0,3,0,0,0,3,0,1,0,0,0,4,3,0,0,0,{"$error":"#N/A"},{"$error":"#N/A"},2,null,null,null,1,0,0,1,0,0,0,3,3,0,1,1,6,0,0]
[null,null,null,null,"LV.0191kW.00110","LV.0191kW.00110",2,0,0,1,1,0,"LV",191.2,0,1,1,0,0,2,1,0,0,0,1,0,0,0,0,2,0,0,0,2,0,1,0,0,0,3,2,0,0,0,{"$error":"#N/A"},{"$error":"#N/A"},0,null,null,null,1,0,0,1,0,0,0,2,2,0,1,1,5,0,0]
[null,null,null,null,"LV.0202kW.22000","LV.0202kW.22000",4,2,2,0,0,0,"LV",202,0,1,3,2,2,0,2,0,0,0,1,0,0,0,0,4,0,0,0,4,0,1,0,0,0,5,4,0,0,0,{"$error":"#N/A"},{"$error":"#N/A"},2,null,null,null,1,0,0,1,0,0,0,4,4,0,1,1,8,0,0]
[null,null,null,null,"LV.0204kW.30100","LV.0204kW.30100",4,3,0,1,0,0,"LV",204.2,0,1,3,3,0,1,2,0,0,0,1,0,0,0,0,4,0,0,0,4,0,1,0,0,0,5,4,0,0,0,{"$error":"#N/A"},{"$error":"#N/A"},3,null,null,null,1,0,0,1,0,0,0,4,4,0,1,1,8,0,0]
[null,null,null,null,"LV.0206kW.02100","LV.0206kW.02100",3,0,2,1,0,0,"LV",206.2,0,1,2,0,2,1,0,1,0,0,1,0,0,0,0,3,0,0,0,3,0,1,0,0,0,4,3,0,0,0,{"$error":"#N/A"},{"$error":"#N/A"},0,null,null,null,1,0,0,1,0,0,0,3,3,0,1,1,6,0,0]
[null,null,null,null,"LV.0208kW.10200","LV.0208kW.10200",3,1,0,2,0,0,"LV",208.4,0,1,2,1,0,2,0,1,0,0,1,0,0,0,0,3,0,0,0,3,0,1,0,0,0,4,3,0,0,0,{"$error":"#N/A"},{"$error":"#N/A"},1,null,null,null,1,0,0,1,0,0,0,3,3,0,1,1,6,0,0]
[null,null,null,null,"LV.0208kW.11010","LV.0208kW.11010",3,1,1,0,1,0,"LV",208,0,1,2,1,1,1,0,1,0,0,1,0,0,0,0,3,0,0,0,3,0,1,0,0,0,4,3,0,0,0,{"$error":"#N/A"},{"$error":"#N/A"},1,null,null,null,1,0,0,1,0,0,0,3,3,0,1,1,6,0,0]
[null,null,null,null,"LV.0214kW.00020","LV.0214kW.00020",2,0,0,0,2,0,"LV",214,0,1,1,0,0,2,1,0,0,0,1,0,0,0,0,2,0,0,0,2,0,1,0,0,0,3,2,0,0,0,{"$error":"#N/A"},{"$error":"#N/A"},0,null,null,null,1,0,0,1,0,0,0,2,2,0,1,1,5,0,0]
[null,null,null,null,"LV.0223kW.13000","LV.0223kW.13000",4,1,3,0,0,0,"LV",223,0,1,3,1,3,0,2,0,0,0,1,0,0,0,0,4,0,0,0,4,0,1,0,0,0,5,4,0,0,0,{"$error":"#N/A"},{"$error":"#N/A"},1,null,null,null,1,0,0,1,0,0,0,4,4,0,1,1,8,0,0]
[null,null,null,null,"LV.0225kW.21100","LV.0225kW.21100",4,2,1,1,0,0,"LV",225.2,0,1,3,2,1,1,2,0,0,0,1,0,0,0,0,4,0,0,0,4,0,1,0,0,0,5,4,0,0,0,{"$error":"#N/A"},{"$error":"#N/A"},2,null,null,null,1,0,0,1,0,0,0,4,4,0,1,1,8,0,0]
[null,null,null,null,"LV.0227kW.30010","LV.0227kW.30010",4,3,0,0,1,0,"LV",227,0,1,3,3,0,1,2,0,0,0,1,0,0,0,0,4,0,0,0,4,0,1,0,0,0,5,4,0,0,0,{"$error":"#N/A"},{"$error":"#N/A"},3,null,null,null,1,0,0,1,0,0,0,4,4,0,1,1,8,0,0]
[null,null,null,null,"LV.0229kW.01200","LV.0229kW.01200",3,0,1,2,0,0,"LV",229.4,0,1,2,0,1,2,0,1,0,0,1,0,0,0,0,3,0,0,0,3,0,1,0,0,0,4,3,0,0,0,{"$error":"#N/A"},{"$error":"#N/A"},0,null,null,null,1,0,0,1,0,0,0,3,3,0,1,1,6,0,0]
[null,null,null,null,"LV.0229kW.02010","LV.0229kW.02010",3,0,2,0,1,0,"LV",229,0,1,2,0,2,1,0,1,0,0,1,0,0,0,0,3,0,0,0,3,0,1,0,0,0,4,3,0,0,0,{"$error":"#N/A"},{"$error":"#N/A"},0,null,null,null,1,0,0,1,0,0,0,3,3,0,1,1,6,0,0]
[null,null,null,null,"LV.0231kW.10110","LV.0231kW.10110",3,1,0,1,1,0,"LV",231.2,0,1,2,1,0,2,0,1,0,0,1,0,0,0,0,3,0,0,0,3,0,1,0,0,0,4,3,0,0,0,{"$error":"#N/A"},{"$error":"#N/A"},1,null,null,null,1,0,0,1,0,0,0,3,3,0,1,1,6,0,0]
[null,null,null,null,"LV.0244kW.04000","LV.0244kW.04000",4,0,4,0,0,0,"LV",244,0,1,3,0,4,0,2,0,0,0,1,0,0,0,0,4,0,0,0,4,0,1,0,0,0,5,4,0,0,0,{"$error":"#N/A"},{"$error":"#N/A"},0,null,null,null,1,0,0,1,0,0,0,4,4,0,1,1,8,0,0]
[null,null,null,null,"LV.0246kW.12100","LV.0246kW.12100",4,1,2,1,0,0,"LV",246.2,0,1,3,1,2,1,2,0,0,0,1,0,0,0,0,4,0,0,0,4,0,1,0,0,0,5,4,0,0,0,{"$error":"#N/A"},{"$error":"#N/A"},1,null,null,null,1,0,0,1,0,0,0,4,4,0,1,1,8,0,0]
[null,null,null,null,"LV.0248kW.20200","LV.0248kW.20200",4,2,0,2,0,0,"LV",248.4,0,1,3,2,0,2,2,0,0,0,1,0,0,0,0,4,0,0,0,4,0,1,0,0,0,5,4,0,0,0,{"$error":"#N/A"},{"$error":"#N/A"},2,null,null,null,1,0,0,1,0,0,0,4,4,0,1,1,8,0,0]
[null,null,null,null,"LV.0248kW.21010","LV.0248kW.21010",4,2,1,0,1,0,"LV",248,0,1,3,2,1,1,2,0,0,0,1,0,0,0,0,4,0,0,0,4,0,1,0,0,0,5,4,0,0,0,{"$error":"#N/A"},{"$error":"#N/A"},2,null,null,null,1,0,0,1,0,0,0,4,4,0,1,1,8,0,0]
[null,null,null,null,"LV.0252kW.00300","LV.0252kW.00300",3,0,0,3,0,0,"LV",252.60000000000002,0,1,2,0,0,3,0,1,0,0,1,0,0,0,0,3,0,0,0,3,0,1,0,0,0,4,3,0,0,0,{"$error":"#N/A"},{"$error":"#N/A"},0,null,null,null,1,0,0,1,0,0,0,3,3,0,1,1,6,0,0]
[null,null,null,null,"LV.0252kW.01110","LV.0252kW.01110",3,0,1,1,1,0,"LV",252.2,0,1,2,0,1,2,0,1,0,0,1,0,0,0,0,3,0,0,0,3,0,1,0,0,0,4,3,0,0,0,{"$error":"#N/A"},{"$error":"#N/A"},0,null,null,null,1,0,0,1,0,0,0,3,3,0,1,1,6,0,0]
[null,null,null,null,"LV.0254kW.10020","LV.0254kW.10020",3,1,0,0,2,0,"LV",254,0,1,2,1,0,2,0,1,0,0,1,0,0,0,0,3,0,0,0,3,0,1,0,0,0,4,3,0,0,0,{"$error":"#N/A"},{"$error":"#N/A"},1,null,null,null,1,0,0,1,0,0,0,3,3,0,1,1,6,0,0]
[null,null,null,null,"LV.0267kW.03100","LV.0267kW.03100",4,0,3,1,0,0,"LV",267.2,0,1,3,0,3,1,2,0,0,0,1,0,0,0,0,4,0,0,0,4,0,1,0,0,0,5,4,0,0,0,{"$error":"#N/A"},{"$error":"#N/A"},0,null,null,null,1,0,0,1,0,0,0,4,4,0,1,1,8,0,0]
[null,null,null,null,"LV.0269kW.11200","LV.0269kW.11200",4,1,1,2,0,0,"LV",269.39999999999998,0,1,3,1,1,2,2,0,0,0,1,0,0,0,0,4,0,0,0,4,0,1,0,0,0,5,4,0,0,0,{"$error":"#N/A"},{"$error":"#N/A"},1,null,null,null,1,0,0,1,0,0,0,4,4,0,1,1,8,0,0]
[null,null,null,null,"LV.0269kW.12010","LV.0269kW.12010",4,1,2,0,1,0,"LV",269,0,1,3,1,2,1,2,0,0,0,1,0,0,0,0,4,0,0,0,4,0,1,0,0,0,5,4,0,0,0,{"$error":"#N/A"},{"$error":"#N/A"},1,null,null,null,1,0,0,1,0,0,0,4,4,0,1,1,8,0,0]
[null,null,null,null,"LV.0271kW.20110","LV.0271kW.20110",4,2,0,1,1,0,"LV",271.2,0,1,3,2,0,2,2,0,0,0,1,0,0,0,0,4,0,0,0,4,0,1,0,0,0,5,4,0,0,0,{"$error":"#N/A"},{"$error":"#N/A"},2,null,null,null,1,0,0,1,0,0,0,4,4,0,1,1,8,0,0]
[null,null,null,null,"LV.0275kW.00210","LV.0275kW.00210",3,0,0,2,1,0,"LV",275.39999999999998,0,1,2,0,0,3,0,1,0,0,1,0,0,0,0,3,0,0,0,3,0,1,0,0,0,4,3,0,0,0,{"$error":"#N/A"},{"$error":"#N/A"},0,null,null,null,1,0,0,1,0,0,0,3,3,0,1,1,6,0,0]
[null,null,null,null,"LV.0275kW.01020","LV.0275kW.01020",3,0,1,0,2,0,"LV",275,0,1,2,0,1,2,0,1,0,0,1,0,0,0,0,3,0,0,0,3,0,1,0,0,0,4,3,0,0,0,{"$error":"#N/A"},{"$error":"#N/A"},0,null,null,null,1,0,0,1,0,0,0,3,3,0,1,1,6,0,0]
[null,null,null,null,"LV.0290kW.02200","LV.0290kW.02200",4,0,2,2,0,0,"LV",290.39999999999998,0,1,3,0,2,2,2,0,0,0,1,0,0,0,0,4,0,0,0,4,0,1,0,0,0,5,4,0,0,0,{"$error":"#N/A"},{"$error":"#N/A"},0,null,null,null,1,0,0,1,0,0,0,4,4,0,1,1,8,0,0]
[null,null,null,null,"LV.0290kW.03010","LV.0290kW.03010",4,0,3,0,1,0,"LV",290,0,1,3,0,3,1,2,0,0,0,1,0,0,0,0,4,0,0,0,4,0,1,0,0,0,5,4,0,0,0,{"$error":"#N/A"},{"$error":"#N/A"},0,null,null,null,1,0,0,1,0,0,0,4,4,0,1,1,8,0,0]
[null,null,null,null,"LV.0292kW.10300","LV.0292kW.10300",4,1,0,3,0,0,"LV",292.60000000000002,0,1,3,1,0,3,2,0,0,0,1,0,0,0,0,4,0,0,0,4,0,1,0,0,0,5,4,0,0,0,{"$error":"#N/A"},{"$error":"#N/A"},1,null,null,null,1,0,0,1,0,0,0,4,4,0,1,1,8,0,0]
[null,null,null,null,"LV.0292kW.11110","LV.0292kW.11110",4,1,1,1,1,0,"LV",292.2,0,1,3,1,1,2,2,0,0,0,1,0,0,0,0,4,0,0,0,4,0,1,0,0,0,5,4,0,0,0,{"$error":"#N/A"},{"$error":"#N/A"},1,null,null,null,1,0,0,1,0,0,0,4,4,0,1,1,8,0,0]
[null,null,null,null,"LV.0294kW.20020","LV.0294kW.20020",4,2,0,0,2,0,"LV",294,0,1,3,2,0,2,2,0,0,0,1,0,0,0,0,4,0,0,0,4,0,1,0,0,0,5,4,0,0,0,{"$error":"#N/A"},{"$error":"#N/A"},2,null,null,null,1,0,0,1,0,0,0,4,4,0,1,1,8,0,0]
[null,null,null,null,"LV.0298kW.00120","LV.0298kW.00120",3,0,0,1,2,0,"LV",298.2,0,1,{"$f":"G62-1","v":2},0,0,3,0,1,0,0,1,0,0,0,0,3,0,0,0,3,0,1,0,0,0,4,3,0,0,0,{"$f":"SUMPRODUCT(O62:AR62,$O$11:$AR$11)","v":{"$error":"#N/A"}},{"$f":"SUMPRODUCT(H62:K62,$H$11:$K$11)+AS62","v":{"$error":"#N/A"}},0,null,null,null,1,0,0,1,0,0,0,3,3,0,1,1,6,0,0]
[null,null,null,null,"LV.0313kW.01300","LV.0313kW.01300",4,0,1,3,0,0,"LV",313.60000000000002,0,1,3,0,1,3,2,0,0,0,1,0,0,0,0,4,0,0,0,4,0,1,0,0,0,5,4,0,0,0,{"$error":"#N/A"},{"$error":"#N/A"},{"$f":"H63","v":0},null,null,null,1,0,0,1,0,0,0,4,4,0,1,1,{"$f":"IF(G63=2,5,IF(G63=3,6,IF(G63=4,8,IF(G63=5,9,IF(G63=6,10,IF(G63=7,12,0))))))","v":8},0,0]
[null,null,null,null,"LV.0313kW.02110","LV.0313kW.02110",4,0,2,1,1,0,"LV",313.2,0,1,3,0,2,2,2,0,0,0,1,0,0,0,0,4,0,0,0,4,0,1,0,0,0,5,4,0,0,0,{"$error":"#N/A"},{"$error":"#N/A"},0,null,null,null,1,0,0,1,0,0,0,4,4,0,1,1,8,0,0]
[null,null,null,null,"LV.0315kW.10210","LV.0315kW.10210",4,1,0,2,1,0,"LV",315.39999999999998,0,1,3,1,0,3,2,0,0,0,1,0,0,0,0,4,0,0,0,4,0,1,0,0,0,5,4,0,0,0,{"$error":"#N/A"},{"$error":"#N/A"},1,null,null,null,1,0,0,1,0,0,0,4,4,0,1,1,8,0,0]
[null,null,null,null,"LV.0315kW.11020","LV.0315kW.11020",4,1,1,0,2,0,"LV",315,0,1,3,1,1,2,2,0,0,0,1,0,0,0,0,4,0,0,0,4,0,1,0,0,0,5,4,0,0,0,{"$error":"#N/A"},{"$error":"#N/A"},1,null,null,null,1,0,0,1,0,0,0,4,4,0,1,1,8,0,0]
[null,null,null,null,"LV.0321kW.00030","LV.0321kW.00030",3,0,0,0,3,0,"LV",321,0,1,2,0,0,3,0,1,0,0,1,0,0,0,0,3,0,0,0,3,0,1,0,0,0,4,3,0,0,0,{"$error":"#N/A"},{"$error":"#N/A"},0,null,null,null,1,0,0,1,0,0,0,3,3,0,1,1,6,0,0]
[null,null,null,null,"LV.0336kW.00400","LV.0336kW.00400",4,0,0,4,0,0,"LV",336.8,0,1,3,0,0,4,2,0,0,0,1,0,0,0,0,4,0,0,0,4,0,1,0,0,0,5,4,0,0,0,{"$error":"#N/A"},{"$error":"#N/A"},0,null,null,null,1,0,0,1,0,0,0,4,4,0,1,1,8,0,0]
[null,null,null,null,"LV.0336kW.01210","LV.0336kW.01210",4,0,1,2,1,0,"LV",336.4,0,1,3,0,1,3,2,0,0,0,1,0,0,0,0,4,0,0,0,4,0,1,0,0,0,5,4,0,0,0,{"$error":"#N/A"},{"$error":"#N/A"},0,null,null,null,1,0,0,1,0,0,0,4,4,0,1,1,8,0,0]
[null,null,null,null,"LV.0336kW.02020","LV.0336kW.02020",4,0,2,0,2,0,"LV",336,0,1,3,0,2,2,2,0,0,0,1,0,0,0,0,4,0,0,0,4,0,1,0,0,0,5,4,0,0,0,{"$error":"#N/A"},{"$error":"#N/A"},0,null,null,null,1,0,0,1,0,0,0,4,4,0,1,1,8,0,0]
[null,null,null,null,"LV.0338kW.10120","LV.0338kW.10120",4,1,0,1,2,0,"LV",338.2,0,1,3,1,0,3,2,0,0,0,1,0,0,0,0,4,0,0,0,4,0,1,0,0,0,5,4,0,0,0,{"$error":"#N/A"},{"$error":"#N/A"},1,null,null,null,1,0,0,1,0,0,0,4,4,0,1,1,8,0,0]
[null,null,null,null,"LV.0359kW.00310","LV.0359kW.00310",4,0,0,3,1,0,"LV",359.6,1,0,3,0,0,4,2,0,0,1,0,0,0,0,0,4,0,0,0,4,0,1,0,0,0,5,4,0,0,0,{"$error":"#N/A"},{"$error":"#N/A"},0,null,null,null,1,0,0,1,0,0,0,4,4,1,0,1,8,0,0]
[null,null,null,null,"LV.0359kW.01120","LV.0359kW.01120",4,0,1,1,2,0,"LV",359.2,1,0,3,0,1,3,2,0,0,1,0,0,0,0,0,4,0,0,0,4,0,1,0,0,0,5,4,0,0,0,{"$error":"#N/A"},{"$error":"#N/A"},0,null,null,null,1,0,0,1,0,0,0,4,4,1,0,1,8,0,0]
[null,null,null,null,"LV.0361kW.10030","LV.0361kW.10030",4,1,0,0,3,0,"LV",361,1,0,3,1,0,3,2,0,0,1,0,0,0,0,0,4,0,0,0,4,0,1,0,0,0,5,4,0,0,0,{"$error":"#N/A"},{"$error":"#N/A"},1,null,null,null,1,0,0,1,0,0,0,4,4,1,0,1,8,0,0]
[null,null,null,null,"LV.0382kW.00220","LV.0382kW.00220",4,0,0,2,2,0,"LV",382.4,1,0,{"$f":"G75-1","v":3},0,0,4,2,0,0,1,0,0,0,0,0,4,0,0,0,4,0,1,0,0,0,5,4,0,0,0,{"$f":"SUMPRODUCT(O75:AR75,$O$11:$AR$11)","v":{"$error":"#N/A"}},{"$f":"SUMPRODUCT(H75:K75,$H$11:$K$11)+AS75","v":{"$error":"#N/A"}},{"$f":"H75","v":0},null,null,null,1,0,0,1,0,0,0,4,4,1,0,1,{"$f":"IF(G75=2,5,IF(G75=3,6,IF(G75=4,8,IF(G75=5,9,IF(G75=6,10,IF(G75=7,12,0))))))","v":8},0,0]
[null,null,null,null,"LV.0382kW.01030","LV.0382kW.01030",4,0,1,0,3,0,"LV",382,1,0,{"$f":"G76-1","v":3},0,1,3,2,0,0,1,0,0,0,0,0,4,0,0,0,4,0,1,0,0,0,5,4,0,0,0,{"$f":"SUMPRODUCT(O76:AR76,$O$11:$AR$11)","v":{"$error":"#N/A"}},{"$f":"SUMPRODUCT(H76:K76,$H$11:$K$11)+AS76","v":{"$error":"#N/A"}},{"$f":"H76","v":0},null,null,null,1,0,0,1,0,0,0,4,4,1,0,1,{"$f":"IF(G76=2,5,IF(G76=3,6,IF(G76=4,8,IF(G76=5,9,IF(G76=6,10,IF(G76=7,12,0))))))","v":8},0,0]
[null,null,null,null,"LV.0405kW.00130","LV.0405kW.00130",4,0,0,1,3,0,"LV",405.2,1,0,{"$f":"G77-1","v":3},0,0,4,2,0,0,1,0,0,0,0,0,4,0,0,0,4,0,1,0,0,0,5,4,0,0,0,{"$f":"SUMPRODUCT(O77:AR77,$O$11:$AR$11)","v":{"$error":"#N/A"}},{"$f":"SUMPRODUCT(H77:K77,$H$11:$K$11)+AS77","v":{"$error":"#N/A"}},{"$f":"H77","v":0},null,null,null,1,0,0,1,0,0,0,4,4,1,0,1,{"$f":"IF(G77=2,5,IF(G77=3,6,IF(G77=4,8,IF(G77=5,9,IF(G77=6,10,IF(G77=7,12,0))))))","v":8},0,0]
[null,null,null,null,"LV.0428kW.00040","LV.0428kW.00040",4,0,0,0,4,0,"LV",{"$f":"SUMPRODUCT($H$10:$L$10,H78:L78)","v":428},1,0,{"$f":"G78-1","v":3},0,0,4,2,0,0,1,0,0,0,0,0,4,0,0,0,4,0,1,0,0,0,5,4,0,0,0,{"$f":"SUMPRODUCT(O78:AR78,$O$11:$AR$11)","v":{"$error":"#N/A"}},{"$f":"SUMPRODUCT(H78:K78,$H$11:$K$11)+AS78","v":{"$error":"#N/A"}},{"$f":"H78","v":0},null,null,null,1,0,0,1,0,0,0,4,4,1,0,1,{"$f":"IF(G78=2,5,IF(G78=3,6,IF(G78=4,8,IF(G78=5,9,IF(G78=6,10,IF(G78=7,12,0))))))","v":8},0,0]
[null,null,null,null,{"$f":"M79&\".\"&TEXT(FLOOR(N79,1),\"0000\")&\"kW.\"&H79&I79&J79&K79&L79","v":"LW.0080kW.20000"},{"$f":"E79","v":"LW.0080kW.20000"},2,2,0,0,0,0,"LW",80,0,1,{"$f":"G79-1","v":1},2,0,0,{"$f":"IF(G79=2,1,IF(G79=4,2,0))","v":1},{"$f":"IF(G79=3,1,0)","v":0},0,0,1,0,0,0,0,2,0,0,0,2,0,1,0,0,0,0,0,1,0,0,{"$f":"SUMPRODUCT(O79:AR79,$O$11:$AR$11)","v":{"$error":"#N/A"}},{"$f":"SUMPRODUCT(H79:K79,$H$11:$K$11)+AS79","v":{"$error":"#N/A"}},{"$f":"H79","v":2},null,null,null,1,0,0,1,0,0,0,2,{"$f":"G79","v":2},0,1,1,0,0,0]
[null,null,null,null,"LW.0101kW.11000","LW.0101kW.11000",2,1,1,0,0,0,"LW",101,0,1,1,1,1,0,1,0,0,0,1,0,0,0,0,2,0,0,0,2,0,1,0,0,0,0,0,1,0,0,{"$error":"#N/A"},{"$error":"#N/A"},1,null,null,null,1,0,0,1,0,0,0,2,2,0,1,1,0,0,0]
[null,null,null,null,"LW.0120kW.30000","LW.0120kW.30000",3,3,0,0,0,0,"LW",120,0,1,2,3,0,0,0,1,0,0,1,0,0,0,0,3,0,0,0,3,0,1,0,0,0,0,0,0,1,0,{"$error":"#N/A"},{"$error":"#N/A"},3,null,null,null,1,0,0,1,0,0,0,3,3,0,1,1,0,0,0]
[null,null,null,null,"LW.0122kW.02000","LW.0122kW.02000",2,0,2,0,0,0,"LW",122,0,1,1,0,2,0,1,0,0,0,1,0,0,0,0,2,0,0,0,2,0,1,0,0,0,0,0,1,0,0,{"$error":"#N/A"},{"$error":"#N/A"},0,null,null,null,1,0,0,1,0,0,0,2,2,0,1,1,0,0,0]
[null,null,null,null,"LW.0124kW.10100","LW.0124kW.10100",2,1,0,1,0,0,"LW",124.2,0,1,1,1,0,1,1,0,0,0,1,0,0,0,0,2,0,0,0,2,0,1,0,0,0,0,0,1,0,0,{"$error":"#N/A"},{"$error":"#N/A"},1,null,null,null,1,0,0,1,0,0,0,2,2,0,1,1,0,0,0]
[null,null,null,null,"LW.0141kW.21000","LW.0141kW.21000",3,2,1,0,0,0,"LW",141,0,1,2,2,1,0,0,1,0,0,1,0,0,0,0,3,0,0,0,3,0,1,0,0,0,0,0,0,1,0,{"$error":"#N/A"},{"$error":"#N/A"},2,null,null,null,1,0,0,1,0,0,0,3,3,0,1,1,0,0,0]
[null,null,null,null,"LW.0145kW.01100","LW.0145kW.01100",2,0,1,1,0,0,"LW",145.19999999999999,0,1,1,0,1,1,1,0,0,0,1,0,0,0,0,2,0,0,0,2,0,1,0,0,0,0,0,1,0,0,{"$error":"#N/A"},{"$error":"#N/A"},0,null,null,null,1,0,0,1,0,0,0,2,2,0,1,1,0,0,0]
[null,null,null,null,"LW.0147kW.10010","LW.0147kW.10010",2,1,0,0,1,0,"LW",147,0,1,1,1,0,1,1,0,0,0,1,0,0,0,0,2,0,0,0,2,0,1,0,0,0,0,0,1,0,0,{"$error":"#N/A"},{"$error":"#N/A"},1,null,null,null,1,0,0,1,0,0,0,2,2,0,1,1,0,0,0]
[null,null,null,null,"LW.0160kW.40000","LW.0160kW.40000",4,4,0,0,0,0,"LW",160,0,1,3,4,0,0,2,0,0,0,1,0,0,0,0,4,0,0,0,4,0,1,0,0,0,0,0,0,0,1,{"$error":"#N/A"},{"$error":"#N/A"},4,null,null,null,1,0,0,1,0,0,0,4,4,0,1,1,0,0,0]
[null,null,null,null,"LW.0162kW.12000","LW.0162kW.12000",3,1,2,0,0,0,"LW",162,0,1,2,1,2,0,0,1,0,0,1,0,0,0,0,3,0,0,0,3,0,1,0,0,0,0,0,0,1,0,{"$error":"#N/A"},{"$error":"#N/A"},1,null,null,null,1,0,0,1,0,0,0,3,3,0,1,1,0,0,0]
[null,null,null,null,"LW.0164kW.20100","LW.0164kW.20100",3,2,0,1,0,0,"LW",164.2,0,1,2,2,0,1,0,1,0,0,1,0,0,0,0,3,0,0,0,3,0,1,0,0,0,0,0,0,1,0,{"$error":"#N/A"},{"$error":"#N/A"},2,null,null,null,1,0,0,1,0,0,0,3,3,0,1,1,0,0,0]
[null,null,null,null,"LW.0168kW.00200","LW.0168kW.00200",2,0,0,2,0,0,"LW",168.4,0,1,1,0,0,2,1,0,0,0,1,0,0,0,0,2,0,0,0,2,0,1,0,0,0,0,0,1,0,0,{"$error":"#N/A"},{"$error":"#N/A"},0,null,null,null,1,0,0,1,0,0,0,2,2,0,1,1,0,0,0]
[null,null,null,null,"LW.0168kW.01010","LW.0168kW.01010",2,0,1,0,1,0,"LW",168,0,1,1,0,1,1,1,0,0,0,1,0,0,0,0,2,0,0,0,2,0,1,0,0,0,0,0,1,0,0,{"$error":"#N/A"},{"$error":"#N/A"},0,null,null,null,1,0,0,1,0,0,0,2,2,0,1,1,0,0,0]
[null,null,null,null,"LW.0181kW.31000","LW.0181kW.31000",4,3,1,0,0,0,"LW",181,0,1,3,3,1,0,2,0,0,0,1,0,0,0,0,4,0,0,0,4,0,1,0,0,0,0,0,0,0,1,{"$error":"#N/A"},{"$error":"#N/A"},3,null,null,null,1,0,0,1,0,0,0,4,4,0,1,1,0,0,0]
[null,null,null,null,"LW.0183kW.03000","LW.0183kW.03000",3,0,3,0,0,0,"LW",183,0,1,2,0,3,0,0,1,0,0,1,0,0,0,0,3,0,0,0,3,0,1,0,0,0,0,0,0,1,0,{"$error":"#N/A"},{"$error":"#N/A"},0,null,null,null,1,0,0,1,0,0,0,3,3,0,1,1,0,0,0]
[null,null,null,null,"LW.0185kW.11100","LW.0185kW.11100",3,1,1,1,0,0,"LW",185.2,0,1,2,1,1,1,0,1,0,0,1,0,0,0,0,3,0,0,0,3,0,1,0,0,0,0,0,0,1,0,{"$error":"#N/A"},{"$error":"#N/A"},1,null,null,null,1,0,0,1,0,0,0,3,3,0,1,1,0,0,0]
[null,null,null,null,"LW.0187kW.20010","LW.0187kW.20010",3,2,0,0,1,0,"LW",187,0,1,2,2,0,1,0,1,0,0,1,0,0,0,0,3,0,0,0,3,0,1,0,0,0,0,0,0,1,0,{"$error":"#N/A"},{"$error":"#N/A"},2,null,null,null,1,0,0,1,0,0,0,3,3,0,1,1,0,0,0]
[null,null,null,null,"LW.0191kW.00110","LW.0191kW.00110",2,0,0,1,1,0,"LW",191.2,0,1,1,0,0,2,1,0,0,0,1,0,0,0,0,2,0,0,0,2,0,1,0,0,0,0,0,1,0,0,{"$error":"#N/A"},{"$error":"#N/A"},0,null,null,null,1,0,0,1,0,0,0,2,2,0,1,1,0,0,0]
[null,null,null,null,"LW.0202kW.22000","LW.0202kW.22000",4,2,2,0,0,0,"LW",202,0,1,3,2,2,0,2,0,0,0,1,0,0,0,0,4,0,0,0,4,0,1,0,0,0,0,0,0,0,1,{"$error":"#N/A"},{"$error":"#N/A"},2,null,null,null,1,0,0,1,0,0,0,4,4,0,1,1,0,0,0]
[null,null,null,null,"LW.0204kW.30100","LW.0204kW.30100",4,3,0,1,0,0,"LW",204.2,0,1,3,3,0,1,2,0,0,0,1,0,0,0,0,4,0,0,0,4,0,1,0,0,0,0,0,0,0,1,{"$error":"#N/A"},{"$error":"#N/A"},3,null,null,null,1,0,0,1,0,0,0,4,4,0,1,1,0,0,0]
[null,null,null,null,"LW.0206kW.02100","LW.0206kW.02100",3,0,2,1,0,0,"LW",206.2,0,1,2,0,2,1,0,1,0,0,1,0,0,0,0,3,0,0,0,3,0,1,0,0,0,0,0,0,1,0,{"$error":"#N/A"},{"$error":"#N/A"},0,null,null,null,1,0,0,1,0,0,0,3,3,0,1,1,0,0,0]
[null,null,null,null,"LW.0208kW.10200","LW.0208kW.10200",3,1,0,2,0,0,"LW",208.4,0,1,2,1,0,2,0,1,0,0,1,0,0,0,0,3,0,0,0,3,0,1,0,0,0,0,0,0,1,0,{"$error":"#N/A"},{"$error":"#N/A"},1,null,null,null,1,0,0,1,0,0,0,3,3,0,1,1,0,0,0]
[null,null,null,null,"LW.0208kW.11010","LW.0208kW.11010",3,1,1,0,1,0,"LW",208,0,1,2,1,1,1,0,1,0,0,1,0,0,0,0,3,0,0,0,3,0,1,0,0,0,0,0,0,1,0,{"$error":"#N/A"},{"$error":"#N/A"},1,null,null,null,1,0,0,1,0,0,0,3,3,0,1,1,0,0,0]
[null,null,null,null,"LW.0214kW.00020","LW.0214kW.00020",2,0,0,0,2,0,"LW",214,0,1,1,0,0,2,1,0,0,0,1,0,0,0,0,2,0,0,0,2,0,1,0,0,0,0,0,1,0,0,{"$error":"#N/A"},{"$error":"#N/A"},0,null,null,null,1,0,0,1,0,0,0,2,2,0,1,1,0,0,0]
[null,null,null,null,"LW.0223kW.13000","LW.0223kW.13000",4,1,3,0,0,0,"LW",223,0,1,3,1,3,0,2,0,0,0,1,0,0,0,0,4,0,0,0,4,0,1,0,0,0,0,0,0,0,1,{"$error":"#N/A"},{"$error":"#N/A"},1,null,null,null,1,0,0,1,0,0,0,4,4,0,1,1,0,0,0]
[null,null,null,null,"LW.0225kW.21100","LW.0225kW.21100",4,2,1,1,0,0,"LW",225.2,0,1,3,2,1,1,2,0,0,0,1,0,0,0,0,4,0,0,0,4,0,1,0,0,0,0,0,0,0,1,{"$error":"#N/A"},{"$error":"#N/A"},2,null,null,null,1,0,0,1,0,0,0,4,4,0,1,1,0,0,0]
[null,null,null,null,"LW.0227kW.30010","LW.0227kW.30010",4,3,0,0,1,0,"LW",227,0,1,3,3,0,1,2,0,0,0,1,0,0,0,0,4,0,0,0,4,0,1,0,0,0,0,0,0,0,1,{"$error":"#N/A"},{"$error":"#N/A"},3,null,null,null,1,0,0,1,0,0,0,4,4,0,1,1,0,0,0]
[null,null,null,null,"LW.0229kW.01200","LW.0229kW.01200",3,0,1,2,0,0,"LW",229.4,0,1,2,0,1,2,0,1,0,0,1,0,0,0,0,3,0,0,0,3,0,1,0,0,0,0,0,0,1,0,{"$error":"#N/A"},{"$error":"#N/A"},0,null,null,null,1,0,0,1,0,0,0,3,3,0,1,1,0,0,0]
[null,null,null,null,"LW.0229kW.02010","LW.0229kW.02010",3,0,2,0,1,0,"LW",229,0,1,2,0,2,1,0,1,0,0,1,0,0,0,0,3,0,0,0,3,0,1,0,0,0,0,0,0,1,0,{"$error":"#N/A"},{"$error":"#N/A"},0,null,null,null,1,0,0,1,0,0,0,3,3,0,1,1,0,0,0]
[null,null,null,null,"LW.0231kW.10110","LW.0231kW.10110",3,1,0,1,1,0,"LW",231.2,0,1,2,1,0,2,0,1,0,0,1,0,0,0,0,3,0,0,0,3,0,1,0,0,0,0,0,0,1,0,{"$error":"#N/A"},{"$error":"#N/A"},1,null,null,null,1,0,0,1,0,0,0,3,3,0,1,1,0,0,0]
[null,null,null,null,"LW.0244kW.04000","LW.0244kW.04000",4,0,4,0,0,0,"LW",244,0,1,3,0,4,0,2,0,0,0,1,0,0,0,0,4,0,0,0,4,0,1,0,0,0,0,0,0,0,1,{"$error":"#N/A"},{"$error":"#N/A"},0,null,null,null,1,0,0,1,0,0,0,4,4,0,1,1,0,0,0]
[null,null,null,null,"LW.0246kW.12100","LW.0246kW.12100",4,1,2,1,0,0,"LW",246.2,0,1,3,1,2,1,2,0,0,0,1,0,0,0,0,4,0,0,0,4,0,1,0,0,0,0,0,0,0,1,{"$error":"#N/A"},{"$error":"#N/A"},1,null,null,null,1,0,0,1,0,0,0,4,4,0,1,1,0,0,0]
[null,null,null,null,"LW.0248kW.20200","LW.0248kW.20200",4,2,0,2,0,0,"LW",248.4,0,1,3,2,0,2,2,0,0,0,1,0,0,0,0,4,0,0,0,4,0,1,0,0,0,0,0,0,0,1,{"$error":"#N/A"},{"$error":"#N/A"},2,null,null,null,1,0,0,1,0,0,0,4,4,0,1,1,0,0,0]
[null,null,null,null,"LW.0248kW.21010","LW.0248kW.21010",4,2,1,0,1,0,"LW",248,0,1,3,2,1,1,2,0,0,0,1,0,0,0,0,4,0,0,0,4,0,1,0,0,0,0,0,0,0,1,{"$error":"#N/A"},{"$error":"#N/A"},2,null,null,null,1,0,0,1,0,0,0,4,4,0,1,1,0,0,0]
[null,null,null,null,"LW.0252kW.00300","LW.0252kW.00300",3,0,0,3,0,0,"LW",252.60000000000002,0,1,2,0,0,3,0,1,0,0,1,0,0,0,0,3,0,0,0,3,0,1,0,0,0,0,0,0,1,0,{"$error":"#N/A"},{"$error":"#N/A"},0,null,null,null,1,0,0,1,0,0,0,3,3,0,1,1,0,0,0]
[null,null,null,null,"LW.0252kW.01110","LW.0252kW.01110",3,0,1,1,1,0,"LW",252.2,0,1,2,0,1,2,0,1,0,0,1,0,0,0,0,3,0,0,0,3,0,1,0,0,0,0,0,0,1,0,{"$error":"#N/A"},{"$error":"#N/A"},0,null,null,null,1,0,0,1,0,0,0,3,3,0,1,1,0,0,0]
[null,null,null,null,"LW.0254kW.10020","LW.0254kW.10020",3,1,0,0,2,0,"LW",254,0,1,2,1,0,2,0,1,0,0,1,0,0,0,0,3,0,0,0,3,0,1,0,0,0,0,0,0,1,0,{"$error":"#N/A"},{"$error":"#N/A"},1,null,null,null,1,0,0,1,0,0,0,3,3,0,1,1,0,0,0]
[null,null,null,null,"LW.0267kW.03100","LW.0267kW.03100",4,0,3,1,0,0,"LW",267.2,0,1,3,0,3,1,2,0,0,0,1,0,0,0,0,4,0,0,0,4,0,1,0,0,0,0,0,0,0,1,{"$error":"#N/A"},{"$error":"#N/A"},0,null,null,null,1,0,0,1,0,0,0,4,4,0,1,1,0,0,0]
[null,null,null,null,"LW.0269kW.11200","LW.0269kW.11200",4,1,1,2,0,0,"LW",269.39999999999998,0,1,3,1,1,2,2,0,0,0,1,0,0,0,0,4,0,0,0,4,0,1,0,0,0,0,0,0,0,1,{"$error":"#N/A"},{"$error":"#N/A"},1,null,null,null,1,0,0,1,0,0,0,4,4,0,1,1,0,0,0]
[null,null,null,null,"LW.0269kW.12010","LW.0269kW.12010",4,1,2,0,1,0,"LW",269,0,1,3,1,2,1,2,0,0,0,1,0,0,0,0,4,0,0,0,4,0,1,0,0,0,0,0,0,0,1,{"$error":"#N/A"},{"$error":"#N/A"},1,null,null,null,1,0,0,1,0,0,0,4,4,0,1,1,0,0,0]
[null,null,null,null,"LW.0271kW.20110","LW.0271kW.20110",4,2,0,1,1,0,"LW",271.2,0,1,3,2,0,2,2,0,0,0,1,0,0,0,0,4,0,0,0,4,0,1,0,0,0,0,0,0,0,1,{"$error":"#N/A"},{"$error":"#N/A"},2,null,null,null,1,0,0,1,0,0,0,4,4,0,1,1,0,0,0]
[null,null,null,null,"LW.0275kW.00210","LW.0275kW.00210",3,0,0,2,1,0,"LW",275.39999999999998,0,1,2,0,0,3,0,1,0,0,1,0,0,0,0,3,0,0,0,3,0,1,0,0,0,0,0,0,1,0,{"$error":"#N/A"},{"$error":"#N/A"},0,null,null,null,1,0,0,1,0,0,0,3,3,0,1,1,0,0,0]
[null,null,null,null,"LW.0275kW.01020","LW.0275kW.01020",3,0,1,0,2,0,"LW",275,0,1,2,0,1,2,0,1,0,0,1,0,0,0,0,3,0,0,0,3,0,1,0,0,0,0,0,0,1,0,{"$error":"#N/A"},{"$error":"#N/A"},0,null,null,null,1,0,0,1,0,0,0,3,3,0,1,1,0,0,0]
[null,null,null,null,"LW.0290kW.02200","LW.0290kW.02200",4,0,2,2,0,0,"LW",290.39999999999998,0,1,{"$f":"G122-1","v":3},0,2,2,2,0,0,0,1,0,0,0,0,4,0,0,0,4,0,1,0,0,0,0,0,0,0,1,{"$f":"SUMPRODUCT(O122:AR122,$O$11:$AR$11)","v":{"$error":"#N/A"}},{"$f":"SUMPRODUCT(H122:K122,$H$11:$K$11)+AS122","v":{"$error":"#N/A"}},0,null,null,null,1,0,0,1,0,0,0,4,4,0,1,1,0,0,0]
[null,null,null,null,"LW.0290kW.03010","LW.0290kW.03010",4,0,3,0,1,0,"LW",290,0,1,3,0,3,1,2,0,0,0,1,0,0,0,0,4,0,0,0,4,0,1,0,0,0,0,0,0,0,1,{"$error":"#N/A"},{"$error":"#N/A"},{"$f":"H123","v":0},null,null,null,1,0,0,1,0,0,0,4,4,0,1,1,0,0,0]
[null,null,null,null,"LW.0292kW.10300","LW.0292kW.10300",4,1,0,3,0,0,"LW",292.60000000000002,0,1,3,1,0,3,2,0,0,0,1,0,0,0,0,4,0,0,0,4,0,1,0,0,0,0,0,0,0,1,{"$error":"#N/A"},{"$error":"#N/A"},1,null,null,null,1,0,0,1,0,0,0,4,4,0,1,1,0,0,0]
[null,null,null,null,"LW.0292kW.11110","LW.0292kW.11110",4,1,1,1,1,0,"LW",292.2,0,1,3,1,1,2,2,0,0,0,1,0,0,0,0,4,0,0,0,4,0,1,0,0,0,0,0,0,0,1,{"$error":"#N/A"},{"$error":"#N/A"},1,null,null,null,1,0,0,1,0,0,0,4,4,0,1,1,0,0,0]
[null,null,null,null,"LW.0294kW.20020","LW.0294kW.20020",4,2,0,0,2,0,"LW",294,0,1,3,2,0,2,2,0,0,0,1,0,0,0,0,4,0,0,0,4,0,1,0,0,0,0,0,0,0,1,{"$error":"#N/A"},{"$error":"#N/A"},2,null,null,null,1,0,0,1,0,0,0,4,4,0,1,1,0,0,0]
[null,null,null,null,"LW.0298kW.00120","LW.0298kW.00120",3,0,0,1,2,0,"LW",298.2,0,1,2,0,0,3,0,1,0,0,1,0,0,0,0,3,0,0,0,3,0,1,0,0,0,0,0,0,1,0,{"$error":"#N/A"},{"$error":"#N/A"},0,null,null,null,1,0,0,1,0,0,0,3,3,0,1,1,0,0,0]
[null,null,null,null,"LW.0313kW.01300","LW.0313kW.01300",4,0,1,3,0,0,"LW",313.60000000000002,0,1,3,0,1,3,2,0,0,0,1,0,0,0,0,4,0,0,0,4,0,1,0,0,0,0,0,0,0,1,{"$error":"#N/A"},{"$error":"#N/A"},0,null,null,null,1,0,0,1,0,0,0,4,4,0,1,1,0,0,0]
[null,null,null,null,"LW.0313kW.02110","LW.0313kW.02110",4,0,2,1,1,0,"LW",313.2,0,1,3,0,2,2,2,0,0,0,1,0,0,0,0,4,0,0,0,4,0,1,0,0,0,0,0,0,0,1,{"$error":"#N/A"},{"$error":"#N/A"},0,null,null,null,1,0,0,1,0,0,0,4,4,0,1,1,0,0,0]
[null,null,null,null,"LW.0315kW.10210","LW.0315kW.10210",4,1,0,2,1,0,"LW",315.39999999999998,0,1,3,1,0,3,2,0,0,0,1,0,0,0,0,4,0,0,0,4,0,1,0,0,0,0,0,0,0,1,{"$error":"#N/A"},{"$error":"#N/A"},1,null,null,null,1,0,0,1,0,0,0,4,4,0,1,1,0,0,0]
[null,null,null,null,"LW.0315kW.11020","LW.0315kW.11020",4,1,1,0,2,0,"LW",315,0,1,3,1,1,2,2,0,0,0,1,0,0,0,0,4,0,0,0,4,0,1,0,0,0,0,0,0,0,1,{"$error":"#N/A"},{"$error":"#N/A"},1,null,null,null,1,0,0,1,0,0,0,4,4,0,1,1,0,0,0]
[null,null,null,null,"LW.0321kW.00030","LW.0321kW.00030",3,0,0,0,3,0,"LW",321,0,1,2,0,0,3,0,1,0,0,1,0,0,0,0,3,0,0,0,3,0,1,0,0,0,0,0,0,1,0,{"$error":"#N/A"},{"$error":"#N/A"},0,null,null,null,1,0,0,1,0,0,0,3,3,0,1,1,0,0,0]
[null,null,null,null,"LW.0336kW.00400","LW.0336kW.00400",4,0,0,4,0,0,"LW",336.8,0,1,3,0,0,4,2,0,0,0,1,0,0,0,0,4,0,0,0,4,0,1,0,0,0,0,0,0,0,1,{"$error":"#N/A"},{"$error":"#N/A"},0,null,null,null,1,0,0,1,0,0,0,4,4,0,1,1,0,0,0]
[null,null,null,null,"LW.0336kW.01210","LW.0336kW.01210",4,0,1,2,1,0,"LW",336.4,0,1,3,0,1,3,2,0,0,0,1,0,0,0,0,4,0,0,0,4,0,1,0,0,0,0,0,0,0,1,{"$error":"#N/A"},{"$error":"#N/A"},0,null,null,null,1,0,0,1,0,0,0,4,4,0,1,1,0,0,0]
[null,null,null,null,"LW.0336kW.02020","LW.0336kW.02020",4,0,2,0,2,0,"LW",336,0,1,3,0,2,2,2,0,0,0,1,0,0,0,0,4,0,0,0,4,0,1,0,0,0,0,0,0,0,1,{"$error":"#N/A"},{"$error":"#N/A"},0,null,null,null,1,0,0,1,0,0,0,4,4,0,1,1,0,0,0]
[null,null,null,null,"LW.0338kW.10120","LW.0338kW.10120",4,1,0,1,2,0,"LW",338.2,0,1,3,1,0,3,2,0,0,0,1,0,0,0,0,4,0,0,0,4,0,1,0,0,0,0,0,0,0,1,{"$error":"#N/A"},{"$error":"#N/A"},1,null,null,null,1,0,0,1,0,0,0,4,4,0,1,1,0,0,0]
[null,null,null,null,"LW.0359kW.00310","LW.0359kW.00310",4,0,0,3,1,0,"LW",359.6,1,0,3,0,0,4,2,0,0,1,0,0,0,0,0,4,0,0,0,4,0,1,0,0,0,0,0,0,0,1,{"$error":"#N/A"},{"$error":"#N/A"},0,null,null,null,1,0,0,1,0,0,0,4,4,1,0,1,0,0,0]
[null,null,null,null,"LW.0359kW.01120","LW.0359kW.01120",4,0,1,1,2,0,"LW",359.2,1,0,3,0,1,3,2,0,0,1,0,0,0,0,0,4,0,0,0,4,0,1,0,0,0,0,0,0,0,1,{"$error":"#N/A"},{"$error":"#N/A"},0,null,null,null,1,0,0,1,0,0,0,4,4,1,0,1,0,0,0]
[null,null,null,null,"LW.0361kW.10030","LW.0361kW.10030",4,1,0,0,3,0,"LW",361,1,0,3,1,0,3,2,0,0,1,0,0,0,0,0,4,0,0,0,4,0,1,0,0,0,0,0,0,0,1,{"$error":"#N/A"},{"$error":"#N/A"},1,null,null,null,1,0,0,1,0,0,0,4,4,1,0,1,0,0,0]
[null,null,null,null,"LW.0382kW.00220","LW.0382kW.00220",4,0,0,2,2,0,"LW",382.4,1,0,{"$f":"G140-1","v":3},0,0,4,2,0,0,1,0,0,0,0,0,4,0,0,0,4,0,1,0,0,0,0,0,0,0,1,{"$f":"SUMPRODUCT(O140:AR140,$O$11:$AR$11)","v":{"$error":"#N/A"}},{"$f":"SUMPRODUCT(H140:K140,$H$11:$K$11)+AS140","v":{"$error":"#N/A"}},{"$f":"H140","v":0},null,null,null,1,0,0,1,0,0,0,4,4,1,0,1,0,0,0]
[null,null,null,null,"LW.0382kW.01030","LW.0382kW.01030",4,0,1,0,3,0,"LW",382,1,0,{"$f":"G141-1","v":3},0,1,3,2,0,0,1,0,0,0,0,0,4,0,0,0,4,0,1,0,0,0,0,0,0,0,1,{"$f":"SUMPRODUCT(O141:AR141,$O$11:$AR$11)","v":{"$error":"#N/A"}},{"$f":"SUMPRODUCT(H141:K141,$H$11:$K$11)+AS141","v":{"$error":"#N/A"}},{"$f":"H141","v":0},null,null,null,1,0,0,1,0,0,0,4,4,1,0,1,0,0,0]
[null,null,null,null,"LW.0405kW.00130","LW.0405kW.00130",4,0,0,1,3,0,"LW",{"$f":"SUMPRODUCT($H$10:$L$10,H142:L142)","v":405.2},1,0,{"$f":"G142-1","v":3},0,0,4,2,0,0,1,0,0,0,0,0,4,0,0,0,4,0,1,0,0,0,0,0,0,0,1,{"$f":"SUMPRODUCT(O142:AR142,$O$11:$AR$11)","v":{"$error":"#N/A"}},{"$f":"SUMPRODUCT(H142:K142,$H$11:$K$11)+AS142","v":{"$error":"#N/A"}},{"$f":"H142","v":0},null,null,null,1,0,0,1,0,0,0,4,4,1,0,1,0,0,0]
[null,null,null,null,{"$f":"M143&\".\"&TEXT(FLOOR(N143,1),\"0000\")&\"kW.\"&H143&I143&J143&K143&L143","v":"LW.0428kW.00040"},{"$f":"E143","v":"LW.0428kW.00040"},4,0,0,0,4,0,"LW",{"$f":"SUMPRODUCT($H$10:$L$10,H143:L143)","v":428},1,0,{"$f":"G143-1","v":3},0,0,4,{"$f":"IF(G143=2,1,IF(G143=4,2,0))","v":2},{"$f":"IF(G143=3,1,0)","v":0},0,1,0,0,0,0,0,4,0,0,0,4,0,1,0,0,0,0,0,0,0,1,{"$f":"SUMPRODUCT(O143:AR143,$O$11:$AR$11)","v":{"$error":"#N/A"}},{"$f":"SUMPRODUCT(H143:K143,$H$11:$K$11)+AS143","v":{"$error":"#N/A"}},{"$f":"H143","v":0},null,null,null,1,0,0,1,0,0,0,4,{"$f":"G143","v":4},1,0,1,0,0,0]
[]
[]
[]
[null,null,null,null,1,2,3,4,5,6,7,8,9,10,11,12,13,14,15,16,17,18,19,20,21,22,23,24,25,26,27,28,29,30,31,32,33,34,35,36,37,38,39]
[]
[]
[null,null,null,null,"Avec MCA 160 (importation de la BdD des Néerlandais)",null,null,null,null,null,null,null,null,"Colis",null,"EH651","EH652","EH653","HC222","HC200","HC201","EH654","EH656","HC199","EH663","EH664","EH670","EH671","HC256","HC209","HC210","EH647","EH648","EH649","HC215","EH650","HC224","HC216","HC219","EH669","HC218",{"$f":"'Calcul dim par chaudière'!V149","v":"HC223"},{"$f":"'Calcul dim par chaudière'!V150","v":"HC206"}]
[null,null,null,null,null,null,null,null,null,null,null,null,null,"Prix",null,605.79999999999995,1137.5,1442,617.5,1028.2,1239.7,304.89999999999998,712.3,189.1,116.7,193.1,46.5,65.2,714.5,647.70000000000005,893.1,89.2,86.6,79.8,237.6,46.7,35.1,100,4.2,139.6,170.8,{"$f":"'Calcul dim par chaudière'!AA149","v":141},{"$f":"'Calcul dim par chaudière'!AA150","v":167}]
[null,null,null,null,null,null,null,null,null,null,null,null,null,"Référence",null,7637223,7665725,7665728,114311,111712,111714,7633244,7622701,111703,7612941,7621566,7637077,7637088,"S101656",111788,111790,7613401,7611804,7631858,111067,7622201,115269,111167,111807,7638518,112633,{"$f":"'Calcul dim par chaudière'!U149","v":100013027},{"$f":"'Calcul dim par chaudière'!U150","v":100008701}]
[null,null,null,null,null,null,null,null,null,null,null,null,null,"Puissance (80/60°C)","DN nécessaire","POMPE UPM XL GRUNDFOS 25-105 H180","COLLECTEUR DN100-2 CHAUDIERES MCA  160 FR","COLLECTEUR DN100-3 CHAUDIERES  MCA 160  FR","BOUTEILLE DE DÉCOUPLAGE DN65 < 350 kW","BOUTEILLE DE DÉCOUPLAGE DN65 > 350 et < 460 kW","BOUTEILLE DE DÉCOUPLAGE DN100 > 460 kW","ADAPTATEUR DN100/DN65","RAC COLLEC L MCA 160 EH656","BRIDES PLEINES EAU DN100","MONTANT-SUPPORT I MCA 160","CHASSIS DE MONTAGE MCA 160","RAIL DE MONTAGE MURAL 2 CHAUDIÈRES MCA 160","RAIL DE MONTAGE MURAL 3 CHAUDIÈRES MCA 160","FILTRE GAZ DN65","COUDES DN65","COUDES DN100","ISOLATION COLLECTEUR MCA 160","ISOLATION RACCORD MCA 160 ","PLAQ ISOLATION AR","ISOLATION BOUTEILLE DE DÉCOUPLAGE","ISOLATION ADAPTATEUR 100/65","ISOLATION BOUTEILLE DE DÉCOUPLAGE < 350 kW","ISOLATION COUDES 90°","PIED RÉGLABLE","JEU DE CONTRE BRIDE A SOUDER DN65","JEU DE CONTRE-BRIDES À SOUDER DN100",{"$f":"'Calcul dim par chaudière'!W149","v":"SONDE DE DÉPART + DOIGT DE GANT-BOUTEILLE < 350 kW"},{"$f":"'Calcul dim par chaudière'!W150","v":"SONDE DE DÉPART + DOIGT DE GANT"}]
[null,null,null,1,{"$f":"M154&\".\"&TEXT(FLOOR(N154,1),\"0000\")&\"kW.\"&H154&I154&J154&K154&L154","v":"LW.0304kW.00002"},{"$f":"E154","v":"LW.0304kW.00002"},2,0,0,0,0,2,"LW",{"$f":"SUMPRODUCT($H$10:$L$10,H154:L154)","v":304.2},{"$f":"IF(N154<460,\"DN65\",\"DN100\")","v":"DN65"},2,1,0,1,0,0,1,2,1,0,0,1,0,1,1,0,2,2,0,0,1,1,1,0,1,0,1,0]
[null,null,null,2,{"$f":"M155&\".\"&TEXT(FLOOR(N155,1),\"0000\")&\"kW.\"&H155&I155&J155&K155&L155","v":"LW.0456kW.00003"},"LW.0456kW.00003",3,0,0,0,0,3,"LW",456.29999999999995,"DN65",3,0,1,0,1,0,1,3,1,0,0,0,1,1,1,0,3,3,0,1,1,0,1,0,1,0,0,1]
[null,null,null,3,{"$f":"M156&\".\"&TEXT(FLOOR(N156,1),\"0000\")&\"kW.\"&H156&I156&J156&K156&L156","v":"LW.0608kW.00004"},"LW.0608kW.00004",4,0,0,0,0,4,"LW",608.4,"DN100",4,2,0,0,0,1,0,4,1,0,0,2,0,1,0,1,4,4,0,1,0,0,1,0,0,1,0,1]
[null,null,null,4,"LV.0304kW.00002","LV.0304kW.00002",2,0,0,0,0,2,"LV",304.2,"DN65",2,1,0,1,0,0,1,2,1,3,2,0,0,1,1,0,2,2,2,0,1,1,1,6,1,0,1,0]
[null,null,null,5,"LV.0456kW.00003","LV.0456kW.00003",3,0,0,0,0,3,"LV",456.29999999999995,"DN65",3,0,1,0,1,0,1,3,1,4,3,0,0,1,1,0,3,3,3,1,1,0,1,8,1,0,0,1]
[null,null,null,6,"LV.0608kW.00004","LV.0608kW.00004",4,0,0,0,0,4,"LV",608.4,"DN100",4,2,0,0,0,1,0,4,1,5,4,0,0,1,0,1,4,4,4,1,0,0,1,10,0,1,0,1]
[]
[null,null,null,7,{"$f":"M161&\".\"&TEXT(FLOOR(N161,1),\"0000\")&\"kW.\"&H161&I161&J161&K161&L161","v":"LW.0192kW.10001"},{"$f":"E161","v":"LW.0192kW.10001"},2,1,0,0,0,1,"LW",{"$f":"SUMPRODUCT($H$10:$L$10,H161:L161)","v":192.1},{"$f":"IF(N161<460,\"DN65\",\"DN100\")","v":"DN65"}]
[null,null,null,8,{"$f":"M162&\".\"&TEXT(FLOOR(N162,1),\"0000\")&\"kW.\"&H162&I162&J162&K162&L162","v":"LV.0192kW.10001"},"LV.0192kW.10001",2,1,0,0,0,1,"LV",192.1,{"$f":"IF(N162<460,\"DN65\",\"DN100\")","v":"DN65"}]
[null,null,null,9,"LW.0213kW.01001","LW.0213kW.01001",2,0,1,0,0,1,"LW",213.1,"DN65"]
[null,null,null,10,"LV.0213kW.01001","LV.0213kW.01001",2,0,1,0,0,1,"LV",213.1,"DN65"]
[null,null,null,11,"LW.0232kW.20001","LW.0232kW.20001",3,2,0,0,0,1,"LW",232.1,"DN65"]
[null,null,null,12,"LV.0232kW.20001","LV.0232kW.20001",3,2,0,0,0,1,"LV",232.1,"DN65"]
[null,null,null,13,"LW.0236kW.00101","LW.0236kW.00101",2,0,0,1,0,1,"LW",236.3,"DN65"]
[null,null,null,14,"LV.0236kW.00101","LV.0236kW.00101",2,0,0,1,0,1,"LV",236.3,"DN65"]
[null,null,null,15,"LW.0253kW.11001","LW.0253kW.11001",3,1,1,0,0,1,"LW",253.1,"DN65"]
[null,null,null,16,"LV.0253kW.11001","LV.0253kW.11001",3,1,1,0,0,1,"LV",253.1,"DN65"]
[null,null,null,17,"LW.0259kW.00011","LW.0259kW.00011",2,0,0,0,1,1,"LW",259.10000000000002,"DN65"]
[null,null,null,18,"LV.0259kW.00011","LV.0259kW.00011",2,0,0,0,1,1,"LV",259.10000000000002,"DN65"]
[null,null,null,19,"LW.0272kW.30001","LW.0272kW.30001",4,3,0,0,0,1,"LW",272.10000000000002,"DN65"]
[null,null,null,20,"LV.0272kW.30001","LV.0272kW.30001",4,3,0,0,0,1,"LV",272.10000000000002,"DN65"]
[null,null,null,21,"LW.0274kW.02001","LW.0274kW.02001",3,0,2,0,0,1,"LW",274.10000000000002,"DN65"]
[null,null,null,22,"LV.0274kW.02001","LV.0274kW.02001",3,0,2,0,0,1,"LV",274.10000000000002,"DN65"]
[null,null,null,23,"LW.0276kW.10101","LW.0276kW.10101",3,1,0,1,0,1,"LW",276.3,"DN65"]
[null,null,null,24,"LV.0276kW.10101","LV.0276kW.10101",3,1,0,1,0,1,"LV",276.3,"DN65"]
[null,null,null,25,"LW.0293kW.21001","LW.0293kW.21001",4,2,1,0,0,1,"LW",293.10000000000002,"DN65"]
[null,null,null,26,"LV.0293kW.21001","LV.0293kW.21001",4,2,1,0,0,1,"LV",293.10000000000002,"DN65"]
[null,null,null,27,"LW.0297kW.01101","LW.0297kW.01101",3,0,1,1,0,1,"LW",297.29999999999995,"DN65"]
[null,null,null,28,"LV.0297kW.01101","LV.0297kW.01101",3,0,1,1,0,1,"LV",297.29999999999995,"DN65"]
[null,null,null,29,"LW.0299kW.10011","LW.0299kW.10011",3,1,0,0,1,1,"LW",299.10000000000002,"DN65"]
[null,null,null,30,"LV.0299kW.10011","LV.0299kW.10011",3,1,0,0,1,1,"LV",299.10000000000002,"DN65"]
[null,null,null,31,"LW.0314kW.12001","LW.0314kW.12001",4,1,2,0,0,1,"LW",314.10000000000002,"DN65"]
[null,null,null,32,"LV.0314kW.12001","LV.0314kW.12001",4,1,2,0,0,1,"LV",314.10000000000002,"DN65"]
[null,null,null,33,"LW.0316kW.20101","LW.0316kW.20101",4,2,0,1,0,1,"LW",316.29999999999995,"DN65"]
[null,null,null,34,"LV.0316kW.20101","LV.0316kW.20101",4,2,0,1,0,1,"LV",316.29999999999995,"DN65"]
[null,null,null,35,"LW.0320kW.01011","LW.0320kW.01011",3,0,1,0,1,1,"LW",320.10000000000002,"DN65"]
[null,null,null,36,"LW.0320kW.00201","LW.0320kW.00201",3,0,0,2,0,1,"LW",320.5,"DN65"]
[null,null,null,37,"LV.0320kW.01011",{"$f":"E191","v":"LV.0320kW.01011"},3,0,1,0,1,1,"LV",{"$f":"SUMPRODUCT($H$10:$L$10,H191:L191)","v":320.10000000000002},"DN65"]
[null,null,null,38,"LV.0320kW.00201","LV.0320kW.00201",3,0,0,2,0,1,"LV",320.5,"DN65"]
[null,null,null,39,"LW.0335kW.03001","LW.0335kW.03001",4,0,3,0,0,1,"LW",335.1,"DN65"]
[null,null,null,40,"LV.0335kW.03001","LV.0335kW.03001",4,0,3,0,0,1,"LV",335.1,"DN65"]
[null,null,null,41,"LW.0337kW.11101","LW.0337kW.11101",4,1,1,1,0,1,"LW",337.29999999999995,"DN65"]
[null,null,null,42,"LV.0337kW.11101","LV.0337kW.11101",4,1,1,1,0,1,"LV",337.29999999999995,"DN65"]
[null,null,null,43,"LW.0339kW.20011","LW.0339kW.20011",4,2,0,0,1,1,"LW",339.1,"DN65"]
[null,null,null,44,"LV.0339kW.20011","LV.0339kW.20011",4,2,0,0,1,1,"LV",339.1,"DN65"]
[null,null,null,45,"LW.0344kW.10002","LW.0344kW.10002",3,1,0,0,0,2,"LW",344.2,"DN65"]
[null,null,null,46,"LV.0344kW.10002","LV.0344kW.10002",3,1,0,0,0,2,"LV",344.2,"DN65"]
[null,null,null,47,"LW.0343kW.00111","LW.0343kW.00111",3,0,0,1,1,1,"LW",343.29999999999995,"DN65"]
[null,null,null,48,"LV.0343kW.00111","LV.0343kW.00111",3,0,0,1,1,1,"LV",343.29999999999995,"DN65"]
[null,null,null,49,"LW.0358kW.02101","LW.0358kW.02101",4,0,2,1,0,1,"LW",358.29999999999995,"DN65"]
[null,null,null,50,"LV.0358kW.02101","LV.0358kW.02101",4,0,2,1,0,1,"LV",358.29999999999995,"DN65"]
[null,null,null,51,"LW.0360kW.11011","LW.0360kW.11011",4,1,1,0,1,1,"LW",360.1,"DN65"]
[null,null,null,52,"LW.0360kW.10201","LW.0360kW.10201",4,1,0,2,0,1,"LW",360.5,"DN65"]
[null,null,null,53,"LV.0360kW.11011","LV.0360kW.11011",4,1,1,0,1,1,"LV",360.1,"DN65"]
[null,null,null,54,"LV.0360kW.10201","LV.0360kW.10201",4,1,0,2,0,1,"LV",360.5,"DN65"]
[null,null,null,55,"LW.0365kW.01002","LW.0365kW.01002",3,0,1,0,0,2,"LW",365.2,"DN65"]
[null,null,null,56,"LV.0365kW.01002","LV.0365kW.01002",3,0,1,0,0,2,"LV",365.2,"DN65"]
[null,null,null,57,"LW.0366kW.00021","LW.0366kW.00021",3,0,0,0,2,1,"LW",366.1,"DN65"]
[null,null,null,58,"LV.0366kW.00021","LV.0366kW.00021",3,0,0,0,2,1,"LV",366.1,"DN65"]
[null,null,null,59,"LW.0384kW.20002","LW.0384kW.20002",4,2,0,0,0,2,"LW",384.2,"DN65"]
[null,null,null,60,"LV.0384kW.20002","LV.0384kW.20002",4,2,0,0,0,2,"LV",384.2,"DN65"]
[null,null,null,61,"LW.0381kW.02011","LW.0381kW.02011",4,0,2,0,1,1,"LW",381.1,"DN65"]
[null,null,null,62,"LW.0381kW.01201","LW.0381kW.01201",4,0,1,2,0,1,"LW",381.5,"DN65"]
[null,null,null,63,"LV.0381kW.02011","LV.0381kW.02011",4,0,2,0,1,1,"LV",381.1,"DN65"]
[null,null,null,64,"LV.0381kW.01201","LV.0381kW.01201",4,0,1,2,0,1,"LV",381.5,"DN65"]
[null,null,null,65,"LW.0383kW.10111","LW.0383kW.10111",4,1,0,1,1,1,"LW",383.29999999999995,"DN65"]
[null,null,null,66,"LV.0383kW.10111","LV.0383kW.10111",4,1,0,1,1,1,"LV",383.29999999999995,"DN65"]
[null,null,null,67,"LW.0388kW.00102","LW.0388kW.00102",3,0,0,1,0,2,"LW",388.4,"DN65"]
[null,null,null,68,"LV.0388kW.00102","LV.0388kW.00102",3,0,0,1,0,2,"LV",388.4,"DN65"]
[null,null,null,69,"LW.0405kW.11002",{"$f":"E223","v":"LW.0405kW.11002"},4,1,1,0,0,2,"LW",{"$f":"SUMPRODUCT($H$10:$L$10,H223:L223)","v":405.2},"DN65"]
[null,null,null,70,"LV.0405kW.11002","LV.0405kW.11002",4,1,1,0,0,2,"LV",405.2,{"$f":"IF(N224<460,\"DN65\",\"DN100\")","v":"DN65"}]
[null,null,null,71,"LW.0404kW.01111","LW.0404kW.01111",4,0,1,1,1,1,"LW",404.29999999999995,"DN65"]
[null,null,null,72,{"$f":"M226&\".\"&TEXT(FLOOR(N226,1),\"0000\")&\"kW.\"&H226&I226&J226&K226&L226","v":"LV.0404kW.01111"},"LV.0404kW.01111",4,0,1,1,1,1,"LV",404.29999999999995,"DN65"]
[null,null,null,73,"LW.0404kW.00301","LW.0404kW.00301",4,0,0,3,0,1,"LW",404.70000000000005,"DN65"]
[null,null,null,74,"LV.0404kW.00301","LV.0404kW.00301",4,0,0,3,0,1,"LV",404.70000000000005,"DN65"]
[null,null,null,75,"LW.0406kW.10021","LW.0406kW.10021",4,1,0,0,2,1,"LW",406.1,"DN65"]
[null,null,null,76,"LV.0406kW.10021","LV.0406kW.10021",4,1,0,0,2,1,"LV",406.1,"DN65"]
[null,null,null,77,"LW.0411kW.00012","LW.0411kW.00012",3,0,0,0,1,2,"LW",411.2,"DN65"]
[null,null,null,78,"LV.0411kW.00012","LV.0411kW.00012",3,0,0,0,1,2,"LV",411.2,"DN65"]
[null,null,null,79,"LW.0426kW.02002","LW.0426kW.02002",4,0,2,0,0,2,"LW",426.2,"DN65"]
[null,null,null,80,"LV.0426kW.02002","LV.0426kW.02002",4,0,2,0,0,2,"LV",426.2,"DN65"]
[null,null,null,81,"LW.0428kW.10102","LW.0428kW.10102",4,1,0,1,0,2,"LW",428.4,"DN65"]
[null,null,null,82,"LV.0428kW.10102","LV.0428kW.10102",4,1,0,1,0,2,"LV",428.4,"DN65"]
[null,null,null,83,"LW.0427kW.01021","LW.0427kW.01021",4,0,1,0,2,1,"LW",427.1,"DN65"]
[null,null,null,84,"LW.0427kW.00211","LW.0427kW.00211",4,0,0,2,1,1,"LW",427.5,"DN65"]
[null,null,null,85,"LV.0427kW.01021","LV.0427kW.01021",4,0,1,0,2,1,"LV",427.1,"DN65"]
[null,null,null,86,"LV.0427kW.00211","LV.0427kW.00211",4,0,0,2,1,1,"LV",427.5,"DN65"]
[null,null,null,87,"LW.0449kW.01102","LW.0449kW.01102",4,0,1,1,0,2,"LW",449.4,"DN65"]
[null,null,null,88,"LV.0449kW.01102","LV.0449kW.01102",4,0,1,1,0,2,"LV",449.4,"DN65"]
[null,null,null,89,"LW.0451kW.10012","LW.0451kW.10012",4,1,0,0,1,2,"LW",451.2,"DN65"]
[null,null,null,90,"LV.0451kW.10012","LV.0451kW.10012",4,1,0,0,1,2,"LV",451.2,"DN65"]
[null,null,null,91,"LW.0450kW.00121","LW.0450kW.00121",4,0,0,1,2,1,"LW",450.29999999999995,"DN65"]
[null,null,null,92,"LV.0450kW.00121","LV.0450kW.00121",4,0,0,1,2,1,"LV",450.29999999999995,"DN65"]
[null,null,null,93,"LW.0472kW.01012","LW.0472kW.01012",4,0,1,0,1,2,"LW",472.2,"DN100"]
[null,null,null,94,"LW.0472kW.00202","LW.0472kW.00202",4,0,0,2,0,2,"LW",472.6,"DN100"]
[null,null,null,95,"LV.0472kW.01012","LV.0472kW.01012",4,0,1,0,1,2,"LV",472.2,"DN100"]
[null,null,null,96,"LV.0472kW.00202","LV.0472kW.00202",4,0,0,2,0,2,"LV",472.6,"DN100"]
[null,null,null,97,"LW.0473kW.00031","LW.0473kW.00031",4,0,0,0,3,1,"LW",473.1,"DN100"]
[null,null,null,98,"LV.0473kW.00031","LV.0473kW.00031",4,0,0,0,3,1,"LV",473.1,"DN100"]
[null,null,null,99,"LW.0496kW.10003",{"$f":"E253","v":"LW.0496kW.10003"},4,1,0,0,0,3,"LW",{"$f":"SUMPRODUCT($H$10:$L$10,H253:L253)","v":496.29999999999995},"DN100"]
[null,null,null,100,"LV.0496kW.10003","LV.0496kW.10003",4,1,0,0,0,3,"LV",496.29999999999995,"DN100"]
[null,null,null,101,"LW.0495kW.00112","LW.0495kW.00112",4,0,0,1,1,2,"LW",495.4,"DN100"]
[null,null,null,102,"LV.0495kW.00112","LV.0495kW.00112",4,0,0,1,1,2,"LV",495.4,"DN100"]
[null,null,null,103,"LW.0517kW.01003","LW.0517kW.01003",4,0,1,0,0,3,"LW",517.29999999999995,"DN100"]
[null,null,null,104,"LV.0517kW.01003","LV.0517kW.01003",4,0,1,0,0,3,"LV",517.29999999999995,"DN100"]
[null,null,null,105,"LW.0518kW.00022","LW.0518kW.00022",4,0,0,0,2,2,"LW",518.20000000000005,"DN100"]
[null,null,null,106,"LV.0518kW.00022","LV.0518kW.00022",4,0,0,0,2,2,"LV",518.20000000000005,"DN100"]
[null,null,null,107,"LW.0540kW.00103","LW.0540kW.00103",4,0,0,1,0,3,"LW",540.5,"DN100"]
[null,null,null,108,"LV.0540kW.00103","LV.0540kW.00103",4,0,0,1,0,3,"LV",540.5,"DN100"]
[null,null,null,109,"LW.0563kW.00013","LW.0563kW.00013",4,0,0,0,1,3,"LW",563.29999999999995,"DN100"]
[null,null,null,110,"LV.0563kW.00013","LV.0563kW.00013",4,0,0,0,1,3,"LV",563.29999999999995,"DN100"]

{"sheet":"References","index":5,"n_rows":104,"n_cols":12,"rows_kept":104,"cut":false,"hidden":true,"merged":[[1,3,1,11]]}
[]
[null,"DESIGNATION",null,"REFERENCE"]
[null,null,null,"Deutsch","English","Español","Français","Italiano","Polsky","Русский","Nederlands","Other"]
[]
[null,"SONDE DE DÉPART + DOIGT DE GANT",100008701,null,null,null,100008701]
[null,"SONDE DE DÉPART + DOIGT DE GANT-BOUTEILLE < 350 kW",100013027,null,null,null,100013027]
[null,"CABLE DE LIAISON INTER-MODULE RX 11",88017836,null,null,null,88017836]
[null,"POMPE CHAUFFAGE 3 VITESSES POUR MC 45 ","S101614",null,null,null,"S101614"]
[null,"POMPE CHAUFFAGE 3 VITESSES POUR MC 65 ","S101614",null,null,null,"S101614"]
[null,"POMPE CHAUFFAGE 3 VITESSES POUR MC 90",7608398,null,null,null,7608398]
[null,"COLLECTEUR DN65 - 2 CHAUDIÈRES",110968,null,null,null,110968]
[null,"COLLECTEUR DN65 - 3 CHAUDIÈRES",110967,null,null,null,110967]
[null,"COLLECTEUR DN65 - 4 CHAUDIÈRES",110966,null,null,null,110966]
[null,"BOUTEILLE DE DÉCOUPLAGE DN65 > 350 et < 460 kW",111712,null,null,null,111712]
[null,"BOUTEILLE DE DÉCOUPLAGE DN65 < 350 kW",114311,null,null,null,114311]
[null,"COLLECTEUR DN100 - 2 CHAUDIÈRES",110961,null,null,null,110961]
[null,"COLLECTEUR DN100 - 3 CHAUDIÈRES",110960,null,null,null,110960]
[null,"COLLECTEUR DN100 - 4 CHAUDIÈRES",110954,null,null,null,110954]
[null,"BOUTEILLE DE DÉCOUPLAGE DN100",111714,null,null,null,111714]
[null,"KIT DE RACCORDEMENT AVANT FR + BE",111022,null,null,null,111022]
[null,"KIT DE RACC. POUR MONTAGE ARRIÈRE",111037,null,null,null,111037]
[]
[null,"JEU DE BOUCHONS",111708,null,null,null,111708]
[null,"BRIDE PLEINE GAZ DN50",111698,null,null,null,111698]
[null,"BRIDES PLEINES EAU DN65",111701,null,null,null,111701]
[null,"BRIDE PLEINE GAZ DN65",111699,null,null,null,111699]
[null,"BRIDES PLEINES EAU DN100",111703,null,null,null,111703]
[null,"MONTANT-SUPPORT L",110948,null,null,null,110948]
[null,"MONTANT-SUPPORT I",110950,null,null,null,110950]
[null,"CHASSIS DE MONTAGE",110496,null,null,null,110496]
[null,"RAIL DE MONTAGE MURAL 2 CHAUDIÈRES",111688,null,null,null,111688]
[null,"RAIL DE MONTAGE MURAL 3 CHAUDIÈRES",111689,null,null,null,111689]
[null,"RAIL DE MONTAGE MURAL 4 CHAUDIÈRES",111690,null,null,null,111690]
[]
[null,"ADAPTATEUR Ø 80 - 100 MM",84887768,null,null,null,84887768]
[null,"CLAPET FUMEES MOTORISE",100002685,null,null,null,100002685]
[null,"COMMANDE EXTERNE ALARME VANNE",100003347,null,null,null,100003347]
[null,"VANNE DES SECURITE GAZ DN50",114418,null,null,null,114418]
[null,"FILTRE GAZ DN50",111779,null,null,null,111779]
[null,"VANNE DES SECURITE GAZ DN65",114419,null,null,null,114419]
[null,"FILTRE GAZ DN65",111780,null,null,null,111780]
[null,"COUDES DN65",111788,null,null,null,111788]
[null,"COUDES DN100",111790,null,null,null,111790]
[null,"TUBE RALLONGE POUR FILTRE GAZ DN50",111805,null,null,null,111805]
[null,"TUBE RALLONGE POUR FILTRE GAZ DN65",111806,null,null,null,111806]
[null,"ISOLATION COLLECTEUR",111069,null,null,null,111069]
[null,"ISOLATION RACCORDEMENT CHAUDIÈRE",111920,null,null,null,111920]
[null,"ISOLATION BOUTEILLE DE DÉCOUPLAGE",111067,null,null,null,111067]
[null,"ISOLATION BOUTEILLE DE DÉCOUPLAGE < 350 kW",115269,null,null,null,115269]
[null,"ISOLATION COUDES 90°C",111167,null,null,null,111167]
[null,"PIED RÉGLABLE",111807,null,null,null,111807]
[null,"JEU DE CONTRE-BRIDES À SOUDER DN65",112632,null,null,null,112632]
[null,"JEU DE CONTRE-BRIDES À SOUDER DN100",112633,null,null,null,112633]
[]
[null,"CHASSIS DE MONTAGE",110496,null,null,null,110496]
[null,"MONTANT-SUPPORT L",110948,null,null,null,110948]
[null,"MONTANT-SUPPORT I",110950,null,null,null,110950]
[null,"COLLECTEUR DN65 - 4 CHAUDIÈRES",110966,null,null,null,110966]
[null,"COLLECTEUR DN65 - 3 CHAUDIÈRES",110967,null,null,null,110967]
[null,"COLLECTEUR DN65 - 2 CHAUDIÈRES",110968,null,null,null,110968]
[null,"COLLECTEUR DN100 - 3 CHAUDIÈRES",110960,null,null,null,110960]
[null,"COLLECTEUR DN100 - 2 CHAUDIÈRES",110961,null,null,null,110961]
[null,"COLLECTEUR DN100 - 4 CHAUDIÈRES",110954,null,null,null,110954]
[null,"RAIL DE MONTAGE MURAL 2 CHAUDIÈRES",111688,null,null,null,111688]
[null,"RAIL DE MONTAGE MURAL 3 CHAUDIÈRES",111689,null,null,null,111689]
[null,"RAIL DE MONTAGE MURAL 4 CHAUDIÈRES",111690,null,null,null,111690]
[null,"JEU DE BOUCHONS",111708,null,null,null,111708]
[null,"BRIDE PLEINE GAZ DN50",111698,null,null,null,111698]
[null,"BRIDE PLEINE GAZ DN65",111699,null,null,null,111699]
[null,"BRIDES PLEINES EAU DN65",111701,null,null,null,111701]
[null,"BRIDES PLEINES EAU DN100",111703,null,null,null,111703]
[null,"BOUTEILLE DE DÉCOUPLAGE DN65 < 350 kW",114311,null,null,null,114311]
[null,"BOUTEILLE DE DÉCOUPLAGE DN65 > 350 et < 460 kW",111712,null,null,null,111712]
[null,"BOUTEILLE DE DÉCOUPLAGE DN100",111714,null,null,null,111714]
[null,"KIT DE RACCORDEMENT AVANT FR + BE",111022,null,null,null,111022]
[null,"KIT DE RACC. POUR MONTAGE ARRIÈRE",111037,null,null,null,111037]
[null,"MANCHON D'ADAPTATION POUR POMPE MC35E",111088,null,null,null,111088]
[null,"POMPE CHAUFFAGE 3 VITESSES POUR MC 45 ","S101614",null,null,null,"S101614"]
[null,"POMPE CHAUFFAGE 3 VITESSES POUR MC 65 ","S101614",null,null,null,"S101614"]
[null,"POMPE CHAUFFAGE 3 VITESSES POUR MC 90",7608398,null,null,null,7608398]
[null,"SONDE DE DÉPART + DOIGT DE GANT-BOUTEILLE < 350 kW",100013027,null,null,null,100013027]
[null,"SONDE DE DÉPART + DOIGT DE GANT",100008701,null,null,null,100008701]
[null,"CABLE DE LIAISON INTER-MODULE RX 11",88017836,null,null,null,88017836]
[]
[null,"FILTRE GAZ DN50",111779,null,null,null,111779]
[null,"FILTRE GAZ DN65",111780,null,null,null,111780]
[null,"COUDES DN65",111788,null,null,null,111788]
[null,"COUDES DN100",111790,null,null,null,111790]
[null,"TUBE RALLONGE POUR FILTRE GAZ DN50",111805,null,null,null,111805]
[null,"TUBE RALLONGE POUR FILTRE GAZ DN65",111806,null,null,null,111806]
[null,"ISOLATION COLLECTEUR",111069,null,null,null,111069]
[null,"ISOLATION RACCORDEMENT CHAUDIÈRE",111920,null,null,null,111920]
[null,"ISOLATION BOUTEILLE DE DÉCOUPLAGE < 350 kW",115269,null,null,null,115269]
[null,"ISOLATION BOUTEILLE DE DÉCOUPLAGE",111067,null,null,null,111067]
[null,"ISOLATION COUDES 90°C",111167,null,null,null,111167]
[null,"JEU DE CONTRE-BRIDES À SOUDER DN65",112632,null,null,null,112632]
[null,"JEU DE CONTRE-BRIDES À SOUDER DN100",112633,null,null,null,112633]
[null,"PIED RÉGLABLE",111807,null,null,null,111807]
[null,"COMMANDE EXTERNE ALARME VANNE",100003347,null,null,null,100003347]
[null,"CLAPET FUMEES MOTORISE",100002685,null,null,null,100002685]
[null,"ADAPTATEUR Ø 80 - 100 MM",84887768,null,null,null,84887768]
[]
[null,"KIT ISPESL DN65",116675,null,null,null,116675]
[null,"KIT ISPESL DN100",116741,null,null,null,116741]

{"sheet":"Language","index":6,"n_rows":61,"n_cols":11,"rows_kept":61,"cut":false,"hidden":true,"merged":[]}
[]
["N°"]
[1,"Français","Deutsch","English","Español","Italiano","Polsky","Русский","Nederlands","Other","Langues"]
[2,"Détermination et chiffrage des systèmes cascade","Bestimmung und Bestelldaten der Kaskaden-Système","Determination and calculation of cascade systems","Determinación y cálculo de los sistemas de cascada","Determinazione e cifratura dei sistemi cascata","Określenie i ocena liczbowa systemów kaskadowych","Определение и расчет каскадных систем","Bepaling en calculatie van de cascadesystemen"]
[3,"Pour MC 45, 65, 90 et 115","Für MC 45, 65, 90 und 115","For MC 45, 65, 90 and 115","Para MC 45, 65, 90 y 115","Per MC 45, 65, 90 e 115","Dla urządzeń MC 45, 65, 90 oraz 115","Для MC 45, 65, 90 и 115","Voor MC 45, 65, 90 en 115"]
[4,"PRIX DU SYSTEME CASCADE","GESAMTPREIS DES KASKADENSYSTEMS","TOTAL PRICE OF THE CASCADE SYSTEM","PRECIO TOTAL DEL SISTEMA DE CASCADA","PREZZO TOTALE DEL SISTEMA CASCATA","CAŁKOWITA CENA SYSTEMU KASKADOWEGO","ИТОГОВАЯ ЦЕНА КАСКАДНОЙ СИСТЕМЫ","TOTAALPRIJS VAN HET CASCADESYSTEEM"]
[5,"PRIX TOTAL DU SYSTEME CASCADE AVEC CHAUDIERES","GESAMTPREIS DES KASKADENSYSTEMS MIT HEIZKESSELN","TOTAL PRICE OF THE CASCADE SYSTEM WITH BOILERS","PRECIO TOTAL DEL SISTEMA DE CASCADA CON CALDERAS","PREZZO TOTALE DEL SISTEMA CASCATA CON CALDAIE","CALKOWITA CENA SYSTEMU KASKADOWEGO Z KOTŁAMI","ИТОГОВАЯ ЦЕНА КАСКАДНОЙ СИСТЕМЫ С КОТЛАМИ","TOTAALPRIJS VAN HET CASCADESYSTEEM MET VERWARMINGSKETELS"]
[6,"PRIX TOTAL ACCESSOIRES","GESAMTPREIS ZUBEHÖR","TOTAL PRICE ACCESSORIES","PRECIO TOTAL DE LOS ACCESORIOS","PREZZO TOTALE ACCESSORI","CAŁKOWITA CENA CZĘŚCI","ИТОГОВАЯ ЦЕНА ДОПОЛНИТЕЛЬНОГО ОБОРУДОВАНИЯ","TOTAALPRIJS ACCESSOIRES"]
[7,"Version 02/2011","Version 11/2009","Version 11/2009","Versión 11/2009","Versione Agosto 2009","Wersja z Sierpień 2009","Версия : 11/2009","Versie Augustus 2009"]
[8,"Identification de l'étude","Bezeichnung der Analyse","Identification of the study","Identificación del estudio","Identificazione dello studio","Identyfikacja projektu","Идентификация расчета","Identificatie rapportage"]
[9,"Référence","Referenz","Reference","Referencia","Articolo","Oznaczenie","Описание объекта","Referentie"]
[10,"Données","Daten","Data","Datos","Dati","Dane","Вводимые данные","Gegevens"]
[11,"Puisance de l'installation (kW)","Wärmeleistung der Installation (in kW)","Output of the installation (kW)","Potencia de la instalación (kW)","Potenza dell’impianto (kW)","Moc instalacji (kW)","Мощность установки (кВт)","Vermogen van de installatie (kW)"]
[12,"Intervalle autorisé (+/- … kW)","Zulässiges Intervall (+/- … kW)","Gap permitted (+/- … kW)","Intervalo autorizado (+/- … kW)","Intervallo autorizzato (+/- … kW)","Dopuszczalny przedział (+/- … kW)","Разрешенный диапазон (+/- ... кВт)","Toegestane interval (+/- … kW)"]
[13,"Nombre de chaudières","Anzahl Heizkessel","Number of boilers","Número de calderas","Numero di caldaie","Liczba kotłów","Количество котлов","Aantal verwarmingsketels"]
[14,"Alignement de la cascade","Anordnung der Kaskade","Alignment of the cascade","Alineación de la cascada","Allineamento della cascata","Wyrównanie kaskady","Расположение в каскаде","Uitlijning van de cascade"]
[15,"Système cascade","Kaskadensystem","Cascade system","Sistema de cascada","Sistema cascata","System kaskadowy","Каскадная система","Cascadesysteem"]
[16,"Attention ! Lorsque vous modifiez une des sélections, il faut toujours revalider les suivantes !","Achtung! Wenn einer der Werte geändert wird, müssen die anderen Werte erneut bestätigt werden!","NB! When you change one of the selections, you must always revalidate the next ones!","Atención! si modifica alguna de las opciones seleccionadas, siempre hay que volver a validar las siguientes!","Attenzione! Quando modificate una delle selezioni, bisogna sempre confermare quelle successive!","Uwaga! Jeżeli zmieniasz jedną w wybranych wartości, należy zatwierdzić następne wartości!","Внимание! При изменении выбора всегда изменять следующие значения!","Let op! Wanneer u één van de selecties wijzigt, moet u altijd de volgende opnieuw valideren!"]
[17,"Nb chaudières !","Anzahl Heizkessel!","Number boilers!","N.º calderas","N° caldaie!","Licz kotłów!","Количество котлов","Aant. verwarmingsketels!"]
[18,"Solution De Dietrich","De Dietrich-Lösung","De Dietrich Solution","Solución De Dietrich","Soluzione De Dietrich","Rozwiązanie De Dietrich","Решение De Dietrich","Oplossing De Dietrich"]
[19,"Solution De Dietrich (suite)","De Dietrich-Lösung (Fortsetzung)","De Dietrich Solution (contd.)","Solución De Dietrich (cont.)","Soluzione De Dietrich (segue)","Rozwiązanie De Dietrich (ciąg dalszy)","Решение De Dietrich (продолжение)","Oplossing De Dietrich (vervolg)"]
[20,"Désignation","Bezeichnung","Description","Denominación","Designazione","Nazwa","Наименование","Benaming"]
[21,"Puissance (kW)","Leistung (kW)","Output (kW)","Potencia (kW)","Potenza (kW)","Moc (kW)","Мощность (кBт)","Vermogen (kW)"]
[22,"Nombre de chaudières","Anzahl Heizkessel","Number of boilers","Número de calderas","Numero di caldaie","Liczba kotłów","Количество котлов","Aantal verwarmingsketels"]
[23,"Type de chaudières","Heizkesseltypen","Type of boilers","Tipo de calderas","Tipo di caldaie","Rodzaj kotłów","Тип котлов","Type verwarmingsketels"]
[24,"MCA 45","MC 45","MC 45","MC 45","MC 45","MC 45","MC 45","MC 45"]
[25,"MCA 65","MC 65","MC 65","MC 65","MC 65","MC 65","MC 65","MC 65"]
[26,"MCA 90","MC 90","MC 90","MC 90","MC 90","MC 90","MC 90","MC 90"]
[27,"MCA 115","MC 115","MC 115","MC 115","MC 115","MC 115","MC 115","MC 115"]
[28,"Prix système cascade seul","Preis Kaskadensystem einzeln","Price cascade system only","Precio del sistema de cascada solo","Prezzo del solo sistema cascata","Cena pojedynczego systemu kaskadowego","Цена только каскадной системы","Prijs los cascadesysteem"]
[29,"Prix système cascade avec chaudières","Preis Kaskadensystem mit Heizkesseln","Price cascade system with boilers","Precio del sistema de cascada con calderas","Prezzo sistema cascata con caldaie","Cena systemu kaskadowego z kotłami","Цена каскадной системы с котлами","Prijs cascadesysteem met verwarmingsketels"]
[30,"en €","Netto in €","Excl VAT in €","Antes de impuestos en €","Iva Esclusa in €","Ceny netto wyrażone w euro"," €, без НДС","exclusief B.T.W. in €"]
[31,"Solution sélectionnée","Gewählte Lösung","Solution selected","Solución seleccionada","Soluzione scelta","Wybrane rozwiązanie","Выбранное решение","Geselecteerde oplossing"]
[32,"Qtté","Menge","Qty","Ctd.","Q.tà","Ilość","Кол-во","Aant"]
[33,"Prix unitaire","Preis pro Einheit","Unit price","Precio unitario","Prezzo unitario","Cena jednostkowa","Цена за единицу","Eenheidsprijs"]
[34,"Prix total","Gesamtpreis","Total price","Precio total","Prezzo totale","Cena całkowita","Итоговая цена","Totaalprijs"]
[35,"Référence","Art.-Nr.","Reference","Referencia","Articolo","Oznaczenie","Позиция","Referentie"]
[36,"Désignation","Bezeichnung","Description","Denominación","Designazione","Nazwa","Наименование","Benaming"]
[37,"Système","System","System","Sistema","Sistema","System","Система","Systeem"]
[38,"Accessoires","Zubehör","Accessories","Accesorios","Accessori","Narzędzia","Доп. оборудование","Accessoires"]
[39,"Composition","Aufbau","Composition","Composición","Composizione","Elementy","Состав","Samenstelling "]
[40,"du système cascade","des Kaskadensystems","of the cascade system","del sistema de cascada","del sistema cascata","systemu kaskadowego","каскадной системы","van het cascadesysteem"]
[41,"mural \"LW\"","Wand \"LW\"","wall-hung \"LW\"","mural \"LW\"","murale \"LW\"","ścienny „LW”","настенное \"LW\"","wand \"LW\""]
[42,"sol \"LV\"","Boden \"LV\"","floor-standing \"LV\"","suelo \"LV\"","pavimento \"LV\"","podłogowy „LV”","напольное \"LV\"","vloer \"LV\""]
[43,"dos à dos \"RG\"","Rücken an Rücken \"RG\"","back to back \"RG\"","espalda con espalda “RG”","dorso a dorso \"RG\"","przytwierdzony zewnętrzną stroną „RG”","сдвоенное \"RG\"","rug tegen rug \"RG\""]
[44,"* Pour installation en cascade sous pression","* Für unter Druck stehende Kaskadensysteme","* For pressurised installation in cascade","* Para instalación en cascada a presión","* Per installazione a cascata sotto pressione","* W przypadku instalacji kaskadowej pod ciśnieniem","* Для каскадной установки под давлением","* Voor cascade-installatie onder druk"]
[45,"Code à rappeler lors de la commande.","Kode zu errinern während der Bestellung.","Code to be reminded during the order.","Código que debe darse al efectuar el pedido","Codice da precisare al momento dell'ordine",null,"Повторить код во время заказа"]
[46,"Marché","Markt","Market","Mercado","Mercato",null,"Рынок"]
[47,"Puissance (80/60°C)","Leistung (80/60°C)","Output (80/60°C)","Potencia (80/60°C)","Potenza (80/60°C)","Moc (80/60°C)","Мощность (80/60°C)","Vermogen (80/60°C)"]
[48,"Support","Halter","Supports","Soportes","Supporto","Wsporniki","Опора","Houders"]
[49,"_","_","_","_","_","_","_","_","_"]
[50,"Régulation","Regelung","Control system","Regulación","Regolazione","Regulacja","Панель управления","Afregeling"]
[51,"Hydraulique","Hydraulisch","Hydraulic","Hidráulica","Idraulica","Hydrauliczny","Гидравлика","Hydraulisch"]
[52,"DESIGNATION","BEZEICHNUNG","DESCRIPTION","DENOMINACIÓN","DENOMINAZIONE","BEZEICHNUNG","ОБОЗНАЧЕНИЕ"]
[53,"COLIS","KOLLI","PACKAGE","BULTO","COLLO","KOLLI","Ед. поставки"]
[54,"PRIX","PREIS","PRICE","PRECIO","PREZZO","PREIS","ПРАЙС-ЛИСТ"]
[55,"Merci de spécifier le marché de destination de ce logiciel","Bitte angeben fûr welchen Markt diese software bestimmt ist.","Please specify the destination market of this software","Gracias por especificar el mercado de destino de este software","Specificare che mercato è destinario da questo software.",null,"Необохдимо выбрать целевой рынок для данного ПО"]
[56,"Vérifiez les données (tarif, calcul, …)","Überprüfen Sie die Daten (Tarif, Berechnung, usw.)","Check the data (tariff, calculation, etc.)","Compruebe los datos (tarifa, cálculo, …)","Controllare i dati (listino, calcolo,…)","Sprawdź dane (ceny, obliczenie, …)","Проверить данные (цены, расчет, …)","Controleer de gegevens (tarief, berekening, …)"]
[57,"H.T. en €","ohne MwSt. In €","EXCL VAT in €","antes de impuestos en €","IVA esclusa in Euro","ceny netto wyrażone w euro"," €, без НДС","excl. B.T.W. in €"]
[]
[null,null,null,"PRIX"]

{"sheet":"Price List","index":7,"n_rows":4488,"n_cols":28,"rows_kept":2250,"cut":true,"hidden":true,"merged":[],"bounds":{"rows_first":1000,"rows_last":250,"rows_between":1000,"halvings":1}}
["N°Article","Désignation","Colis","Tarif HT au 01/04/2020",null,null,null,null,null,null,null,null,null,null,null,null,null,null,null,null,null,null,null,"Colis","Désignation","N°Article","Tarif HT au 01/04/2020","Tarif HT au 01/04/2020"]
[]
[]
["LA LEGISLATION IMPOSE UNE ECO-PARTICIPATION  AFIN D'ORGANISER SUR LE TERRITOIRE NATIONAL LA COLLECTE ET",null,null,null,null,null,null,null,null,null,null,null,null,null,null,null,null,null,null,null,null,null,null,null,null,"LA LEGISLATION IMPOSE UNE ECO-PARTICIPATION  AFIN D'ORGANISER SUR LE TERRITOIRE NATIONAL LA COLLECTE ET"]
["LE RECYCLAGE DE CERTAINS PRODUITS ELECTRIQUES ET ELECTRONIQUES D'EQUIPEMENTS DE LA MAISON . CELA SIGNIFIE QUE LE",null,null,null,null,null,null,null,null,null,null,null,null,null,null,null,null,null,null,null,null,null,null,null,null,"LE RECYCLAGE DE CERTAINS PRODUITS ELECTRIQUES ET ELECTRONIQUES D'EQUIPEMENTS DE LA MAISON . CELA SIGNIFIE QUE LE"]
["CONSOMMATEUR POURRA DEMANDER AU PROFESSIONNEL LA REPRISE DE L'ANCIEN MATERIEL CONTRE L'ACHAT D'UN NOUVEL",null,null,null,null,null,null,null,null,null,null,null,null,null,null,null,null,null,null,null,null,null,null,null,null,"CONSOMMATEUR POURRA DEMANDER AU PROFESSIONNEL LA REPRISE DE L'ANCIEN MATERIEL CONTRE L'ACHAT D'UN NOUVEL"]
["EQUIPEMENT DE MEME NATURE , SELON LE PRINCIPE DE << UN >> POUR << UN  >> . ",null,null,null,null,null,null,null,null,null,null,null,null,null,null,null,null,null,null,null,null,null,null,null,null,"EQUIPEMENT DE MEME NATURE , SELON LE PRINCIPE DE << UN >> POUR << UN  >> . "]
["LES PRODUITS ELIGIBLES SONT REPERTORIES SUR LE SITE OFFICIEL : www.eco-systemes.fr ",null,null,null,null,null,null,null,null,null,null,null,null,null,null,null,null,null,null,null,null,null,null,null,null,"LES PRODUITS ELIGIBLES SONT REPERTORIES SUR LE SITE OFFICIEL : www.eco-systemes.fr "]
["ET  APPARAISSENT DANS NOTRE TARIF AVEC UN MONTANT HT D'ECO-PARTICIPATION ",null,null,null,null,null,null,null,null,null,null,null,null,null,null,null,null,null,null,null,null,null,null,null,null,"ET  APPARAISSENT DANS NOTRE TARIF AVEC UN MONTANT HT D'ECO-PARTICIPATION "]
["* TOUT MONTANT D'ECO PARTICIPATION EST SUSCEPTIBLE D'EVOLUER EN CAS DE MODIFICATION DU BAREME PAR NOTRE ORGANISME COLLECTEUR",null,null,null,null,null,null,null,null,null,null,null,null,null,null,null,null,null,null,null,null,null,null,null,null,"* TOUT MONTANT D'ECO PARTICIPATION EST SUSCEPTIBLE D'EVOLUER EN CAS DE MODIFICATION DU BAREME PAR NOTRE ORGANISME COLLECTEUR"]
[]
[]
[]
[]
[]
[100017617,"OTWH 200 E","EH195",2464,null,null,null,null,null,null,null,null,null,null,null,null,null,null,null,null,null,null,null,"EH195","OTWH 200 E",100017617,2464,2464]
[100017618,"OTWH 300 E","EH196",2583,null,null,null,null,null,null,null,null,null,null,null,null,null,null,null,null,null,null,null,"EH196","OTWH 300 E",100017618,2583,2583]
[100017619,"OTWH 300 EH","EH197",3065,null,null,null,null,null,null,null,null,null,null,null,null,null,null,null,null,null,null,null,"EH197","OTWH 300 EH",100017619,3065,3065]
[]
["OPTIONS OTWH",null,null,null,null,null,null,null,null,null,null,null,null,null,null,null,null,null,null,null,null,null,null,null,null,"OPTIONS OTWH"]
[100019424,"KIT RACC. GROUPE DE SECURITE OTWH 300  EH","ER208",26,null,null,null,null,null,null,null,null,null,null,null,null,null,null,null,null,null,null,null,"ER208","KIT RACC. GROUPE DE SECURITE OTWH 300  EH",100019424,26,26]
[100007557,"COUDE A 90° D160","EH77",69,null,null,null,null,null,null,null,null,null,null,null,null,null,null,null,null,null,null,null,"EH77","COUDE A 90° D160",100007557,69,69]
[100017621,"MANCHON D'ADAPTATION D200 x D160","EH205",85,null,null,null,null,null,null,null,null,null,null,null,null,null,null,null,null,null,null,null,"EH205","MANCHON D'ADAPTATION D200 x D160",100017621,85,85]
[100017622,"GAINE SOUPLE ISOLEE  Ø 160 LONGUEUR 3 M","EH206",319,null,null,null,null,null,null,null,null,null,null,null,null,null,null,null,null,null,null,null,"EH206","GAINE SOUPLE ISOLEE  Ø 160 LONGUEUR 3 M",100017622,319,319]
[100017623,"JEU DE 2 COLLIERS DE FIXATION Ø 160","EH207",36,null,null,null,null,null,null,null,null,null,null,null,null,null,null,null,null,null,null,null,"EH207","JEU DE 2 COLLIERS DE FIXATION Ø 160",100017623,36,36]
[7625587,"GRILLE PRISE ET REJET AIR D160 ","EH558",367,null,null,null,null,null,null,null,null,null,null,null,null,null,null,null,null,null,null,null,"EH558","GRILLE PRISE ET REJET AIR D160 ",7625587,367,367]
[100017624,"TRAVERSEE DE MUR Ø 160 AVEC GRILLE","EH208",176,null,null,null,null,null,null,null,null,null,null,null,null,null,null,null,null,null,null,null,"EH208","TRAVERSEE DE MUR Ø 160 AVEC GRILLE",100017624,176,176]
[100017625,"GRILLE EXTERIEURE Ø 160 EN ALUMINIUM","EH209",253,null,null,null,null,null,null,null,null,null,null,null,null,null,null,null,null,null,null,null,"EH209","GRILLE EXTERIEURE Ø 160 EN ALUMINIUM",100017625,253,253]
[100019964,"CONDUIT PPE Ø 160 mm 2 x 1 m + 2 MANCHONS","EH272",119,null,null,null,null,null,null,null,null,null,null,null,null,null,null,null,null,null,null,null,"EH272","CONDUIT PPE Ø 160 mm 2 x 1 m + 2 MANCHONS",100019964,119,119]
[100019965,"JEU DE 2  COUDES 90°  PPE  Ø 160 mm + 2 MANCHONS","EH273",85,null,null,null,null,null,null,null,null,null,null,null,null,null,null,null,null,null,null,null,"EH273","JEU DE 2  COUDES 90°  PPE  Ø 160 mm + 2 MANCHONS",100019965,85,85]
[100019966,"JEU DE 2 MANCHONS PPE Ø  160 mm","EH274",26,null,null,null,null,null,null,null,null,null,null,null,null,null,null,null,null,null,null,null,"EH274","JEU DE 2 MANCHONS PPE Ø  160 mm",100019966,26,26]
[100019967,"TERMINAL VERTICAL NOIR Ø 160 mm","EH275",197,null,null,null,null,null,null,null,null,null,null,null,null,null,null,null,null,null,null,null,"EH275","TERMINAL VERTICAL NOIR Ø 160 mm",100019967,197,197]
[100019968,"EMBASE D'ETANCHEITE TOIT PLAT Ø  160mm","EH276",41,null,null,null,null,null,null,null,null,null,null,null,null,null,null,null,null,null,null,null,"EH276","EMBASE D'ETANCHEITE TOIT PLAT Ø  160mm",100019968,41,41]
[100019969,"EMBASE D'ETANCHEITE TOIT PENTE DEN 25 à 45°","EH277",165,null,null,null,null,null,null,null,null,null,null,null,null,null,null,null,null,null,null,null,"EH277","EMBASE D'ETANCHEITE TOIT PENTE DEN 25 à 45°",100019969,165,165]
[7613626,"COUDE CONDUIT","EH434",59,null,null,null,null,null,null,null,null,null,null,null,null,null,null,null,null,null,null,null,"EH434","COUDE CONDUIT",7613626,59,59]
[]
[]
[]
[7603139,"OTWH 200 EV","EH282",3452,null,null,null,null,null,null,null,null,null,null,null,null,null,null,null,null,null,null,null,"EH282","OTWH 200 EV",7603139,3452,3452]
[]
["OPTIONS OTWH 200 EV",null,null,null,null,null,null,null,null,null,null,null,null,null,null,null,null,null,null,null,null,null,null,null,null,"OPTIONS OTWH 200 EV"]
[7673158,"BOUCHE EXTR HY CUISINE 10-40-90","EH703",132,null,null,null,null,null,null,null,null,null,null,null,null,null,null,null,null,null,null,null,"EH703","BOUCHE EXTR HY CUISINE 10-40-90",7673158,132,132]
[7603279,"BOUCHE EXTRACTION HYGRO CUISINE A PILES 10/45/135 m3/h    (1)","EH293",132,null,null,null,null,null,null,null,null,null,null,null,null,null,null,null,null,null,null,null,"EH293","BOUCHE EXTRACTION HYGRO CUISINE A PILES 10/45/135 m3/h    (1)",7603279,132,132]
[7673162,"BOUCHE EXTR HY CUIS CORD 10-40-90","EH707",114,null,null,null,null,null,null,null,null,null,null,null,null,null,null,null,null,null,null,null,"EH707","BOUCHE EXTR HY CUIS CORD 10-40-90",7673162,114,114]
[7603283,"BOUCHE EXTRACTION HYGRO CUISINE A CORDON 10/45/135 m3/h ","EH297",114,null,null,null,null,null,null,null,null,null,null,null,null,null,null,null,null,null,null,null,"EH297","BOUCHE EXTRACTION HYGRO CUISINE A CORDON 10/45/135 m3/h ",7603283,114,114]
[7603286,"BOUCHE EXTRACTION HYGRO BAINS A PILES 5/40 m3/h ","EH299",79,null,null,null,null,null,null,null,null,null,null,null,null,null,null,null,null,null,null,null,"EH299","BOUCHE EXTRACTION HYGRO BAINS A PILES 5/40 m3/h ",7603286,79,79]
[7603288,"BOUCHE EXTRACTION HYGRO BAINS A PILES 10/40 m3/h ","EH301",79,null,null,null,null,null,null,null,null,null,null,null,null,null,null,null,null,null,null,null,"EH301","BOUCHE EXTRACTION HYGRO BAINS A PILES 10/40 m3/h ",7603288,79,79]
[7603289,"BOUCHE EXTRACTION HYGRO BAINS A PILES 10/45 m3/h ","EH302",79,null,null,null,null,null,null,null,null,null,null,null,null,null,null,null,null,null,null,null,"EH302","BOUCHE EXTRACTION HYGRO BAINS A PILES 10/45 m3/h ",7603289,79,79]
[7695991,"BOUCHE HYGRO BAINS 5/40/30 m3/h","EH882",115,null,null,null,null,null,null,null,null,null,null,null,null,null,null,null,null,null,null,null,"EH882","BOUCHE HYGRO BAINS 5/40/30 m3/h",7695991,115,115]
[7695992,"BOUCHE HYGRO BAINS 15/45/40 m3/h","EH883",115,null,null,null,null,null,null,null,null,null,null,null,null,null,null,null,null,null,null,null,"EH883","BOUCHE HYGRO BAINS 15/45/40 m3/h",7695992,115,115]
[7673167,"BOUCHE EXTR HY BAINS PILE 15-45-45 ","EH712",115,null,null,null,null,null,null,null,null,null,null,null,null,null,null,null,null,null,null,null,"EH712","BOUCHE EXTR HY BAINS PILE 15-45-45 ",7673167,115,115]
[7603290,"BOUCHE EXTRACTION HYGRO WC A PILES 5/30 m3/h   (2)","EH303",87,null,null,null,null,null,null,null,null,null,null,null,null,null,null,null,null,null,null,null,"EH303","BOUCHE EXTRACTION HYGRO WC A PILES 5/30 m3/h   (2)",7603290,87,87]
[7673170,"KiT ENTREE AIR HYGRO 5-45 ","EH715",37,null,null,null,null,null,null,null,null,null,null,null,null,null,null,null,null,null,null,null,"EH715","KiT ENTREE AIR HYGRO 5-45 ",7673170,37,37]
[7603296,"MANCHETTE PLASTIQUE D 125 POUR BOUCHE EXTRACTION","EH307",3,null,null,null,null,null,null,null,null,null,null,null,null,null,null,null,null,null,null,null,"EH307","MANCHETTE PLASTIQUE D 125 POUR BOUCHE EXTRACTION",7603296,3,3]
[7603298,"CHAPEAU DE TOITURE COULEUR TUILE D 160","EH309",69,null,null,null,null,null,null,null,null,null,null,null,null,null,null,null,null,null,null,null,"EH309","CHAPEAU DE TOITURE COULEUR TUILE D 160",7603298,69,69]
[7608997,"CHAPEAU DE TOITURE COULEUR ARDOISE D 160","EH370",69,null,null,null,null,null,null,null,null,null,null,null,null,null,null,null,null,null,null,null,"EH370","CHAPEAU DE TOITURE COULEUR ARDOISE D 160",7608997,69,69]
[100017624,"TRAVERSEE DE MUR Ø 160 AVEC GRILLE","EH208",176,null,null,null,null,null,null,null,null,null,null,null,null,null,null,null,null,null,null,null,"EH208","TRAVERSEE DE MUR Ø 160 AVEC GRILLE",100017624,176,176]
[100017625,"GRILLE EXTERIEURE Ø 160 EN ALUMINIUM","EH209",253,null,null,null,null,null,null,null,null,null,null,null,null,null,null,null,null,null,null,null,"EH209","GRILLE EXTERIEURE Ø 160 EN ALUMINIUM",100017625,253,253]
[7603304,"CONDUIT FLEXIBLE ISOLE D 160 LONGUEUR 6 M","EH314",110,null,null,null,null,null,null,null,null,null,null,null,null,null,null,null,null,null,null,null,"EH314","CONDUIT FLEXIBLE ISOLE D 160 LONGUEUR 6 M",7603304,110,110]
[7603303,"CONDUIT FLEXIBLE ISOLE D 125 LONGUEUR 6 M","EH313",69,null,null,null,null,null,null,null,null,null,null,null,null,null,null,null,null,null,null,null,"EH313","CONDUIT FLEXIBLE ISOLE D 125 LONGUEUR 6 M",7603303,69,69]
[7603302,"CONDUIT FLEXIBLE ISOLE D 80 LONGUEUR 6 M","EH312",57,null,null,null,null,null,null,null,null,null,null,null,null,null,null,null,null,null,null,null,"EH312","CONDUIT FLEXIBLE ISOLE D 80 LONGUEUR 6 M",7603302,57,57]
[7603305,"CAISSON COLLECTEUR  2 PIQUAGES D 125 ET 6 PIQUAGES D 80","EH315",159,null,null,null,null,null,null,null,null,null,null,null,null,null,null,null,null,null,null,null,"EH315","CAISSON COLLECTEUR  2 PIQUAGES D 125 ET 6 PIQUAGES D 80",7603305,159,159]
[100019964,"CONDUIT PPE Ø 160 mm 2 x 1 m + 2 MANCHONS","EH272",119,null,null,null,null,null,null,null,null,null,null,null,null,null,null,null,null,null,null,null,"EH272","CONDUIT PPE Ø 160 mm 2 x 1 m + 2 MANCHONS",100019964,119,119]
[7603307,"TUBE PPE D125 L=1M ","EH317",84,null,null,null,null,null,null,null,null,null,null,null,null,null,null,null,null,null,null,null,"EH317","TUBE PPE D125 L=1M ",7603307,84,84]
[100019965,"JEU DE 2  COUDES 90°  PPE  Ø 160 mm + 2 MANCHONS","EH273",85,null,null,null,null,null,null,null,null,null,null,null,null,null,null,null,null,null,null,null,"EH273","JEU DE 2  COUDES 90°  PPE  Ø 160 mm + 2 MANCHONS",100019965,85,85]
[7603310,"2 COUDES 90° PPE D125 + 2 MANCHONS","EH319",78,null,null,null,null,null,null,null,null,null,null,null,null,null,null,null,null,null,null,null,"EH319","2 COUDES 90° PPE D125 + 2 MANCHONS",7603310,78,78]
[100019966,"JEU DE 2 MANCHONS PPE Ø  160 mm","EH274",26,null,null,null,null,null,null,null,null,null,null,null,null,null,null,null,null,null,null,null,"EH274","JEU DE 2 MANCHONS PPE Ø  160 mm",100019966,26,26]
[7603312,"2 MANCHONS PPE D125","EH321",15,null,null,null,null,null,null,null,null,null,null,null,null,null,null,null,null,null,null,null,"EH321","2 MANCHONS PPE D125",7603312,15,15]
[7603314,"TE DROIT GALVA 90° A JOINT D 160","EH323",34,null,null,null,null,null,null,null,null,null,null,null,null,null,null,null,null,null,null,null,"EH323","TE DROIT GALVA 90° A JOINT D 160",7603314,34,34]
[7603317,"REDUCTION GALVA  A JOINT  D 125 X 80","EH326",27,null,null,null,null,null,null,null,null,null,null,null,null,null,null,null,null,null,null,null,"EH326","REDUCTION GALVA  A JOINT  D 125 X 80",7603317,27,27]
[7603318,"REDUCTION GALVA  A Ø 160 X 80","EH327",33,null,null,null,null,null,null,null,null,null,null,null,null,null,null,null,null,null,null,null,"EH327","REDUCTION GALVA  A Ø 160 X 80",7603318,33,33]
[7603319,"REDUCTION GALVA  A JOINT D 160 X 125 ","EH328",27,null,null,null,null,null,null,null,null,null,null,null,null,null,null,null,null,null,null,null,"EH328","REDUCTION GALVA  A JOINT D 160 X 125 ",7603319,27,27]
[7603320,"MANCHON GALVA D 125","EH329",4,null,null,null,null,null,null,null,null,null,null,null,null,null,null,null,null,null,null,null,"EH329","MANCHON GALVA D 125",7603320,4,4]
[7603321,"MANCHON GALVA D 160","EH330",4,null,null,null,null,null,null,null,null,null,null,null,null,null,null,null,null,null,null,null,"EH330","MANCHON GALVA D 160",7603321,4,4]
[100017623,"JEU DE 2 COLLIERS DE FIXATION Ø 160","EH207",36,null,null,null,null,null,null,null,null,null,null,null,null,null,null,null,null,null,null,null,"EH207","JEU DE 2 COLLIERS DE FIXATION Ø 160",100017623,36,36]
[7603322,"JEU DE 10 COLLIERS DE FIXATION Ø 80 à Ø 125","EH331",54,null,null,null,null,null,null,null,null,null,null,null,null,null,null,null,null,null,null,null,"EH331","JEU DE 10 COLLIERS DE FIXATION Ø 80 à Ø 125",7603322,54,54]
[7603325,"FILTRE DE RECHANGE ","EH334",38,null,null,null,null,null,null,null,null,null,null,null,null,null,null,null,null,null,null,null,"EH334","FILTRE DE RECHANGE ",7603325,38,38]
[7602875,"ENJOLIVEUR POUR MONTAGE REGULATEUR SUR OTWH 200 EV","EH286",88,null,null,null,null,null,null,null,null,null,null,null,null,null,null,null,null,null,null,null,"EH286","ENJOLIVEUR POUR MONTAGE REGULATEUR SUR OTWH 200 EV",7602875,88,88]
[100019890,"KIT POIGNEES DE PREHENSION","ER239",36,null,null,null,null,null,null,null,null,null,null,null,null,null,null,null,null,null,null,null,"ER239","KIT POIGNEES DE PREHENSION",100019890,36,36]
[]
[]
[]
[7629721,"OTWH SPLIT FS 200 E",null,2360,null,null,null,null,null,null,null,null,null,null,null,null,null,null,null,null,null,null,null,null,"OTWH SPLIT FS 200 E",7629721,2360,2360]
[7629722,"OTWH SPLIT FS 270 E",null,2475,null,null,null,null,null,null,null,null,null,null,null,null,null,null,null,null,null,null,null,null,"OTWH SPLIT FS 270 E",7629722,2475,2475]
[]
["COMPOSANTS",null,null,null,null,null,null,null,null,null,null,null,null,null,null,null,null,null,null,null,null,null,null,null,null,"COMPOSANTS"]
[7629505,"BALLON OSFS 200 E ","ER688",1687,null,null,null,null,null,null,null,null,null,null,null,null,null,null,null,null,null,null,null,"ER688","BALLON OSFS 200 E ",7629505,1687,1687]
[7629506,"BALLON OSFS 270 E ","ER689",1802,null,null,null,null,null,null,null,null,null,null,null,null,null,null,null,null,null,null,null,"ER689","BALLON OSFS 270 E ",7629506,1802,1802]
[7626223,"UNITE EXTERIEURE SPLIT TD","EH571",673,null,null,null,null,null,null,null,null,null,null,null,null,null,null,null,null,null,null,null,"EH571","UNITE EXTERIEURE SPLIT TD",7626223,673,673]
[]
[]
[]
[7680680,"OTWH SPLIT WH 150 E",null,2078,null,null,null,null,null,null,null,null,null,null,null,null,null,null,null,null,null,null,null,null,"OTWH SPLIT WH 150 E",7680680,2078,2078]
[7680681,"OTWH SPLIT WH 200 E",null,2273,null,null,null,null,null,null,null,null,null,null,null,null,null,null,null,null,null,null,null,null,"OTWH SPLIT WH 200 E",7680681,2273,2273]
[]
["COMPOSANTS",null,null,null,null,null,null,null,null,null,null,null,null,null,null,null,null,null,null,null,null,null,null,null,null,"COMPOSANTS"]
[7673271,"OSWH 150 E","EH754",1405,null,null,null,null,null,null,null,null,null,null,null,null,null,null,null,null,null,null,null,"EH754","OSWH 150 E",7673271,1405,1405]
[7673269,"OSWH 200 E","EH755",1600,null,null,null,null,null,null,null,null,null,null,null,null,null,null,null,null,null,null,null,"EH755","OSWH 200 E",7673269,1600,1600]
[7626223,"UNITE EXTERIEURE SPLIT TD","EH571",673,null,null,null,null,null,null,null,null,null,null,null,null,null,null,null,null,null,null,null,"EH571","UNITE EXTERIEURE SPLIT TD",7626223,673,673]
[]
["OPTIONS FS/WH",null,null,null,null,null,null,null,null,null,null,null,null,null,null,null,null,null,null,null,null,null,null,null,null,"OPTIONS FS/WH"]
[100011222,"SUPPORT MURALE & PLOTS ANTIVIBRATILES POUR  ROE-II AWHP 6-8","EH95",181,null,null,null,null,null,null,null,null,null,null,null,null,null,null,null,null,null,null,null,"EH95","SUPPORT MURALE & PLOTS ANTIVIBRATILES POUR  ROE-II AWHP 6-8",100011222,181,181]
[100012533,"SUPPORT POSE AU SOL AWHP","EH112",48,null,null,null,null,null,null,null,null,null,null,null,null,null,null,null,null,null,null,null,"EH112","SUPPORT POSE AU SOL AWHP",100012533,48,48]
[7627741,"TUBE CU ISOLE 1/4 3/8 L5M","EH569",144,null,null,null,null,null,null,null,null,null,null,null,null,null,null,null,null,null,null,null,"EH569","TUBE CU ISOLE 1/4 3/8 L5M",7627741,144,144]
[7627742,"TUBE CU ISOLE 1/4 3/8 L10M","EH570",250,null,null,null,null,null,null,null,null,null,null,null,null,null,null,null,null,null,null,null,"EH570","TUBE CU ISOLE 1/4 3/8 L10M",7627742,250,250]
[7629725,"TUBE CU ISOLE 1/4 3/8 L20","EH589",369,null,null,null,null,null,null,null,null,null,null,null,null,null,null,null,null,null,null,null,"EH589","TUBE CU ISOLE 1/4 3/8 L20",7629725,369,369]
[89788949,"TREPIED MV STAND./CEB (version murale)",null,51,null,null,null,null,null,null,null,null,null,null,null,null,null,null,null,null,null,null,null,null,"TREPIED MV STAND./CEB (version murale)",89788949,51,51]
[100019794,"KIT ENTRAXE UNIVERSEL MV",null,72,null,null,null,null,null,null,null,null,null,null,null,null,null,null,null,null,null,null,null,null,"KIT ENTRAXE UNIVERSEL MV",100019794,72,72]
[7713456,"ANODE CORREX LG 232","AJ173",349,null,null,null,null,null,null,null,null,null,null,null,null,null,null,null,null,null,null,null,"AJ173","ANODE CORREX LG 232",7713456,349,349]
[7694974,"SUPPORT AU SOL CAOUTCHOUC 600MM","EH879",119,null,null,null,null,null,null,null,null,null,null,null,null,null,null,null,null,null,null,null,"EH879","SUPPORT AU SOL CAOUTCHOUC 600MM",7694974,119,119]
[100019424,"KIT RACC. GROUPE DE SECURITE OTWH 300  EH","ER208",26,null,null,null,null,null,null,null,null,null,null,null,null,null,null,null,null,null,null,null,"ER208","KIT RACC. GROUPE DE SECURITE OTWH 300  EH",100019424,26,26]
[7752101,"HMI+HW CABLES SODU2M ","HK231",105,null,null,null,null,null,null,null,null,null,null,null,null,null,null,null,null,null,null,null,"HK231","HMI+HW CABLES SODU2M ",7752101,105,105]
[]
[]
[]
[]
[]
[7746887,"OENOVIAPAC-C FIRST4.5MR/H",null,4189,null,null,null,null,null,null,null,null,null,null,null,null,null,null,null,null,null,null,null,null,"OENOVIAPAC-C FIRST4.5MR/H",7746887,4189,4189]
[7746888,"OENOVIAPAC-C FIRST4.5MR/EM",null,4189,null,null,null,null,null,null,null,null,null,null,null,null,null,null,null,null,null,null,null,null,"OENOVIAPAC-C FIRST4.5MR/EM",7746888,4189,4189]
[7746889,"OENOVIAPAC-C FIRST6MR/H",null,4592,null,null,null,null,null,null,null,null,null,null,null,null,null,null,null,null,null,null,null,null,"OENOVIAPAC-C FIRST6MR/H",7746889,4592,4592]
[7746890,"OENOVIAPAC-C FIRST6MR/EM",null,4592,null,null,null,null,null,null,null,null,null,null,null,null,null,null,null,null,null,null,null,null,"OENOVIAPAC-C FIRST6MR/EM",7746890,4592,4592]
[7746891,"OENOVIAPAC-C FIRST8MR/H",null,5332,null,null,null,null,null,null,null,null,null,null,null,null,null,null,null,null,null,null,null,null,"OENOVIAPAC-C FIRST8MR/H",7746891,5332,5332]
[7746892,"OENOVIAPAC-C FIRST8MR/EM",null,5332,null,null,null,null,null,null,null,null,null,null,null,null,null,null,null,null,null,null,null,null,"OENOVIAPAC-C FIRST8MR/EM",7746892,5332,5332]
[7746893,"OENOVIAPAC-C FIRST11MR/H",null,6878,null,null,null,null,null,null,null,null,null,null,null,null,null,null,null,null,null,null,null,null,"OENOVIAPAC-C FIRST11MR/H",7746893,6878,6878]
[7746894,"OENOVIAPAC-C FIRST11MR/EM",null,6878,null,null,null,null,null,null,null,null,null,null,null,null,null,null,null,null,null,null,null,null,"OENOVIAPAC-C FIRST11MR/EM",7746894,6878,6878]
[7746895,"OENOVIAPAC-C FIRST11TR/HT",null,7209,null,null,null,null,null,null,null,null,null,null,null,null,null,null,null,null,null,null,null,null,"OENOVIAPAC-C FIRST11TR/HT",7746895,7209,7209]
[7746896,"OENOVIAPAC-C FIRST11TR/ET",null,7209,null,null,null,null,null,null,null,null,null,null,null,null,null,null,null,null,null,null,null,null,"OENOVIAPAC-C FIRST11TR/ET",7746896,7209,7209]
[7746897,"OENOVIAPAC-C FIRST16MR/H",null,8019,null,null,null,null,null,null,null,null,null,null,null,null,null,null,null,null,null,null,null,null,"OENOVIAPAC-C FIRST16MR/H",7746897,8019,8019]
[7746898,"OENOVIAPAC-C FIRST16MR/EM",null,8019,null,null,null,null,null,null,null,null,null,null,null,null,null,null,null,null,null,null,null,null,"OENOVIAPAC-C FIRST16MR/EM",7746898,8019,8019]
[7746899,"OENOVIAPAC-C FIRST16TR/HT",null,8465,null,null,null,null,null,null,null,null,null,null,null,null,null,null,null,null,null,null,null,null,"OENOVIAPAC-C FIRST16TR/HT",7746899,8465,8465]
[7746920,"OENOVIAPAC-C FIRST16TR/ET",null,8465,null,null,null,null,null,null,null,null,null,null,null,null,null,null,null,null,null,null,null,null,"OENOVIAPAC-C FIRST16TR/ET",7746920,8465,8465]
[]
["COMPOSANTS OEnoviaPac-C First",null,null,null,null,null,null,null,null,null,null,null,null,null,null,null,null,null,null,null,null,null,null,null,null,"COMPOSANTS OEnoviaPac-C First"]
[7656794,"AWHP 4.5 MR","EH616",1963,null,null,null,null,null,null,null,null,null,null,null,null,null,null,null,null,null,null,null,"EH616","AWHP 4.5 MR",7656794,1963,1963]
[7668016,"AWHP 6 MR-3","EH672",2366,null,null,null,null,null,null,null,null,null,null,null,null,null,null,null,null,null,null,null,"EH672","AWHP 6 MR-3",7668016,2366,2366]
[7609926,"AWHP 8 MR-2 ","EH381",3170,null,null,null,null,null,null,null,null,null,null,null,null,null,null,null,null,null,null,null,"EH381","AWHP 8 MR-2 ",7609926,3170,3170]
[7609927,"AWHP 11 MR-2 ","EH382",4335,null,null,null,null,null,null,null,null,null,null,null,null,null,null,null,null,null,null,null,"EH382","AWHP 11 MR-2 ",7609927,4335,4335]
[7609928,"AWHP 11 TR-2 ","EH383",4666,null,null,null,null,null,null,null,null,null,null,null,null,null,null,null,null,null,null,null,"EH383","AWHP 11 TR-2 ",7609928,4666,4666]
[7609929,"AWHP 16 MR-2 ","EH384",5476,null,null,null,null,null,null,null,null,null,null,null,null,null,null,null,null,null,null,null,"EH384","AWHP 16 MR-2 ",7609929,5476,5476]
[7609930,"AWHP 16 TR-2 ","EH385",5922,null,null,null,null,null,null,null,null,null,null,null,null,null,null,null,null,null,null,null,"EH385","AWHP 16 TR-2 ",7609930,5922,5922]
[7683551,"MHC /H 4-8","EH740",2162,null,null,null,null,null,null,null,null,null,null,null,null,null,null,null,null,null,null,null,"EH740","MHC /H 4-8",7683551,2162,2162]
[7683552,"MHC /H 11-16 ","EH744",2543,null,null,null,null,null,null,null,null,null,null,null,null,null,null,null,null,null,null,null,"EH744","MHC /H 11-16 ",7683552,2543,2543]
[7683548,"MHC /EM 4-8 ","EH740",2162,null,null,null,null,null,null,null,null,null,null,null,null,null,null,null,null,null,null,null,"EH740","MHC /EM 4-8 ",7683548,2162,2162]
[7683549,"MHC /EM 11-16 ","EH741",2543,null,null,null,null,null,null,null,null,null,null,null,null,null,null,null,null,null,null,null,"EH741","MHC /EM 11-16 ",7683549,2543,2543]
[7683550,"MHC /ET 11-16 ","EH742",2543,null,null,null,null,null,null,null,null,null,null,null,null,null,null,null,null,null,null,null,"EH742","MHC /ET 11-16 ",7683550,2543,2543]
[100015480,"RACCORD D'ADAPTATION FRIGO POUR 4 kW ET 6 kW","EH146",64,null,null,null,null,null,null,null,null,null,null,null,null,null,null,null,null,null,null,null,"EH146","RACCORD D'ADAPTATION FRIGO POUR 4 kW ET 6 kW",100015480,64,64]
[]
["OPTIONS OEnoviaPac-C First",null,null,null,null,null,null,null,null,null,null,null,null,null,null,null,null,null,null,null,null,null,null,null,null,"OPTIONS OEnoviaPac-C First"]
[100011222,"SUPPORT MURALE & PLOTS ANTIVIBRATILES POUR  ROE-II AWHP 6-8","EH95",181,null,null,null,null,null,null,null,null,null,null,null,null,null,null,null,null,null,null,null,"EH95","SUPPORT MURALE & PLOTS ANTIVIBRATILES POUR  ROE-II AWHP 6-8",100011222,181,181]
[100018409,"SUPPORT MURAL AWHP 11à 27 kW","EH250",181,null,null,null,null,null,null,null,null,null,null,null,null,null,null,null,null,null,null,null,"EH250","SUPPORT MURAL AWHP 11à 27 kW",100018409,181,181]
[7694974,"SUPPORT AU SOL CAOUTCHOUC 600MM","EH879",119,null,null,null,null,null,null,null,null,null,null,null,null,null,null,null,null,null,null,null,"EH879","SUPPORT AU SOL CAOUTCHOUC 600MM",7694974,119,119]
[100012533,"SUPPORT POSE AU SOL AWHP","EH112",48,null,null,null,null,null,null,null,null,null,null,null,null,null,null,null,null,null,null,null,"EH112","SUPPORT POSE AU SOL AWHP",100012533,48,48]
[100015476,"LIAISON FRIGORIFIQUE PE 1/2\" 1/4\" - LG 10 m","EH142",255,null,null,null,null,null,null,null,null,null,null,null,null,null,null,null,null,null,null,null,"EH142","LIAISON FRIGORIFIQUE PE 1/2\" 1/4\" - LG 10 m",100015476,255,255]
[100012535,"LIAISON FRIGORIFIQUE PE 5/8'' 3/8'' - LG 5m","EH114",255,null,null,null,null,null,null,null,null,null,null,null,null,null,null,null,null,null,null,null,"EH114","LIAISON FRIGORIFIQUE PE 5/8'' 3/8'' - LG 5m",100012535,255,255]
[100012536,"LIAISON FRIGORIFIQUE PE 5/8'' 3/8'' - LG 10m","EH115",456,null,null,null,null,null,null,null,null,null,null,null,null,null,null,null,null,null,null,null,"EH115","LIAISON FRIGORIFIQUE PE 5/8'' 3/8'' - LG 10m",100012536,456,456]
[100012537,"LIAISON FRIGORIFIQUE PE 5/8'' 3/8'' - LG 20m","EH116",823,null,null,null,null,null,null,null,null,null,null,null,null,null,null,null,null,null,null,null,"EH116","LIAISON FRIGORIFIQUE PE 5/8'' 3/8'' - LG 20m",100012537,823,823]
[100008841,"BALLON TAMPON 80L B 80 T","EH85",572,null,null,null,null,null,null,null,null,null,null,null,null,null,null,null,null,null,null,null,"EH85","BALLON TAMPON 80L B 80 T",100008841,572,572]
[100004415,"BALLON TAMPON 160L B 150 T","EH60",857,null,null,null,null,null,null,null,null,null,null,null,null,null,null,null,null,null,null,null,"EH60","BALLON TAMPON 160L B 150 T",100004415,857,857]
[88017904,"THERMOSTAT AMBIANCE PROGRAMMABLE (FILAIRE)","AD191",176,null,null,null,null,null,null,null,null,null,null,null,null,null,null,null,null,null,null,null,"AD191","THERMOSTAT AMBIANCE PROGRAMMABLE (FILAIRE)",88017904,176,176]
[88017010,"THERMOSTAT D'AMBIANCE PROGRAMMABLE (SANS FILS)","AD192",308,null,null,null,null,null,null,null,null,null,null,null,null,null,null,null,null,null,null,null,"AD192","THERMOSTAT D'AMBIANCE PROGRAMMABLE (SANS FILS)",88017010,308,308]
[100015468,"KIT RAC HYDRAULIQUE PAC - BALLON ECS","EH149",109,null,null,null,null,null,null,null,null,null,null,null,null,null,null,null,null,null,null,null,"EH149","KIT RAC HYDRAULIQUE PAC - BALLON ECS",100015468,109,109]
[7622063,"PREPARATEUR MIXTE OBEPB 300 POUR PAC","ER616",2247,null,null,null,null,null,null,null,null,null,null,null,null,null,null,null,null,null,null,null,"ER616","PREPARATEUR MIXTE OBEPB 300 POUR PAC",7622063,2247,2247]
[100018187,"PREPARATEUR VERTICAL OBLC 150","EC614",1252,null,null,null,null,null,null,null,null,null,null,null,null,null,null,null,null,null,null,null,"EC614","PREPARATEUR VERTICAL OBLC 150",100018187,1252,1252]
[100018188,"PREPARATEUR VERTICAL OBLC 200","EC615",1437,null,null,null,null,null,null,null,null,null,null,null,null,null,null,null,null,null,null,null,"EC615","PREPARATEUR VERTICAL OBLC 200",100018188,1437,1437]
[100018189,"PREPARATEUR VERTICAL OBLC 300","EC616",1767,null,null,null,null,null,null,null,null,null,null,null,null,null,null,null,null,null,null,null,"EC616","PREPARATEUR VERTICAL OBLC 300",100018189,1767,1767]
[88017017,"SONDE DEPART v3v","AD199",85,null,null,null,null,null,null,null,null,null,null,null,null,null,null,null,null,null,null,null,"AD199","SONDE DEPART v3v",88017017,85,85]
[7746197,"BOUTEILLE DE DECOUPLAGE 25L"," HK147",362,null,null,null,null,null,null,null,null,null,null,null,null,null,null,null,null,null,null,null," HK147","BOUTEILLE DE DECOUPLAGE 25L",7746197,362,362]
[7746242,"SOUPAPE DIFFERENTIELLE ","HK150",59,null,null,null,null,null,null,null,null,null,null,null,null,null,null,null,null,null,null,null,"HK150","SOUPAPE DIFFERENTIELLE ",7746242,59,59]
[7746307,"KIT HYDRAULIQUE 2ND CIRCUIT V3V EXTERNE","HK152",440,null,null,null,null,null,null,null,null,null,null,null,null,null,null,null,null,null,null,null,"HK152","KIT HYDRAULIQUE 2ND CIRCUIT V3V EXTERNE",7746307,440,440]
[7685541,"VANNE D'INVERSION CHAUFFAGE-SANITAIRE+SONDE ECS ","EH784",358,null,null,null,null,null,null,null,null,null,null,null,null,null,null,null,null,null,null,null,"EH784","VANNE D'INVERSION CHAUFFAGE-SANITAIRE+SONDE ECS ",7685541,358,358]
[7624902,"KIT CABLAGE PLANCHER CHAUFFANT DIRECT","HA255",40,null,null,null,null,null,null,null,null,null,null,null,null,null,null,null,null,null,null,null,"HA255","KIT CABLAGE PLANCHER CHAUFFANT DIRECT",7624902,40,40]
[7691374,"THERMOSTAT AMBIANCE OETROSMART (R-BUS)","AD323",207,null,null,null,null,null,null,null,null,null,null,null,null,null,null,null,null,null,null,null,"AD323","THERMOSTAT AMBIANCE OETROSMART (R-BUS)",7691374,207,207]
[100019114,"KIT SONDE HYGRO RAFRAICHISSEMENT","HK27",233,null,null,null,null,null,null,null,null,null,null,null,null,null,null,null,null,null,null,null,"HK27","KIT SONDE HYGRO RAFRAICHISSEMENT",100019114,233,233]
[7636899,"KIT SILENCIEUX MODULE EXTERIEUR","EH572",66,null,null,null,null,null,null,null,null,null,null,null,null,null,null,null,null,null,null,null,"EH572","KIT SILENCIEUX MODULE EXTERIEUR",7636899,66,66]
[7683828,"KIT CARTE REGULATION 2ND CIRCUIT","EH783",120,null,null,null,null,null,null,null,null,null,null,null,null,null,null,null,null,null,null,null,"EH783","KIT CARTE REGULATION 2ND CIRCUIT",7683828,120,120]
[7622433,"KIT SONDE CONDENSATION (0-10V)","HZ64",420,null,null,null,null,null,null,null,null,null,null,null,null,null,null,null,null,null,null,null,"HZ64","KIT SONDE CONDENSATION (0-10V)",7622433,420,420]
[]
[]
[]
[7746921,"OENOVIAPAC-C SLIM 4.5 MR/EM",null,6229,null,null,null,null,null,null,null,null,null,null,null,null,null,null,null,null,null,null,null,null,"OENOVIAPAC-C SLIM 4.5 MR/EM",7746921,6229,6229]
[7746922,"OENOVIAPAC-C SLIM 6 MR/EM",null,6632,null,null,null,null,null,null,null,null,null,null,null,null,null,null,null,null,null,null,null,null,"OENOVIAPAC-C SLIM 6 MR/EM",7746922,6632,6632]
[7746923,"OENOVIAPAC-C SLIM 8 MR/EM",null,7372,null,null,null,null,null,null,null,null,null,null,null,null,null,null,null,null,null,null,null,null,"OENOVIAPAC-C SLIM 8 MR/EM",7746923,7372,7372]
[7746924,"OENOVIAPAC-C SLIM 11 MR/EM",null,8918,null,null,null,null,null,null,null,null,null,null,null,null,null,null,null,null,null,null,null,null,"OENOVIAPAC-C SLIM 11 MR/EM",7746924,8918,8918]
[7746925,"OENOVIAPAC-C SLIM 11 TR/ET",null,9249,null,null,null,null,null,null,null,null,null,null,null,null,null,null,null,null,null,null,null,null,"OENOVIAPAC-C SLIM 11 TR/ET",7746925,9249,9249]
[7746926,"OENOVIAPAC-C SLIM 16 MR/EM",null,10059,null,null,null,null,null,null,null,null,null,null,null,null,null,null,null,null,null,null,null,null,"OENOVIAPAC-C SLIM 16 MR/EM",7746926,10059,10059]
[7746927,"OENOVIAPAC-C SLIM 16 TR/ET",null,10505,null,null,null,null,null,null,null,null,null,null,null,null,null,null,null,null,null,null,null,null,"OENOVIAPAC-C SLIM 16 TR/ET",7746927,10505,10505]
[]
["COMPOSANTS OEnoviaPac-C Slim",null,null,null,null,null,null,null,null,null,null,null,null,null,null,null,null,null,null,null,null,null,null,null,null,"COMPOSANTS OEnoviaPac-C Slim"]
[7656794,"AWHP 4.5 MR-4","EH616",1963,null,null,null,null,null,null,null,null,null,null,null,null,null,null,null,null,null,null,null,"EH616","AWHP 4.5 MR-4",7656794,1963,1963]
[7668016,"AWHP 6 MR-3","EH672",2366,null,null,null,null,null,null,null,null,null,null,null,null,null,null,null,null,null,null,null,"EH672","AWHP 6 MR-3",7668016,2366,2366]
[7609926,"AWHP 8 MR-2","EH381",3170,null,null,null,null,null,null,null,null,null,null,null,null,null,null,null,null,null,null,null,"EH381","AWHP 8 MR-2",7609926,3170,3170]
[7609927,"AWHP 11 MR-2","EH382",4335,null,null,null,null,null,null,null,null,null,null,null,null,null,null,null,null,null,null,null,"EH382","AWHP 11 MR-2",7609927,4335,4335]
[7609928,"AWHP 11 TR-2","EH383",4666,null,null,null,null,null,null,null,null,null,null,null,null,null,null,null,null,null,null,null,"EH383","AWHP 11 TR-2",7609928,4666,4666]
[7609929,"AWHP 16 MR-2","EH384",5476,null,null,null,null,null,null,null,null,null,null,null,null,null,null,null,null,null,null,null,"EH384","AWHP 16 MR-2",7609929,5476,5476]
[7609930,"AWHP 16 TR-2","EH385",5922,null,null,null,null,null,null,null,null,null,null,null,null,null,null,null,null,null,null,null,"EH385","AWHP 16 TR-2",7609930,5922,5922]
[7683548,"MHC /EM 4-8 ","EH740",2162,null,null,null,null,null,null,null,null,null,null,null,null,null,null,null,null,null,null,null,"EH740","MHC /EM 4-8 ",7683548,2162,2162]
[7683549,"MHC /EM 11-16 ","EH741",2543,null,null,null,null,null,null,null,null,null,null,null,null,null,null,null,null,null,null,null,"EH741","MHC /EM 11-16 ",7683549,2543,2543]
[7683550,"MHC /ET 11-16 ","EH742",2543,null,null,null,null,null,null,null,null,null,null,null,null,null,null,null,null,null,null,null,"EH742","MHC /ET 11-16 ",7683550,2543,2543]
[7666419,"BALLON ALEZIO ","ER841",1286,null,null,null,null,null,null,null,null,null,null,null,null,null,null,null,null,null,null,null,"ER841","BALLON ALEZIO ",7666419,1286,1286]
[7670250,"KIT HYDRAULIQUE","EH722",754,null,null,null,null,null,null,null,null,null,null,null,null,null,null,null,null,null,null,null,"EH722","KIT HYDRAULIQUE",7670250,754,754]
[100015480,"RACCORD D'ADAPTATION FRIGO POUR 4 kW ET 6 kW","EH146",64,null,null,null,null,null,null,null,null,null,null,null,null,null,null,null,null,null,null,null,"EH146","RACCORD D'ADAPTATION FRIGO POUR 4 kW ET 6 kW",100015480,64,64]
[]
["OPTIONS OEnoviaPac-C Slim ",null,null,null,null,null,null,null,null,null,null,null,null,null,null,null,null,null,null,null,null,null,null,null,null,"OPTIONS OEnoviaPac-C Slim "]
[7680473,"KIT FLEXIBLES FRIGORIFIQUE ","EH725",285,null,null,null,null,null,null,null,null,null,null,null,null,null,null,null,null,null,null,null,"EH725","KIT FLEXIBLES FRIGORIFIQUE ",7680473,285,285]
[100011222,"SUPPORT MURALE & PLOTS ANTIVIBRATILES POUR  ROE-II AWHP 6-8","EH95",181,null,null,null,null,null,null,null,null,null,null,null,null,null,null,null,null,null,null,null,"EH95","SUPPORT MURALE & PLOTS ANTIVIBRATILES POUR  ROE-II AWHP 6-8",100011222,181,181]
[100018409,"SUPPORT MURAL AWHP 11à 27 kW","EH250",181,null,null,null,null,null,null,null,null,null,null,null,null,null,null,null,null,null,null,null,"EH250","SUPPORT MURAL AWHP 11à 27 kW",100018409,181,181]
[7694974,"SUPPORT AU SOL CAOUTCHOUC 600MM","EH879",119,null,null,null,null,null,null,null,null,null,null,null,null,null,null,null,null,null,null,null,"EH879","SUPPORT AU SOL CAOUTCHOUC 600MM",7694974,119,119]
[100012533,"SUPPORT POSE AU SOL AWHP","EH112",48,null,null,null,null,null,null,null,null,null,null,null,null,null,null,null,null,null,null,null,"EH112","SUPPORT POSE AU SOL AWHP",100012533,48,48]
[100015476,"LIAISON FRIGORIFIQUE PE 1/2\" 1/4\" - LG 10 m","EH142",255,null,null,null,null,null,null,null,null,null,null,null,null,null,null,null,null,null,null,null,"EH142","LIAISON FRIGORIFIQUE PE 1/2\" 1/4\" - LG 10 m",100015476,255,255]
[100012535,"LIAISON FRIGORIFIQUE PE 5/8'' 3/8'' - LG 5m","EH114",255,null,null,null,null,null,null,null,null,null,null,null,null,null,null,null,null,null,null,null,"EH114","LIAISON FRIGORIFIQUE PE 5/8'' 3/8'' - LG 5m",100012535,255,255]
[100012536,"LIAISON FRIGORIFIQUE PE 5/8'' 3/8'' - LG 10m","EH115",456,null,null,null,null,null,null,null,null,null,null,null,null,null,null,null,null,null,null,null,"EH115","LIAISON FRIGORIFIQUE PE 5/8'' 3/8'' - LG 10m",100012536,456,456]
[100012537,"LIAISON FRIGORIFIQUE PE 5/8'' 3/8'' - LG 20m","EH116",823,null,null,null,null,null,null,null,null,null,null,null,null,null,null,null,null,null,null,null,"EH116","LIAISON FRIGORIFIQUE PE 5/8'' 3/8'' - LG 20m",100012537,823,823]
[100008841,"BALLON TAMPON 80L B 80 T","EH85",572,null,null,null,null,null,null,null,null,null,null,null,null,null,null,null,null,null,null,null,"EH85","BALLON TAMPON 80L B 80 T",100008841,572,572]
[100004415,"BALLON TAMPON 160L B 150 T","EH60",857,null,null,null,null,null,null,null,null,null,null,null,null,null,null,null,null,null,null,null,"EH60","BALLON TAMPON 160L B 150 T",100004415,857,857]
[88017017,"SONDE DEPART v3v","AD199",85,null,null,null,null,null,null,null,null,null,null,null,null,null,null,null,null,null,null,null,"AD199","SONDE DEPART v3v",88017017,85,85]
[88017904,"THERMOSTAT AMBIANCE PROGRAMMABLE (FILAIRE)","AD191",176,null,null,null,null,null,null,null,null,null,null,null,null,null,null,null,null,null,null,null,"AD191","THERMOSTAT AMBIANCE PROGRAMMABLE (FILAIRE)",88017904,176,176]
[88017010,"THERMOSTAT D'AMBIANCE PROGRAMMABLE (SANS FILS)","AD192",308,null,null,null,null,null,null,null,null,null,null,null,null,null,null,null,null,null,null,null,"AD192","THERMOSTAT D'AMBIANCE PROGRAMMABLE (SANS FILS)",88017010,308,308]
[7746197,"BOUTEILLE DE DECOUPLAGE 25L"," HK147",362,null,null,null,null,null,null,null,null,null,null,null,null,null,null,null,null,null,null,null," HK147","BOUTEILLE DE DECOUPLAGE 25L",7746197,362,362]
[7746242,"SOUPAPE DIFFERENTIELLE ","HK150",59,null,null,null,null,null,null,null,null,null,null,null,null,null,null,null,null,null,null,null,"HK150","SOUPAPE DIFFERENTIELLE ",7746242,59,59]
[7746307,"KIT HYDRAULIQUE 2ND CIRCUIT V3V EXTERNE","HK152",440,null,null,null,null,null,null,null,null,null,null,null,null,null,null,null,null,null,null,null,"HK152","KIT HYDRAULIQUE 2ND CIRCUIT V3V EXTERNE",7746307,440,440]
[7624902,"KIT CABLAGE PLANCHER CHAUFFANT DIRECT","HA255",40,null,null,null,null,null,null,null,null,null,null,null,null,null,null,null,null,null,null,null,"HA255","KIT CABLAGE PLANCHER CHAUFFANT DIRECT",7624902,40,40]
[7691374,"THERMOSTAT AMBIANCE OETROSMART (R-BUS)","AD323",207,null,null,null,null,null,null,null,null,null,null,null,null,null,null,null,null,null,null,null,"AD323","THERMOSTAT AMBIANCE OETROSMART (R-BUS)",7691374,207,207]
[100019114,"KIT SONDE HYGRO RAFRAICHISSEMENT","HK27",233,null,null,null,null,null,null,null,null,null,null,null,null,null,null,null,null,null,null,null,"HK27","KIT SONDE HYGRO RAFRAICHISSEMENT",100019114,233,233]
[7636899,"KIT SILENCIEUX MODULE EXTERIEUR","EH572",66,null,null,null,null,null,null,null,null,null,null,null,null,null,null,null,null,null,null,null,"EH572","KIT SILENCIEUX MODULE EXTERIEUR",7636899,66,66]
[7683828,"KIT CARTE REGULATION 2ND CIRCUIT","EH783",120,null,null,null,null,null,null,null,null,null,null,null,null,null,null,null,null,null,null,null,"EH783","KIT CARTE REGULATION 2ND CIRCUIT",7683828,120,120]
[7622433,"KIT SONDE CONDENSATION (0-10V)","HZ64",420,null,null,null,null,null,null,null,null,null,null,null,null,null,null,null,null,null,null,null,"HZ64","KIT SONDE CONDENSATION (0-10V)",7622433,420,420]
[]
[]
[]
[7693006,"PAC-C COLONNE-CONF 4.5MR/EM",null,6165,null,null,null,null,null,null,null,null,null,null,null,null,null,null,null,null,null,null,null,null,"PAC-C COLONNE-CONF 4.5MR/EM",7693006,6165,6165]
[7693008,"PAC-C COLONNE-CONF 6MR/EM",null,6568,null,null,null,null,null,null,null,null,null,null,null,null,null,null,null,null,null,null,null,null,"PAC-C COLONNE-CONF 6MR/EM",7693008,6568,6568]
[7693010,"PAC-C COLONNE-CONF 8MR/EM",null,7308,null,null,null,null,null,null,null,null,null,null,null,null,null,null,null,null,null,null,null,null,"PAC-C COLONNE-CONF 8MR/EM",7693010,7308,7308]
[7693012,"PAC-C COLONNE-CONF 11MR/EM",null,9371,null,null,null,null,null,null,null,null,null,null,null,null,null,null,null,null,null,null,null,null,"PAC-C COLONNE-CONF 11MR/EM",7693012,9371,9371]
[7693014,"PAC-C COLONNE-CONF 11TR/ET",null,9702,null,null,null,null,null,null,null,null,null,null,null,null,null,null,null,null,null,null,null,null,"PAC-C COLONNE-CONF 11TR/ET",7693014,9702,9702]
[7693017,"PAC-C COLONNE-CONF 16MR/EM",null,10512,null,null,null,null,null,null,null,null,null,null,null,null,null,null,null,null,null,null,null,null,"PAC-C COLONNE-CONF 16MR/EM",7693017,10512,10512]
[7693019,"PAC-C COLONNE-CONF 16TR/ET",null,10958,null,null,null,null,null,null,null,null,null,null,null,null,null,null,null,null,null,null,null,null,"PAC-C COLONNE-CONF 16TR/ET",7693019,10958,10958]
[]
[7692998,"PAC-C COLONNE-CONF 4.5MR/H",null,6054,null,null,null,null,null,null,null,null,null,null,null,null,null,null,null,null,null,null,null,null,"PAC-C COLONNE-CONF 4.5MR/H",7692998,6054,6054]
[7693007,"PAC-C COLONNE-CONF 6MR/H",null,6457,null,null,null,null,null,null,null,null,null,null,null,null,null,null,null,null,null,null,null,null,"PAC-C COLONNE-CONF 6MR/H",7693007,6457,6457]
[7693009,"PAC-C COLONNE-CONF 8MR/H",null,7197,null,null,null,null,null,null,null,null,null,null,null,null,null,null,null,null,null,null,null,null,"PAC-C COLONNE-CONF 8MR/H",7693009,7197,7197]
[7693011,"PAC-C COLONNE-CONF 11MR/H",null,9259,null,null,null,null,null,null,null,null,null,null,null,null,null,null,null,null,null,null,null,null,"PAC-C COLONNE-CONF 11MR/H",7693011,9259,9259]
[7693013,"PAC-C COLONNE-CONF 11TR/HT",null,9590,null,null,null,null,null,null,null,null,null,null,null,null,null,null,null,null,null,null,null,null,"PAC-C COLONNE-CONF 11TR/HT",7693013,9590,9590]
[7693016,"PAC-C COLONNE-CONF 16MR/H",null,10400,null,null,null,null,null,null,null,null,null,null,null,null,null,null,null,null,null,null,null,null,"PAC-C COLONNE-CONF 16MR/H",7693016,10400,10400]
[7693018,"PAC-C COLONNE-CONF 16TR/HT",null,10846,null,null,null,null,null,null,null,null,null,null,null,null,null,null,null,null,null,null,null,null,"PAC-C COLONNE-CONF 16TR/HT",7693018,10846,10846]
[]
["COMPOSANTS OEnoviaPac-C Colonne",null,null,null,null,null,null,null,null,null,null,null,null,null,null,null,null,null,null,null,null,null,null,null,null,"COMPOSANTS OEnoviaPac-C Colonne"]
[7744888,"MHC-V200/H 4-8 ","HK102",4027,null,null,null,null,null,null,null,null,null,null,null,null,null,null,null,null,null,null,null,"HK102","MHC-V200/H 4-8 ",7744888,4027,4027]
[7744889,"MHC-V200/E 4-8 ","HK103",4138,null,null,null,null,null,null,null,null,null,null,null,null,null,null,null,null,null,null,null,"HK103","MHC-V200/E 4-8 ",7744889,4138,4138]
[7744890,"MHC-V200/H 11-16 ","HK104",4924,null,null,null,null,null,null,null,null,null,null,null,null,null,null,null,null,null,null,null,"HK104","MHC-V200/H 11-16 ",7744890,4924,4924]
[7744891,"MHC-V200/E 11-16 ","HK105",5036,null,null,null,null,null,null,null,null,null,null,null,null,null,null,null,null,null,null,null,"HK105","MHC-V200/E 11-16 ",7744891,5036,5036]
[100015480,"RACCORD D'ADAPTATION FRIGO POUR 4 kW ET 6 kW","EH146",64,null,null,null,null,null,null,null,null,null,null,null,null,null,null,null,null,null,null,null,"EH146","RACCORD D'ADAPTATION FRIGO POUR 4 kW ET 6 kW",100015480,64,64]
[7656794,"AWHP 4.5 MR-4","EH616",1963,null,null,null,null,null,null,null,null,null,null,null,null,null,null,null,null,null,null,null,"EH616","AWHP 4.5 MR-4",7656794,1963,1963]
[7668016,"AWHP 6 MR-3","EH672",2366,null,null,null,null,null,null,null,null,null,null,null,null,null,null,null,null,null,null,null,"EH672","AWHP 6 MR-3",7668016,2366,2366]
[7609926,"AWHP 8 MR-2 ","EH381",3170,null,null,null,null,null,null,null,null,null,null,null,null,null,null,null,null,null,null,null,"EH381","AWHP 8 MR-2 ",7609926,3170,3170]
[7609927,"AWHP 11 MR-2 ","EH382",4335,null,null,null,null,null,null,null,null,null,null,null,null,null,null,null,null,null,null,null,"EH382","AWHP 11 MR-2 ",7609927,4335,4335]
[7609928,"AWHP 11 TR-2 ","EH383",4666,null,null,null,null,null,null,null,null,null,null,null,null,null,null,null,null,null,null,null,"EH383","AWHP 11 TR-2 ",7609928,4666,4666]
[7609929,"AWHP 16 MR-2","EH384",5476,null,null,null,null,null,null,null,null,null,null,null,null,null,null,null,null,null,null,null,"EH384","AWHP 16 MR-2",7609929,5476,5476]
[7609930,"AWHP 16 TR-2","EH385",5922,null,null,null,null,null,null,null,null,null,null,null,null,null,null,null,null,null,null,null,"EH385","AWHP 16 TR-2",7609930,5922,5922]
[]
["OPTIONS OEnoviaPac-C Colonne",null,null,null,null,null,null,null,null,null,null,null,null,null,null,null,null,null,null,null,null,null,null,null,null,"OPTIONS OEnoviaPac-C Colonne"]
[7657050,"KIT 2nd CIRCUIT AVEC V3V ET POMPE","EH858",614,null,null,null,null,null,null,null,null,null,null,null,null,null,null,null,null,null,null,null,"EH858","KIT 2nd CIRCUIT AVEC V3V ET POMPE",7657050,614,614]
[7689751,"KIT CARTE DE REGULATION 2nd CIRCUIT (VERSION B)","EH862",113,null,null,null,null,null,null,null,null,null,null,null,null,null,null,null,null,null,null,null,"EH862","KIT CARTE DE REGULATION 2nd CIRCUIT (VERSION B)",7689751,113,113]
[7677244,"KIT ISOLATION MODE CLIMATISATION","EH859",103,null,null,null,null,null,null,null,null,null,null,null,null,null,null,null,null,null,null,null,"EH859","KIT ISOLATION MODE CLIMATISATION",7677244,103,103]
[7687189,"KIT POMPE DE RELEVAGE","EH860",158,null,null,null,null,null,null,null,null,null,null,null,null,null,null,null,null,null,null,null,"EH860","KIT POMPE DE RELEVAGE",7687189,158,158]
[7694974,"SUPPORT AU SOL CAOUTCHOUC 600MM","EH879",119,null,null,null,null,null,null,null,null,null,null,null,null,null,null,null,null,null,null,null,"EH879","SUPPORT AU SOL CAOUTCHOUC 600MM",7694974,119,119]
[100008841,"BALLON TAMPON 80L B 80 T","EH85",572,null,null,null,null,null,null,null,null,null,null,null,null,null,null,null,null,null,null,null,"EH85","BALLON TAMPON 80L B 80 T",100008841,572,572]
[100004415,"BALLON TAMPON 160L B 150 T","EH60",857,null,null,null,null,null,null,null,null,null,null,null,null,null,null,null,null,null,null,null,"EH60","BALLON TAMPON 160L B 150 T",100004415,857,857]
[100011222,"SUPPORT MURALE & PLOTS ANTIVIBRATILES POUR  ROE-II AWHP 6-8","EH95",181,null,null,null,null,null,null,null,null,null,null,null,null,null,null,null,null,null,null,null,"EH95","SUPPORT MURALE & PLOTS ANTIVIBRATILES POUR  ROE-II AWHP 6-8",100011222,181,181]
[100018409,"SUPPORT MURAL AWHP 11à 27 kW","EH250",181,null,null,null,null,null,null,null,null,null,null,null,null,null,null,null,null,null,null,null,"EH250","SUPPORT MURAL AWHP 11à 27 kW",100018409,181,181]
[100012533,"SUPPORT POSE AU SOL AWHP","EH112",48,null,null,null,null,null,null,null,null,null,null,null,null,null,null,null,null,null,null,null,"EH112","SUPPORT POSE AU SOL AWHP",100012533,48,48]
[100015476,"LIAISON FRIGORIFIQUE PE 1/2\" 1/4\" - LG 10 m","EH142",255,null,null,null,null,null,null,null,null,null,null,null,null,null,null,null,null,null,null,null,"EH142","LIAISON FRIGORIFIQUE PE 1/2\" 1/4\" - LG 10 m",100015476,255,255]
[100012535,"LIAISON FRIGORIFIQUE PE 5/8'' 3/8'' - LG 5m","EH114",255,null,null,null,null,null,null,null,null,null,null,null,null,null,null,null,null,null,null,null,"EH114","LIAISON FRIGORIFIQUE PE 5/8'' 3/8'' - LG 5m",100012535,255,255]
[100012536,"LIAISON FRIGORIFIQUE PE 5/8'' 3/8'' - LG 10m","EH115",456,null,null,null,null,null,null,null,null,null,null,null,null,null,null,null,null,null,null,null,"EH115","LIAISON FRIGORIFIQUE PE 5/8'' 3/8'' - LG 10m",100012536,456,456]
[100012537,"LIAISON FRIGORIFIQUE PE 5/8'' 3/8'' - LG 20m","EH116",823,null,null,null,null,null,null,null,null,null,null,null,null,null,null,null,null,null,null,null,"EH116","LIAISON FRIGORIFIQUE PE 5/8'' 3/8'' - LG 20m",100012537,823,823]
[7624902,"KIT CABLAGE PLANCHER CHAUFFANT DIRECT","HA255",40,null,null,null,null,null,null,null,null,null,null,null,null,null,null,null,null,null,null,null,"HA255","KIT CABLAGE PLANCHER CHAUFFANT DIRECT",7624902,40,40]
[88017904,"THERMOSTAT AMBIANCE PROGRAMMABLE (FILAIRE)","AD191",176,null,null,null,null,null,null,null,null,null,null,null,null,null,null,null,null,null,null,null,"AD191","THERMOSTAT AMBIANCE PROGRAMMABLE (FILAIRE)",88017904,176,176]
[88017010,"THERMOSTAT D'AMBIANCE PROGRAMMABLE (SANS FILS)","AD192",308,null,null,null,null,null,null,null,null,null,null,null,null,null,null,null,null,null,null,null,"AD192","THERMOSTAT D'AMBIANCE PROGRAMMABLE (SANS FILS)",88017010,308,308]
[7691374,"THERMOSTAT AMBIANCE OETROSMART (R-BUS)","AD323",207,null,null,null,null,null,null,null,null,null,null,null,null,null,null,null,null,null,null,null,"AD323","THERMOSTAT AMBIANCE OETROSMART (R-BUS)",7691374,207,207]
[100019114,"KIT SONDE HYGRO RAFRAICHISSEMENT","HK27",233,null,null,null,null,null,null,null,null,null,null,null,null,null,null,null,null,null,null,null,"HK27","KIT SONDE HYGRO RAFRAICHISSEMENT",100019114,233,233]
[7636899,"KIT SILENCIEUX MODULE EXTERIEUR","EH572",66,null,null,null,null,null,null,null,null,null,null,null,null,null,null,null,null,null,null,null,"EH572","KIT SILENCIEUX MODULE EXTERIEUR",7636899,66,66]
[7622433,"KIT SONDE CONDENSATION (0-10V)","HZ64",420,null,null,null,null,null,null,null,null,null,null,null,null,null,null,null,null,null,null,null,"HZ64","KIT SONDE CONDENSATION (0-10V)",7622433,420,420]
[88017017,"SONDE DEPART v3v","AD199",85,null,null,null,null,null,null,null,null,null,null,null,null,null,null,null,null,null,null,null,"AD199","SONDE DEPART v3v",88017017,85,85]
[7726775,"KIT FLEXIBLES FRIGO L2300 ","EH978",365,null,null,null,null,null,null,null,null,null,null,null,null,null,null,null,null,null,null,null,"EH978","KIT FLEXIBLES FRIGO L2300 ",7726775,365,365]
[7746197,"BOUTEILLE DE DECOUPLAGE 25L"," HK147",362,null,null,null,null,null,null,null,null,null,null,null,null,null,null,null,null,null,null,null," HK147","BOUTEILLE DE DECOUPLAGE 25L",7746197,362,362]
[7746242,"SOUPAPE DIFFERENTIELLE ","HK150",59,null,null,null,null,null,null,null,null,null,null,null,null,null,null,null,null,null,null,null,"HK150","SOUPAPE DIFFERENTIELLE ",7746242,59,59]
[7746307,"KIT HYDRAULIQUE 2ND CIRCUIT V3V EXTERNE","HK152",440,null,null,null,null,null,null,null,null,null,null,null,null,null,null,null,null,null,null,null,"HK152","KIT HYDRAULIQUE 2ND CIRCUIT V3V EXTERNE",7746307,440,440]
[7746412,"DOSSERET DE RACCORDEMENT V200 DROIT 1 CIRCUIT","HK154",580,null,null,null,null,null,null,null,null,null,null,null,null,null,null,null,null,null,null,null,"HK154","DOSSERET DE RACCORDEMENT V200 DROIT 1 CIRCUIT",7746412,580,580]
[7746415,"DOSSERET DE RACCORDEMENT V200 DROIT 2 CIRCUITS","HK155",680,null,null,null,null,null,null,null,null,null,null,null,null,null,null,null,null,null,null,null,"HK155","DOSSERET DE RACCORDEMENT V200 DROIT 2 CIRCUITS",7746415,680,680]
[7746417,"DOSSERET DE RACCORDEMENT V200 GAUCHE 1 CIRCUIT","HK156",580,null,null,null,null,null,null,null,null,null,null,null,null,null,null,null,null,null,null,null,"HK156","DOSSERET DE RACCORDEMENT V200 GAUCHE 1 CIRCUIT",7746417,580,580]
[7746419,"DOSSERET DE RACCORDEMENT V200 GAUCHE 2 CIRCUITS","HK157",680,null,null,null,null,null,null,null,null,null,null,null,null,null,null,null,null,null,null,null,"HK157","DOSSERET DE RACCORDEMENT V200 GAUCHE 2 CIRCUITS",7746419,680,680]
[]
[]
[]
[7670787,"OENOVIAPAC-2 CONF 4.5 MR-2/H",null,5352,null,null,null,null,null,null,null,null,null,null,null,null,null,null,null,null,null,null,null,null,"OENOVIAPAC-2 CONF 4.5 MR-2/H",7670787,5352,5352]
[7670833,"OENOVIAPAC-2 CONF 4.5 MR-2/EM",null,5859,null,null,null,null,null,null,null,null,null,null,null,null,null,null,null,null,null,null,null,null,"OENOVIAPAC-2 CONF 4.5 MR-2/EM",7670833,5859,5859]
[7609996,"OENOVIAPAC-2 CONFORT 6 MR-2/H",null,5755,null,null,null,null,null,null,null,null,null,null,null,null,null,null,null,null,null,null,null,null,"OENOVIAPAC-2 CONFORT 6 MR-2/H",7609996,5755,5755]
[7609997,"OENOVIAPAC-2 CONFORT 6 MR-2/EM",null,6262,null,null,null,null,null,null,null,null,null,null,null,null,null,null,null,null,null,null,null,null,"OENOVIAPAC-2 CONFORT 6 MR-2/EM",7609997,6262,6262]
[7609998,"OENOVIAPAC-2 CONFORT 8 MR-2/H",null,6495,null,null,null,null,null,null,null,null,null,null,null,null,null,null,null,null,null,null,null,null,"OENOVIAPAC-2 CONFORT 8 MR-2/H",7609998,6495,6495]
[7609999,"OENOVIAPAC-2 CONFORT 8 MR-2/EM",null,7002,null,null,null,null,null,null,null,null,null,null,null,null,null,null,null,null,null,null,null,null,"OENOVIAPAC-2 CONFORT 8 MR-2/EM",7609999,7002,7002]
[7610000,"OENOVIAPAC-2 CONFORT 11 MR-2/H",null,8053,null,null,null,null,null,null,null,null,null,null,null,null,null,null,null,null,null,null,null,null,"OENOVIAPAC-2 CONFORT 11 MR-2/H",7610000,8053,8053]
[7610001,"OENOVIAPAC-2 CONFORT 11 MR-2/EM",null,8607,null,null,null,null,null,null,null,null,null,null,null,null,null,null,null,null,null,null,null,null,"OENOVIAPAC-2 CONFORT 11 MR-2/EM",7610001,8607,8607]
[7610002,"OENOVIAPAC-2 CONFORT 11 TR-2/H",null,8384,null,null,null,null,null,null,null,null,null,null,null,null,null,null,null,null,null,null,null,null,"OENOVIAPAC-2 CONFORT 11 TR-2/H",7610002,8384,8384]
[7610003,"OENOVIAPAC-2 CONFORT 11 TR-2/ET",null,8938,null,null,null,null,null,null,null,null,null,null,null,null,null,null,null,null,null,null,null,null,"OENOVIAPAC-2 CONFORT 11 TR-2/ET",7610003,8938,8938]
[7610004,"OENOVIAPAC-2 CONFORT 16 MR-2/H",null,9194,null,null,null,null,null,null,null,null,null,null,null,null,null,null,null,null,null,null,null,null,"OENOVIAPAC-2 CONFORT 16 MR-2/H",7610004,9194,9194]
[7610005,"OENOVIAPAC-2 CONFORT 16 MR-2/EM",null,9748,null,null,null,null,null,null,null,null,null,null,null,null,null,null,null,null,null,null,null,null,"OENOVIAPAC-2 CONFORT 16 MR-2/EM",7610005,9748,9748]
[7610006,"OENOVIAPAC-2 CONFORT 16 TR-2/H",null,9640,null,null,null,null,null,null,null,null,null,null,null,null,null,null,null,null,null,null,null,null,"OENOVIAPAC-2 CONFORT 16 TR-2/H",7610006,9640,9640]
[7610007,"OENOVIAPAC-2 CONFORT 16 TR-2/ET",null,10194,null,null,null,null,null,null,null,null,null,null,null,null,null,null,null,null,null,null,null,null,"OENOVIAPAC-2 CONFORT 16 TR-2/ET",7610007,10194,10194]
[7610008,"OENOVIAPAC-2 CONFORT 22 TR-2/H",null,12082,null,null,null,null,null,null,null,null,null,null,null,null,null,null,null,null,null,null,null,null,"OENOVIAPAC-2 CONFORT 22 TR-2/H",7610008,12082,12082]
[7610009,"OENOVIAPAC-2 CONFORT 22 TR-2/ET",null,12821,null,null,null,null,null,null,null,null,null,null,null,null,null,null,null,null,null,null,null,null,"OENOVIAPAC-2 CONFORT 22 TR-2/ET",7610009,12821,12821]
[7610010,"OENOVIAPAC-2 CONFORT 27 TR-2/H",null,13416,null,null,null,null,null,null,null,null,null,null,null,null,null,null,null,null,null,null,null,null,"OENOVIAPAC-2 CONFORT 27 TR-2/H",7610010,13416,13416]
[7610011,"OENOVIAPAC-2 CONFORT 27 TR-2/ET",null,14155,null,null,null,null,null,null,null,null,null,null,null,null,null,null,null,null,null,null,null,null,"OENOVIAPAC-2 CONFORT 27 TR-2/ET",7610011,14155,14155]
[]
["COMPOSANTS OEnoviaPac Confort",null,null,null,null,null,null,null,null,null,null,null,null,null,null,null,null,null,null,null,null,null,null,null,null,"COMPOSANTS OEnoviaPac Confort"]
[7656794,"AWHP 4.5 MR-4","EH616",1963,null,null,null,null,null,null,null,null,null,null,null,null,null,null,null,null,null,null,null,"EH616","AWHP 4.5 MR-4",7656794,1963,1963]
[7668016,"AWHP 6 MR-3","EH672",2366,null,null,null,null,null,null,null,null,null,null,null,null,null,null,null,null,null,null,null,"EH672","AWHP 6 MR-3",7668016,2366,2366]
[7609926,"AWHP 8 MR-2 ","EH381",3170,null,null,null,null,null,null,null,null,null,null,null,null,null,null,null,null,null,null,null,"EH381","AWHP 8 MR-2 ",7609926,3170,3170]
[7609927,"AWHP 11 MR-2 ","EH382",4335,null,null,null,null,null,null,null,null,null,null,null,null,null,null,null,null,null,null,null,"EH382","AWHP 11 MR-2 ",7609927,4335,4335]
[7609928,"AWHP 11 TR-2 ","EH383",4666,null,null,null,null,null,null,null,null,null,null,null,null,null,null,null,null,null,null,null,"EH383","AWHP 11 TR-2 ",7609928,4666,4666]
[7609929,"AWHP 16 MR-2 ","EH384",5476,null,null,null,null,null,null,null,null,null,null,null,null,null,null,null,null,null,null,null,"EH384","AWHP 16 MR-2 ",7609929,5476,5476]
[7609930,"AWHP 16 TR-2","EH385",5922,null,null,null,null,null,null,null,null,null,null,null,null,null,null,null,null,null,null,null,"EH385","AWHP 16 TR-2",7609930,5922,5922]
[7655104,"AWHP 22 TR","EH614",7118,null,null,null,null,null,null,null,null,null,null,null,null,null,null,null,null,null,null,null,"EH614","AWHP 22 TR",7655104,7118,7118]
[7655105,"AWHP 27 TR","EH615",8491,null,null,null,null,null,null,null,null,null,null,null,null,null,null,null,null,null,null,null,"EH615","AWHP 27 TR",7655105,8491,8491]
[7609940,"MHR-IN-2/H 4-8 OE-TRO ","EH392",3325,null,null,null,null,null,null,null,null,null,null,null,null,null,null,null,null,null,null,null,"EH392","MHR-IN-2/H 4-8 OE-TRO ",7609940,3325,3325]
[7609941,"MHR-IN-2/H 11-16 OE-TRO ","EH393",3718,null,null,null,null,null,null,null,null,null,null,null,null,null,null,null,null,null,null,null,"EH393","MHR-IN-2/H 11-16 OE-TRO ",7609941,3718,3718]
[7609942,"MHR-IN-2/E 4-8 OE-TRO ","EH394",3832,null,null,null,null,null,null,null,null,null,null,null,null,null,null,null,null,null,null,null,"EH394","MHR-IN-2/E 4-8 OE-TRO ",7609942,3832,3832]
[7609943,"MHR-IN-2/E 11-16 OE-TRO ","EH395",4272,null,null,null,null,null,null,null,null,null,null,null,null,null,null,null,null,null,null,null,"EH395","MHR-IN-2/E 11-16 OE-TRO ",7609943,4272,4272]
[7609944,"MHR-IN-2/H 22-27 OE-TRO ","EH396",4925,null,null,null,null,null,null,null,null,null,null,null,null,null,null,null,null,null,null,null,"EH396","MHR-IN-2/H 22-27 OE-TRO ",7609944,4925,4925]
[7609945,"MHR-IN-2/E 22-27 OE-TRO ","EH397",5664,null,null,null,null,null,null,null,null,null,null,null,null,null,null,null,null,null,null,null,"EH397","MHR-IN-2/E 22-27 OE-TRO ",7609945,5664,5664]
[100015480,"RACCORD D'ADAPTATION FRIGO POUR 4 kW ET 6 kW","EH146",64,null,null,null,null,null,null,null,null,null,null,null,null,null,null,null,null,null,null,null,"EH146","RACCORD D'ADAPTATION FRIGO POUR 4 kW ET 6 kW",100015480,64,64]
[100018428,"RACCORD D'ADAPTATION FRIGO POUR 22 kW","HK26",39,null,null,null,null,null,null,null,null,null,null,null,null,null,null,null,null,null,null,null,"HK26","RACCORD D'ADAPTATION FRIGO POUR 22 kW",100018428,39,39]
[]
["OPTIONS OEnoviaPac Confort",null,null,null,null,null,null,null,null,null,null,null,null,null,null,null,null,null,null,null,null,null,null,null,null,"OPTIONS OEnoviaPac Confort"]
[100011222,"SUPPORT MURALE & PLOTS ANTIVIBRATILES POUR  ROE-II AWHP 6-8","EH95",181,null,null,null,null,null,null,null,null,null,null,null,null,null,null,null,null,null,null,null,"EH95","SUPPORT MURALE & PLOTS ANTIVIBRATILES POUR  ROE-II AWHP 6-8",100011222,181,181]
[100018409,"SUPPORT MURAL AWHP 11à 27 kW","EH250",181,null,null,null,null,null,null,null,null,null,null,null,null,null,null,null,null,null,null,null,"EH250","SUPPORT MURAL AWHP 11à 27 kW",100018409,181,181]
[100012533,"SUPPORT POSE AU SOL AWHP","EH112",48,null,null,null,null,null,null,null,null,null,null,null,null,null,null,null,null,null,null,null,"EH112","SUPPORT POSE AU SOL AWHP",100012533,48,48]
[7694974,"SUPPORT AU SOL CAOUTCHOUC 600MM","EH879",119,null,null,null,null,null,null,null,null,null,null,null,null,null,null,null,null,null,null,null,"EH879","SUPPORT AU SOL CAOUTCHOUC 600MM",7694974,119,119]
[100012535,"LIAISON FRIGORIFIQUE PE 5/8'' 3/8'' - LG 5m","EH114",255,null,null,null,null,null,null,null,null,null,null,null,null,null,null,null,null,null,null,null,"EH114","LIAISON FRIGORIFIQUE PE 5/8'' 3/8'' - LG 5m",100012535,255,255]
[100012536,"LIAISON FRIGORIFIQUE PE 5/8'' 3/8'' - LG 10m","EH115",456,null,null,null,null,null,null,null,null,null,null,null,null,null,null,null,null,null,null,null,"EH115","LIAISON FRIGORIFIQUE PE 5/8'' 3/8'' - LG 10m",100012536,456,456]
[100012537,"LIAISON FRIGORIFIQUE PE 5/8'' 3/8'' - LG 20m","EH116",823,null,null,null,null,null,null,null,null,null,null,null,null,null,null,null,null,null,null,null,"EH116","LIAISON FRIGORIFIQUE PE 5/8'' 3/8'' - LG 20m",100012537,823,823]
[100015476,"LIAISON FRIGORIFIQUE PE 1/2\" 1/4\" - LG 10 m","EH142",255,null,null,null,null,null,null,null,null,null,null,null,null,null,null,null,null,null,null,null,"EH142","LIAISON FRIGORIFIQUE PE 1/2\" 1/4\" - LG 10 m",100015476,255,255]
[100018410,"KIT ISOLATION MODE FROID MIT-IN iSYSTEM","HK24",297,null,null,null,null,null,null,null,null,null,null,null,null,null,null,null,null,null,null,null,"HK24","KIT ISOLATION MODE FROID MIT-IN iSYSTEM",100018410,297,297]
[100018411,"KIT ISOLATION MODE FROID KIT VANNE 3 VOIES (CIRCUIT B)","HK25",168,null,null,null,null,null,null,null,null,null,null,null,null,null,null,null,null,null,null,null,"HK25","KIT ISOLATION MODE FROID KIT VANNE 3 VOIES (CIRCUIT B)",100018411,168,168]
[100008841,"BALLON TAMPON 80L B 80 T","EH85",572,null,null,null,null,null,null,null,null,null,null,null,null,null,null,null,null,null,null,null,"EH85","BALLON TAMPON 80L B 80 T",100008841,572,572]
[100020045,"KIT FILTRE FERNOX TF1","EH896",288,null,null,null,null,null,null,null,null,null,null,null,null,null,null,null,null,null,null,null,"EH896","KIT FILTRE FERNOX TF1",100020045,288,288]
[100003301,"KIT CABLAGE PLANCHER CHAUFFANT DIRECT","HA249",42,null,null,null,null,null,null,null,null,null,null,null,null,null,null,null,null,null,null,null,"HA249","KIT CABLAGE PLANCHER CHAUFFANT DIRECT",100003301,42,42]
[100017830,"KIT VANNE 3 VOIES (CIRCUIT B)","HK21",732,null,null,null,null,null,null,null,null,null,null,null,null,null,null,null,null,null,null,null,"HK21","KIT VANNE 3 VOIES (CIRCUIT B)",100017830,732,732]
[100017832,"KIT TUBULURES 2 CIRCUITS","HK22",156,null,null,null,null,null,null,null,null,null,null,null,null,null,null,null,null,null,null,null,"HK22","KIT TUBULURES 2 CIRCUITS",100017832,156,156]
[100020164,"COLLECTEUR 2/3 CIRCUITS ","EA140",382,null,null,null,null,null,null,null,null,null,null,null,null,null,null,null,null,null,null,null,"EA140","COLLECTEUR 2/3 CIRCUITS ",100020164,382,382]
[100020165,"CONSOLE MUR COLLECTEUR ","EA141",48,null,null,null,null,null,null,null,null,null,null,null,null,null,null,null,null,null,null,null,"EA141","CONSOLE MUR COLLECTEUR ",100020165,48,48]
[100020166,"CONSOLE MUR 1 MODULE ","EA142",129,null,null,null,null,null,null,null,null,null,null,null,null,null,null,null,null,null,null,null,"EA142","CONSOLE MUR 1 MODULE ",100020166,129,129]
[100020167,"CIRCUIT DIRECT P.ELEC CLASSE A  ","EA143",720,null,null,null,null,null,null,null,null,null,null,null,null,null,null,null,null,null,null,null,"EA143","CIRCUIT DIRECT P.ELEC CLASSE A  ",100020167,720,720]
[100020168,"CIRCUIT V3V P.ELEC","EA144",1023,null,null,null,null,null,null,null,null,null,null,null,null,null,null,null,null,null,null,null,"EA144","CIRCUIT V3V P.ELEC",100020168,1023,1023]
[100020294,"KIT COMPTAGE D'ENERGIE","HK29",209,null,null,null,null,null,null,null,null,null,null,null,null,null,null,null,null,null,null,null,"HK29","KIT COMPTAGE D'ENERGIE",100020294,209,209]
[89557009,"KIT DE TRANSFORMATION G/R 3/4 '' ET 1 ''","BH84",35,null,null,null,null,null,null,null,null,null,null,null,null,null,null,null,null,null,null,null,"BH84","KIT DE TRANSFORMATION G/R 3/4 '' ET 1 ''",89557009,35,35]
[7625589,"KIT SILENCIEUX ","EH559",92,null,null,null,null,null,null,null,null,null,null,null,null,null,null,null,null,null,null,null,"EH559","KIT SILENCIEUX ",7625589,92,92]
[7746242,"SOUPAPE DIFFERENTIELLE","HK150",59,null,null,null,null,null,null,null,null,null,null,null,null,null,null,null,null,null,null,null,"HK150","SOUPAPE DIFFERENTIELLE",7746242,59,59]
[]
["OPTIONS REGULATIONS OEnoviaPac Confort",null,null,null,null,null,null,null,null,null,null,null,null,null,null,null,null,null,null,null,null,null,null,null,null,"OPTIONS REGULATIONS OEnoviaPac Confort"]
[100013304,"COLIS OPTION V3V OE-TRONIC 4","AD249",170,null,null,null,null,null,null,null,null,null,null,null,null,null,null,null,null,null,null,null,"AD249","COLIS OPTION V3V OE-TRONIC 4",100013304,170,170]
[100013305,"SONDE SYSTÈME ECS","AD250",49,null,null,null,null,null,null,null,null,null,null,null,null,null,null,null,null,null,null,null,"AD250","SONDE SYSTÈME ECS",100013305,49,49]
[100013306,"SONDE EXTERIEURE RADIO ","AD251",82,null,null,null,null,null,null,null,null,null,null,null,null,null,null,null,null,null,null,null,"AD251","SONDE EXTERIEURE RADIO ",100013306,82,82]
[100013307,"MODULE CHAUDIERE RADIO (EMETTEUR)","AD252",132,null,null,null,null,null,null,null,null,null,null,null,null,null,null,null,null,null,null,null,"AD252","MODULE CHAUDIERE RADIO (EMETTEUR)",100013307,132,132]
[100013477,"COMMANDE A DISTANCE RS 400","AD257",190,null,null,null,null,null,null,null,null,null,null,null,null,null,null,null,null,null,null,null,"AD257","COMMANDE A DISTANCE RS 400",100013477,190,190]
[100013472,"CDE A DISTANCE RADIO RS 400R     ","AD255",256,null,null,null,null,null,null,null,null,null,null,null,null,null,null,null,null,null,null,null,"AD255","CDE A DISTANCE RADIO RS 400R     ",100013472,256,256]
[88017851,"CABLE DE LIAISON BUS LG 12 M","AD134",118,null,null,null,null,null,null,null,null,null,null,null,null,null,null,null,null,null,null,null,"AD134","CABLE DE LIAISON BUS LG 12 M",88017851,118,118]
[88017017,"SONDE DEPART v3v","AD199",85,null,null,null,null,null,null,null,null,null,null,null,null,null,null,null,null,null,null,null,"AD199","SONDE DEPART v3v",88017017,85,85]
[100002803,"COMMANDE A DISTANCE SIMPLIFIEE AD208","AD208",112,null,null,null,null,null,null,null,null,null,null,null,null,null,null,null,null,null,null,null,"AD208","COMMANDE A DISTANCE SIMPLIFIEE AD208",100002803,112,112]
[100000030,"COLIS OPTION SONDE ECS","AD212",53,null,null,null,null,null,null,null,null,null,null,null,null,null,null,null,null,null,null,null,"AD212","COLIS OPTION SONDE ECS",100000030,53,53]
[100019114,"KIT SONDE HYGRO RAFRAICHISSEMENT","HK27",233,null,null,null,null,null,null,null,null,null,null,null,null,null,null,null,null,null,null,null,"HK27","KIT SONDE HYGRO RAFRAICHISSEMENT",100019114,233,233]
[]
["PREPARATION ECS",null,null,null,null,null,null,null,null,null,null,null,null,null,null,null,null,null,null,null,null,null,null,null,null,"PREPARATION ECS"]
[7622063,"PREPARATEUR MIXTE OBEPB 300 POUR PAC","ER616",2247,null,null,null,null,null,null,null,null,null,null,null,null,null,null,null,null,null,null,null,"ER616","PREPARATEUR MIXTE OBEPB 300 POUR PAC",7622063,2247,2247]
[100017833,"VANNE D'INVERSION CHAUFFAGE-SANITAIRE","HK23",217,null,null,null,null,null,null,null,null,null,null,null,null,null,null,null,null,null,null,null,"HK23","VANNE D'INVERSION CHAUFFAGE-SANITAIRE",100017833,217,217]
[100015468,"KIT RAC HYDRAULIQUE PAC - BALLON ECS","EH149",109,null,null,null,null,null,null,null,null,null,null,null,null,null,null,null,null,null,null,null,"EH149","KIT RAC HYDRAULIQUE PAC - BALLON ECS",100015468,109,109]
[]
[]
[]
[7746635,"OENOVIAPAC-C MB  6 MR/H",null,8400,null,null,null,null,null,null,null,null,null,null,null,null,null,null,null,null,null,null,null,null,"OENOVIAPAC-C MB  6 MR/H",7746635,8400,8400]
[7746636,"OENOVIAPAC-C MB  6 MR/E",null,8800,null,null,null,null,null,null,null,null,null,null,null,null,null,null,null,null,null,null,null,null,"OENOVIAPAC-C MB  6 MR/E",7746636,8800,8800]
[7746637,"OENOVIAPAC-C MB  8 MR/H",null,8850,null,null,null,null,null,null,null,null,null,null,null,null,null,null,null,null,null,null,null,null,"OENOVIAPAC-C MB  8 MR/H",7746637,8850,8850]
[7746638,"OENOVIAPAC-C MB  8 MR/E",null,9250,null,null,null,null,null,null,null,null,null,null,null,null,null,null,null,null,null,null,null,null,"OENOVIAPAC-C MB  8 MR/E",7746638,9250,9250]
[7746661,"OENOVIAPAC-C MB  11 MR/H",null,9400,null,null,null,null,null,null,null,null,null,null,null,null,null,null,null,null,null,null,null,null,"OENOVIAPAC-C MB  11 MR/H",7746661,9400,9400]
[7746662,"OENOVIAPAC-C MB  11 MR/E",null,9800,null,null,null,null,null,null,null,null,null,null,null,null,null,null,null,null,null,null,null,null,"OENOVIAPAC-C MB  11 MR/E",7746662,9800,9800]
[]
["COMPOSANTS OEnoviaPac-C MB",null,null,null,null,null,null,null,null,null,null,null,null,null,null,null,null,null,null,null,null,null,null,null,null,"COMPOSANTS OEnoviaPac-C MB"]
[7698863,"MONO AWHP 6 MR","HK73",5300,null,null,null,null,null,null,null,null,null,null,null,null,null,null,null,null,null,null,null,"HK73","MONO AWHP 6 MR",7698863,5300,5300]
[7728383,"MONO AWHP 8 MR","HK74",5750,null,null,null,null,null,null,null,null,null,null,null,null,null,null,null,null,null,null,null,"HK74","MONO AWHP 8 MR",7728383,5750,5750]
[7728385,"MONO AWHP 11 MR","HK76",6300,null,null,null,null,null,null,null,null,null,null,null,null,null,null,null,null,null,null,null,"HK76","MONO AWHP 11 MR",7728385,6300,6300]
[7746075,"MHC-MB/H","HK90",3100,null,null,null,null,null,null,null,null,null,null,null,null,null,null,null,null,null,null,null,"HK90","MHC-MB/H",7746075,3100,3100]
[7746122,"MHC-MB/E","HK91",3500,null,null,null,null,null,null,null,null,null,null,null,null,null,null,null,null,null,null,null,"HK91","MHC-MB/E",7746122,3500,3500]
[]
["OPTIONS OEnoviaPac-C MB",null,null,null,null,null,null,null,null,null,null,null,null,null,null,null,null,null,null,null,null,null,null,null,null,"OPTIONS OEnoviaPac-C MB"]
[100012533,"SUPPORT POSE AU SOL AWHP","EH112",48,null,null,null,null,null,null,null,null,null,null,null,null,null,null,null,null,null,null,null,"EH112","SUPPORT POSE AU SOL AWHP",100012533,48,48]
[7694974,"SUPPORT AU SOL CAOUTCHOUC 600MM","EH879",119,null,null,null,null,null,null,null,null,null,null,null,null,null,null,null,null,null,null,null,"EH879","SUPPORT AU SOL CAOUTCHOUC 600MM",7694974,119,119]
[100001369,"KIT LIAISON HYDRAULIQUE 1M ","EH19",48,null,null,null,null,null,null,null,null,null,null,null,null,null,null,null,null,null,null,null,"EH19","KIT LIAISON HYDRAULIQUE 1M ",100001369,48,48]
[7682396,"KIT ISOLATION MODE CLIMATISATION ","EH811",101,null,null,null,null,null,null,null,null,null,null,null,null,null,null,null,null,null,null,null,"EH811","KIT ISOLATION MODE CLIMATISATION ",7682396,101,101]
[100018411,"KIT ISOLATION MODE FROID KIT VANNE 3 VOIES (CIRCUIT B)","HK25",168,null,null,null,null,null,null,null,null,null,null,null,null,null,null,null,null,null,null,null,"HK25","KIT ISOLATION MODE FROID KIT VANNE 3 VOIES (CIRCUIT B)",100018411,168,168]
[100017830,"KIT VANNE 3 VOIES (CIRCUIT B)","HK21",732,null,null,null,null,null,null,null,null,null,null,null,null,null,null,null,null,null,null,null,"HK21","KIT VANNE 3 VOIES (CIRCUIT B)",100017830,732,732]
[100017832,"KIT TUBULURES 2 CIRCUITS","HK22",156,null,null,null,null,null,null,null,null,null,null,null,null,null,null,null,null,null,null,null,"HK22","KIT TUBULURES 2 CIRCUITS",100017832,156,156]
[7684175,"VANNE D'INVERSION CHAUFFAGE-SANITAIRE","EH812",134,null,null,null,null,null,null,null,null,null,null,null,null,null,null,null,null,null,null,null,"EH812","VANNE D'INVERSION CHAUFFAGE-SANITAIRE",7684175,134,134]
[100015468,"KIT RAC HYDRAULIQUE PAC - BALLON ECS","EH149",109,null,null,null,null,null,null,null,null,null,null,null,null,null,null,null,null,null,null,null,"EH149","KIT RAC HYDRAULIQUE PAC - BALLON ECS",100015468,109,109]
[100020164,"COLLECTEUR 2/3 CIRCUITS","EA140",382,null,null,null,null,null,null,null,null,null,null,null,null,null,null,null,null,null,null,null,"EA140","COLLECTEUR 2/3 CIRCUITS",100020164,382,382]
[100020167,"CIRCUIT DIRECT P.ELEC HEE","EA143",720,null,null,null,null,null,null,null,null,null,null,null,null,null,null,null,null,null,null,null,"EA143","CIRCUIT DIRECT P.ELEC HEE",100020167,720,720]
[100020168,"CIRCUIT V3V P.ELEC HEE","EA144",1023,null,null,null,null,null,null,null,null,null,null,null,null,null,null,null,null,null,null,null,"EA144","CIRCUIT V3V P.ELEC HEE",100020168,1023,1023]
[100020165,"CONSOLE MUR COLLECTEUR","EA141",48,null,null,null,null,null,null,null,null,null,null,null,null,null,null,null,null,null,null,null,"EA141","CONSOLE MUR COLLECTEUR",100020165,48,48]
[100020166,"CONSOLE MUR 1 MODULE","EA142",129,null,null,null,null,null,null,null,null,null,null,null,null,null,null,null,null,null,null,null,"EA142","CONSOLE MUR 1 MODULE",100020166,129,129]
[100020045,"KIT FILTRE FERNOX TF1","EH896",288,null,null,null,null,null,null,null,null,null,null,null,null,null,null,null,null,null,null,null,"EH896","KIT FILTRE FERNOX TF1",100020045,288,288]
[7681480,"KIT DOSSERET REMPLISSAGE AUTOMATIQUE","EH726",256,null,null,null,null,null,null,null,null,null,null,null,null,null,null,null,null,null,null,null,"EH726","KIT DOSSERET REMPLISSAGE AUTOMATIQUE",7681480,256,256]
[7746242,"SOUPAPE DIFFERENTIELLE","HK150",59,null,null,null,null,null,null,null,null,null,null,null,null,null,null,null,null,null,null,null,"HK150","SOUPAPE DIFFERENTIELLE",7746242,59,59]
[100008841,"BALLON TAMPON 80L B 80 T","EH85",572,null,null,null,null,null,null,null,null,null,null,null,null,null,null,null,null,null,null,null,"EH85","BALLON TAMPON 80L B 80 T",100008841,572,572]
[100004415,"BALLON TAMPON 160L B 150 T","EH60",857,null,null,null,null,null,null,null,null,null,null,null,null,null,null,null,null,null,null,null,"EH60","BALLON TAMPON 160L B 150 T",100004415,857,857]
[]
["OPTIONS REGULATIONS OEnoviaPac-C MB",null,null,null,null,null,null,null,null,null,null,null,null,null,null,null,null,null,null,null,null,null,null,null,null,"OPTIONS REGULATIONS OEnoviaPac-C MB"]
[100013304,"COLIS OPTION V3V OE-TRONIC 4","AD249",170,null,null,null,null,null,null,null,null,null,null,null,null,null,null,null,null,null,null,null,"AD249","COLIS OPTION V3V OE-TRONIC 4",100013304,170,170]
[88017017,"SONDE DEPART v3v","AD199",85,null,null,null,null,null,null,null,null,null,null,null,null,null,null,null,null,null,null,null,"AD199","SONDE DEPART v3v",88017017,85,85]
[7708345,"KIT DE RACCORDEMENT ELEC. APPOINT ECS","EH904",43,null,null,null,null,null,null,null,null,null,null,null,null,null,null,null,null,null,null,null,"EH904","KIT DE RACCORDEMENT ELEC. APPOINT ECS",7708345,43,43]
[7624902,"KIT CABLAGE PLANCHER CHAUFFANT DIRECT","HA255",40,null,null,null,null,null,null,null,null,null,null,null,null,null,null,null,null,null,null,null,"HA255","KIT CABLAGE PLANCHER CHAUFFANT DIRECT",7624902,40,40]
[7688755,"KIT SILENCIEUX MODULE EXT. MIT","EH829",77,null,null,null,null,null,null,null,null,null,null,null,null,null,null,null,null,null,null,null,"EH829","KIT SILENCIEUX MODULE EXT. MIT",7688755,77,77]
[100000030,"COLIS OPTION SONDE ECS","AD212",53,null,null,null,null,null,null,null,null,null,null,null,null,null,null,null,null,null,null,null,"AD212","COLIS OPTION SONDE ECS",100000030,53,53]
[100019114,"KIT SONDE HYGRO RAFRAICHISSEMENT","HK27",233,null,null,null,null,null,null,null,null,null,null,null,null,null,null,null,null,null,null,null,"HK27","KIT SONDE HYGRO RAFRAICHISSEMENT",100019114,233,233]
[7622433,"KIT SONDE CONDENSATION (0-10V)","HZ64",420,null,null,null,null,null,null,null,null,null,null,null,null,null,null,null,null,null,null,null,"HZ64","KIT SONDE CONDENSATION (0-10V)",7622433,420,420]
[7691374,"THERMOSTAT AMBIANCE OETROSMART (R-BUS)","AD323",207,null,null,null,null,null,null,null,null,null,null,null,null,null,null,null,null,null,null,null,"AD323","THERMOSTAT AMBIANCE OETROSMART (R-BUS)",7691374,207,207]
[88017904,"THERMOSTAT AMBIANCE PROGRAMMABLE (FILAIRE)","AD191",176,null,null,null,null,null,null,null,null,null,null,null,null,null,null,null,null,null,null,null,"AD191","THERMOSTAT AMBIANCE PROGRAMMABLE (FILAIRE)",88017904,176,176]
[88017010,"THERMOSTAT D'AMBIANCE PROGRAMMABLE (SANS FILS)","AD192",308,null,null,null,null,null,null,null,null,null,null,null,null,null,null,null,null,null,null,null,"AD192","THERMOSTAT D'AMBIANCE PROGRAMMABLE (SANS FILS)",88017010,308,308]
[]
["PREPARATEURS INDEPENDANTS/OPTIONS ECS",null,null,null,null,null,null,null,null,null,null,null,null,null,null,null,null,null,null,null,null,null,null,null,null,"PREPARATEURS INDEPENDANTS/OPTIONS ECS"]
[100019196,"PREPARATEUR VERTICAL OBPB 150","EC624",1536,null,null,null,null,null,null,null,null,null,null,null,null,null,null,null,null,null,null,null,"EC624","PREPARATEUR VERTICAL OBPB 150",100019196,1536,1536]
[100019197,"PREPARATEUR VERTICAL OBPB 200","EC625",1707,null,null,null,null,null,null,null,null,null,null,null,null,null,null,null,null,null,null,null,"EC625","PREPARATEUR VERTICAL OBPB 200",100019197,1707,1707]
[100019198,"PREPARATEUR VERTICAL OBPB 300","EC626",2176,null,null,null,null,null,null,null,null,null,null,null,null,null,null,null,null,null,null,null,"EC626","PREPARATEUR VERTICAL OBPB 300",100019198,2176,2176]
[7622063,"PREPARATEUR MIXTE OBEPB 300 POUR PAC","ER616",2247,null,null,null,null,null,null,null,null,null,null,null,null,null,null,null,null,null,null,null,"ER616","PREPARATEUR MIXTE OBEPB 300 POUR PAC",7622063,2247,2247]
[100009229,"VANNE 3 VOIES D'INVERSION POUR ECS AVEC KIT CABLAGE","EH84",366,null,null,null,null,null,null,null,null,null,null,null,null,null,null,null,null,null,null,null,"EH84","VANNE 3 VOIES D'INVERSION POUR ECS AVEC KIT CABLAGE",100009229,366,366]
[100000030,"COLIS OPTION SONDE ECS","AD212",53,null,null,null,null,null,null,null,null,null,null,null,null,null,null,null,null,null,null,null,"AD212","COLIS OPTION SONDE ECS",100000030,53,53]
[89757753,"ANODE ACI CORREX UP BALLON > 300 LITRES","AJ39",428,null,null,null,null,null,null,null,null,null,null,null,null,null,null,null,null,null,null,null,"AJ39","ANODE ACI CORREX UP BALLON > 300 LITRES",89757753,428,428]
[]
[]
[]
[]
[]
[7617624,"OEnoviaPAC-GS 5 MR","HZ38",7530,null,null,null,null,null,null,null,null,null,null,null,null,null,null,null,null,null,null,null,"HZ38","OEnoviaPAC-GS 5 MR",7617624,7530,7530]
[7617626,"OEnoviaPAC-GS 5 TR","HZ39",7530,null,null,null,null,null,null,null,null,null,null,null,null,null,null,null,null,null,null,null,"HZ39","OEnoviaPAC-GS 5 TR",7617626,7530,7530]
[7618122,"OEnoviaPAC-GS 9 MR","HZ40",8329,null,null,null,null,null,null,null,null,null,null,null,null,null,null,null,null,null,null,null,"HZ40","OEnoviaPAC-GS 9 MR",7618122,8329,8329]
[7618123,"OEnoviaPAC-GS 9 TR","HZ41",8329,null,null,null,null,null,null,null,null,null,null,null,null,null,null,null,null,null,null,null,"HZ41","OEnoviaPAC-GS 9 TR",7618123,8329,8329]
[7618124,"OEnoviaPAC-GS 12 MR","HZ42",8968,null,null,null,null,null,null,null,null,null,null,null,null,null,null,null,null,null,null,null,"HZ42","OEnoviaPAC-GS 12 MR",7618124,8968,8968]
[7615884,"OEnoviaPAC-GS 12 TR","HZ43",8968,null,null,null,null,null,null,null,null,null,null,null,null,null,null,null,null,null,null,null,"HZ43","OEnoviaPAC-GS 12 TR",7615884,8968,8968]
[7618125,"OEnoviaPAC-GS 15 TR","HZ44",9630,null,null,null,null,null,null,null,null,null,null,null,null,null,null,null,null,null,null,null,"HZ44","OEnoviaPAC-GS 15 TR",7618125,9630,9630]
[7618126,"OEnoviaPAC-GS 19 TR","HZ45",10405,null,null,null,null,null,null,null,null,null,null,null,null,null,null,null,null,null,null,null,"HZ45","OEnoviaPAC-GS 19 TR",7618126,10405,10405]
[7618127,"OEnoviaPAC-GS 27 TR","HZ46",12220,null,null,null,null,null,null,null,null,null,null,null,null,null,null,null,null,null,null,null,"HZ46","OEnoviaPAC-GS 27 TR",7618127,12220,12220]
[]
[]
[]
[7638403,"OEnoviaPAC-GS 5 MR/B200GHL",null,9824,null,null,null,null,null,null,null,null,null,null,null,null,null,null,null,null,null,null,null,null,"OEnoviaPAC-GS 5 MR/B200GHL",7638403,9824,9824]
[7638404,"OEnoviaPAC-GS 5 MR/V200GHL",null,9700,null,null,null,null,null,null,null,null,null,null,null,null,null,null,null,null,null,null,null,null,"OEnoviaPAC-GS 5 MR/V200GHL",7638404,9700,9700]
[7638405,"OEnoviaPAC-GS 5 TR/B200GHL",null,9824,null,null,null,null,null,null,null,null,null,null,null,null,null,null,null,null,null,null,null,null,"OEnoviaPAC-GS 5 TR/B200GHL",7638405,9824,9824]
[7638406,"OEnoviaPAC-GS 5 TR/V200GHL",null,9700,null,null,null,null,null,null,null,null,null,null,null,null,null,null,null,null,null,null,null,null,"OEnoviaPAC-GS 5 TR/V200GHL",7638406,9700,9700]
[7638407,"OEnoviaPAC-GS 9 MR/B200GHL",null,10623,null,null,null,null,null,null,null,null,null,null,null,null,null,null,null,null,null,null,null,null,"OEnoviaPAC-GS 9 MR/B200GHL",7638407,10623,10623]
[7638408,"OEnoviaPAC-GS 9 MR/V200GHL",null,10499,null,null,null,null,null,null,null,null,null,null,null,null,null,null,null,null,null,null,null,null,"OEnoviaPAC-GS 9 MR/V200GHL",7638408,10499,10499]
[7638409,"OEnoviaPAC-GS 9 TR/B200GHL",null,10623,null,null,null,null,null,null,null,null,null,null,null,null,null,null,null,null,null,null,null,null,"OEnoviaPAC-GS 9 TR/B200GHL",7638409,10623,10623]
[7638410,"OEnoviaPAC-GS 9 TR/V200GHL",null,10499,null,null,null,null,null,null,null,null,null,null,null,null,null,null,null,null,null,null,null,null,"OEnoviaPAC-GS 9 TR/V200GHL",7638410,10499,10499]
[7638411,"OEnoviaPAC-GS 12 MR/B200GHL",null,11262,null,null,null,null,null,null,null,null,null,null,null,null,null,null,null,null,null,null,null,null,"OEnoviaPAC-GS 12 MR/B200GHL",7638411,11262,11262]
[7638412,"OEnoviaPAC-GS 12 MR/V200GHL",null,11138,null,null,null,null,null,null,null,null,null,null,null,null,null,null,null,null,null,null,null,null,"OEnoviaPAC-GS 12 MR/V200GHL",7638412,11138,11138]
[7638413,"OEnoviaPAC-GS 12 TR/B200GHL",null,11262,null,null,null,null,null,null,null,null,null,null,null,null,null,null,null,null,null,null,null,null,"OEnoviaPAC-GS 12 TR/B200GHL",7638413,11262,11262]
[7638414,"OEnoviaPAC-GS 12 TR/V200GHL",null,11138,null,null,null,null,null,null,null,null,null,null,null,null,null,null,null,null,null,null,null,null,"OEnoviaPAC-GS 12 TR/V200GHL",7638414,11138,11138]
[7638415,"OEnoviaPAC-GS 15 TR/B200GHL",null,11924,null,null,null,null,null,null,null,null,null,null,null,null,null,null,null,null,null,null,null,null,"OEnoviaPAC-GS 15 TR/B200GHL",7638415,11924,11924]
[7638416,"OEnoviaPAC-GS 15 TR/V200GHL",null,11800,null,null,null,null,null,null,null,null,null,null,null,null,null,null,null,null,null,null,null,null,"OEnoviaPAC-GS 15 TR/V200GHL",7638416,11800,11800]
[]
["COMPOSANTS",null,null,null,null,null,null,null,null,null,null,null,null,null,null,null,null,null,null,null,null,null,null,null,null,"COMPOSANTS"]
[7617624,"OEnoviaPAC-GS 5 MR","HZ38",7530,null,null,null,null,null,null,null,null,null,null,null,null,null,null,null,null,null,null,null,"HZ38","OEnoviaPAC-GS 5 MR",7617624,7530,7530]
[7617626,"OEnoviaPAC-GS 5 TR","HZ39",7530,null,null,null,null,null,null,null,null,null,null,null,null,null,null,null,null,null,null,null,"HZ39","OEnoviaPAC-GS 5 TR",7617626,7530,7530]
[7618122,"OEnoviaPAC-GS 9 MR","HZ40",8329,null,null,null,null,null,null,null,null,null,null,null,null,null,null,null,null,null,null,null,"HZ40","OEnoviaPAC-GS 9 MR",7618122,8329,8329]
[7618123,"OEnoviaPAC-GS 9 TR","HZ41",8329,null,null,null,null,null,null,null,null,null,null,null,null,null,null,null,null,null,null,null,"HZ41","OEnoviaPAC-GS 9 TR",7618123,8329,8329]
[7618124,"OEnoviaPAC-GS 12 MR","HZ42",8968,null,null,null,null,null,null,null,null,null,null,null,null,null,null,null,null,null,null,null,"HZ42","OEnoviaPAC-GS 12 MR",7618124,8968,8968]
[7615884,"OEnoviaPAC-GS 12 TR","HZ43",8968,null,null,null,null,null,null,null,null,null,null,null,null,null,null,null,null,null,null,null,"HZ43","OEnoviaPAC-GS 12 TR",7615884,8968,8968]
[7618125,"OEnoviaPAC-GS 15 TR","HZ44",9630,null,null,null,null,null,null,null,null,null,null,null,null,null,null,null,null,null,null,null,"HZ44","OEnoviaPAC-GS 15 TR",7618125,9630,9630]
[7613947,"BALLON 200 GHL","ER600",1997,null,null,null,null,null,null,null,null,null,null,null,null,null,null,null,null,null,null,null,"ER600","BALLON 200 GHL",7613947,1997,1997]
[7611489,"KIT DE LIAISON PAC-BALLON B200","ER611",297,null,null,null,null,null,null,null,null,null,null,null,null,null,null,null,null,null,null,null,"ER611","KIT DE LIAISON PAC-BALLON B200",7611489,297,297]
[7611488,"KIT DE LIAISON PAC-BALLON V200","ER610",173,null,null,null,null,null,null,null,null,null,null,null,null,null,null,null,null,null,null,null,"ER610","KIT DE LIAISON PAC-BALLON V200",7611488,173,173]
[]
[]
[]
[7638417,"OEnoviaPAC-GS 5 MR/B200GSHL",null,10098,null,null,null,null,null,null,null,null,null,null,null,null,null,null,null,null,null,null,null,null,"OEnoviaPAC-GS 5 MR/B200GSHL",7638417,10098,10098]
[7638418,"OEnoviaPAC-GS 5 MR/V200GSHL",null,9974,null,null,null,null,null,null,null,null,null,null,null,null,null,null,null,null,null,null,null,null,"OEnoviaPAC-GS 5 MR/V200GSHL",7638418,9974,9974]
[7638419,"OEnoviaPAC-GS 5 TR/B200GSHL",null,10098,null,null,null,null,null,null,null,null,null,null,null,null,null,null,null,null,null,null,null,null,"OEnoviaPAC-GS 5 TR/B200GSHL",7638419,10098,10098]
[7638420,"OEnoviaPAC-GS 5 TR/V200GSHL",null,9974,null,null,null,null,null,null,null,null,null,null,null,null,null,null,null,null,null,null,null,null,"OEnoviaPAC-GS 5 TR/V200GSHL",7638420,9974,9974]
[7638421,"OEnoviaPAC-GS 9 MR/B200GSHL",null,10897,null,null,null,null,null,null,null,null,null,null,null,null,null,null,null,null,null,null,null,null,"OEnoviaPAC-GS 9 MR/B200GSHL",7638421,10897,10897]
[7638422,"OEnoviaPAC-GS 9 MR/V200GSHL",null,10773,null,null,null,null,null,null,null,null,null,null,null,null,null,null,null,null,null,null,null,null,"OEnoviaPAC-GS 9 MR/V200GSHL",7638422,10773,10773]
[7638423,"OEnoviaPAC-GS 9 TR/B200GSHL",null,10897,null,null,null,null,null,null,null,null,null,null,null,null,null,null,null,null,null,null,null,null,"OEnoviaPAC-GS 9 TR/B200GSHL",7638423,10897,10897]
[7638424,"OEnoviaPAC-GS 9 TR/V200GSHL",null,10773,null,null,null,null,null,null,null,null,null,null,null,null,null,null,null,null,null,null,null,null,"OEnoviaPAC-GS 9 TR/V200GSHL",7638424,10773,10773]
[7638425,"OEnoviaPAC-GS 12 MR/B200GSHL",null,11536,null,null,null,null,null,null,null,null,null,null,null,null,null,null,null,null,null,null,null,null,"OEnoviaPAC-GS 12 MR/B200GSHL",7638425,11536,11536]
[7638426,"OEnoviaPAC-GS 12 MR/V200GSHL",null,11412,null,null,null,null,null,null,null,null,null,null,null,null,null,null,null,null,null,null,null,null,"OEnoviaPAC-GS 12 MR/V200GSHL",7638426,11412,11412]
[7638427,"OEnoviaPAC-GS 12 TR/B200GSHL",null,11536,null,null,null,null,null,null,null,null,null,null,null,null,null,null,null,null,null,null,null,null,"OEnoviaPAC-GS 12 TR/B200GSHL",7638427,11536,11536]
[7638428,"OEnoviaPAC-GS 12 TR/V200GSHL",null,11412,null,null,null,null,null,null,null,null,null,null,null,null,null,null,null,null,null,null,null,null,"OEnoviaPAC-GS 12 TR/V200GSHL",7638428,11412,11412]
[7638429,"OEnoviaPAC-GS 15 TR/B200GSHL",null,12198,null,null,null,null,null,null,null,null,null,null,null,null,null,null,null,null,null,null,null,null,"OEnoviaPAC-GS 15 TR/B200GSHL",7638429,12198,12198]
[7638430,"OEnoviaPAC-GS 15 TR/V200GSHL",null,12074,null,null,null,null,null,null,null,null,null,null,null,null,null,null,null,null,null,null,null,null,"OEnoviaPAC-GS 15 TR/V200GSHL",7638430,12074,12074]
[]
["COMPOSANTS",null,null,null,null,null,null,null,null,null,null,null,null,null,null,null,null,null,null,null,null,null,null,null,null,"COMPOSANTS"]
[7617624,"OEnoviaPAC-GS 5 MR","HZ38",7530,null,null,null,null,null,null,null,null,null,null,null,null,null,null,null,null,null,null,null,"HZ38","OEnoviaPAC-GS 5 MR",7617624,7530,7530]
[7617626,"OEnoviaPAC-GS 5 TR","HZ39",7530,null,null,null,null,null,null,null,null,null,null,null,null,null,null,null,null,null,null,null,"HZ39","OEnoviaPAC-GS 5 TR",7617626,7530,7530]
[7618122,"OEnoviaPAC-GS 9 MR","HZ40",8329,null,null,null,null,null,null,null,null,null,null,null,null,null,null,null,null,null,null,null,"HZ40","OEnoviaPAC-GS 9 MR",7618122,8329,8329]
[7618123,"OEnoviaPAC-GS 9 TR","HZ41",8329,null,null,null,null,null,null,null,null,null,null,null,null,null,null,null,null,null,null,null,"HZ41","OEnoviaPAC-GS 9 TR",7618123,8329,8329]
[7618124,"OEnoviaPAC-GS 12 MR","HZ42",8968,null,null,null,null,null,null,null,null,null,null,null,null,null,null,null,null,null,null,null,"HZ42","OEnoviaPAC-GS 12 MR",7618124,8968,8968]
[7615884,"OEnoviaPAC-GS 12 TR","HZ43",8968,null,null,null,null,null,null,null,null,null,null,null,null,null,null,null,null,null,null,null,"HZ43","OEnoviaPAC-GS 12 TR",7615884,8968,8968]
[7618125,"OEnoviaPAC-GS 15 TR","HZ44",9630,null,null,null,null,null,null,null,null,null,null,null,null,null,null,null,null,null,null,null,"HZ44","OEnoviaPAC-GS 15 TR",7618125,9630,9630]
[7607389,"BALLON 200 GSHL","ER601",2271,null,null,null,null,null,null,null,null,null,null,null,null,null,null,null,null,null,null,null,"ER601","BALLON 200 GSHL",7607389,2271,2271]
[7611489,"KIT DE LIAISON PAC-BALLON B200","ER611",297,null,null,null,null,null,null,null,null,null,null,null,null,null,null,null,null,null,null,null,"ER611","KIT DE LIAISON PAC-BALLON B200",7611489,297,297]
[7611488,"KIT DE LIAISON PAC-BALLON V200","ER610",173,null,null,null,null,null,null,null,null,null,null,null,null,null,null,null,null,null,null,null,"ER610","KIT DE LIAISON PAC-BALLON V200",7611488,173,173]
[]
["OPTIONS OEnoviaPac-GS",null,null,null,null,null,null,null,null,null,null,null,null,null,null,null,null,null,null,null,null,null,null,null,null,"OPTIONS OEnoviaPac-GS"]
[7616429,"VANNE INVERSION + SONDE ECS GSHP 19 – 27 kW ","HZ17",466,null,null,null,null,null,null,null,null,null,null,null,null,null,null,null,null,null,null,null,"HZ17","VANNE INVERSION + SONDE ECS GSHP 19 – 27 kW ",7616429,466,466]
[100004417,"FILTRE 400UM + VANNE D'ISOLEMENT 1''","EH61",115,null,null,null,null,null,null,null,null,null,null,null,null,null,null,null,null,null,null,null,"EH61","FILTRE 400UM + VANNE D'ISOLEMENT 1''",100004417,115,115]
[7616680,"KIT APPOINT ELECTRIQUE 9 kW GSHP 05 à 15 kW","HZ20",718,null,null,null,null,null,null,null,null,null,null,null,null,null,null,null,null,null,null,null,"HZ20","KIT APPOINT ELECTRIQUE 9 kW GSHP 05 à 15 kW",7616680,718,718]
[7616643,"KIT APPOINT ELECTRIQUE 9 kW GSHP 19 - 27 kW","HZ19",776,null,null,null,null,null,null,null,null,null,null,null,null,null,null,null,null,null,null,null,"HZ19","KIT APPOINT ELECTRIQUE 9 kW GSHP 19 - 27 kW",7616643,776,776]
[7618061,"KIT ECHANGEUR DE BARRAGE GSHP 05 – 09 kW","HZ24",1050,null,null,null,null,null,null,null,null,null,null,null,null,null,null,null,null,null,null,null,"HZ24","KIT ECHANGEUR DE BARRAGE GSHP 05 – 09 kW",7618061,1050,1050]
[7618063,"KIT ECHANGEUR DE BARRAGE GSHP 12 – 15 kW","HZ26",1277,null,null,null,null,null,null,null,null,null,null,null,null,null,null,null,null,null,null,null,"HZ26","KIT ECHANGEUR DE BARRAGE GSHP 12 – 15 kW",7618063,1277,1277]
[7618065,"KIT ECHANGEUR DE BARRAGE GSHP 19 – 27 kW","HZ28",1666,null,null,null,null,null,null,null,null,null,null,null,null,null,null,null,null,null,null,null,"HZ28","KIT ECHANGEUR DE BARRAGE GSHP 19 – 27 kW",7618065,1666,1666]
[7622431,"KIT CABLAGE THERMOSTAT DE SECURITE PCBT","HZ29",82,null,null,null,null,null,null,null,null,null,null,null,null,null,null,null,null,null,null,null,"HZ29","KIT CABLAGE THERMOSTAT DE SECURITE PCBT",7622431,82,82]
[7622062,"KIT POMPE WILO PARA 25/1-8 pour GSHP 19","HZ63",731,null,null,null,null,null,null,null,null,null,null,null,null,null,null,null,null,null,null,null,"HZ63","KIT POMPE WILO PARA 25/1-8 pour GSHP 19",7622062,731,731]
[7610411,"KIT CIRCUIT PLANCHER CHAUFFANT ","ER604",798,null,null,null,null,null,null,null,null,null,null,null,null,null,null,null,null,null,null,null,"ER604","KIT CIRCUIT PLANCHER CHAUFFANT ",7610411,798,798]
[7620436,"KIT ISOLATION MODE FROID","ER581",200,null,null,null,null,null,null,null,null,null,null,null,null,null,null,null,null,null,null,null,"ER581","KIT ISOLATION MODE FROID",7620436,200,200]
[7610412,"KIT CIRCUIT RADIATEUR","ER605",525,null,null,null,null,null,null,null,null,null,null,null,null,null,null,null,null,null,null,null,"ER605","KIT CIRCUIT RADIATEUR",7610412,525,525]
[7610667,"KIT DE RACCORDEMENT BALLON TAMPON - GSHP","ER606",217,null,null,null,null,null,null,null,null,null,null,null,null,null,null,null,null,null,null,null,"ER606","KIT DE RACCORDEMENT BALLON TAMPON - GSHP",7610667,217,217]
[7607396,"COLIS BALLON TAMPON GSHP 200L","ER602",981,null,null,null,null,null,null,null,null,null,null,null,null,null,null,null,null,null,null,null,"ER602","COLIS BALLON TAMPON GSHP 200L",7607396,981,981]
[100020164,"COLLECTEUR 2/3 CIRCUITS ","EA140",382,null,null,null,null,null,null,null,null,null,null,null,null,null,null,null,null,null,null,null,"EA140","COLLECTEUR 2/3 CIRCUITS ",100020164,382,382]
[100020165,"CONSOLE MUR COLLECTEUR ","EA141",48,null,null,null,null,null,null,null,null,null,null,null,null,null,null,null,null,null,null,null,"EA141","CONSOLE MUR COLLECTEUR ",100020165,48,48]
[100020166,"CONSOLE MUR 1 MODULE ","EA142",129,null,null,null,null,null,null,null,null,null,null,null,null,null,null,null,null,null,null,null,"EA142","CONSOLE MUR 1 MODULE ",100020166,129,129]
[100020167,"CIRCUIT DIRECT P.ELEC CLASSE A  ","EA143",720,null,null,null,null,null,null,null,null,null,null,null,null,null,null,null,null,null,null,null,"EA143","CIRCUIT DIRECT P.ELEC CLASSE A  ",100020167,720,720]
[100020168,"CIRCUIT V3V P.ELEC","EA144",1023,null,null,null,null,null,null,null,null,null,null,null,null,null,null,null,null,null,null,null,"EA144","CIRCUIT V3V P.ELEC",100020168,1023,1023]
[89557009,"KIT DE TRANSFORMATION G/R 3/4 '' ET 1 ''","BH84",35,null,null,null,null,null,null,null,null,null,null,null,null,null,null,null,null,null,null,null,"BH84","KIT DE TRANSFORMATION G/R 3/4 '' ET 1 ''",89557009,35,35]
[7746242,"SOUPAPE DIFFERENTIELLE","HK150",59,null,null,null,null,null,null,null,null,null,null,null,null,null,null,null,null,null,null,null,"HK150","SOUPAPE DIFFERENTIELLE",7746242,59,59]
[100020045,"KIT FILTRE FERNOX TF1","EH896",288,null,null,null,null,null,null,null,null,null,null,null,null,null,null,null,null,null,null,null,"EH896","KIT FILTRE FERNOX TF1",100020045,288,288]
[]
["OPTIONS REGULATIONS",null,null,null,null,null,null,null,null,null,null,null,null,null,null,null,null,null,null,null,null,null,null,null,null,"OPTIONS REGULATIONS"]
[100013304,"COLIS OPTION V3V OE-TRONIC 4","AD249",170,null,null,null,null,null,null,null,null,null,null,null,null,null,null,null,null,null,null,null,"AD249","COLIS OPTION V3V OE-TRONIC 4",100013304,170,170]
[100013305,"SONDE SYSTÈME ECS","AD250",49,null,null,null,null,null,null,null,null,null,null,null,null,null,null,null,null,null,null,null,"AD250","SONDE SYSTÈME ECS",100013305,49,49]
[100013306,"SONDE EXTERIEURE RADIO ","AD251",82,null,null,null,null,null,null,null,null,null,null,null,null,null,null,null,null,null,null,null,"AD251","SONDE EXTERIEURE RADIO ",100013306,82,82]
[100013307,"MODULE CHAUDIERE RADIO (EMETTEUR)","AD252",132,null,null,null,null,null,null,null,null,null,null,null,null,null,null,null,null,null,null,null,"AD252","MODULE CHAUDIERE RADIO (EMETTEUR)",100013307,132,132]
[100013477,"COMMANDE A DISTANCE RS 400","AD257",190,null,null,null,null,null,null,null,null,null,null,null,null,null,null,null,null,null,null,null,"AD257","COMMANDE A DISTANCE RS 400",100013477,190,190]
[100013472," CDE A DISTANCE RADIO RS 400R     ","AD255",256,null,null,null,null,null,null,null,null,null,null,null,null,null,null,null,null,null,null,null,"AD255"," CDE A DISTANCE RADIO RS 400R     ",100013472,256,256]
[88017851,"CABLE DE LIAISON BUS LG 12 M","AD134",118,null,null,null,null,null,null,null,null,null,null,null,null,null,null,null,null,null,null,null,"AD134","CABLE DE LIAISON BUS LG 12 M",88017851,118,118]
[88017017,"SONDE DEPART v3v","AD199",85,null,null,null,null,null,null,null,null,null,null,null,null,null,null,null,null,null,null,null,"AD199","SONDE DEPART v3v",88017017,85,85]
[100002803,"COMMANDE A DISTANCE SIMPLIFIEE AD208","AD208",112,null,null,null,null,null,null,null,null,null,null,null,null,null,null,null,null,null,null,null,"AD208","COMMANDE A DISTANCE SIMPLIFIEE AD208",100002803,112,112]
[100000030,"COLIS OPTION SONDE ECS","AD212",53,null,null,null,null,null,null,null,null,null,null,null,null,null,null,null,null,null,null,null,"AD212","COLIS OPTION SONDE ECS",100000030,53,53]
[100020294,"KIT COMPTAGE D'ENERGIE","HK29",209,null,null,null,null,null,null,null,null,null,null,null,null,null,null,null,null,null,null,null,"HK29","KIT COMPTAGE D'ENERGIE",100020294,209,209]
[100019114,"KIT SONDE HYGRO RAFRAICHISSEMENT","HK27",233,null,null,null,null,null,null,null,null,null,null,null,null,null,null,null,null,null,null,null,"HK27","KIT SONDE HYGRO RAFRAICHISSEMENT",100019114,233,233]
[]
[]
[]
[]
[]
[7670836,"AWHP 4.5 MR-GSCR 15 HYB V200",null,8423,null,null,null,null,null,null,null,null,null,null,null,null,null,null,null,null,null,null,null,null,"AWHP 4.5 MR-GSCR 15 HYB V200",7670836,8423,8423]
[7670838,"AWHP 4.5 MR-GSCR 15 HYB B200",null,8537,null,null,null,null,null,null,null,null,null,null,null,null,null,null,null,null,null,null,null,null,"AWHP 4.5 MR-GSCR 15 HYB B200",7670838,8537,8537]
[7642833,"AWHP 6 MR-GSCR 15 HYBRID V200",null,8826,null,null,null,null,null,null,null,null,null,null,null,null,null,null,null,null,null,null,null,null,"AWHP 6 MR-GSCR 15 HYBRID V200",7642833,8826,8826]
[7642834,"AWHP 6 MR-GSCR 15 HYBRID B200",null,8940,null,null,null,null,null,null,null,null,null,null,null,null,null,null,null,null,null,null,null,null,"AWHP 6 MR-GSCR 15 HYBRID B200",7642834,8940,8940]
[7642835,"AWHP 8 MR-GSCR 15 HYBRID V200",null,9566,null,null,null,null,null,null,null,null,null,null,null,null,null,null,null,null,null,null,null,null,"AWHP 8 MR-GSCR 15 HYBRID V200",7642835,9566,9566]
[7642836,"AWHP 8 MR-GSCR 15 HYBRID B200",null,9680,null,null,null,null,null,null,null,null,null,null,null,null,null,null,null,null,null,null,null,null,"AWHP 8 MR-GSCR 15 HYBRID B200",7642836,9680,9680]
[7642837,"AWHP 11 MR-GSCR 15 HYBRID V200",null,11037,null,null,null,null,null,null,null,null,null,null,null,null,null,null,null,null,null,null,null,null,"AWHP 11 MR-GSCR 15 HYBRID V200",7642837,11037,11037]
[7642839,"AWHP 11 MR-GSCR 15 HYBRIDE B200",null,11151,null,null,null,null,null,null,null,null,null,null,null,null,null,null,null,null,null,null,null,null,"AWHP 11 MR-GSCR 15 HYBRIDE B200",7642839,11151,11151]
[7642840,"AWHP 11 TR-GSCR 15 HYBRID V200",null,11368,null,null,null,null,null,null,null,null,null,null,null,null,null,null,null,null,null,null,null,null,"AWHP 11 TR-GSCR 15 HYBRID V200",7642840,11368,11368]
[7642841,"AWHP 11 TR-GSCR 15 HYBRID B200",null,11482,null,null,null,null,null,null,null,null,null,null,null,null,null,null,null,null,null,null,null,null,"AWHP 11 TR-GSCR 15 HYBRID B200",7642841,11482,11482]
[7642842,"AWHP 16 MR-GSCR 15 HYBRID V200",null,12178,null,null,null,null,null,null,null,null,null,null,null,null,null,null,null,null,null,null,null,null,"AWHP 16 MR-GSCR 15 HYBRID V200",7642842,12178,12178]
[7642843,"AWHP 16 MR-GSCR 15 HYBRID B200",null,12292,null,null,null,null,null,null,null,null,null,null,null,null,null,null,null,null,null,null,null,null,"AWHP 16 MR-GSCR 15 HYBRID B200",7642843,12292,12292]
[7642844,"AWHP 16 TR-GSCR 15 HYBRID V200",null,12624,null,null,null,null,null,null,null,null,null,null,null,null,null,null,null,null,null,null,null,null,"AWHP 16 TR-GSCR 15 HYBRID V200",7642844,12624,12624]
[7642845,"AWHP 16 TR-GSCR 15 HYBRID B200",null,12738,null,null,null,null,null,null,null,null,null,null,null,null,null,null,null,null,null,null,null,null,"AWHP 16 TR-GSCR 15 HYBRID B200",7642845,12738,12738]
[7642846,"AWHHP 6 MR-GSCR 25 HYBRID V200",null,9010,null,null,null,null,null,null,null,null,null,null,null,null,null,null,null,null,null,null,null,null,"AWHHP 6 MR-GSCR 25 HYBRID V200",7642846,9010,9010]
[7642847,"AWHP 6 MR-GSCR 25 HYBRID B200",null,9124,null,null,null,null,null,null,null,null,null,null,null,null,null,null,null,null,null,null,null,null,"AWHP 6 MR-GSCR 25 HYBRID B200",7642847,9124,9124]
[7642848,"AWHP 8 MR-GSCR 25 HYBRID V200",null,9750,null,null,null,null,null,null,null,null,null,null,null,null,null,null,null,null,null,null,null,null,"AWHP 8 MR-GSCR 25 HYBRID V200",7642848,9750,9750]
[7642849,"AWHP 8 MR-GSCR 25 HYBRID B200",null,9864,null,null,null,null,null,null,null,null,null,null,null,null,null,null,null,null,null,null,null,null,"AWHP 8 MR-GSCR 25 HYBRID B200",7642849,9864,9864]
[7642850,"AWHP 11 MR-GSCR 25 HYBRID V200",null,11221,null,null,null,null,null,null,null,null,null,null,null,null,null,null,null,null,null,null,null,null,"AWHP 11 MR-GSCR 25 HYBRID V200",7642850,11221,11221]
[7642851,"AWHP 11 MR-GSCR 25 HYBRID B200",null,11335,null,null,null,null,null,null,null,null,null,null,null,null,null,null,null,null,null,null,null,null,"AWHP 11 MR-GSCR 25 HYBRID B200",7642851,11335,11335]
[7642852,"AWHP 11 TR-GSCR 25 HYBRID V200",null,11552,null,null,null,null,null,null,null,null,null,null,null,null,null,null,null,null,null,null,null,null,"AWHP 11 TR-GSCR 25 HYBRID V200",7642852,11552,11552]
[7642853,"AWHP 11 TR-GSCR 25 HYBRID B200",null,11666,null,null,null,null,null,null,null,null,null,null,null,null,null,null,null,null,null,null,null,null,"AWHP 11 TR-GSCR 25 HYBRID B200",7642853,11666,11666]
[7642854,"AWHP 16 MR-GSCR 25 HYBRID V200",null,12362,null,null,null,null,null,null,null,null,null,null,null,null,null,null,null,null,null,null,null,null,"AWHP 16 MR-GSCR 25 HYBRID V200",7642854,12362,12362]
[7642855,"AWHP 16 MR-GSCR 25 HYBRID B200",null,12476,null,null,null,null,null,null,null,null,null,null,null,null,null,null,null,null,null,null,null,null,"AWHP 16 MR-GSCR 25 HYBRID B200",7642855,12476,12476]
[7642856,"AWHP 16 TR-GSCR 25 HYBRID V200",null,12808,null,null,null,null,null,null,null,null,null,null,null,null,null,null,null,null,null,null,null,null,"AWHP 16 TR-GSCR 25 HYBRID V200",7642856,12808,12808]
[7642857,"AWHP 16 TR-GSCR 25 HYBRID B200",null,12922,null,null,null,null,null,null,null,null,null,null,null,null,null,null,null,null,null,null,null,null,"AWHP 16 TR-GSCR 25 HYBRID B200",7642857,12922,12922]
[7642858,"AWHP 8 MR-GSCR 35 HYBRID V200",null,10104,null,null,null,null,null,null,null,null,null,null,null,null,null,null,null,null,null,null,null,null,"AWHP 8 MR-GSCR 35 HYBRID V200",7642858,10104,10104]
[7642859,"AWHP 8 MR-GSCR 35 HYBRID B200",null,10218,null,null,null,null,null,null,null,null,null,null,null,null,null,null,null,null,null,null,null,null,"AWHP 8 MR-GSCR 35 HYBRID B200",7642859,10218,10218]
[7642860,"AWHP 11 MR-GSCR 35 HYBRID V200",null,11575,null,null,null,null,null,null,null,null,null,null,null,null,null,null,null,null,null,null,null,null,"AWHP 11 MR-GSCR 35 HYBRID V200",7642860,11575,11575]
[7642861,"AWHP 11 MR-GSCR 35 HYBRID B200",null,11689,null,null,null,null,null,null,null,null,null,null,null,null,null,null,null,null,null,null,null,null,"AWHP 11 MR-GSCR 35 HYBRID B200",7642861,11689,11689]
[7642862,"AWHP 11 TR-GSCR 35 HYBRID V200",null,11906,null,null,null,null,null,null,null,null,null,null,null,null,null,null,null,null,null,null,null,null,"AWHP 11 TR-GSCR 35 HYBRID V200",7642862,11906,11906]
[7642863,"AWHP 11 TR-GSCR 35 HYBRID B200",null,12020,null,null,null,null,null,null,null,null,null,null,null,null,null,null,null,null,null,null,null,null,"AWHP 11 TR-GSCR 35 HYBRID B200",7642863,12020,12020]
[7642864,"AWHP 16 MR-GSCR 35 HYBRID V200",null,12716,null,null,null,null,null,null,null,null,null,null,null,null,null,null,null,null,null,null,null,null,"AWHP 16 MR-GSCR 35 HYBRID V200",7642864,12716,12716]
[7642865,"AWHP 16 MR-GSCR 35 HYBRID B200",null,12830,null,null,null,null,null,null,null,null,null,null,null,null,null,null,null,null,null,null,null,null,"AWHP 16 MR-GSCR 35 HYBRID B200",7642865,12830,12830]
[7642866,"AWHP 16 TR-GSCR 35 HYBRID V200",null,13162,null,null,null,null,null,null,null,null,null,null,null,null,null,null,null,null,null,null,null,null,"AWHP 16 TR-GSCR 35 HYBRID V200",7642866,13162,13162]
[7642867,"AWHP 16 TR-GSCR 35 HYBRID B200",null,13276,null,null,null,null,null,null,null,null,null,null,null,null,null,null,null,null,null,null,null,null,"AWHP 16 TR-GSCR 35 HYBRID B200",7642867,13276,13276]
[]
["COMPOSANTS OEnoviaGaz-Hybrid",null,null,null,null,null,null,null,null,null,null,null,null,null,null,null,null,null,null,null,null,null,null,null,null,"COMPOSANTS OEnoviaGaz-Hybrid"]
[100017756,"GSCR 15","JA21",3622,null,null,null,null,null,null,null,null,null,null,null,null,null,null,null,null,null,null,null,"JA21","GSCR 15",100017756,3622,3622]
[100017757,"GSCR 25","JA22",3806,null,null,null,null,null,null,null,null,null,null,null,null,null,null,null,null,null,null,null,"JA22","GSCR 25",100017757,3806,3806]
[100017758,"GSCR 35","JA23",4160,null,null,null,null,null,null,null,null,null,null,null,null,null,null,null,null,null,null,null,"JA23","GSCR 35",100017758,4160,4160]
[7656794,"AWHP 4.5 MR-4","EH616",1963,null,null,null,null,null,null,null,null,null,null,null,null,null,null,null,null,null,null,null,"EH616","AWHP 4.5 MR-4",7656794,1963,1963]
[7668016,"AWHP 6 MR-3","EH672",2366,null,null,null,null,null,null,null,null,null,null,null,null,null,null,null,null,null,null,null,"EH672","AWHP 6 MR-3",7668016,2366,2366]
[7609926,"AWHP 8 MR-2","EH381",3170,null,null,null,null,null,null,null,null,null,null,null,null,null,null,null,null,null,null,null,"EH381","AWHP 8 MR-2",7609926,3170,3170]
[7609927,"AWHP 11 MR-2","EH382",4335,null,null,null,null,null,null,null,null,null,null,null,null,null,null,null,null,null,null,null,"EH382","AWHP 11 MR-2",7609927,4335,4335]
[7609928,"AWHP 11 TR-2","EH383",4666,null,null,null,null,null,null,null,null,null,null,null,null,null,null,null,null,null,null,null,"EH383","AWHP 11 TR-2",7609928,4666,4666]
[7609929,"AWHP 16 MR-2","EH384",5476,null,null,null,null,null,null,null,null,null,null,null,null,null,null,null,null,null,null,null,"EH384","AWHP 16 MR-2",7609929,5476,5476]
[7609930,"AWHP 16 TR-2","EH385",5922,null,null,null,null,null,null,null,null,null,null,null,null,null,null,null,null,null,null,null,"EH385","AWHP 16 TR-2",7609930,5922,5922]
[100015480,"RACCORD D'ADAPTATION FRIGO POUR 4 kW ET 6 kW","EH146",64,null,null,null,null,null,null,null,null,null,null,null,null,null,null,null,null,null,null,null,"EH146","RACCORD D'ADAPTATION FRIGO POUR 4 kW ET 6 kW",100015480,64,64]
[7623217,"BALLON 200 CSL HYBRID 4-8","EH509",2649,null,null,null,null,null,null,null,null,null,null,null,null,null,null,null,null,null,null,null,"EH509","BALLON 200 CSL HYBRID 4-8",7623217,2649,2649]
[7623229,"BALLON 200 CSL HYBRID 11-16","EH513",2955,null,null,null,null,null,null,null,null,null,null,null,null,null,null,null,null,null,null,null,"EH513","BALLON 200 CSL HYBRID 11-16",7623229,2955,2955]
[7621386,"KIT DE MONTAGE BALLON VERSION V","EH524",125,null,null,null,null,null,null,null,null,null,null,null,null,null,null,null,null,null,null,null,"EH524","KIT DE MONTAGE BALLON VERSION V",7621386,125,125]
[7621387,"KIT DE MONTAGE BALLON VERSION B","EH525",239,null,null,null,null,null,null,null,null,null,null,null,null,null,null,null,null,null,null,null,"EH525","KIT DE MONTAGE BALLON VERSION B",7621387,239,239]
[]
["OPTIONS OEnoviaGaz-Hybrid",null,null,null,null,null,null,null,null,null,null,null,null,null,null,null,null,null,null,null,null,null,null,null,null,"OPTIONS OEnoviaGaz-Hybrid"]
[100011222,"SUPPORT FIXATION MURALE & PLOTS ANTIVIBRATILES POUR ROE-II 6 à 10 - AWHP","EH95",181,null,null,null,null,null,null,null,null,null,null,null,null,null,null,null,null,null,null,null,"EH95","SUPPORT FIXATION MURALE & PLOTS ANTIVIBRATILES POUR ROE-II 6 à 10 - AWHP",100011222,181,181]
[100018409,"SUPPORT MURAL AWHP 11à 27 kW","EH250",181,null,null,null,null,null,null,null,null,null,null,null,null,null,null,null,null,null,null,null,"EH250","SUPPORT MURAL AWHP 11à 27 kW",100018409,181,181]
[100012533,"SUPPORT POSE AU SOL AWHP","EH112",48,null,null,null,null,null,null,null,null,null,null,null,null,null,null,null,null,null,null,null,"EH112","SUPPORT POSE AU SOL AWHP",100012533,48,48]
[7694974,"SUPPORT AU SOL CAOUTCHOUC 600MM","EH879",119,null,null,null,null,null,null,null,null,null,null,null,null,null,null,null,null,null,null,null,"EH879","SUPPORT AU SOL CAOUTCHOUC 600MM",7694974,119,119]
[100012535,"LIAISON FRIGORIFIQUE PE 5/8'' 3/8'' - LG 5m","EH114",255,null,null,null,null,null,null,null,null,null,null,null,null,null,null,null,null,null,null,null,"EH114","LIAISON FRIGORIFIQUE PE 5/8'' 3/8'' - LG 5m",100012535,255,255]
[100012536,"LIAISON FRIGORIFIQUE PE 5/8'' 3/8'' - LG 10m","EH115",456,null,null,null,null,null,null,null,null,null,null,null,null,null,null,null,null,null,null,null,"EH115","LIAISON FRIGORIFIQUE PE 5/8'' 3/8'' - LG 10m",100012536,456,456]
[100012537,"LIAISON FRIGORIFIQUE PE 5/8'' 3/8'' - LG 20m","EH116",823,null,null,null,null,null,null,null,null,null,null,null,null,null,null,null,null,null,null,null,"EH116","LIAISON FRIGORIFIQUE PE 5/8'' 3/8'' - LG 20m",100012537,823,823]
[100015476,"LIAISON FRIGORIFIQUE PE 1/2\" 1/4\" - LG 10 m","EH142",255,null,null,null,null,null,null,null,null,null,null,null,null,null,null,null,null,null,null,null,"EH142","LIAISON FRIGORIFIQUE PE 1/2\" 1/4\" - LG 10 m",100015476,255,255]
[100008841,"BALLON TAMPON 80L B 80 T","EH85",572,null,null,null,null,null,null,null,null,null,null,null,null,null,null,null,null,null,null,null,"EH85","BALLON TAMPON 80L B 80 T",100008841,572,572]
[100004415,"COLIS BALLON TAMPON 160L","EH60",857,null,null,null,null,null,null,null,null,null,null,null,null,null,null,null,null,null,null,null,"EH60","COLIS BALLON TAMPON 160L",100004415,857,857]
[7624902,"KIT CABLAGE PLANCHER CHAUFFANT DIRECT","HA255",40,null,null,null,null,null,null,null,null,null,null,null,null,null,null,null,null,null,null,null,"HA255","KIT CABLAGE PLANCHER CHAUFFANT DIRECT",7624902,40,40]
[7619010,"KIT VANNE 3 VOIES","EH528",631,null,null,null,null,null,null,null,null,null,null,null,null,null,null,null,null,null,null,null,"EH528","KIT VANNE 3 VOIES",7619010,631,631]
[7622641,"KIT FAISCEAU GFS V3V","EH529",58,null,null,null,null,null,null,null,null,null,null,null,null,null,null,null,null,null,null,null,"EH529","KIT FAISCEAU GFS V3V",7622641,58,58]
[7626737,"KIT ISOLATION MODE CLIMATISATION","EH567",229,null,null,null,null,null,null,null,null,null,null,null,null,null,null,null,null,null,null,null,"EH567","KIT ISOLATION MODE CLIMATISATION",7626737,229,229]
[7636899,"KIT SILENCIEUX MODULE EXTERIEUR","EH572",66,null,null,null,null,null,null,null,null,null,null,null,null,null,null,null,null,null,null,null,"EH572","KIT SILENCIEUX MODULE EXTERIEUR",7636899,66,66]
[7746242,"SOUPAPE DIFFERENTIELLE","HK150",59,null,null,null,null,null,null,null,null,null,null,null,null,null,null,null,null,null,null,null,"HK150","SOUPAPE DIFFERENTIELLE",7746242,59,59]
[]
["OPTIONS REGULATION OEnoviaGaz-Hybrid",null,null,null,null,null,null,null,null,null,null,null,null,null,null,null,null,null,null,null,null,null,null,null,null,"OPTIONS REGULATION OEnoviaGaz-Hybrid"]
[100013304,"COLIS OPTION V3V OE-TRONIC 4","AD249",170,null,null,null,null,null,null,null,null,null,null,null,null,null,null,null,null,null,null,null,"AD249","COLIS OPTION V3V OE-TRONIC 4",100013304,170,170]
[100013305,"SONDE SYSTÈME ECS","AD250",49,null,null,null,null,null,null,null,null,null,null,null,null,null,null,null,null,null,null,null,"AD250","SONDE SYSTÈME ECS",100013305,49,49]
[100013306,"SONDE EXTERIEURE RADIO DIEMATIC iSystem","AD251",82,null,null,null,null,null,null,null,null,null,null,null,null,null,null,null,null,null,null,null,"AD251","SONDE EXTERIEURE RADIO DIEMATIC iSystem",100013306,82,82]
[100013307,"MODULE CHAUDIERE RADIO DIEMATIC iSystem","AD252",132,null,null,null,null,null,null,null,null,null,null,null,null,null,null,null,null,null,null,null,"AD252","MODULE CHAUDIERE RADIO DIEMATIC iSystem",100013307,132,132]
[100013477,"COMMANDE A DISTANCE RS 400","AD257",190,null,null,null,null,null,null,null,null,null,null,null,null,null,null,null,null,null,null,null,"AD257","COMMANDE A DISTANCE RS 400",100013477,190,190]
[100013472,"CDE A DISTANCE RADIO RS 400R     ","AD255",256,null,null,null,null,null,null,null,null,null,null,null,null,null,null,null,null,null,null,null,"AD255","CDE A DISTANCE RADIO RS 400R     ",100013472,256,256]
[88017017,"SONDE DEPART v3v","AD199",85,null,null,null,null,null,null,null,null,null,null,null,null,null,null,null,null,null,null,null,"AD199","SONDE DEPART v3v",88017017,85,85]
[100002803,"COMMANDE A DISTANCE SIMPLIFIEE AD208","AD208",112,null,null,null,null,null,null,null,null,null,null,null,null,null,null,null,null,null,null,null,"AD208","COMMANDE A DISTANCE SIMPLIFIEE AD208",100002803,112,112]
[7622433,"KIT SONDE CONDENSATION (0-10V)","HZ64",420,null,null,null,null,null,null,null,null,null,null,null,null,null,null,null,null,null,null,null,"HZ64","KIT SONDE CONDENSATION (0-10V)",7622433,420,420]
[100019114,"KIT SONDE HYGRO RAFRAICHISSEMENT","HK27",233,null,null,null,null,null,null,null,null,null,null,null,null,null,null,null,null,null,null,null,"HK27","KIT SONDE HYGRO RAFRAICHISSEMENT",100019114,233,233]
[]
[]
[]
[null,"Avec chaudière fioul basse température - OFSB 22/29",null,null,null,null,null,null,null,null,null,null,null,null,null,null,null,null,null,null,null,null,null,null,"Avec chaudière fioul basse température - OFSB 22/29"]
[7749810,"AWHP 4.5MR-OFSB 22 HYB V200",null,9338,null,null,null,null,null,null,null,null,null,null,null,null,null,null,null,null,null,null,null,null,"AWHP 4.5MR-OFSB 22 HYB V200",7749810,9338,9338]
[7749811,"AWHP 6MR-OFSB 22 HYBRID V200",null,9741,null,null,null,null,null,null,null,null,null,null,null,null,null,null,null,null,null,null,null,null,"AWHP 6MR-OFSB 22 HYBRID V200",7749811,9741,9741]
[7749812,"AWHP 8MR-OFSB 22 HYBRID V200",null,10481,null,null,null,null,null,null,null,null,null,null,null,null,null,null,null,null,null,null,null,null,"AWHP 8MR-OFSB 22 HYBRID V200",7749812,10481,10481]
[7749813,"AWHP 11MR-OFSB 22 HYBRID V200",null,11951,null,null,null,null,null,null,null,null,null,null,null,null,null,null,null,null,null,null,null,null,"AWHP 11MR-OFSB 22 HYBRID V200",7749813,11951,11951]
[7749814,"AWHP 11TR-OFSB 22 HYBRID V200",null,12282,null,null,null,null,null,null,null,null,null,null,null,null,null,null,null,null,null,null,null,null,"AWHP 11TR-OFSB 22 HYBRID V200",7749814,12282,12282]
[7749815,"AWHP 16MR-OFSB 22 HYBRID V200",null,13092,null,null,null,null,null,null,null,null,null,null,null,null,null,null,null,null,null,null,null,null,"AWHP 16MR-OFSB 22 HYBRID V200",7749815,13092,13092]
[7749816,"AWHP 16TR-OFSB 22 HYBRID V200",null,13538,null,null,null,null,null,null,null,null,null,null,null,null,null,null,null,null,null,null,null,null,"AWHP 16TR-OFSB 22 HYBRID V200",7749816,13538,13538]
[7749817,"AWHP 8MR-OFSB 29 HYBRID V200",null,10653,null,null,null,null,null,null,null,null,null,null,null,null,null,null,null,null,null,null,null,null,"AWHP 8MR-OFSB 29 HYBRID V200",7749817,10653,10653]
[7749818,"AWHP 11MR-OFSB 29 HYBRID V200",null,12123,null,null,null,null,null,null,null,null,null,null,null,null,null,null,null,null,null,null,null,null,"AWHP 11MR-OFSB 29 HYBRID V200",7749818,12123,12123]
[7749819,"AWHP 11TR-OFSB 29 HYBRID V200",null,12454,null,null,null,null,null,null,null,null,null,null,null,null,null,null,null,null,null,null,null,null,"AWHP 11TR-OFSB 29 HYBRID V200",7749819,12454,12454]
[7749820,"AWHP 16MR-OFSB 29 HYBRID V200",null,13264,null,null,null,null,null,null,null,null,null,null,null,null,null,null,null,null,null,null,null,null,"AWHP 16MR-OFSB 29 HYBRID V200",7749820,13264,13264]
[7749821,"AWHP 16TR-OFSB 29 HYBRID V200",null,13710,null,null,null,null,null,null,null,null,null,null,null,null,null,null,null,null,null,null,null,null,"AWHP 16TR-OFSB 29 HYBRID V200",7749821,13710,13710]
[]
["COMPOSANTS",null,null,null,null,null,null,null,null,null,null,null,null,null,null,null,null,null,null,null,null,null,null,null,null,"COMPOSANTS"]
[7736433,"OFSB 22","MY767",4115,null,null,null,null,null,null,null,null,null,null,null,null,null,null,null,null,null,null,null,"MY767","OFSB 22",7736433,4115,4115]
[7736434,"OFSB 29","MY768",4287,null,null,null,null,null,null,null,null,null,null,null,null,null,null,null,null,null,null,null,"MY768","OFSB 29",7736434,4287,4287]
[7616272,"KIT EQUIPEMENT HYDRAULIQUE","MY404",536,null,null,null,null,null,null,null,null,null,null,null,null,null,null,null,null,null,null,null,"MY404","KIT EQUIPEMENT HYDRAULIQUE",7616272,536,536]
[7656794,"AWHP 4.5 MR-4","EH616",1963,null,null,null,null,null,null,null,null,null,null,null,null,null,null,null,null,null,null,null,"EH616","AWHP 4.5 MR-4",7656794,1963,1963]
[7668016,"AWHP 6 MR-3","EH672",2366,null,null,null,null,null,null,null,null,null,null,null,null,null,null,null,null,null,null,null,"EH672","AWHP 6 MR-3",7668016,2366,2366]
[7609926,"AWHP 8 MR-2 ","EH381",3170,null,null,null,null,null,null,null,null,null,null,null,null,null,null,null,null,null,null,null,"EH381","AWHP 8 MR-2 ",7609926,3170,3170]
[7609927,"AWHP 11 MR-2 ","EH382",4335,null,null,null,null,null,null,null,null,null,null,null,null,null,null,null,null,null,null,null,"EH382","AWHP 11 MR-2 ",7609927,4335,4335]
[7609928,"AWHP 11 TR-2 ","EH383",4666,null,null,null,null,null,null,null,null,null,null,null,null,null,null,null,null,null,null,null,"EH383","AWHP 11 TR-2 ",7609928,4666,4666]
[7609929,"AWHP 16 MR-2 ","EH384",5476,null,null,null,null,null,null,null,null,null,null,null,null,null,null,null,null,null,null,null,"EH384","AWHP 16 MR-2 ",7609929,5476,5476]
[7609930,"AWHP 16 TR-2 ","EH385",5922,null,null,null,null,null,null,null,null,null,null,null,null,null,null,null,null,null,null,null,"EH385","AWHP 16 TR-2 ",7609930,5922,5922]
[100015480,"RACCORD D'ADAPTATION FRIGO POUR 4 kW ET 6 kW","EH146",64,null,null,null,null,null,null,null,null,null,null,null,null,null,null,null,null,null,null,null,"EH146","RACCORD D'ADAPTATION FRIGO POUR 4 kW ET 6 kW",100015480,64,64]
[7623191,"BALLON 200 PSL HYBRIDE 4-8","EH501",2535,null,null,null,null,null,null,null,null,null,null,null,null,null,null,null,null,null,null,null,"EH501","BALLON 200 PSL HYBRIDE 4-8",7623191,2535,2535]
[7623204,"BALLON 200 PSL HYBRIDE 11-16","EH505",2840,null,null,null,null,null,null,null,null,null,null,null,null,null,null,null,null,null,null,null,"EH505","BALLON 200 PSL HYBRIDE 11-16",7623204,2840,2840]
[7621386,"KIT DE MONTAGE BALLON VERSION V","EH524",125,null,null,null,null,null,null,null,null,null,null,null,null,null,null,null,null,null,null,null,"EH524","KIT DE MONTAGE BALLON VERSION V",7621386,125,125]
[]
[]
[]
[null,"Avec chaudière fioul à condensation - OFSC 24/32",null,null,null,null,null,null,null,null,null,null,null,null,null,null,null,null,null,null,null,null,null,null,"Avec chaudière fioul à condensation - OFSC 24/32"]
[7749822,"AWHP 6MR-OFSC 24 HYBRID V200",null,10865,null,null,null,null,null,null,null,null,null,null,null,null,null,null,null,null,null,null,null,null,"AWHP 6MR-OFSC 24 HYBRID V200",7749822,10865,10865]
[7749823,"AWHP 8MR-OFSC 24 HYBRID V200",null,11605,null,null,null,null,null,null,null,null,null,null,null,null,null,null,null,null,null,null,null,null,"AWHP 8MR-OFSC 24 HYBRID V200",7749823,11605,11605]
[7749824,"AWHP 11MR-OFSC 24 HYBRID V200",null,13075,null,null,null,null,null,null,null,null,null,null,null,null,null,null,null,null,null,null,null,null,"AWHP 11MR-OFSC 24 HYBRID V200",7749824,13075,13075]
[7749825,"AWHP 11TR-OFSC 24 HYBRID V200",null,13406,null,null,null,null,null,null,null,null,null,null,null,null,null,null,null,null,null,null,null,null,"AWHP 11TR-OFSC 24 HYBRID V200",7749825,13406,13406]
[7749826,"AWHP 16MR-OFSC 24 HYBRID V200",null,14216,null,null,null,null,null,null,null,null,null,null,null,null,null,null,null,null,null,null,null,null,"AWHP 16MR-OFSC 24 HYBRID V200",7749826,14216,14216]
[7749827,"AWHP 16TR-OFSC 24 HYBRID V200",null,14662,null,null,null,null,null,null,null,null,null,null,null,null,null,null,null,null,null,null,null,null,"AWHP 16TR-OFSC 24 HYBRID V200",7749827,14662,14662]
[7749828,"AWHP 8MR-OFSC 32 HYBRID V200",null,12207,null,null,null,null,null,null,null,null,null,null,null,null,null,null,null,null,null,null,null,null,"AWHP 8MR-OFSC 32 HYBRID V200",7749828,12207,12207]
[7749829,"AWHP 11MR-OFSC 32 HYBRID V200",null,13372,null,null,null,null,null,null,null,null,null,null,null,null,null,null,null,null,null,null,null,null,"AWHP 11MR-OFSC 32 HYBRID V200",7749829,13372,13372]
[7749830,"AWHP 11TR-OFSC 32 HYBRID V200",null,14008,null,null,null,null,null,null,null,null,null,null,null,null,null,null,null,null,null,null,null,null,"AWHP 11TR-OFSC 32 HYBRID V200",7749830,14008,14008]
[7749831,"AWHP 16MR-OFSC 32 HYBRID V200",null,14818,null,null,null,null,null,null,null,null,null,null,null,null,null,null,null,null,null,null,null,null,"AWHP 16MR-OFSC 32 HYBRID V200",7749831,14818,14818]
[7749832,"AWHP 16TR-OFSC 32 HYBRID V200",null,15264,null,null,null,null,null,null,null,null,null,null,null,null,null,null,null,null,null,null,null,null,"AWHP 16TR-OFSC 32 HYBRID V200",7749832,15264,15264]
[]
["COMPOSANTS OEcOil-Hybrid OFSC",null,null,null,null,null,null,null,null,null,null,null,null,null,null,null,null,null,null,null,null,null,null,null,null,"COMPOSANTS OEcOil-Hybrid OFSC"]
[7736424,"OFSC 24 ","MY762",5239,null,null,null,null,null,null,null,null,null,null,null,null,null,null,null,null,null,null,null,"MY762","OFSC 24 ",7736424,5239,5239]
[7736432,"OFSC 32 ","MY764",5841,null,null,null,null,null,null,null,null,null,null,null,null,null,null,null,null,null,null,null,"MY764","OFSC 32 ",7736432,5841,5841]
[7616272,"KIT EQUIPEMENT HYDRAULIQUE","MY404",536,null,null,null,null,null,null,null,null,null,null,null,null,null,null,null,null,null,null,null,"MY404","KIT EQUIPEMENT HYDRAULIQUE",7616272,536,536]
[7656794,"AWHP 4.5 MR-4","EH616",1963,null,null,null,null,null,null,null,null,null,null,null,null,null,null,null,null,null,null,null,"EH616","AWHP 4.5 MR-4",7656794,1963,1963]
[7668016,"AWHP 6 MR-3","EH672",2366,null,null,null,null,null,null,null,null,null,null,null,null,null,null,null,null,null,null,null,"EH672","AWHP 6 MR-3",7668016,2366,2366]
[7609926,"AWHP 8 MR-2 ","EH381",3170,null,null,null,null,null,null,null,null,null,null,null,null,null,null,null,null,null,null,null,"EH381","AWHP 8 MR-2 ",7609926,3170,3170]
[7609927,"AWHP 11 MR-2 ","EH382",4335,null,null,null,null,null,null,null,null,null,null,null,null,null,null,null,null,null,null,null,"EH382","AWHP 11 MR-2 ",7609927,4335,4335]
[7609928,"AWHP 11 TR-2 ","EH383",4666,null,null,null,null,null,null,null,null,null,null,null,null,null,null,null,null,null,null,null,"EH383","AWHP 11 TR-2 ",7609928,4666,4666]
[7609929,"AWHP 16 MR-2 ","EH384",5476,null,null,null,null,null,null,null,null,null,null,null,null,null,null,null,null,null,null,null,"EH384","AWHP 16 MR-2 ",7609929,5476,5476]
[7609930,"AWHP 16 TR-2 ","EH385",5922,null,null,null,null,null,null,null,null,null,null,null,null,null,null,null,null,null,null,null,"EH385","AWHP 16 TR-2 ",7609930,5922,5922]
[100015480,"RACCORD D'ADAPTATION FRIGO POUR 4 kW ET 6 kW","EH146",64,null,null,null,null,null,null,null,null,null,null,null,null,null,null,null,null,null,null,null,"EH146","RACCORD D'ADAPTATION FRIGO POUR 4 kW ET 6 kW",100015480,64,64]
[7623191,"BALLON 200 PSL HYBRIDE 4-8","EH501",2535,null,null,null,null,null,null,null,null,null,null,null,null,null,null,null,null,null,null,null,"EH501","BALLON 200 PSL HYBRIDE 4-8",7623191,2535,2535]
[7623204,"BALLON 200 PSL HYBRIDE 11-16","EH505",2840,null,null,null,null,null,null,null,null,null,null,null,null,null,null,null,null,null,null,null,"EH505","BALLON 200 PSL HYBRIDE 11-16",7623204,2840,2840]
[7621386,"KIT DE MONTAGE BALLON VERSION V","EH524",125,null,null,null,null,null,null,null,null,null,null,null,null,null,null,null,null,null,null,null,"EH524","KIT DE MONTAGE BALLON VERSION V",7621386,125,125]
[]
["OPTIONS OEcOil-Hybrid OFSC/OFSB",null,null,null,null,null,null,null,null,null,null,null,null,null,null,null,null,null,null,null,null,null,null,null,null,"OPTIONS OEcOil-Hybrid OFSC/OFSB"]
[100007638,"TERMINAL HORIZONTAL  Ø 80/125","FM183",108,null,null,null,null,null,null,null,null,null,null,null,null,null,null,null,null,null,null,null,"FM183","TERMINAL HORIZONTAL  Ø 80/125",100007638,108,108]
[100002732,"TERMINAL VERTICAL PPS Ø 80/125 MM NOIR","DY843",167,null,null,null,null,null,null,null,null,null,null,null,null,null,null,null,null,null,null,null,"DY843","TERMINAL VERTICAL PPS Ø 80/125 MM NOIR",100002732,167,167]
[84887531,"COUDE A 87° ALU/PPS  Ø 80/125 MM","DY131",54,null,null,null,null,null,null,null,null,null,null,null,null,null,null,null,null,null,null,null,"DY131","COUDE A 87° ALU/PPS  Ø 80/125 MM",84887531,54,54]
[81998533,"TERMINAL HORIZONTAL STANDARD","DB90",249,null,null,null,null,null,null,null,null,null,null,null,null,null,null,null,null,null,null,null,"DB90","TERMINAL HORIZONTAL STANDARD",81998533,249,249]
[81998534,"TERMINAL VERTICAL NOIR","DB91",221,null,null,null,null,null,null,null,null,null,null,null,null,null,null,null,null,null,null,null,"DB91","TERMINAL VERTICAL NOIR",81998534,221,221]
[81998539,"COUDE A 90 °","DB96",122,null,null,null,null,null,null,null,null,null,null,null,null,null,null,null,null,null,null,null,"DB96","COUDE A 90 °",81998539,122,122]
[7621387,"KIT DE MONTAGE BALLON VERSION B","EH525",239,null,null,null,null,null,null,null,null,null,null,null,null,null,null,null,null,null,null,null,"EH525","KIT DE MONTAGE BALLON VERSION B",7621387,239,239]
[]
["OPTIONS REGULATION OEcOil-Hybrid OFSC/OFSB",null,null,null,null,null,null,null,null,null,null,null,null,null,null,null,null,null,null,null,null,null,null,null,null,"OPTIONS REGULATION OEcOil-Hybrid OFSC/OFSB"]
[7689751,"KIT CARTE DE REGULATION 2nd CIRCUIT (VERSION B)","EH862",113,null,null,null,null,null,null,null,null,null,null,null,null,null,null,null,null,null,null,null,"EH862","KIT CARTE DE REGULATION 2nd CIRCUIT (VERSION B)",7689751,113,113]
[88017904,"THERMOSTAT AMBIANCE PROGRAMMABLE (FILAIRE)","AD191",176,null,null,null,null,null,null,null,null,null,null,null,null,null,null,null,null,null,null,null,"AD191","THERMOSTAT AMBIANCE PROGRAMMABLE (FILAIRE)",88017904,176,176]
[88017010,"THERMOSTAT D'AMBIANCE PROGRAMMABLE (SANS FILS)","AD192",308,null,null,null,null,null,null,null,null,null,null,null,null,null,null,null,null,null,null,null,"AD192","THERMOSTAT D'AMBIANCE PROGRAMMABLE (SANS FILS)",88017010,308,308]
[7624902,"KIT CABLAGE PLANCHER CHAUFFANT DIRECT","HA255",40,null,null,null,null,null,null,null,null,null,null,null,null,null,null,null,null,null,null,null,"HA255","KIT CABLAGE PLANCHER CHAUFFANT DIRECT",7624902,40,40]
[100019114,"KIT SONDE HYGRO RAFRAICHISSEMENT","HK27",233,null,null,null,null,null,null,null,null,null,null,null,null,null,null,null,null,null,null,null,"HK27","KIT SONDE HYGRO RAFRAICHISSEMENT",100019114,233,233]
[7622433,"KIT SONDE CONDENSATION (0-10V)","HZ64",420,null,null,null,null,null,null,null,null,null,null,null,null,null,null,null,null,null,null,null,"HZ64","KIT SONDE CONDENSATION (0-10V)",7622433,420,420]
[88017017,"SONDE DEPART v3v","AD199",85,null,null,null,null,null,null,null,null,null,null,null,null,null,null,null,null,null,null,null,"AD199","SONDE DEPART v3v",88017017,85,85]
[7684433,"OETROSMART OT ","AD320",269,null,null,null,null,null,null,null,null,null,null,null,null,null,null,null,null,null,null,null,"AD320","OETROSMART OT ",7684433,269,269]
[]
["ACCESSOIRES PAC OEcOil-Hybrid OFSC/OFSB",null,null,null,null,null,null,null,null,null,null,null,null,null,null,null,null,null,null,null,null,null,null,null,null,"ACCESSOIRES PAC OEcOil-Hybrid OFSC/OFSB"]
[100011222,"SUPPORT MURALE & PLOTS ANTIVIBRATILES POUR  ROE-II AWHP 6-8","EH95",181,null,null,null,null,null,null,null,null,null,null,null,null,null,null,null,null,null,null,null,"EH95","SUPPORT MURALE & PLOTS ANTIVIBRATILES POUR  ROE-II AWHP 6-8",100011222,181,181]
[100018409,"SUPPORT MURAL AWHP 11à 27 kW","EH250",181,null,null,null,null,null,null,null,null,null,null,null,null,null,null,null,null,null,null,null,"EH250","SUPPORT MURAL AWHP 11à 27 kW",100018409,181,181]
[7694974,"SUPPORT AU SOL CAOUTCHOUC 600MM","EH879",119,null,null,null,null,null,null,null,null,null,null,null,null,null,null,null,null,null,null,null,"EH879","SUPPORT AU SOL CAOUTCHOUC 600MM",7694974,119,119]
[100012533,"SUPPORT POSE AU SOL AWHP","EH112",48,null,null,null,null,null,null,null,null,null,null,null,null,null,null,null,null,null,null,null,"EH112","SUPPORT POSE AU SOL AWHP",100012533,48,48]
[100015476,"LIAISON FRIGORIFIQUE PE 1/2\" 1/4\" - LG 10 m","EH142",255,null,null,null,null,null,null,null,null,null,null,null,null,null,null,null,null,null,null,null,"EH142","LIAISON FRIGORIFIQUE PE 1/2\" 1/4\" - LG 10 m",100015476,255,255]
[100012535,"LIAISON FRIGORIFIQUE PE 5/8'' 3/8'' - LG 5m","EH114",255,null,null,null,null,null,null,null,null,null,null,null,null,null,null,null,null,null,null,null,"EH114","LIAISON FRIGORIFIQUE PE 5/8'' 3/8'' - LG 5m",100012535,255,255]
[100012536,"LIAISON FRIGORIFIQUE PE 5/8'' 3/8'' - LG 10m","EH115",456,null,null,null,null,null,null,null,null,null,null,null,null,null,null,null,null,null,null,null,"EH115","LIAISON FRIGORIFIQUE PE 5/8'' 3/8'' - LG 10m",100012536,456,456]
[100012537,"LIAISON FRIGORIFIQUE PE 5/8'' 3/8'' - LG 20m","EH116",823,null,null,null,null,null,null,null,null,null,null,null,null,null,null,null,null,null,null,null,"EH116","LIAISON FRIGORIFIQUE PE 5/8'' 3/8'' - LG 20m",100012537,823,823]
[100008841,"BALLON TAMPON 80L B 80 T","EH85",572,null,null,null,null,null,null,null,null,null,null,null,null,null,null,null,null,null,null,null,"EH85","BALLON TAMPON 80L B 80 T",100008841,572,572]
[100004415,"BALLON TAMPON 160L B 150 T","EH60",857,null,null,null,null,null,null,null,null,null,null,null,null,null,null,null,null,null,null,null,"EH60","BALLON TAMPON 160L B 150 T",100004415,857,857]
[7619010,"KIT VANNE 3 VOIES","EH528",631,null,null,null,null,null,null,null,null,null,null,null,null,null,null,null,null,null,null,null,"EH528","KIT VANNE 3 VOIES",7619010,631,631]
[7626737,"KIT ISOLATION MODE FROID","EH567",229,null,null,null,null,null,null,null,null,null,null,null,null,null,null,null,null,null,null,null,"EH567","KIT ISOLATION MODE FROID",7626737,229,229]
[7636899,"KIT SILENCIEUX MODULE EXTERIEUR","EH572",66,null,null,null,null,null,null,null,null,null,null,null,null,null,null,null,null,null,null,null,"EH572","KIT SILENCIEUX MODULE EXTERIEUR",7636899,66,66]
[7621387,"KIT DE MONTAGE BALLON VERSION B","EH525",239,null,null,null,null,null,null,null,null,null,null,null,null,null,null,null,null,null,null,null,"EH525","KIT DE MONTAGE BALLON VERSION B",7621387,239,239]
[7746242,"SOUPAPE DIFFERENTIELLE","HK150",59,null,null,null,null,null,null,null,null,null,null,null,null,null,null,null,null,null,null,null,"HK150","SOUPAPE DIFFERENTIELLE",7746242,59,59]
[7746197,"BOUTEILLE DE DECOUPLAGE 25L","HK147",362,null,null,null,null,null,null,null,null,null,null,null,null,null,null,null,null,null,null,null,"HK147","BOUTEILLE DE DECOUPLAGE 25L",7746197,362,362]
[7742057,"KIT FF OFSB 22/29","MY921",449,null,null,null,null,null,null,null,null,null,null,null,null,null,null,null,null,null,null,null,"MY921","KIT FF OFSB 22/29",7742057,449,449]
[7744610,"KIT FF 24-32+ ","MY923",90,null,null,null,null,null,null,null,null,null,null,null,null,null,null,null,null,null,null,null,"MY923","KIT FF 24-32+ ",7744610,90,90]
[]
[]
[]
[]
[]
[7751107,"UNITE MONO MURALE EMMO 20",null,1281,null,null,null,null,null,null,null,null,null,null,null,null,null,null,null,null,null,null,null,null,"UNITE MONO MURALE EMMO 20",7751107,1281,1281]
[7751108,"UNITE MONO MURALE EMMO 25",null,1388,null,null,null,null,null,null,null,null,null,null,null,null,null,null,null,null,null,null,null,null,"UNITE MONO MURALE EMMO 25",7751108,1388,1388]
[7751109,"UNITE MONO MURALE EMMO 35",null,1671,null,null,null,null,null,null,null,null,null,null,null,null,null,null,null,null,null,null,null,null,"UNITE MONO MURALE EMMO 35",7751109,1671,1671]
[]
["COMPOSANTS OE'Clim MONOSPLIT",null,null,null,null,null,null,null,null,null,null,null,null,null,null,null,null,null,null,null,null,null,null,null,null,"COMPOSANTS OE'Clim MONOSPLIT"]
[null,"UNITES INTERIEURES MURALES",null,null,null,null,null,null,null,null,null,null,null,null,null,null,null,null,null,null,null,null,null,null,"UNITES INTERIEURES MURALES"]
[7751118,"UMO 20","HK128",522,null,null,null,null,null,null,null,null,null,null,null,null,null,null,null,null,null,null,null,"HK128","UMO 20",7751118,522,522]
[7751119,"UMO 25","HK129",568,null,null,null,null,null,null,null,null,null,null,null,null,null,null,null,null,null,null,null,"HK129","UMO 25",7751119,568,568]
[7751140,"UMO 35","HK130",625,null,null,null,null,null,null,null,null,null,null,null,null,null,null,null,null,null,null,null,"HK130","UMO 35",7751140,625,625]
[null,"UNITES EXTERIEURES MONOSPLIT",null,null,null,null,null,null,null,null,null,null,null,null,null,null,null,null,null,null,null,null,null,null,"UNITES EXTERIEURES MONOSPLIT"]
[7751187,"MSMOE 20","HK191",759,null,null,null,null,null,null,null,null,null,null,null,null,null,null,null,null,null,null,null,"HK191","MSMOE 20",7751187,759,759]
[7751188,"MSMOE 25","HK192",820,null,null,null,null,null,null,null,null,null,null,null,null,null,null,null,null,null,null,null,"HK192","MSMOE 25",7751188,820,820]
[7751189,"MSMOE 35","HK193",1046,null,null,null,null,null,null,null,null,null,null,null,null,null,null,null,null,null,null,null,"HK193","MSMOE 35",7751189,1046,1046]
[]
["COMPOSANTS OE'Clim MULTISPLIT",null,null,null,null,null,null,null,null,null,null,null,null,null,null,null,null,null,null,null,null,null,null,null,null,"COMPOSANTS OE'Clim MULTISPLIT"]
[null,"UNITES EXTERIEURES MULTISPLIT",null,null,null,null,null,null,null,null,null,null,null,null,null,null,null,null,null,null,null,null,null,null,"UNITES EXTERIEURES MULTISPLIT"]
[7751205,"MSOE 40-2","HK210",1845,null,null,null,null,null,null,null,null,null,null,null,null,null,null,null,null,null,null,null,"HK210","MSOE 40-2",7751205,1845,1845]
[7751206,"MSOE50-2","HK211",2278,null,null,null,null,null,null,null,null,null,null,null,null,null,null,null,null,null,null,null,"HK211","MSOE50-2",7751206,2278,2278]
[7751207,"MSOE 60-3","HK212",3023,null,null,null,null,null,null,null,null,null,null,null,null,null,null,null,null,null,null,null,"HK212","MSOE 60-3",7751207,3023,3023]
[7751208,"MSOE 80-3","HK213",3330,null,null,null,null,null,null,null,null,null,null,null,null,null,null,null,null,null,null,null,"HK213","MSOE 80-3",7751208,3330,3330]
[]
[null,"UNITES INTERIEURES MULTISPLIT",null,null,null,null,null,null,null,null,null,null,null,null,null,null,null,null,null,null,null,null,null,null,"UNITES INTERIEURES MULTISPLIT"]
[7751118,"UMO 20","HK128",522,null,null,null,null,null,null,null,null,null,null,null,null,null,null,null,null,null,null,null,"HK128","UMO 20",7751118,522,522]
[7751119,"UMO 25","HK129",568,null,null,null,null,null,null,null,null,null,null,null,null,null,null,null,null,null,null,null,"HK129","UMO 25",7751119,568,568]
[7751140,"UMO 35","HK130",625,null,null,null,null,null,null,null,null,null,null,null,null,null,null,null,null,null,null,null,"HK130","UMO 35",7751140,625,625]
[]
["OPTIONS OE'Clim",null,null,null,null,null,null,null,null,null,null,null,null,null,null,null,null,null,null,null,null,null,null,null,null,"OPTIONS OE'Clim"]
[7627741,"TUBE CU ISOLE 1/4 3/8 L5M","EH569",144,null,null,null,null,null,null,null,null,null,null,null,null,null,null,null,null,null,null,null,"EH569","TUBE CU ISOLE 1/4 3/8 L5M",7627741,144,144]
[7627742,"TUBE CU ISOLE 1/4 3/8 L10M","EH570",250,null,null,null,null,null,null,null,null,null,null,null,null,null,null,null,null,null,null,null,"EH570","TUBE CU ISOLE 1/4 3/8 L10M",7627742,250,250]
[7629725,"TUBE CU ISOLE 1/4 3/8 L20","EH589",369,null,null,null,null,null,null,null,null,null,null,null,null,null,null,null,null,null,null,null,"EH589","TUBE CU ISOLE 1/4 3/8 L20",7629725,369,369]
[7758899,"Kit WIFI unité murale","HK219",150,null,null,null,null,null,null,null,null,null,null,null,null,null,null,null,null,null,null,null,"HK219","Kit WIFI unité murale",7758899,150,150]
[100011222,"SUPPORT MURALE & PLOTS ANTIVIBRATILES POUR  ROE-II AWHP 6-8","EH95",181,null,null,null,null,null,null,null,null,null,null,null,null,null,null,null,null,null,null,null,"EH95","SUPPORT MURALE & PLOTS ANTIVIBRATILES POUR  ROE-II AWHP 6-8",100011222,181,181]
[100012533,"SUPPORT POSE AU SOL AWHP","EH112",48,null,null,null,null,null,null,null,null,null,null,null,null,null,null,null,null,null,null,null,"EH112","SUPPORT POSE AU SOL AWHP",100012533,48,48]
[7694974,"SUPPORT AU SOL CAOUTCHOUC 600MM","EH879",119,null,null,null,null,null,null,null,null,null,null,null,null,null,null,null,null,null,null,null,"EH879","SUPPORT AU SOL CAOUTCHOUC 600MM",7694974,119,119]
[]
[]
[]
[]
[]
[100013409,"CER 8M",null,2996,null,null,null,null,null,null,null,null,null,null,null,null,null,null,null,null,null,null,null,null,"CER 8M",100013409,2996,2996]
[100013450,"CER 12M",null,3086,null,null,null,null,null,null,null,null,null,null,null,null,null,null,null,null,null,null,null,null,"CER 12M",100013450,3086,3086]
[100013452,"CER 12TR",null,3274,null,null,null,null,null,null,null,null,null,null,null,null,null,null,null,null,null,null,null,null,"CER 12TR",100013452,3274,3274]
[]
["OPTIONS CER",null,null,null,null,null,null,null,null,null,null,null,null,null,null,null,null,null,null,null,null,null,null,null,null,"OPTIONS CER"]
[100013456,"SONDE EXTERIEURE CER","JE7",82,null,null,null,null,null,null,null,null,null,null,null,null,null,null,null,null,null,null,null,"JE7","SONDE EXTERIEURE CER",100013456,82,82]
[100003690,"SONDE PT 1000 CER SUR CABLE SILICONE (sonde départ V3V)","EC171",68,null,null,null,null,null,null,null,null,null,null,null,null,null,null,null,null,null,null,null,"EC171","SONDE PT 1000 CER SUR CABLE SILICONE (sonde départ V3V)",100003690,68,68]
[100013562,"RELAIS STATIQUE SIP 8A/230 V (2 pces)","JE8",28,null,null,null,null,null,null,null,null,null,null,null,null,null,null,null,null,null,null,null,"JE8","RELAIS STATIQUE SIP 8A/230 V (2 pces)",100013562,28,28]
[100020073,"THERMOSTAT SIMPLIFIE CER T87 OPEN THERM FILAIRE","JE5",172,null,null,null,null,null,null,null,null,null,null,null,null,null,null,null,null,null,null,null,"JE5","THERMOSTAT SIMPLIFIE CER T87 OPEN THERM FILAIRE",100020073,172,172]
[100020074,"THERMOSTAT SIMPLIFIE CER Y87 OPEN THERM RADIO FREQUENCE","JE6",467,null,null,null,null,null,null,null,null,null,null,null,null,null,null,null,null,null,null,null,"JE6","THERMOSTAT SIMPLIFIE CER Y87 OPEN THERM RADIO FREQUENCE",100020074,467,467]
[100020075,"THERMOSTAT PROGRAMMABLE CER 850-2 OPEN THERM FILAIRE","JE4",480,null,null,null,null,null,null,null,null,null,null,null,null,null,null,null,null,null,null,null,"JE4","THERMOSTAT PROGRAMMABLE CER 850-2 OPEN THERM FILAIRE",100020075,480,480]
[]
[100013563,"PRESSE ETOUPE COMPLET M25",null,6,null,null,null,null,null,null,null,null,null,null,null,null,null,null,null,null,null,null,null,null,"PRESSE ETOUPE COMPLET M25",100013563,6,6]
["COMPOSANTS CER",null,null,null,null,null,null,null,null,null,null,null,null,null,null,null,null,null,null,null,null,null,null,null,null,"COMPOSANTS CER"]
[100013568,"PRESSE ETOUPE M25",null,3,null,null,null,null,null,null,null,null,null,null,null,null,null,null,null,null,null,null,null,null,"PRESSE ETOUPE M25",100013568,3,3]
[100013569,"ECROU POUR PRESSE ETOUPE M25",null,3,null,null,null,null,null,null,null,null,null,null,null,null,null,null,null,null,null,null,null,null,"ECROU POUR PRESSE ETOUPE M25",100013569,3,3]
[]
[100013564,"PRESSE ETOUPE COMPLET M16",null,4,null,null,null,null,null,null,null,null,null,null,null,null,null,null,null,null,null,null,null,null,"PRESSE ETOUPE COMPLET M16",100013564,4,4]
["COMPOSANTS CER",null,null,null,null,null,null,null,null,null,null,null,null,null,null,null,null,null,null,null,null,null,null,null,null,"COMPOSANTS CER"]
[100013570,"PRESSE ETOUPE M16",null,2,null,null,null,null,null,null,null,null,null,null,null,null,null,null,null,null,null,null,null,null,"PRESSE ETOUPE M16",100013570,2,2]
[100013571,"ECROU POUR PRESSE ETOUPE M16",null,2,null,null,null,null,null,null,null,null,null,null,null,null,null,null,null,null,null,null,null,null,"ECROU POUR PRESSE ETOUPE M16",100013571,2,2]
[]
[100013565,"PRESSE ETOUPE COMPLET M12",null,4,null,null,null,null,null,null,null,null,null,null,null,null,null,null,null,null,null,null,null,null,"PRESSE ETOUPE COMPLET M12",100013565,4,4]
["COMPOSANTS CER",null,null,null,null,null,null,null,null,null,null,null,null,null,null,null,null,null,null,null,null,null,null,null,null,"COMPOSANTS CER"]
[100013572,"PRESSE ETOUPE M12",null,2,null,null,null,null,null,null,null,null,null,null,null,null,null,null,null,null,null,null,null,null,"PRESSE ETOUPE M12",100013572,2,2]
[100013573,"ECROU POUR PRESSE ETOUPE M12",null,2,null,null,null,null,null,null,null,null,null,null,null,null,null,null,null,null,null,null,null,null,"ECROU POUR PRESSE ETOUPE M12",100013573,2,2]
[]
["OPTIONS",null,null,null,null,null,null,null,null,null,null,null,null,null,null,null,null,null,null,null,null,null,null,null,null,"OPTIONS"]
[7616233,"MODULE HYDRAULIQUE COMPACT POUR 2 CIRCUITS","MT12",1884,null,null,null,null,null,null,null,null,null,null,null,null,null,null,null,null,null,null,null,"MT12","MODULE HYDRAULIQUE COMPACT POUR 2 CIRCUITS",7616233,1884,1884]
[100020164,"COLLECTEUR 2/3 CIRCUITS ","EA140",382,null,null,null,null,null,null,null,null,null,null,null,null,null,null,null,null,null,null,null,"EA140","COLLECTEUR 2/3 CIRCUITS ",100020164,382,382]
[100020165,"CONSOLE MUR COLLECTEUR ","EA141",48,null,null,null,null,null,null,null,null,null,null,null,null,null,null,null,null,null,null,null,"EA141","CONSOLE MUR COLLECTEUR ",100020165,48,48]
[100020166,"CONSOLE MUR 1 MODULE ","EA142",129,null,null,null,null,null,null,null,null,null,null,null,null,null,null,null,null,null,null,null,"EA142","CONSOLE MUR 1 MODULE ",100020166,129,129]
[100020167,"CIRCUIT DIRECT P.ELEC CLASSE A  ","EA143",720,null,null,null,null,null,null,null,null,null,null,null,null,null,null,null,null,null,null,null,"EA143","CIRCUIT DIRECT P.ELEC CLASSE A  ",100020167,720,720]
[100020168,"CIRCUIT V3V P.ELEC","EA144",1023,null,null,null,null,null,null,null,null,null,null,null,null,null,null,null,null,null,null,null,"EA144","CIRCUIT V3V P.ELEC",100020168,1023,1023]
[100016432,"VASE D'EXPANSION 18 L","MV4",93,null,null,null,null,null,null,null,null,null,null,null,null,null,null,null,null,null,null,null,"MV4","VASE D'EXPANSION 18 L",100016432,93,93]
[7627079,"KIT DE SECURITE POUR  FS./FSB./FSC-2","MY427",144,null,null,null,null,null,null,null,null,null,null,null,null,null,null,null,null,null,null,null,"MY427","KIT DE SECURITE POUR  FS./FSB./FSC-2",7627079,144,144]
[100020169,"MODULE HYDR COMPACT 2 CIRCUITS HEE","EA145",1281,null,null,null,null,null,null,null,null,null,null,null,null,null,null,null,null,null,null,null,"EA145","MODULE HYDR COMPACT 2 CIRCUITS HEE",100020169,1281,1281]
[]
[]
[]
[]
[]
[7219377,"CAPTEUR SOLAIRE  INISOL DH 200 SL","ER719",750,null,null,null,null,null,null,null,null,null,null,null,null,null,null,null,null,null,null,null,"ER719","CAPTEUR SOLAIRE  INISOL DH 200 SL",7219377,750,750]
[]
[]
[]
[7652623,"PACK TOIT 1 DH 200 SL- 2m² CROCHET UNIVERSEL TUILES MECANIQUES","ER771",1176,null,null,null,null,null,null,null,null,null,null,null,null,null,null,null,null,null,null,null,"ER771","PACK TOIT 1 DH 200 SL- 2m² CROCHET UNIVERSEL TUILES MECANIQUES",7652623,1176,1176]
[7652638,"PACK TOIT 2 DH 200 SL- 4m² CROCHET UNIVERSEL TUILES MECANIQUES","ER772",1960,null,null,null,null,null,null,null,null,null,null,null,null,null,null,null,null,null,null,null,"ER772","PACK TOIT 2 DH 200 SL- 4m² CROCHET UNIVERSEL TUILES MECANIQUES",7652638,1960,1960]
[7652640,"PACK TOIT 3 DH 200 SL- 6m² CROCHET UNIVERSEL TUILES MECANIQUES","ER773",3035,null,null,null,null,null,null,null,null,null,null,null,null,null,null,null,null,null,null,null,"ER773","PACK TOIT 3 DH 200 SL- 6m² CROCHET UNIVERSEL TUILES MECANIQUES",7652640,3035,3035]
[7652652,"PACK TOIT 1 DH 200 SL- 2m² SUR TOITURE ARDOISES","ER774",1176,null,null,null,null,null,null,null,null,null,null,null,null,null,null,null,null,null,null,null,"ER774","PACK TOIT 1 DH 200 SL- 2m² SUR TOITURE ARDOISES",7652652,1176,1176]
[7652653,"PACK TOIT 2 DH 200 SL- 4m² SUR TOITURE ARDOISES","ER775",1960,null,null,null,null,null,null,null,null,null,null,null,null,null,null,null,null,null,null,null,"ER775","PACK TOIT 2 DH 200 SL- 4m² SUR TOITURE ARDOISES",7652653,1960,1960]
[7652654,"PACK TOIT 3 DH 200 SL- 6m² SUR TOITURE ARDOISES","ER776",3035,null,null,null,null,null,null,null,null,null,null,null,null,null,null,null,null,null,null,null,"ER776","PACK TOIT 3 DH 200 SL- 6m² SUR TOITURE ARDOISES",7652654,3035,3035]
[7652656,"PACK TOIT 1 DH 200 SL- 2m² MONTAGE VERTICAL SUR TERRASSE ","ER777",1255,null,null,null,null,null,null,null,null,null,null,null,null,null,null,null,null,null,null,null,"ER777","PACK TOIT 1 DH 200 SL- 2m² MONTAGE VERTICAL SUR TERRASSE ",7652656,1255,1255]
[7652657,"PACK TOIT 2 DH 200 SL- 4m² MONTAGE VERTICAL SUR TERRASSE ","ER778",2093,null,null,null,null,null,null,null,null,null,null,null,null,null,null,null,null,null,null,null,"ER778","PACK TOIT 2 DH 200 SL- 4m² MONTAGE VERTICAL SUR TERRASSE ",7652657,2093,2093]
[7652658,"PACK TOIT 3 DH 200 SL- 6m² MONTAGE VERTICAL SUR TERRASSE ","ER779",3270,null,null,null,null,null,null,null,null,null,null,null,null,null,null,null,null,null,null,null,"ER779","PACK TOIT 3 DH 200 SL- 6m² MONTAGE VERTICAL SUR TERRASSE ",7652658,3270,3270]
[]
["ACCESSOIRES DE RACCORDEMENT HYDRAULIQUE",null,null,null,null,null,null,null,null,null,null,null,null,null,null,null,null,null,null,null,null,null,null,null,null,"ACCESSOIRES DE RACCORDEMENT HYDRAULIQUE"]
[null,"Pour système auto vidangeable",null,null,null,null,null,null,null,null,null,null,null,null,null,null,null,null,null,null,null,null,null,null,"Pour système auto vidangeable"]
[7222026,"KIT RACCORDS BICONE 2 CAPTEURS SL ","ER720",123,null,null,null,null,null,null,null,null,null,null,null,null,null,null,null,null,null,null,null,"ER720","KIT RACCORDS BICONE 2 CAPTEURS SL ",7222026,123,123]
[7222029,"SET 2 RACCORDS BI CONES EXTENSION  SL","ER721",28,null,null,null,null,null,null,null,null,null,null,null,null,null,null,null,null,null,null,null,"ER721","SET 2 RACCORDS BI CONES EXTENSION  SL",7222029,28,28]
[100016508,"KIT  FLEXIBLES CIRCUIT SOLAIRE CHAMP CAPTEURS","ER247",84,null,null,null,null,null,null,null,null,null,null,null,null,null,null,null,null,null,null,null,"ER247","KIT  FLEXIBLES CIRCUIT SOLAIRE CHAMP CAPTEURS",100016508,84,84]
[]
["DISPOSITIF DE MONTAGE EN TERRASSE (OU AU SOL)",null,null,null,null,null,null,null,null,null,null,null,null,null,null,null,null,null,null,null,null,null,null,null,null,"DISPOSITIF DE MONTAGE EN TERRASSE (OU AU SOL)"]
[7217045,"KIT PROFILES A KLIPPER (LONG)  POUR 1 CAPTEUR VERTICAL","ER732",89,null,null,null,null,null,null,null,null,null,null,null,null,null,null,null,null,null,null,null,"ER732","KIT PROFILES A KLIPPER (LONG)  POUR 1 CAPTEUR VERTICAL",7217045,89,89]
[7217038,"2 SUPPORTS SL MONTAGE VERTICAL 1 CAPTEUR","ER658",215,null,null,null,null,null,null,null,null,null,null,null,null,null,null,null,null,null,null,null,"ER658","2 SUPPORTS SL MONTAGE VERTICAL 1 CAPTEUR",7217038,215,215]
[7217039,"1 SUPPORT SL VERTICAL POUR EXTENSION 1 CAPTEUR ","ER659",100,null,null,null,null,null,null,null,null,null,null,null,null,null,null,null,null,null,null,null,"ER659","1 SUPPORT SL VERTICAL POUR EXTENSION 1 CAPTEUR ",7217039,100,100]
[]
["FERRURES D'ANCRAGE POUR MONTAGE SUR TOITURE",null,null,null,null,null,null,null,null,null,null,null,null,null,null,null,null,null,null,null,null,null,null,null,null,"FERRURES D'ANCRAGE POUR MONTAGE SUR TOITURE"]
[89807311,"4 CROCHETS ALU UNIVERSEL POUR TUILES MÉCANIQUES","EG311",108,null,null,null,null,null,null,null,null,null,null,null,null,null,null,null,null,null,null,null,"EG311","4 CROCHETS ALU UNIVERSEL POUR TUILES MÉCANIQUES",89807311,108,108]
[89807312,"6 CROCHETS ALU UNIVERSEL POUR TUILES MÉCANIQUES","EG312",155,null,null,null,null,null,null,null,null,null,null,null,null,null,null,null,null,null,null,null,"EG312","6 CROCHETS ALU UNIVERSEL POUR TUILES MÉCANIQUES",89807312,155,155]
[89807313,"4 FERRURES D'ANCRAGE INOX POUR MONTAGE SUR TUILES MÉCANIQUES","EG313",106,null,null,null,null,null,null,null,null,null,null,null,null,null,null,null,null,null,null,null,"EG313","4 FERRURES D'ANCRAGE INOX POUR MONTAGE SUR TUILES MÉCANIQUES",89807313,106,106]
[89807314,"6 FERRURES D'ANCRAGE INOX POUR MONTAGE SUR TUILES MÉCANIQUES","EG314",152,null,null,null,null,null,null,null,null,null,null,null,null,null,null,null,null,null,null,null,"EG314","6 FERRURES D'ANCRAGE INOX POUR MONTAGE SUR TUILES MÉCANIQUES",89807314,152,152]
[89807315,"4 FERRURES D'ANCRAGE INOX POUR MONTAGE SUR TUILES PLATES","EG315",106,null,null,null,null,null,null,null,null,null,null,null,null,null,null,null,null,null,null,null,"EG315","4 FERRURES D'ANCRAGE INOX POUR MONTAGE SUR TUILES PLATES",89807315,106,106]
[89807316,"6 FERRURES D'ANCRAGE INOX POUR MONTAGE SUR TUILES PLATES","EG316",152,null,null,null,null,null,null,null,null,null,null,null,null,null,null,null,null,null,null,null,"EG316","6 FERRURES D'ANCRAGE INOX POUR MONTAGE SUR TUILES PLATES",89807316,152,152]
[100015314,"4 FERRURES D'ANCRAGE INOX POUR MONTAGE SUR TUILES CANAL","ER136",105,null,null,null,null,null,null,null,null,null,null,null,null,null,null,null,null,null,null,null,"ER136","4 FERRURES D'ANCRAGE INOX POUR MONTAGE SUR TUILES CANAL",100015314,105,105]
[100015315,"6 FERRURES D'ANCRAGE INOX POUR MONTAGE SUR TUILES CANAL","ER137",155,null,null,null,null,null,null,null,null,null,null,null,null,null,null,null,null,null,null,null,"ER137","6 FERRURES D'ANCRAGE INOX POUR MONTAGE SUR TUILES CANAL",100015315,155,155]
[89807317,"4 FERRURES D'ANCRAGE INOX POUR MONTAGE SUR TOIT ETERNIT","EG317",108,null,null,null,null,null,null,null,null,null,null,null,null,null,null,null,null,null,null,null,"EG317","4 FERRURES D'ANCRAGE INOX POUR MONTAGE SUR TOIT ETERNIT",89807317,108,108]
[89807318,"6 FERRURES D'ANCRAGE INOX POUR MONTAGE SUR TOIT ETERNIT","EG318",155,null,null,null,null,null,null,null,null,null,null,null,null,null,null,null,null,null,null,null,"EG318","6 FERRURES D'ANCRAGE INOX POUR MONTAGE SUR TOIT ETERNIT",89807318,155,155]
[89807319,"4 FERRURES D'ANCRAGE INOX POUR MONTAGE SUR TOIT D'ARDOISES","EG319",106,null,null,null,null,null,null,null,null,null,null,null,null,null,null,null,null,null,null,null,"EG319","4 FERRURES D'ANCRAGE INOX POUR MONTAGE SUR TOIT D'ARDOISES",89807319,106,106]
[89807320,"6 FERRURES D'ANCRAGE INOX POUR MONTAGE SUR TOIT D'ARDOISES","EG320",152,null,null,null,null,null,null,null,null,null,null,null,null,null,null,null,null,null,null,null,"EG320","6 FERRURES D'ANCRAGE INOX POUR MONTAGE SUR TOIT D'ARDOISES",89807320,152,152]
[89807782,"KIT TIRE-FONDS POUR MONTAGE 2 CAPTEURS","EG94",272,null,null,null,null,null,null,null,null,null,null,null,null,null,null,null,null,null,null,null,"EG94","KIT TIRE-FONDS POUR MONTAGE 2 CAPTEURS",89807782,272,272]
[89807783,"KIT TIRE-FONDS POUR MONTAGE 3 CAPTEURS","EG95",340,null,null,null,null,null,null,null,null,null,null,null,null,null,null,null,null,null,null,null,"EG95","KIT TIRE-FONDS POUR MONTAGE 3 CAPTEURS",89807783,340,340]
[]
["FLUIDE CALOPORTEUR",null,null,null,null,null,null,null,null,null,null,null,null,null,null,null,null,null,null,null,null,null,null,null,null,"FLUIDE CALOPORTEUR"]
[89807794,"FLUIDE CALOPORTEUR TYPE L (-21°C) 20 LITRES. ","EG101",85,null,null,null,null,null,null,null,null,null,null,null,null,null,null,null,null,null,null,null,"EG101","FLUIDE CALOPORTEUR TYPE L (-21°C) 20 LITRES. ",89807794,85,85]
[100017611,"FLUIDE CALOPORTEUR HAUTE PREFORMANCE BIO (-26°C) 20 LITRES","ER316",147,null,null,null,null,null,null,null,null,null,null,null,null,null,null,null,null,null,null,null,"ER316","FLUIDE CALOPORTEUR HAUTE PREFORMANCE BIO (-26°C) 20 LITRES",100017611,147,147]
[89807792,"FLUIDE CALOPORTEUR HAUTE PREFORMANCE TYPE LS (-26°C) 20 LITRES","EG100",169,null,null,null,null,null,null,null,null,null,null,null,null,null,null,null,null,null,null,null,"EG100","FLUIDE CALOPORTEUR HAUTE PREFORMANCE TYPE LS (-26°C) 20 LITRES",89807792,169,169]
[89807710,"CONCENTRE TYPE L, 10 LITRES","EG11",109,null,null,null,null,null,null,null,null,null,null,null,null,null,null,null,null,null,null,null,"EG11","CONCENTRE TYPE L, 10 LITRES",89807710,109,109]
[]
[]
[]
[100019332,"CAPTEUR SOLAIRE D230","ER405",856,null,null,null,null,null,null,null,null,null,null,null,null,null,null,null,null,null,null,null,"ER405","CAPTEUR SOLAIRE D230",100019332,856,856]
[]
[]
[]
["PACKS TOIT",null,null,null,null,null,null,null,null,null,null,null,null,null,null,null,null,null,null,null,null,null,null,null,null,"PACKS TOIT"]
[100019693,"PACK TOIT 1 D230- 2m² CROCHET UNIVERSEL TUILES MECANIQUES","ER430",1313,null,null,null,null,null,null,null,null,null,null,null,null,null,null,null,null,null,null,null,"ER430","PACK TOIT 1 D230- 2m² CROCHET UNIVERSEL TUILES MECANIQUES",100019693,1313,1313]
[100019694,"PACK TOIT 1 D230- 2m² SUR TOITURE ARDOISES","ER431",1313,null,null,null,null,null,null,null,null,null,null,null,null,null,null,null,null,null,null,null,"ER431","PACK TOIT 1 D230- 2m² SUR TOITURE ARDOISES",100019694,1313,1313]
[100019695,"PACK TOIT 2 D230- 5m² CROCHET UNIVERSEL TUILES MECANIQUES","ER432",2169,null,null,null,null,null,null,null,null,null,null,null,null,null,null,null,null,null,null,null,"ER432","PACK TOIT 2 D230- 5m² CROCHET UNIVERSEL TUILES MECANIQUES",100019695,2169,2169]
[100019696,"PACK TOIT 2 D230- 5m² SUR TOITURE ARDOISES","ER433",2169,null,null,null,null,null,null,null,null,null,null,null,null,null,null,null,null,null,null,null,"ER433","PACK TOIT 2 D230- 5m² SUR TOITURE ARDOISES",100019696,2169,2169]
[100019697,"PACK TOIT 2 D230- 5m² SUR CHEVRON TUILES MECANIQUES","ER434",2169,null,null,null,null,null,null,null,null,null,null,null,null,null,null,null,null,null,null,null,"ER434","PACK TOIT 2 D230- 5m² SUR CHEVRON TUILES MECANIQUES",100019697,2169,2169]
[100019698,"PACK TOIT 3 D230- 7m² CROCHET UNIVERSEL TUILES MECANIQUES","ER435",3401,null,null,null,null,null,null,null,null,null,null,null,null,null,null,null,null,null,null,null,"ER435","PACK TOIT 3 D230- 7m² CROCHET UNIVERSEL TUILES MECANIQUES",100019698,3401,3401]
[100019699,"PACK TOIT 3 D230- 7m² SUR TOITURE ARDOISES","ER436",3401,null,null,null,null,null,null,null,null,null,null,null,null,null,null,null,null,null,null,null,"ER436","PACK TOIT 3 D230- 7m² SUR TOITURE ARDOISES",100019699,3401,3401]
[100019700,"PACK TOIT 3 D230- 7m² SUR CHEVRON TUILES MECANIQUES","ER437",3401,null,null,null,null,null,null,null,null,null,null,null,null,null,null,null,null,null,null,null,"ER437","PACK TOIT 3 D230- 7m² SUR CHEVRON TUILES MECANIQUES",100019700,3401,3401]
[100019701,"PACK TOIT 4 D230- 9m² CROCHET UNIVERSEL TUILES MECANIQUES","ER438",4507,null,null,null,null,null,null,null,null,null,null,null,null,null,null,null,null,null,null,null,"ER438","PACK TOIT 4 D230- 9m² CROCHET UNIVERSEL TUILES MECANIQUES",100019701,4507,4507]
[100019702,"PACK TOIT 4 D230- 9m² SUR TOITURE ARDOISES","ER439",4507,null,null,null,null,null,null,null,null,null,null,null,null,null,null,null,null,null,null,null,"ER439","PACK TOIT 4 D230- 9m² SUR TOITURE ARDOISES",100019702,4507,4507]
[100019703,"PACK TOIT 4 D230- 9m² SUR CHEVRON TUILES MECANIQUES","ER440",4507,null,null,null,null,null,null,null,null,null,null,null,null,null,null,null,null,null,null,null,"ER440","PACK TOIT 4 D230- 9m² SUR CHEVRON TUILES MECANIQUES",100019703,4507,4507]
[]
[]
[]
[7615855,"PACK TOIT 1 D 230- 2m² INTEGRE V 22° TUILE MECANIQUE","ER620",1542,null,null,null,null,null,null,null,null,null,null,null,null,null,null,null,null,null,null,null,"ER620","PACK TOIT 1 D 230- 2m² INTEGRE V 22° TUILE MECANIQUE",7615855,1542,1542]
[7615859,"PACK TOIT 2 D 230- 5m² INTEGRE V 22° TUILE MECANIQUE","ER621",2624,null,null,null,null,null,null,null,null,null,null,null,null,null,null,null,null,null,null,null,"ER621","PACK TOIT 2 D 230- 5m² INTEGRE V 22° TUILE MECANIQUE",7615859,2624,2624]
[7615861,"PACK TOIT 3 D 230- 7m² INTEGRE V 22° TUILE MECANIQUE","ER622",3994,null,null,null,null,null,null,null,null,null,null,null,null,null,null,null,null,null,null,null,"ER622","PACK TOIT 3 D 230- 7m² INTEGRE V 22° TUILE MECANIQUE",7615861,3994,3994]
[7615863,"PACK TOIT 4 D 230- 9m² INTEGRE V 22° TUILE MECANIQUE","ER623",5113,null,null,null,null,null,null,null,null,null,null,null,null,null,null,null,null,null,null,null,"ER623","PACK TOIT 4 D 230- 9m² INTEGRE V 22° TUILE MECANIQUE",7615863,5113,5113]
[7615864,"PACK TOIT 1 D 230- 2m² INTEGRE V 17° TUILE CANAL","ER624",1632,null,null,null,null,null,null,null,null,null,null,null,null,null,null,null,null,null,null,null,"ER624","PACK TOIT 1 D 230- 2m² INTEGRE V 17° TUILE CANAL",7615864,1632,1632]
[7615866,"PACK TOIT 2 D 230- 5m² INTEGRE V 17° TUILE CANAL","ER625",2795,null,null,null,null,null,null,null,null,null,null,null,null,null,null,null,null,null,null,null,"ER625","PACK TOIT 2 D 230- 5m² INTEGRE V 17° TUILE CANAL",7615866,2795,2795]
[7615868,"PACK TOIT 3 D 230- 7m² INTEGRE V 17° TUILE CANAL","ER626",4164,null,null,null,null,null,null,null,null,null,null,null,null,null,null,null,null,null,null,null,"ER626","PACK TOIT 3 D 230- 7m² INTEGRE V 17° TUILE CANAL",7615868,4164,4164]
[7615869,"PACK TOIT 4 D 230- 9m² INTEGRE V 17° TUILE CANAL","ER627",5191,null,null,null,null,null,null,null,null,null,null,null,null,null,null,null,null,null,null,null,"ER627","PACK TOIT 4 D 230- 9m² INTEGRE V 17° TUILE CANAL",7615869,5191,5191]
[]
["ACCESSOIRES DE RACCORDEMENT HYDRAULIQUE",null,null,null,null,null,null,null,null,null,null,null,null,null,null,null,null,null,null,null,null,null,null,null,null,"ACCESSOIRES DE RACCORDEMENT HYDRAULIQUE"]
[100019333,"KIT RACCORDEMENT HYDRAULIQUE CHAMPS DE CAPTEURS D230","ER406",147,null,null,null,null,null,null,null,null,null,null,null,null,null,null,null,null,null,null,null,"ER406","KIT RACCORDEMENT HYDRAULIQUE CHAMPS DE CAPTEURS D230",100019333,147,147]
[100019334,"KIT DE LIAISON HYDRAULIQUE ENTRE 2 CAPTEURS D230","ER407",43,null,null,null,null,null,null,null,null,null,null,null,null,null,null,null,null,null,null,null,"ER407","KIT DE LIAISON HYDRAULIQUE ENTRE 2 CAPTEURS D230",100019334,43,43]
[]
["DISPOSITIF DE MONTAGE",null,null,null,null,null,null,null,null,null,null,null,null,null,null,null,null,null,null,null,null,null,null,null,null,"DISPOSITIF DE MONTAGE"]
[7503818,"KIT INTEGRATION BASE V 22°  1 CAPTEUR D 230 TUILES MECANIQUES","ER628",582,null,null,null,null,null,null,null,null,null,null,null,null,null,null,null,null,null,null,null,"ER628","KIT INTEGRATION BASE V 22°  1 CAPTEUR D 230 TUILES MECANIQUES",7503818,582,582]
[7503820,"KIT INTEGRATION BASE V 22°  2 CAPTEURS D 230 TUILES MECANIQUES","ER629",814,null,null,null,null,null,null,null,null,null,null,null,null,null,null,null,null,null,null,null,"ER629","KIT INTEGRATION BASE V 22°  2 CAPTEURS D 230 TUILES MECANIQUES",7503820,814,814]
[7503819,"KIT EXTENSION INTEGRATION V 22° 1 CAPTEUR D 230 TUILES MECANIQUES","ER630",350,null,null,null,null,null,null,null,null,null,null,null,null,null,null,null,null,null,null,null,"ER630","KIT EXTENSION INTEGRATION V 22° 1 CAPTEUR D 230 TUILES MECANIQUES",7503819,350,350]
[7212871,"KIT INTEGRATION BASE V 17°  1 CAPTEUR D 230 TUILES CANAL","ER631",755,null,null,null,null,null,null,null,null,null,null,null,null,null,null,null,null,null,null,null,"ER631","KIT INTEGRATION BASE V 17°  1 CAPTEUR D 230 TUILES CANAL",7212871,755,755]
[7212878,"KIT INTEGRATION BASE V 17°  2 CAPTEURS D 230 TUILES CANAL","ER632",1221,null,null,null,null,null,null,null,null,null,null,null,null,null,null,null,null,null,null,null,"ER632","KIT INTEGRATION BASE V 17°  2 CAPTEURS D 230 TUILES CANAL",7212878,1221,1221]
[7212874,"KIT EXTENSION INTEGRATION V 17°  1 CAPTEUR D 230 TUILES CANAL","ER633",466,null,null,null,null,null,null,null,null,null,null,null,null,null,null,null,null,null,null,null,"ER633","KIT EXTENSION INTEGRATION V 17°  1 CAPTEUR D 230 TUILES CANAL",7212874,466,466]
[]
["SYSTEMES POUR CHARGE EN VENT ET NEIGE STANDARD",null,null,null,null,null,null,null,null,null,null,null,null,null,null,null,null,null,null,null,null,null,null,null,null,"SYSTEMES POUR CHARGE EN VENT ET NEIGE STANDARD"]
[7217038,"2 SUPPORTS SL MONTAGE VERTICAL 1 CAPTEUR","ER658",215,null,null,null,null,null,null,null,null,null,null,null,null,null,null,null,null,null,null,null,"ER658","2 SUPPORTS SL MONTAGE VERTICAL 1 CAPTEUR",7217038,215,215]
[7217039,"1 SUPPORT SL MTGE VERTICAL POUR EXTENSION 1 CAPTEUR","ER659",100,null,null,null,null,null,null,null,null,null,null,null,null,null,null,null,null,null,null,null,"ER659","1 SUPPORT SL MTGE VERTICAL POUR EXTENSION 1 CAPTEUR",7217039,100,100]
[7217048,"KIT PROFILES 45 2,5M2 HZ ","ER662",108,null,null,null,null,null,null,null,null,null,null,null,null,null,null,null,null,null,null,null,"ER662","KIT PROFILES 45 2,5M2 HZ ",7217048,108,108]
[7217044,"KIT PROFILES 45 MTGE VT ","ER664",87,null,null,null,null,null,null,null,null,null,null,null,null,null,null,null,null,null,null,null,"ER664","KIT PROFILES 45 MTGE VT ",7217044,87,87]
[7217041,"2 SUPPORTS SL HL MONTAGE HORIZONTAL 1 CAPTEUR","ER656",171,null,null,null,null,null,null,null,null,null,null,null,null,null,null,null,null,null,null,null,"ER656","2 SUPPORTS SL HL MONTAGE HORIZONTAL 1 CAPTEUR",7217041,171,171]
[7217042,"1 SUPPORT SL HL HORIZONTAL POUR EXTENSION 1 CAPTEUR","ER657",86,null,null,null,null,null,null,null,null,null,null,null,null,null,null,null,null,null,null,null,"ER657","1 SUPPORT SL HL HORIZONTAL POUR EXTENSION 1 CAPTEUR",7217042,86,86]
[]
["FERRURES D'ANCRAGE POUR MONTAGE SUR TOITURE",null,null,null,null,null,null,null,null,null,null,null,null,null,null,null,null,null,null,null,null,null,null,null,null,"FERRURES D'ANCRAGE POUR MONTAGE SUR TOITURE"]
[89807311,"4 CROCHETS ALU UNIVERSEL POUR TUILES MÉCANIQUES","EG311",108,null,null,null,null,null,null,null,null,null,null,null,null,null,null,null,null,null,null,null,"EG311","4 CROCHETS ALU UNIVERSEL POUR TUILES MÉCANIQUES",89807311,108,108]
[89807312,"6 CROCHETS ALU UNIVERSEL POUR TUILES MÉCANIQUES","EG312",155,null,null,null,null,null,null,null,null,null,null,null,null,null,null,null,null,null,null,null,"EG312","6 CROCHETS ALU UNIVERSEL POUR TUILES MÉCANIQUES",89807312,155,155]
[89807313,"4 CROCHETS INOX SUR CHEVRON À TUILES MÉCANIQUES","EG313",106,null,null,null,null,null,null,null,null,null,null,null,null,null,null,null,null,null,null,null,"EG313","4 CROCHETS INOX SUR CHEVRON À TUILES MÉCANIQUES",89807313,106,106]
[89807314,"6 FERRURES D'ANCRAGE INOX POUR MONTAGE SUR TUILES MÉCANIQUES","EG314",152,null,null,null,null,null,null,null,null,null,null,null,null,null,null,null,null,null,null,null,"EG314","6 FERRURES D'ANCRAGE INOX POUR MONTAGE SUR TUILES MÉCANIQUES",89807314,152,152]
[89807315,"4 FERRURES D'ANCRAGE INOX POUR MONTAGE SUR TUILES PLATES","EG315",106,null,null,null,null,null,null,null,null,null,null,null,null,null,null,null,null,null,null,null,"EG315","4 FERRURES D'ANCRAGE INOX POUR MONTAGE SUR TUILES PLATES",89807315,106,106]
[89807316,"6 FERRURES D'ANCRAGE INOX POUR MONTAGE SUR TUILES PLATES","EG316",152,null,null,null,null,null,null,null,null,null,null,null,null,null,null,null,null,null,null,null,"EG316","6 FERRURES D'ANCRAGE INOX POUR MONTAGE SUR TUILES PLATES",89807316,152,152]
[100015314,"4 FERRURES D'ANCRAGE INOX POUR MONTAGE SUR TUILES CANAL","ER136",105,null,null,null,null,null,null,null,null,null,null,null,null,null,null,null,null,null,null,null,"ER136","4 FERRURES D'ANCRAGE INOX POUR MONTAGE SUR TUILES CANAL",100015314,105,105]
[100015315,"6 FERRURES D'ANCRAGE INOX POUR MONTAGE SUR TUILES CANAL","ER137",155,null,null,null,null,null,null,null,null,null,null,null,null,null,null,null,null,null,null,null,"ER137","6 FERRURES D'ANCRAGE INOX POUR MONTAGE SUR TUILES CANAL",100015315,155,155]
[89807317,"4 CROCHETS INOX POUR TOITURE À TUILES CANALS / ÉTERNIT","EG317",108,null,null,null,null,null,null,null,null,null,null,null,null,null,null,null,null,null,null,null,"EG317","4 CROCHETS INOX POUR TOITURE À TUILES CANALS / ÉTERNIT",89807317,108,108]
[89807318,"6 CROCHETS INOX POUR TOITURE À TUILES CANALS / ÉTERNIT","EG318",155,null,null,null,null,null,null,null,null,null,null,null,null,null,null,null,null,null,null,null,"EG318","6 CROCHETS INOX POUR TOITURE À TUILES CANALS / ÉTERNIT",89807318,155,155]
[89807319,"4 FERRURES D'ANCRAGE INOX POUR MONTAGE SUR TOIT D'ARDOISES","EG319",106,null,null,null,null,null,null,null,null,null,null,null,null,null,null,null,null,null,null,null,"EG319","4 FERRURES D'ANCRAGE INOX POUR MONTAGE SUR TOIT D'ARDOISES",89807319,106,106]
[89807320,"6 FERRURES D'ANCRAGE INOX POUR MONTAGE SUR TOIT D'ARDOISES","EG320",152,null,null,null,null,null,null,null,null,null,null,null,null,null,null,null,null,null,null,null,"EG320","6 FERRURES D'ANCRAGE INOX POUR MONTAGE SUR TOIT D'ARDOISES",89807320,152,152]
[89807782,"KIT TIRE-FONDS POUR MONTAGE 2 CAPTEURS/TUILES CANAL","EG94",272,null,null,null,null,null,null,null,null,null,null,null,null,null,null,null,null,null,null,null,"EG94","KIT TIRE-FONDS POUR MONTAGE 2 CAPTEURS/TUILES CANAL",89807782,272,272]
[89807783,"KIT TIRE-FONDS POUR MONTAGE 3 CAPTEURS/TUILES CANAL","EG95",340,null,null,null,null,null,null,null,null,null,null,null,null,null,null,null,null,null,null,null,"EG95","KIT TIRE-FONDS POUR MONTAGE 3 CAPTEURS/TUILES CANAL",89807783,340,340]
[]
[]
[]
[100016502,"CAPTEUR PLAN MONTAGE VERTICAL PRO C250 V","ER240",874,null,null,null,null,null,null,null,null,null,null,null,null,null,null,null,null,null,null,null,"ER240","CAPTEUR PLAN MONTAGE VERTICAL PRO C250 V",100016502,874,874]
[100016503,"CAPTEUR PLAN MONTAGE HORIZONTAL PRO C250 H","ER241",900,null,null,null,null,null,null,null,null,null,null,null,null,null,null,null,null,null,null,null,"ER241","CAPTEUR PLAN MONTAGE HORIZONTAL PRO C250 H",100016503,900,900]
[]
["ACCESSOIRES POUR RACCORDEMENTS HYDRAULIQUES DES PANNEAUX SOLAIRES SUN C 250 ",null,null,null,null,null,null,null,null,null,null,null,null,null,null,null,null,null,null,null,null,null,null,null,null,"ACCESSOIRES POUR RACCORDEMENTS HYDRAULIQUES DES PANNEAUX SOLAIRES SUN C 250 "]
["RACCORDEMENT DES CAPTEURS EN MONTAGE VERTICAL JUXTAPOSES OU HORIZONTAL SUPERPOSES",null,null,null,null,null,null,null,null,null,null,null,null,null,null,null,null,null,null,null,null,null,null,null,null,"RACCORDEMENT DES CAPTEURS EN MONTAGE VERTICAL JUXTAPOSES OU HORIZONTAL SUPERPOSES"]
[100016506,"KIT DE RACCORDEMENT CHAMP DE CAPTEURS","ER245",131,null,null,null,null,null,null,null,null,null,null,null,null,null,null,null,null,null,null,null,"ER245","KIT DE RACCORDEMENT CHAMP DE CAPTEURS",100016506,131,131]
[100016507,"KIT DE LIAISON HYDRAULIQUE ENTRE CAPTEURS","ER246",44,null,null,null,null,null,null,null,null,null,null,null,null,null,null,null,null,null,null,null,"ER246","KIT DE LIAISON HYDRAULIQUE ENTRE CAPTEURS",100016507,44,44]
[100016508,"KIT 2 FLEXIBLES CIRCUIT SOLAIRE CHAMP CAPTEURS","ER247",84,null,null,null,null,null,null,null,null,null,null,null,null,null,null,null,null,null,null,null,"ER247","KIT 2 FLEXIBLES CIRCUIT SOLAIRE CHAMP CAPTEURS",100016508,84,84]
[]
["ELEMENTS DE POSE SUR TOIT OU EN TERRASSE",null,null,null,null,null,null,null,null,null,null,null,null,null,null,null,null,null,null,null,null,null,null,null,null,"ELEMENTS DE POSE SUR TOIT OU EN TERRASSE"]
["MONTAGE JUXTAPOSES SUPERPOSES SUR TOITURE OU SUPPORTS TERRASSE STANDARD",null,null,null,null,null,null,null,null,null,null,null,null,null,null,null,null,null,null,null,null,null,null,null,null,"MONTAGE JUXTAPOSES SUPERPOSES SUR TOITURE OU SUPPORTS TERRASSE STANDARD"]
[7217044,"KIT PROFILES 45 MTGE VT ","ER664",87,null,null,null,null,null,null,null,null,null,null,null,null,null,null,null,null,null,null,null,"ER664","KIT PROFILES 45 MTGE VT ",7217044,87,87]
[7217048,"KIT PROFILES 45 2,5M2 HZ ","ER662",108,null,null,null,null,null,null,null,null,null,null,null,null,null,null,null,null,null,null,null,"ER662","KIT PROFILES 45 2,5M2 HZ ",7217048,108,108]
[7503269,"KIT NOQUETS POUR TUILES PLATES ET ARDOISES","ER558",141,null,null,null,null,null,null,null,null,null,null,null,null,null,null,null,null,null,null,null,"ER558","KIT NOQUETS POUR TUILES PLATES ET ARDOISES",7503269,141,141]
[100016509,"2 SUPPORTS HL AVEC CROIX  MONTAGE VERTICAL 1 C250 SANS PROFILES","ER250",342,null,null,null,null,null,null,null,null,null,null,null,null,null,null,null,null,null,null,null,"ER250","2 SUPPORTS HL AVEC CROIX  MONTAGE VERTICAL 1 C250 SANS PROFILES",100016509,342,342]
[100016510,"1 SUPPORT HL VERTICAL POUR EXTENSION 1 C250 ","ER251",176,null,null,null,null,null,null,null,null,null,null,null,null,null,null,null,null,null,null,null,"ER251","1 SUPPORT HL VERTICAL POUR EXTENSION 1 C250 ",100016510,176,176]
[100016511,"2 SUPPORTS HL AVEC CROIX  MONTAGE HORIZONTAL 1 C250 SANS PROFILES","ER252",280,null,null,null,null,null,null,null,null,null,null,null,null,null,null,null,null,null,null,null,"ER252","2 SUPPORTS HL AVEC CROIX  MONTAGE HORIZONTAL 1 C250 SANS PROFILES",100016511,280,280]
[100016512,"1 SUPPORT HL HORIZONTAL POUR EXTENSION 1 C250 ","ER253",159,null,null,null,null,null,null,null,null,null,null,null,null,null,null,null,null,null,null,null,"ER253","1 SUPPORT HL HORIZONTAL POUR EXTENSION 1 C250 ",100016512,159,159]
[7217038,"2 SUPPORTS SL MONTAGE VERTICAL 1 CAPTEUR","ER658",215,null,null,null,null,null,null,null,null,null,null,null,null,null,null,null,null,null,null,null,"ER658","2 SUPPORTS SL MONTAGE VERTICAL 1 CAPTEUR",7217038,215,215]
[7217039,"1 SUPPORT SL MTGE VERTICAL POUR EXTENSION 1 CAPTEUR","ER659",100,null,null,null,null,null,null,null,null,null,null,null,null,null,null,null,null,null,null,null,"ER659","1 SUPPORT SL MTGE VERTICAL POUR EXTENSION 1 CAPTEUR",7217039,100,100]
[7217041,"2 SUPPORTS SL HL MONTAGE HORIZONTAL 1 CAPTEUR","ER656",171,null,null,null,null,null,null,null,null,null,null,null,null,null,null,null,null,null,null,null,"ER656","2 SUPPORTS SL HL MONTAGE HORIZONTAL 1 CAPTEUR",7217041,171,171]
[7217042,"1 SUPPORT SL HL HORIZONTAL POUR EXTENSION 1 CAPTEUR","ER657",86,null,null,null,null,null,null,null,null,null,null,null,null,null,null,null,null,null,null,null,"ER657","1 SUPPORT SL HL HORIZONTAL POUR EXTENSION 1 CAPTEUR",7217042,86,86]
[]
["FERRURES D'ANCRAGE POUR MONTAGE SUR TOITURE",null,null,null,null,null,null,null,null,null,null,null,null,null,null,null,null,null,null,null,null,null,null,null,null,"FERRURES D'ANCRAGE POUR MONTAGE SUR TOITURE"]
[89807311,"4 FERRURES D'ANCRAGE ALU POUR MONTAGE SUR TUILES MÉCANIQUES","EG311",108,null,null,null,null,null,null,null,null,null,null,null,null,null,null,null,null,null,null,null,"EG311","4 FERRURES D'ANCRAGE ALU POUR MONTAGE SUR TUILES MÉCANIQUES",89807311,108,108]
[89807312,"6 FERRURES D'ANCRAGE ALU POUR MONTAGE SUR TUILES MÉCANIQUES","EG312",155,null,null,null,null,null,null,null,null,null,null,null,null,null,null,null,null,null,null,null,"EG312","6 FERRURES D'ANCRAGE ALU POUR MONTAGE SUR TUILES MÉCANIQUES",89807312,155,155]
[89807313,"4 FERRURES D'ANCRAGE INOX POUR MONTAGE SUR TUILES MÉCANIQUES","EG313",106,null,null,null,null,null,null,null,null,null,null,null,null,null,null,null,null,null,null,null,"EG313","4 FERRURES D'ANCRAGE INOX POUR MONTAGE SUR TUILES MÉCANIQUES",89807313,106,106]
[89807314,"6 FERRURES D'ANCRAGE INOX POUR MONTAGE SUR TUILES MÉCANIQUES","EG314",152,null,null,null,null,null,null,null,null,null,null,null,null,null,null,null,null,null,null,null,"EG314","6 FERRURES D'ANCRAGE INOX POUR MONTAGE SUR TUILES MÉCANIQUES",89807314,152,152]
[89807315,"4 FERRURES D'ANCRAGE INOX POUR MONTAGE SUR TUILES PLATES","EG315",106,null,null,null,null,null,null,null,null,null,null,null,null,null,null,null,null,null,null,null,"EG315","4 FERRURES D'ANCRAGE INOX POUR MONTAGE SUR TUILES PLATES",89807315,106,106]
[89807316,"6 FERRURES D'ANCRAGE INOX POUR MONTAGE SUR TUILES PLATES","EG316",152,null,null,null,null,null,null,null,null,null,null,null,null,null,null,null,null,null,null,null,"EG316","6 FERRURES D'ANCRAGE INOX POUR MONTAGE SUR TUILES PLATES",89807316,152,152]
[100015314,"4 FERRURES D'ANCRAGE INOX POUR MONTAGE SUR TUILES CANAL","ER136",105,null,null,null,null,null,null,null,null,null,null,null,null,null,null,null,null,null,null,null,"ER136","4 FERRURES D'ANCRAGE INOX POUR MONTAGE SUR TUILES CANAL",100015314,105,105]
[100015315,"6 FERRURES D'ANCRAGE INOX POUR MONTAGE SUR TUILES CANAL","ER137",155,null,null,null,null,null,null,null,null,null,null,null,null,null,null,null,null,null,null,null,"ER137","6 FERRURES D'ANCRAGE INOX POUR MONTAGE SUR TUILES CANAL",100015315,155,155]
[89807317,"4 FERRURES D'ANCRAGE INOX POUR MONTAGE SUR TOIT ETERNIT","EG317",108,null,null,null,null,null,null,null,null,null,null,null,null,null,null,null,null,null,null,null,"EG317","4 FERRURES D'ANCRAGE INOX POUR MONTAGE SUR TOIT ETERNIT",89807317,108,108]
[89807318,"6 FERRURES D'ANCRAGE INOX POUR MONTAGE SUR TOIT ETERNIT","EG318",155,null,null,null,null,null,null,null,null,null,null,null,null,null,null,null,null,null,null,null,"EG318","6 FERRURES D'ANCRAGE INOX POUR MONTAGE SUR TOIT ETERNIT",89807318,155,155]
[89807319,"4 FERRURES D'ANCRAGE INOX POUR MONTAGE SUR TOIT D'ARDOISES","EG319",106,null,null,null,null,null,null,null,null,null,null,null,null,null,null,null,null,null,null,null,"EG319","4 FERRURES D'ANCRAGE INOX POUR MONTAGE SUR TOIT D'ARDOISES",89807319,106,106]
[89807320,"6 FERRURES D'ANCRAGE INOX POUR MONTAGE SUR TOIT D'ARDOISES","EG320",152,null,null,null,null,null,null,null,null,null,null,null,null,null,null,null,null,null,null,null,"EG320","6 FERRURES D'ANCRAGE INOX POUR MONTAGE SUR TOIT D'ARDOISES",89807320,152,152]
[89807782,"KIT TIRE-FONDS POUR MONTAGE 2 CAPTEURS","EG94",272,null,null,null,null,null,null,null,null,null,null,null,null,null,null,null,null,null,null,null,"EG94","KIT TIRE-FONDS POUR MONTAGE 2 CAPTEURS",89807782,272,272]
[89807783,"KIT TIRE-FONDS POUR MONTAGE 3 CAPTEURS","EG95",340,null,null,null,null,null,null,null,null,null,null,null,null,null,null,null,null,null,null,null,"EG95","KIT TIRE-FONDS POUR MONTAGE 3 CAPTEURS",89807783,340,340]
[100016517,"4 FERRURES D'ANCRAGE ALU  A CRANS MTGE SUR CHEVRON","ER264",144,null,null,null,null,null,null,null,null,null,null,null,null,null,null,null,null,null,null,null,"ER264","4 FERRURES D'ANCRAGE ALU  A CRANS MTGE SUR CHEVRON",100016517,144,144]
[100016518,"2 FERRURES D'ANCRAGE ALU  A CRANS MTGE SUR CHEVRON","ER265",86,null,null,null,null,null,null,null,null,null,null,null,null,null,null,null,null,null,null,null,"ER265","2 FERRURES D'ANCRAGE ALU  A CRANS MTGE SUR CHEVRON",100016518,86,86]
[]
[]
[]
[7212864,"KIT DE BASE 22° D'INTEGRATION TUILE MECANIQUE 1 C250 V","ER634",604,null,null,null,null,null,null,null,null,null,null,null,null,null,null,null,null,null,null,null,"ER634","KIT DE BASE 22° D'INTEGRATION TUILE MECANIQUE 1 C250 V",7212864,604,604]
[7212869,"KIT DE BASE 22° D'INTEGRATION TUILE MECANIQUE 2 C250 V","ER635",872,null,null,null,null,null,null,null,null,null,null,null,null,null,null,null,null,null,null,null,"ER635","KIT DE BASE 22° D'INTEGRATION TUILE MECANIQUE 2 C250 V",7212869,872,872]
[7212867,"KIT EXTENSION 22° INTEGRATION TUILE MECANIQUE 1 C 250 V","ER636",361,null,null,null,null,null,null,null,null,null,null,null,null,null,null,null,null,null,null,null,"ER636","KIT EXTENSION 22° INTEGRATION TUILE MECANIQUE 1 C 250 V",7212867,361,361]
[7212866,"KIT DE BASE 22° D'INTEGRATION TUILE MECANIQUE 1 C250 H","ER637",640,null,null,null,null,null,null,null,null,null,null,null,null,null,null,null,null,null,null,null,"ER637","KIT DE BASE 22° D'INTEGRATION TUILE MECANIQUE 1 C250 H",7212866,640,640]
[7212870,"KIT DE BASE 22° D'INTEGRATION TUILE MECANIQUE 2 C250 H","ER638",1047,null,null,null,null,null,null,null,null,null,null,null,null,null,null,null,null,null,null,null,"ER638","KIT DE BASE 22° D'INTEGRATION TUILE MECANIQUE 2 C250 H",7212870,1047,1047]
[7212868,"KIT EXTENSION 22° INTEGRATION TUILE MECANIQUE C 250 H","ER639",466,null,null,null,null,null,null,null,null,null,null,null,null,null,null,null,null,null,null,null,"ER639","KIT EXTENSION 22° INTEGRATION TUILE MECANIQUE C 250 H",7212868,466,466]
[7212872,"KIT DE BASE 17° D'INTEGRATION TUILE CANAL 1 C250 V ","ER640",791,null,null,null,null,null,null,null,null,null,null,null,null,null,null,null,null,null,null,null,"ER640","KIT DE BASE 17° D'INTEGRATION TUILE CANAL 1 C250 V ",7212872,791,791]
[7503821,"KIT DE BASE 17° D'INTEGRATION TUILE CANAL 2 C250 V ","ER641",1221,null,null,null,null,null,null,null,null,null,null,null,null,null,null,null,null,null,null,null,"ER641","KIT DE BASE 17° D'INTEGRATION TUILE CANAL 2 C250 V ",7503821,1221,1221]
[7212875,"KIT EXTENSION 17° INTEGRATION TUILE CANAL C 250 V ","ER642",466,null,null,null,null,null,null,null,null,null,null,null,null,null,null,null,null,null,null,null,"ER642","KIT EXTENSION 17° INTEGRATION TUILE CANAL C 250 V ",7212875,466,466]
[7212873,"KIT DE BASE 17° D'INTEGRATION TUILE CANAL 1 C250 H ","ER643",884,null,null,null,null,null,null,null,null,null,null,null,null,null,null,null,null,null,null,null,"ER643","KIT DE BASE 17° D'INTEGRATION TUILE CANAL 1 C250 H ",7212873,884,884]
[7212880,"KIT DE BASE 17° D'INTEGRATION TUILE CANAL 2 C250 H ","ER644",1453,null,null,null,null,null,null,null,null,null,null,null,null,null,null,null,null,null,null,null,"ER644","KIT DE BASE 17° D'INTEGRATION TUILE CANAL 2 C250 H ",7212880,1453,1453]
[7212877,"KIT EXTENSION 17° INTEGRATION TUILE CANAL C 250 H","ER645",524,null,null,null,null,null,null,null,null,null,null,null,null,null,null,null,null,null,null,null,"ER645","KIT EXTENSION 17° INTEGRATION TUILE CANAL C 250 H",7212877,524,524]
[]
[]
[]
[100019143,"BALLON OBES 200","ER375",1759,null,null,null,null,null,null,null,null,null,null,null,null,null,null,null,null,null,null,null,"ER375","BALLON OBES 200",100019143,1759,1759]
[100019144,"BALLON OBES 300","ER376",1879,null,null,null,null,null,null,null,null,null,null,null,null,null,null,null,null,null,null,null,"ER376","BALLON OBES 300",100019144,1879,1879]
[100019145,"BALLON OBES 400","ER377",2952,null,null,null,null,null,null,null,null,null,null,null,null,null,null,null,null,null,null,null,"ER377","BALLON OBES 400",100019145,2952,2952]
[]
[]
[]
[100019137,"BALLON OBS 200","ER362",1759,null,null,null,null,null,null,null,null,null,null,null,null,null,null,null,null,null,null,null,"ER362","BALLON OBS 200",100019137,1759,1759]
[100019138,"BALLON OBS 300","ER363",1879,null,null,null,null,null,null,null,null,null,null,null,null,null,null,null,null,null,null,null,"ER363","BALLON OBS 300",100019138,1879,1879]
[100019139,"BALLON OBS 400","ER364",2952,null,null,null,null,null,null,null,null,null,null,null,null,null,null,null,null,null,null,null,"ER364","BALLON OBS 400",100019139,2952,2952]
[7606302,"BALLON OBS 150N ","ER337",928,null,null,null,null,null,null,null,null,null,null,null,null,null,null,null,null,null,null,null,"ER337","BALLON OBS 150N ",7606302,928,928]
[7624853,"STATION SOLAIRE SKP 7-8","ER655",490,null,null,null,null,null,null,null,null,null,null,null,null,null,null,null,null,null,null,null,"ER655","STATION SOLAIRE SKP 7-8",7624853,490,490]
[100020290,"KIT TUBULURES COURTES POUR MONTAGE DKS 6 MSB SUR BSL 150N","ER286",120,null,null,null,null,null,null,null,null,null,null,null,null,null,null,null,null,null,null,null,"ER286","KIT TUBULURES COURTES POUR MONTAGE DKS 6 MSB SUR BSL 150N",100020290,120,120]
[89807238,"KIT D'ACCROCHAGE POUR VASE D'EXPANSION ","EC118",66,null,null,null,null,null,null,null,null,null,null,null,null,null,null,null,null,null,null,null,"EC118","KIT D'ACCROCHAGE POUR VASE D'EXPANSION ",89807238,66,66]
[89807794,"FLUIDE CALOPORTEUR \"L\" 20L. MELANGE 40/60 ","EG101",85,null,null,null,null,null,null,null,null,null,null,null,null,null,null,null,null,null,null,null,"EG101","FLUIDE CALOPORTEUR \"L\" 20L. MELANGE 40/60 ",89807794,85,85]
[]
[100019529,"PREPARATEUR SOLAIRE OBS 200 N","ER424",989,null,null,null,null,null,null,null,null,null,null,null,null,null,null,null,null,null,null,null,"ER424","PREPARATEUR SOLAIRE OBS 200 N",100019529,989,989]
[]
[100019423,"COLIS EQUIPEMENT SOLAIRE ER414","ER414",147,null,null,null,null,null,null,null,null,null,null,null,null,null,null,null,null,null,null,null,"ER414","COLIS EQUIPEMENT SOLAIRE ER414",100019423,147,147]
[100010652,"KIT OECOPROTEC PROTECTION ACI SUR OETRONIC","EC431",134,null,null,null,null,null,null,null,null,null,null,null,null,null,null,null,null,null,null,null,"EC431","KIT OECOPROTEC PROTECTION ACI SUR OETRONIC",100010652,134,134]
[100019165,"R. ELECTRIQUE 3 kW AVEC SONDE","ER394",246,null,null,null,null,null,null,null,null,null,null,null,null,null,null,null,null,null,null,null,"ER394","R. ELECTRIQUE 3 kW AVEC SONDE",100019165,246,246]
[100019167,"R. ELECTRIQUE 2,3 kW THERMOSTATIQUE","ER396",306,null,null,null,null,null,null,null,null,null,null,null,null,null,null,null,null,null,null,null,"ER396","R. ELECTRIQUE 2,3 kW THERMOSTATIQUE",100019167,306,306]
[100019428,"VASE D'EXPANSION  25 L","EG118",123,null,null,null,null,null,null,null,null,null,null,null,null,null,null,null,null,null,null,null,"EG118","VASE D'EXPANSION  25 L",100019428,123,123]
[89807794,"FLUIDE CALOPORTEUR \"L\" 20L. MELANGE 40/60 ","EG101",85,null,null,null,null,null,null,null,null,null,null,null,null,null,null,null,null,null,null,null,"EG101","FLUIDE CALOPORTEUR \"L\" 20L. MELANGE 40/60 ",89807794,85,85]
[]
["COMPOSANTS",null,null,null,null,null,null,null,null,null,null,null,null,null,null,null,null,null,null,null,null,null,null,null,null,"COMPOSANTS"]
[100019423,"COLIS EQUIPEMENT SOLAIRE ER414","ER414",147,null,null,null,null,null,null,null,null,null,null,null,null,null,null,null,null,null,null,null,"ER414","COLIS EQUIPEMENT SOLAIRE ER414",100019423,147,147]
[89804803,"VANNE 3 VOIES 3/4\" POUR 2 CIRCUITS","EC164",260,null,null,null,null,null,null,null,null,null,null,null,null,null,null,null,null,null,null,null,"EC164","VANNE 3 VOIES 3/4\" POUR 2 CIRCUITS",89804803,260,260]
[]
[100019322,"KIT DE RACCORDEMENT EAU FROIDE","ER404",123,null,null,null,null,null,null,null,null,null,null,null,null,null,null,null,null,null,null,null,"ER404","KIT DE RACCORDEMENT EAU FROIDE",100019322,123,123]
[]
[]
[7615868,"PACK TOIT 3 D 230- 7m² INTEGRE V 17° TUILE CANAL","ER626",4164,null,null,null,null,null,null,null,null,null,null,null,null,null,null,null,null,null,null,null,"ER626","PACK TOIT 3 D 230- 7m² INTEGRE V 17° TUILE CANAL",7615868,4164,4164]
[100019701,"PACK TOIT 4 D230- 9m² CROCHET UNIVERSEL TUILES MECANIQUES","ER438",4507,null,null,null,null,null,null,null,null,null,null,null,null,null,null,null,null,null,null,null,"ER438","PACK TOIT 4 D230- 9m² CROCHET UNIVERSEL TUILES MECANIQUES",100019701,4507,4507]
[]
[]
[100019423,"COLIS EQUIPEMENT SOLAIRE ER414","ER414",147,null,null,null,null,null,null,null,null,null,null,null,null,null,null,null,null,null,null,null,"ER414","COLIS EQUIPEMENT SOLAIRE ER414",100019423,147,147]
[100019165,"R. ELECTRIQUE 3 kW AVEC SONDE","ER394",246,null,null,null,null,null,null,null,null,null,null,null,null,null,null,null,null,null,null,null,"ER394","R. ELECTRIQUE 3 kW AVEC SONDE",100019165,246,246]
[]
[100020164,"COLLECTEUR 2/3 CIRCUITS ","EA140",382,null,null,null,null,null,null,null,null,null,null,null,null,null,null,null,null,null,null,null,"EA140","COLLECTEUR 2/3 CIRCUITS ",100020164,382,382]
[100020167,"CIRCUIT DIRECT P.ELEC CLASSE A  ","EA143",720,null,null,null,null,null,null,null,null,null,null,null,null,null,null,null,null,null,null,null,"EA143","CIRCUIT DIRECT P.ELEC CLASSE A  ",100020167,720,720]
[88017010,"THERMOSTAT D'AMBIANCE PROGRAMMABLE (SANS FILS)","AD192",308,null,null,null,null,null,null,null,null,null,null,null,null,null,null,null,null,null,null,null,"AD192","THERMOSTAT D'AMBIANCE PROGRAMMABLE (SANS FILS)",88017010,308,308]
[]
[7615868,"PACK TOIT 3 D 230- 7m² INTEGRE V 17° TUILE CANAL","ER626",4164,null,null,null,null,null,null,null,null,null,null,null,null,null,null,null,null,null,null,null,"ER626","PACK TOIT 3 D 230- 7m² INTEGRE V 17° TUILE CANAL",7615868,4164,4164]
[100019701,"PACK TOIT 4 D230- 9m² CROCHET UNIVERSEL TUILES MECANIQUES","ER438",4507,null,null,null,null,null,null,null,null,null,null,null,null,null,null,null,null,null,null,null,"ER438","PACK TOIT 4 D230- 9m² CROCHET UNIVERSEL TUILES MECANIQUES",100019701,4507,4507]
[]
[7651949,"OECOSUN CONFORT 400 (QUADRO)",null,4660,null,null,null,null,null,null,null,null,null,null,null,null,null,null,null,null,null,null,null,null,"OECOSUN CONFORT 400 (QUADRO)",7651949,4660,4660]
[]
[7650884,"CUVE QUADRO 700 ET HABILLAGE E","EC66",3807,null,null,null,null,null,null,null,null,null,null,null,null,null,null,null,null,null,null,null,"EC66","CUVE QUADRO 700 ET HABILLAGE E",7650884,3807,3807]
[7630424,"KIT CABLE DE LIAISON ModBUS (3m) OETROSOL-PLUS","ER713",36,null,null,null,null,null,null,null,null,null,null,null,null,null,null,null,null,null,null,null,"ER713","KIT CABLE DE LIAISON ModBUS (3m) OETROSOL-PLUS",7630424,36,36]
[100019425,"MITIGEUR THERMOSTATIQUE","EC60",154,null,null,null,null,null,null,null,null,null,null,null,null,null,null,null,null,null,null,null,"EC60","MITIGEUR THERMOSTATIQUE",100019425,154,154]
[100020165,"CONSOLE MUR COLLECTEUR ","EA141",48,null,null,null,null,null,null,null,null,null,null,null,null,null,null,null,null,null,null,null,"EA141","CONSOLE MUR COLLECTEUR ",100020165,48,48]
[100020168,"CIRCUIT V3V P.ELEC","EA144",1023,null,null,null,null,null,null,null,null,null,null,null,null,null,null,null,null,null,null,null,"EA144","CIRCUIT V3V P.ELEC",100020168,1023,1023]
[]
[]
[100019698,"PACK TOIT 3 D230- 7m² CROCHET UNIVERSEL TUILES MECANIQUES","ER435",3401,null,null,null,null,null,null,null,null,null,null,null,null,null,null,null,null,null,null,null,"ER435","PACK TOIT 3 D230- 7m² CROCHET UNIVERSEL TUILES MECANIQUES",100019698,3401,3401]
[100019699,"PACK TOIT 3 D230- 7m² SUR TOITURE ARDOISES","ER436",3401,null,null,null,null,null,null,null,null,null,null,null,null,null,null,null,null,null,null,null,"ER436","PACK TOIT 3 D230- 7m² SUR TOITURE ARDOISES",100019699,3401,3401]
[]
["CUVE",null,null,null,null,null,null,null,null,null,null,null,null,null,null,null,null,null,null,null,null,null,null,null,null,"CUVE"]
[7650465,"BALLON PS 2000","AJ63",3695,null,null,null,null,null,null,null,null,null,null,null,null,null,null,null,null,null,null,null,"AJ63","BALLON PS 2000",7650465,3695,3695]
[]
[7650490,"JAQUETTE RIGIDE 800 PS/PSE","AJ88",694,null,null,null,null,null,null,null,null,null,null,null,null,null,null,null,null,null,null,null,"AJ88","JAQUETTE RIGIDE 800 PS/PSE",7650490,694,694]
[7650491,"JAQUETTE RIGIDE 1000 PS/PSE ","AJ89",784,null,null,null,null,null,null,null,null,null,null,null,null,null,null,null,null,null,null,null,"AJ89","JAQUETTE RIGIDE 1000 PS/PSE ",7650491,784,784]
["HABILLAGE SOUPLE",null,null,null,null,null,null,null,null,null,null,null,null,null,null,null,null,null,null,null,null,null,null,null,null,"HABILLAGE SOUPLE"]
[7650514,"JAQUETTE SOUPLE M1 800 PS/PSE ","AJ108",336,null,null,null,null,null,null,null,null,null,null,null,null,null,null,null,null,null,null,null,"AJ108","JAQUETTE SOUPLE M1 800 PS/PSE ",7650514,336,336]
[7650528,"JAQUETTE SOUPLE M1 2000 PS/PSE ","AJ111",897,null,null,null,null,null,null,null,null,null,null,null,null,null,null,null,null,null,null,null,"AJ111","JAQUETTE SOUPLE M1 2000 PS/PSE ",7650528,897,897]
[]
[]
["OPTIONS POUR PREPARATEURS SOLAIRES DC ",null,null,null,null,null,null,null,null,null,null,null,null,null,null,null,null,null,null,null,null,null,null,null,null,"OPTIONS POUR PREPARATEURS SOLAIRES DC "]
[89757750,"RESISTANCE BLINDEE 6 KW/400V A VISSER 1''1/2","AJ36",689,null,null,null,null,null,null,null,null,null,null,null,null,null,null,null,null,null,null,null,"AJ36","RESISTANCE BLINDEE 6 KW/400V A VISSER 1''1/2",89757750,689,689]
[100004650,"REGULATION \"MCDB\" POUR CHARGE/DECHARGE BALLON ","EC162",296,null,null,null,null,null,null,null,null,null,null,null,null,null,null,null,null,null,null,null,"EC162","REGULATION \"MCDB\" POUR CHARGE/DECHARGE BALLON ",100004650,296,296]
[]
["CUVE",null,null,null,null,null,null,null,null,null,null,null,null,null,null,null,null,null,null,null,null,null,null,null,null,"CUVE"]
[7650499,"JAQUETTE RIGIDE 1000 TP B/RSB","AJ97",784,null,null,null,null,null,null,null,null,null,null,null,null,null,null,null,null,null,null,null,"AJ97","JAQUETTE RIGIDE 1000 TP B/RSB",7650499,784,784]
[89757750,"RESISTANCE BLINDEE 6 KW/400V A VISSER 1''1/2","AJ36",689,null,null,null,null,null,null,null,null,null,null,null,null,null,null,null,null,null,null,null,"AJ36","RESISTANCE BLINDEE 6 KW/400V A VISSER 1''1/2",89757750,689,689]
[89608920,"ANODE ACI CORREX UP BALLON > 300 LITRES","AM7",583,null,null,null,null,null,null,null,null,null,null,null,null,null,null,null,null,null,null,null,"AM7","ANODE ACI CORREX UP BALLON > 300 LITRES",89608920,583,583]
[]
[100015099,"KIT DE BOUCLAGE ECS","ER29",195,null,null,null,null,null,null,null,null,null,null,null,null,null,null,null,null,null,null,null,"ER29","KIT DE BOUCLAGE ECS",100015099,195,195]
[89807767,"MITIGEUR THERMOSTATIQUE 1\"","EG78",150,null,null,null,null,null,null,null,null,null,null,null,null,null,null,null,null,null,null,null,"EG78","MITIGEUR THERMOSTATIQUE 1\"",89807767,150,150]
[]
[7650474,"BALLON RSB 800 ","AJ72",2104,null,null,null,null,null,null,null,null,null,null,null,null,null,null,null,null,null,null,null,"AJ72","BALLON RSB 800 ",7650474,2104,2104]
[7650473,"BALLON RSB 3000","AJ71",4031,null,null,null,null,null,null,null,null,null,null,null,null,null,null,null,null,null,null,null,"AJ71","BALLON RSB 3000",7650473,4031,4031]
[7650497,"JAQUETTE RIGIDE 800 TP B/RSB","AJ95",694,null,null,null,null,null,null,null,null,null,null,null,null,null,null,null,null,null,null,null,"AJ95","JAQUETTE RIGIDE 800 TP B/RSB",7650497,694,694]
[7650508,"JAQUETTE RIGIDE 2500 TP B/RSB ","AJ103",1680,null,null,null,null,null,null,null,null,null,null,null,null,null,null,null,null,null,null,null,"AJ103","JAQUETTE RIGIDE 2500 TP B/RSB ",7650508,1680,1680]
[7650511,"JAQUETTE RIGIDE 3000 TP B/RSB ","AJ105",1903,null,null,null,null,null,null,null,null,null,null,null,null,null,null,null,null,null,null,null,"AJ105","JAQUETTE RIGIDE 3000 TP B/RSB ",7650511,1903,1903]
[7650554,"JAQUETTE SOUPLE M1 1000 TP B/RSB ","AJ117",448,null,null,null,null,null,null,null,null,null,null,null,null,null,null,null,null,null,null,null,"AJ117","JAQUETTE SOUPLE M1 1000 TP B/RSB ",7650554,448,448]
[7650563,"JAQUETTE SOUPLE M1 2500 TP B/RSB ","AJ123",1008,null,null,null,null,null,null,null,null,null,null,null,null,null,null,null,null,null,null,null,"AJ123","JAQUETTE SOUPLE M1 2500 TP B/RSB ",7650563,1008,1008]
["HABILLAGE RIGIDE (CLASSEMENT AU FEU)",null,null,null,null,null,null,null,null,null,null,null,null,null,null,null,null,null,null,null,null,null,null,null,null,"HABILLAGE RIGIDE (CLASSEMENT AU FEU)"]
["OPTIONS",null,null,null,null,null,null,null,null,null,null,null,null,null,null,null,null,null,null,null,null,null,null,null,null,"OPTIONS"]
[89757746,"THERMOMETRE","AJ32",56,null,null,null,null,null,null,null,null,null,null,null,null,null,null,null,null,null,null,null,"AJ32","THERMOMETRE",89757746,56,56]
[]
[89757753,"ANODE A COURANT IMPOSE","AJ39",428,null,null,null,null,null,null,null,null,null,null,null,null,null,null,null,null,null,null,null,"AJ39","ANODE A COURANT IMPOSE",89757753,428,428]
[100019163,"R. ELECTRIQUE 1,5 kW AVEC SONDE","ER392",246,null,null,null,null,null,null,null,null,null,null,null,null,null,null,null,null,null,null,null,"ER392","R. ELECTRIQUE 1,5 kW AVEC SONDE",100019163,246,246]
[]
[100013448,"MODUL.HYDRAUL.V3V CLASSE A","ER74",981,null,null,null,null,null,null,null,null,null,null,null,null,null,null,null,null,null,null,null,"ER74","MODUL.HYDRAUL.V3V CLASSE A",100013448,981,981]
[88017017,"SONDE DEPART v3v","AD199",85,null,null,null,null,null,null,null,null,null,null,null,null,null,null,null,null,null,null,null,"AD199","SONDE DEPART v3v",88017017,85,85]
[7604939,"STATION TRANSFERT DMCDB ","ER468",1138,null,null,null,null,null,null,null,null,null,null,null,null,null,null,null,null,null,null,null,"ER468","STATION TRANSFERT DMCDB ",7604939,1138,1138]
[89757750,"RESISTANCE BLINDEE 6 KW/400V A VISSER 1''1/2","AJ36",689,null,null,null,null,null,null,null,null,null,null,null,null,null,null,null,null,null,null,null,"AJ36","RESISTANCE BLINDEE 6 KW/400V A VISSER 1''1/2",89757750,689,689]
[89807767,"MITIGEUR THERMOSTATIQUE 1\"","EG78",150,null,null,null,null,null,null,null,null,null,null,null,null,null,null,null,null,null,null,null,"EG78","MITIGEUR THERMOSTATIQUE 1\"",89807767,150,150]
[89807773,"VASE D'EXPANSION SOLAIRE 50 L","EG84",376,null,null,null,null,null,null,null,null,null,null,null,null,null,null,null,null,null,null,null,"EG84","VASE D'EXPANSION SOLAIRE 50 L",89807773,376,376]
[100008736,"VASE D'EXPANSION 300 l","EG123",1254,null,null,null,null,null,null,null,null,null,null,null,null,null,null,null,null,null,null,null,"EG123","VASE D'EXPANSION 300 l",100008736,1254,1254]
[89807794,"FLUIDE CALOPORTEUR \"L\" 20L. MELANGE 40/60 ","EG101",85,null,null,null,null,null,null,null,null,null,null,null,null,null,null,null,null,null,null,null,"EG101","FLUIDE CALOPORTEUR \"L\" 20L. MELANGE 40/60 ",89807794,85,85]
[89807770,"STATION DE REMPLISSAGE (POMPE)","EG81",1167,null,null,null,null,null,null,null,null,null,null,null,null,null,null,null,null,null,null,null,"EG81","STATION DE REMPLISSAGE (POMPE)",89807770,1167,1167]
[89807797,"DENSIMETRE (ANTIGEL \"L\") A CADRAN","EG102",57,null,null,null,null,null,null,null,null,null,null,null,null,null,null,null,null,null,null,null,"EG102","DENSIMETRE (ANTIGEL \"L\") A CADRAN",89807797,57,57]
[89807349,"POIGNETS DE TRANSPORT ET DE MANUTENTION (4 PIECES)","EG349",158,null,null,null,null,null,null,null,null,null,null,null,null,null,null,null,null,null,null,null,"EG349","POIGNETS DE TRANSPORT ET DE MANUTENTION (4 PIECES)",89807349,158,158]
[89807001,"TWIN TUBES CU DN15 15 METRES","EG107",786,null,null,null,null,null,null,null,null,null,null,null,null,null,null,null,null,null,null,null,"EG107","TWIN TUBES CU DN15 15 METRES",89807001,786,786]
[89807003,"JEU DE 4 COLLIERS DN15","EG109",24,null,null,null,null,null,null,null,null,null,null,null,null,null,null,null,null,null,null,null,"EG109","JEU DE 4 COLLIERS DN15",89807003,24,24]
[100000418,"JEU DE 2 RACCORDS BÎCONE DN 18","EG375",27,null,null,null,null,null,null,null,null,null,null,null,null,null,null,null,null,null,null,null,"EG375","JEU DE 2 RACCORDS BÎCONE DN 18",100000418,27,27]
[]
[7624853,"STATION SOLAIRE SKP 7-8","ER655",490,null,null,null,null,null,null,null,null,null,null,null,null,null,null,null,null,null,null,null,"ER655","STATION SOLAIRE SKP 7-8",7624853,490,490]
[7630415,"STATION SOLAIRE DKSC 6-8 MSB","ER711",525,null,null,null,null,null,null,null,null,null,null,null,null,null,null,null,null,null,null,null,"ER711","STATION SOLAIRE DKSC 6-8 MSB",7630415,525,525]
[89804803,"VANNE 3 VOIES 3/4\" POUR 2 CIRCUITS","EC164",260,null,null,null,null,null,null,null,null,null,null,null,null,null,null,null,null,null,null,null,"EC164","VANNE 3 VOIES 3/4\" POUR 2 CIRCUITS",89804803,260,260]
[7630421,"REGULATION OETROSOL-AEL","ER708",320,null,null,null,null,null,null,null,null,null,null,null,null,null,null,null,null,null,null,null,"ER708","REGULATION OETROSOL-AEL",7630421,320,320]
[89804816,"BOITIER PARA FOUDRE POUR SONDE PANNEAUX SOLAIRES","EC176",43,null,null,null,null,null,null,null,null,null,null,null,null,null,null,null,null,null,null,null,"EC176","BOITIER PARA FOUDRE POUR SONDE PANNEAUX SOLAIRES",89804816,43,43]
[100004652,"DEBIMETRE VOLUMIQUE V40 ","EC174",455,null,null,null,null,null,null,null,null,null,null,null,null,null,null,null,null,null,null,null,"EC174","DEBIMETRE VOLUMIQUE V40 ",100004652,455,455]
[]
[7619964,"STATION SOLAIRE SKS 13-45","ER665",741,null,null,null,null,null,null,null,null,null,null,null,null,null,null,null,null,null,null,null,"ER665","STATION SOLAIRE SKS 13-45",7619964,741,741]
[7630422,"REGULATION OETROSOL-PLUS","ER709",285,null,null,null,null,null,null,null,null,null,null,null,null,null,null,null,null,null,null,null,"ER709","REGULATION OETROSOL-PLUS",7630422,285,285]
[7690137,"VASE D'EXTENSION DB 20","ER978",431,null,null,null,null,null,null,null,null,null,null,null,null,null,null,null,null,null,null,null,"ER978","VASE D'EXTENSION DB 20",7690137,431,431]
[7619966,"STATION SOLAIRE STS 14-30 CME","ER667",2966,null,null,null,null,null,null,null,null,null,null,null,null,null,null,null,null,null,null,null,"ER667","STATION SOLAIRE STS 14-30 CME",7619966,2966,2966]
[7630422,"REGULATION OETROSOL-PLUS","ER709",285,null,null,null,null,null,null,null,null,null,null,null,null,null,null,null,null,null,null,null,"ER709","REGULATION OETROSOL-PLUS",7630422,285,285]
[100011341,"KIT 2 VANNES/SONDE CAPT.EST-OUEST","EC432",498,null,null,null,null,null,null,null,null,null,null,null,null,null,null,null,null,null,null,null,"EC432","KIT 2 VANNES/SONDE CAPT.EST-OUEST",100011341,498,498]
[100008011,"SONDE CAPTEUR  PT1000 ","EC155",64,null,null,null,null,null,null,null,null,null,null,null,null,null,null,null,null,null,null,null,"EC155","SONDE CAPTEUR  PT1000 ",100008011,64,64]
[7619968,"STATION SOLAIRE STS 14-100 CME","ER669",6846,null,null,null,null,null,null,null,null,null,null,null,null,null,null,null,null,null,null,null,"ER669","STATION SOLAIRE STS 14-100 CME",7619968,6846,6846]
[7604939,"STATION TRANSFERT DMCDB ","ER468",1138,null,null,null,null,null,null,null,null,null,null,null,null,null,null,null,null,null,null,null,"ER468","STATION TRANSFERT DMCDB ",7604939,1138,1138]
[100004650,"REGULATION \"MCDB\" POUR CHARGE/DECHARGE BALLON ","EC162",296,null,null,null,null,null,null,null,null,null,null,null,null,null,null,null,null,null,null,null,"EC162","REGULATION \"MCDB\" POUR CHARGE/DECHARGE BALLON ",100004650,296,296]
[100017494,"COMPTEUR EAU FROIDE ACS 10m3/H","ER309",1076,null,null,null,null,null,null,null,null,null,null,null,null,null,null,null,null,null,null,null,"ER309","COMPTEUR EAU FROIDE ACS 10m3/H",100017494,1076,1076]
[100017497,"COMPT.FLU.CHAUD US ECHO 3.5M3/H ","ER312",595,null,null,null,null,null,null,null,null,null,null,null,null,null,null,null,null,null,null,null,"ER312","COMPT.FLU.CHAUD US ECHO 3.5M3/H ",100017497,595,595]
[100017498,"CENTRALE DE MESURE D'ENERGIE CME","ER313",1837,null,null,null,null,null,null,null,null,null,null,null,null,null,null,null,null,null,null,null,"ER313","CENTRALE DE MESURE D'ENERGIE CME",100017498,1837,1837]
[]
[7665934,"KIT PV-SYS 250 WC TM ","ER811",902,null,null,null,null,null,null,null,null,null,null,null,null,null,null,null,null,null,null,null,"ER811","KIT PV-SYS 250 WC TM ",7665934,902,902]
[]
[7665939,"KIT PV-SYS 500 WC AD ","ER816",1507,null,null,null,null,null,null,null,null,null,null,null,null,null,null,null,null,null,null,null,"ER816","KIT PV-SYS 500 WC AD ",7665939,1507,1507]
[7665942,"KIT PV-SYS 750 WC AD ","ER817",2378,null,null,null,null,null,null,null,null,null,null,null,null,null,null,null,null,null,null,null,"ER817","KIT PV-SYS 750 WC AD ",7665942,2378,2378]
["CHAMPS DE CAPTEURS PV AVEC MICRO-ONDULEUR (montage vertical en INTégration de toiture)",null,null,null,null,null,null,null,null,null,null,null,null,null,null,null,null,null,null,null,null,null,null,null,null,"CHAMPS DE CAPTEURS PV AVEC MICRO-ONDULEUR (montage vertical en INTégration de toiture)"]
["CHAMPS DE CAPTEURS PV AVEC MICRO-ONDULEUR (montage vertical sur bac ABS sur toit plat/TERrasse)",null,null,null,null,null,null,null,null,null,null,null,null,null,null,null,null,null,null,null,null,null,null,null,null,"CHAMPS DE CAPTEURS PV AVEC MICRO-ONDULEUR (montage vertical sur bac ABS sur toit plat/TERrasse)"]
[7665949,"KIT PV-SYS 500 WC T","ER824",1794,null,null,null,null,null,null,null,null,null,null,null,null,null,null,null,null,null,null,null,"ER824","KIT PV-SYS 500 WC T",7665949,1794,1794]
["MONTAGE CAPTEURS AU SOL",null,null,null,null,null,null,null,null,null,null,null,null,null,null,null,null,null,null,null,null,null,null,null,null,"MONTAGE CAPTEURS AU SOL"]
[7703232,"KIT PROFILES 2 CAPTEURS PV","ES23",127,null,null,null,null,null,null,null,null,null,null,null,null,null,null,null,null,null,null,null,"ES23","KIT PROFILES 2 CAPTEURS PV",7703232,127,127]
["ACCESSOIRES SOLAIRE PV",null,null,null,null,null,null,null,null,null,null,null,null,null,null,null,null,null,null,null,null,null,null,null,null,"ACCESSOIRES SOLAIRE PV"]
[7665950,"BOITIER AC POUR PV ","ER825",355,null,null,null,null,null,null,null,null,null,null,null,null,null,null,null,null,null,null,null,"ER825","BOITIER AC POUR PV ",7665950,355,355]
[7694123,"EXTENSION MARQUISE POUR UN CAPTEUR","ER986",633,null,null,null,null,null,null,null,null,null,null,null,null,null,null,null,null,null,null,null,"ER986","EXTENSION MARQUISE POUR UN CAPTEUR",7694123,633,633]
[]
[7715328,"KIT PV AUTO-CONSOMMATION 3","ES13",6457,null,null,null,null,null,null,null,null,null,null,null,null,null,null,null,null,null,null,null,"ES13","KIT PV AUTO-CONSOMMATION 3",7715328,6457,6457]
["OPTIONS INSTALLATION CHAMPS DE CAPTEURS ",null,null,null,null,null,null,null,null,null,null,null,null,null,null,null,null,null,null,null,null,null,null,null,null,"OPTIONS INSTALLATION CHAMPS DE CAPTEURS "]
[7731443,"CABLE 2M + CONN. ONDULEUR PV",null,30,null,null,null,null,null,null,null,null,null,null,null,null,null,null,null,null,null,null,null,null,"CABLE 2M + CONN. ONDULEUR PV",7731443,30,30]
[89807316,"6 FERRURES D'ANCRAGE INOX POUR MONTAGE SUR TUILES PLATES","EG316",152,null,null,null,null,null,null,null,null,null,null,null,null,null,null,null,null,null,null,null,"EG316","6 FERRURES D'ANCRAGE INOX POUR MONTAGE SUR TUILES PLATES",89807316,152,152]
[7654649,"KIT 4 CROCHETS ALU 1 CAPTEUR S/T","ES24",105,null,null,null,null,null,null,null,null,null,null,null,null,null,null,null,null,null,null,null,"ES24","KIT 4 CROCHETS ALU 1 CAPTEUR S/T",7654649,105,105]
[]
[7729087,"BALLON OCEB PV 200","ES75",1500,null,null,null,null,null,null,null,null,null,null,null,null,null,null,null,null,null,null,null,"ES75","BALLON OCEB PV 200",7729087,1500,1500]
[89788949,"TREPIED MV STAND./CEB (version murale)",null,51,null,null,null,null,null,null,null,null,null,null,null,null,null,null,null,null,null,null,null,null,"TREPIED MV STAND./CEB (version murale)",89788949,51,51]
[7695828,"Ch Murale Chantier CMX 1024 Condens-2","HG158",1917,null,null,null,null,null,null,null,null,null,null,null,null,null,null,null,null,null,null,null,"HG158","Ch Murale Chantier CMX 1024 Condens-2",7695828,1917,1917]
[7695830,"Ch Murale Chantier CMX 1030 Combi-Condens-2","HG160",2704,null,null,null,null,null,null,null,null,null,null,null,null,null,null,null,null,null,null,null,"HG160","Ch Murale Chantier CMX 1030 Combi-Condens-2",7695830,2704,2704]
["S101604","Dosseret CMX Chauffage seul ","HG113",270,null,null,null,null,null,null,null,null,null,null,null,null,null,null,null,null,null,null,null,"HG113","Dosseret CMX Chauffage seul ","S101604",270,270]
[100009336,"Kit de Remplacement","HG38",84,null,null,null,null,null,null,null,null,null,null,null,null,null,null,null,null,null,null,null,"HG38","Kit de Remplacement",100009336,84,84]
[100014110,"Kit de Remplacement","HG99",84,null,null,null,null,null,null,null,null,null,null,null,null,null,null,null,null,null,null,null,"HG99","Kit de Remplacement",100014110,84,84]
[100005628,"CADRE REHAUSSEUR","HG19",193,null,null,null,null,null,null,null,null,null,null,null,null,null,null,null,null,null,null,null,"HG19","CADRE REHAUSSEUR",100005628,193,193]
[]
[7631983,"GMR 1024 CONDENS VER-2",null,2495,null,null,null,null,null,null,null,null,null,null,null,null,null,null,null,null,null,null,null,null,"GMR 1024 CONDENS VER-2",7631983,2495,2495]
[7631987,"GMR 1030 COMBI CONDENS VER-2",null,3218,null,null,null,null,null,null,null,null,null,null,null,null,null,null,null,null,null,null,null,null,"GMR 1030 COMBI CONDENS VER-2",7631987,3218,3218]
[7631989,"GMR 1034 COMBI CONDENS VER-2",null,3382,null,null,null,null,null,null,null,null,null,null,null,null,null,null,null,null,null,null,null,null,"GMR 1034 COMBI CONDENS VER-2",7631989,3382,3382]
[7625490,"GMR 1034 COMBI CONDENS -2","HG135",3157,null,null,null,null,null,null,null,null,null,null,null,null,null,null,null,null,null,null,null,"HG135","GMR 1034 COMBI CONDENS -2",7625490,3157,3157]
[100002732,"TERMINAL VERTICAL PPS Ø 80/125 mm NOIR","DY843",167,null,null,null,null,null,null,null,null,null,null,null,null,null,null,null,null,null,null,null,"DY843","TERMINAL VERTICAL PPS Ø 80/125 mm NOIR",100002732,167,167]
[]
[7631990,"GMR 1024 CONDENS HOR BM 80-2",null,3383,null,null,null,null,null,null,null,null,null,null,null,null,null,null,null,null,null,null,null,null,"GMR 1024 CONDENS HOR BM 80-2",7631990,3383,3383]
[]
[100005562,"BALLON JUXTAPOSABLE  BMR 80  ROND","EE53",822,null,null,null,null,null,null,null,null,null,null,null,null,null,null,null,null,null,null,null,"EE53","BALLON JUXTAPOSABLE  BMR 80  ROND",100005562,822,822]
[100005661,"SONDE BALLON 5M LONG NTC 12K","AD226",51,null,null,null,null,null,null,null,null,null,null,null,null,null,null,null,null,null,null,null,"AD226","SONDE BALLON 5M LONG NTC 12K",100005661,51,51]
["S100465","ADAPTATEUR AIR/FUMEES Ø 80/125","HR38",58,null,null,null,null,null,null,null,null,null,null,null,null,null,null,null,null,null,null,null,"HR38","ADAPTATEUR AIR/FUMEES Ø 80/125","S100465",58,58]
[7631995,"GMR 1024 CS CONDENS VER-2",null,3553,null,null,null,null,null,null,null,null,null,null,null,null,null,null,null,null,null,null,null,null,"GMR 1024 CS CONDENS VER-2",7631995,3553,3553]
[7625453,"GMR 1024  CS CONDENS-2","HG150",3328,null,null,null,null,null,null,null,null,null,null,null,null,null,null,null,null,null,null,null,"HG150","GMR 1024  CS CONDENS-2",7625453,3328,3328]
["S100465","ADAPTATEUR AIR/FUMEES Ø 80/125","HR38",58,null,null,null,null,null,null,null,null,null,null,null,null,null,null,null,null,null,null,null,"HR38","ADAPTATEUR AIR/FUMEES Ø 80/125","S100465",58,58]
[100002732,"TERMINAL VERTICAL PPS Ø 80/125 mm NOIR","DY843",167,null,null,null,null,null,null,null,null,null,null,null,null,null,null,null,null,null,null,null,"DY843","TERMINAL VERTICAL PPS Ø 80/125 mm NOIR",100002732,167,167]
[100009391,"KIT  TUYAUX POUR CADRE REHAUSSEUR 16/18","HG43",103,null,null,null,null,null,null,null,null,null,null,null,null,null,null,null,null,null,null,null,"HG43","KIT  TUYAUX POUR CADRE REHAUSSEUR 16/18",100009391,103,103]
[100005825,"ADAPTATEUR BI-FLUX   2x80","DY868",69,null,null,null,null,null,null,null,null,null,null,null,null,null,null,null,null,null,null,null,"DY868","ADAPTATEUR BI-FLUX   2x80",100005825,69,69]
[7613605,"STATION DE NEUTRALISATION DN1","SA1",371,null,null,null,null,null,null,null,null,null,null,null,null,null,null,null,null,null,null,null,"SA1","STATION DE NEUTRALISATION DN1",7613605,371,371]
[100009335,"KIT  REMPLAC A VISSER GMR 1000 SAUNIER DUVAL","HG37",84,null,null,null,null,null,null,null,null,null,null,null,null,null,null,null,null,null,null,null,"HG37","KIT  REMPLAC A VISSER GMR 1000 SAUNIER DUVAL",100009335,84,84]
[100013114,"KIT  REMP. A VIS. SAUNIER DUV (avec rattrap sortie ventouse) ","HG97",84,null,null,null,null,null,null,null,null,null,null,null,null,null,null,null,null,null,null,null,"HG97","KIT  REMP. A VIS. SAUNIER DUV (avec rattrap sortie ventouse) ",100013114,84,84]
[100011888,"VENT. HORIZ. RECENTRE Ø 60/100 ","DY885",168,null,null,null,null,null,null,null,null,null,null,null,null,null,null,null,null,null,null,null,"DY885","VENT. HORIZ. RECENTRE Ø 60/100 ",100011888,168,168]
["REGULATIONS ",null,null,null,null,null,null,null,null,null,null,null,null,null,null,null,null,null,null,null,null,null,null,null,null,"REGULATIONS "]
[88017904,"THERMOSTAT AMBIANCE PROGRAMMABLE (FILAIRE)","AD191",176,null,null,null,null,null,null,null,null,null,null,null,null,null,null,null,null,null,null,null,"AD191","THERMOSTAT AMBIANCE PROGRAMMABLE (FILAIRE)",88017904,176,176]
[7609764,"THERMOSTAT D'AMBIANCE MODULANT RADIO RS200 -3R","AD305",365,null,null,null,null,null,null,null,null,null,null,null,null,null,null,null,null,null,null,null,"AD305","THERMOSTAT D'AMBIANCE MODULANT RADIO RS200 -3R",7609764,365,365]
["OPTIONS CHAUDIERES",null,null,null,null,null,null,null,null,null,null,null,null,null,null,null,null,null,null,null,null,null,null,null,null,"OPTIONS CHAUDIERES"]
[7613605,"STATION DE NEUTRALISATION DN1","SA1",371,null,null,null,null,null,null,null,null,null,null,null,null,null,null,null,null,null,null,null,"SA1","STATION DE NEUTRALISATION DN1",7613605,371,371]
[]
[117433,"CACHE TUYAUTERIE MCR BIC","HG76",76,null,null,null,null,null,null,null,null,null,null,null,null,null,null,null,null,null,null,null,"HG76","CACHE TUYAUTERIE MCR BIC",117433,76,76]
[100016485,"TERMINAL HORIZONTAL D60/100 L800 ","DY908",105,null,null,null,null,null,null,null,null,null,null,null,null,null,null,null,null,null,null,null,"DY908","TERMINAL HORIZONTAL D60/100 L800 ",100016485,105,105]
[84887746,"RALLONGE LG 250 mm ","DY746",38,null,null,null,null,null,null,null,null,null,null,null,null,null,null,null,null,null,null,null,"DY746","RALLONGE LG 250 mm ",84887746,38,38]
[84887652,"RALLONGE ALU Ø 60/100 L 500MM","DY652",45,null,null,null,null,null,null,null,null,null,null,null,null,null,null,null,null,null,null,null,"DY652","RALLONGE ALU Ø 60/100 L 500MM",84887652,45,45]
[84887656,"2 COUDES 45°  ALU Ø  60/100 ","DY656",89,null,null,null,null,null,null,null,null,null,null,null,null,null,null,null,null,null,null,null,"DY656","2 COUDES 45°  ALU Ø  60/100 ",84887656,89,89]
[100016488,"RACCORD 3CE (C42) D60/100 L250 ","DY911",108,null,null,null,null,null,null,null,null,null,null,null,null,null,null,null,null,null,null,null,"DY911","RACCORD 3CE (C42) D60/100 L250 ",100016488,108,108]
[null,"ALU/ALU Ø 80/125 mm",null,null,null,null,null,null,null,null,null,null,null,null,null,null,null,null,null,null,null,null,null,null,"ALU/ALU Ø 80/125 mm"]
[84837737,"RALLONGE LG 1000 mm ","CX66",80,null,null,null,null,null,null,null,null,null,null,null,null,null,null,null,null,null,null,null,"CX66","RALLONGE LG 1000 mm ",84837737,80,80]
[84837743,"COUDE 87'VENT.VERT80/125mm ","CX76",79,null,null,null,null,null,null,null,null,null,null,null,null,null,null,null,null,null,null,null,"CX76","COUDE 87'VENT.VERT80/125mm ",84837743,79,79]
[null,"PPS/ALU 60/100",null,null,null,null,null,null,null,null,null,null,null,null,null,null,null,null,null,null,null,null,null,null,"PPS/ALU 60/100"]
[100008296,"TERMINAL HORIZONTAL PPS  Ø 60/100 mm LG = 800 mm","DY871",125,null,null,null,null,null,null,null,null,null,null,null,null,null,null,null,null,null,null,null,"DY871","TERMINAL HORIZONTAL PPS  Ø 60/100 mm LG = 800 mm",100008296,125,125]
[84887682,"PPS-ALU RALLONGE CONCENTRIQUE ø 60/100 mm L=1000 mm","DY682",54,null,null,null,null,null,null,null,null,null,null,null,null,null,null,null,null,null,null,null,"DY682","PPS-ALU RALLONGE CONCENTRIQUE ø 60/100 mm L=1000 mm",84887682,54,54]
[84887685,"PPS-ALU COUDE CONCENTRIQUE MOULE à 45° ø 60/100 mm (2 PIECES)","DY685",85,null,null,null,null,null,null,null,null,null,null,null,null,null,null,null,null,null,null,null,"DY685","PPS-ALU COUDE CONCENTRIQUE MOULE à 45° ø 60/100 mm (2 PIECES)",84887685,85,85]
[84887737,"PPS-ALU  Té DE REVISION  Ø 60/100 mm","DY737",140,null,null,null,null,null,null,null,null,null,null,null,null,null,null,null,null,null,null,null,"DY737","PPS-ALU  Té DE REVISION  Ø 60/100 mm",84887737,140,140]
[null,"FLEXIBLE PPS Ø 80",null,null,null,null,null,null,null,null,null,null,null,null,null,null,null,null,null,null,null,null,null,null,"FLEXIBLE PPS Ø 80"]
[100015327,"TUBE FLEXIBLE LG=12,5M","DY897",381,null,null,null,null,null,null,null,null,null,null,null,null,null,null,null,null,null,null,null,"DY897","TUBE FLEXIBLE LG=12,5M",100015327,381,381]
[100015331,"OUTIL D'AIDE À L'INSERTION Ø 80 mm","DY901",190,null,null,null,null,null,null,null,null,null,null,null,null,null,null,null,null,null,null,null,"DY901","OUTIL D'AIDE À L'INSERTION Ø 80 mm",100015331,190,190]
[100015318,"ADAPTATEUR PPS D80M-110F","DY902",55,null,null,null,null,null,null,null,null,null,null,null,null,null,null,null,null,null,null,null,"DY902","ADAPTATEUR PPS D80M-110F",100015318,55,55]
[100015881,"ADAPTATEUR PPS FLEX Ø 110 MM","DY905",54,null,null,null,null,null,null,null,null,null,null,null,null,null,null,null,null,null,null,null,"DY905","ADAPTATEUR PPS FLEX Ø 110 MM",100015881,54,54]
[84887701,"KIT  RACCORDEMENT CHEMINEE PPS Ø 60/80 MM ","DY701",290,null,null,null,null,null,null,null,null,null,null,null,null,null,null,null,null,null,null,null,"DY701","KIT  RACCORDEMENT CHEMINEE PPS Ø 60/80 MM ",84887701,290,290]
[84887546,"PIÈCE DE VISITE Ø 80 mm droite","DY146",63,null,null,null,null,null,null,null,null,null,null,null,null,null,null,null,null,null,null,null,"DY146","PIÈCE DE VISITE Ø 80 mm droite",84887546,63,63]
[84887550,"RALLONGE PPS Ø 80 mm   L=  2000 mm  (2 PIECES)","DY150",82,null,null,null,null,null,null,null,null,null,null,null,null,null,null,null,null,null,null,null,"DY150","RALLONGE PPS Ø 80 mm   L=  2000 mm  (2 PIECES)",84887550,82,82]
[84887563,"T PPS  AVEC COUVERCLE D'INSPECTION","DY163",63,null,null,null,null,null,null,null,null,null,null,null,null,null,null,null,null,null,null,null,"DY163","T PPS  AVEC COUVERCLE D'INSPECTION",84887563,63,63]
[100002732,"TERMINAL VERTICAL PPS Ø 80/125 mm NOIR","DY843",167,null,null,null,null,null,null,null,null,null,null,null,null,null,null,null,null,null,null,null,"DY843","TERMINAL VERTICAL PPS Ø 80/125 mm NOIR",100002732,167,167]
[84887525,"T D'INSPECTION ALU/PPS Ø 80/125 mm","DY125",135,null,null,null,null,null,null,null,null,null,null,null,null,null,null,null,null,null,null,null,"DY125","T D'INSPECTION ALU/PPS Ø 80/125 mm",84887525,135,135]
[84887527,"RALLONGE CONCENTRIQUE ALU/PPS 80/125 L= 500mm","DY127",50,null,null,null,null,null,null,null,null,null,null,null,null,null,null,null,null,null,null,null,"DY127","RALLONGE CONCENTRIQUE ALU/PPS 80/125 L= 500mm",84887527,50,50]
[84887529,"RALLONGE CONCENTRIQUE ALU/PPS 80/125 L=1950 mm","DY129",129,null,null,null,null,null,null,null,null,null,null,null,null,null,null,null,null,null,null,null,"DY129","RALLONGE CONCENTRIQUE ALU/PPS 80/125 L=1950 mm",84887529,129,129]
[84887708,"ADAPTATEUR ALU Ø 60/100 MM SUR 80/125 MM","DY708",63,null,null,null,null,null,null,null,null,null,null,null,null,null,null,null,null,null,null,null,"DY708","ADAPTATEUR ALU Ø 60/100 MM SUR 80/125 MM",84887708,63,63]
[84887411,"SORTIE HORIZONTALE TOIT PENTE DE 30° A 45° ( uniquement pour tuiles mécaniques)","DY11",192,null,null,null,null,null,null,null,null,null,null,null,null,null,null,null,null,null,null,null,"DY11","SORTIE HORIZONTALE TOIT PENTE DE 30° A 45° ( uniquement pour tuiles mécaniques)",84887411,192,192]
[84837734,"TUILE A DOUILLE 35 A 55° NOIRE ","CX63",105,null,null,null,null,null,null,null,null,null,null,null,null,null,null,null,null,null,null,null,"CX63","TUILE A DOUILLE 35 A 55° NOIRE ",84837734,105,105]
[84837784,"TUILE A DOUILLE 25 A 55 ROUGE","CX84",105,null,null,null,null,null,null,null,null,null,null,null,null,null,null,null,null,null,null,null,"CX84","TUILE A DOUILLE 25 A 55 ROUGE",84837784,105,105]
[84887752,"PLAQUE DE FINITION CHEMINEE ","DY752",38,null,null,null,null,null,null,null,null,null,null,null,null,null,null,null,null,null,null,null,"DY752","PLAQUE DE FINITION CHEMINEE ",84887752,38,38]
[]
[7723804,"GMX-S 2024 COMBI CONDENS HOR",null,2559,null,null,null,null,null,null,null,null,null,null,null,null,null,null,null,null,null,null,null,null,"GMX-S 2024 COMBI CONDENS HOR",7723804,2559,2559]
[]
["COMPOSANTS",null,null,null,null,null,null,null,null,null,null,null,null,null,null,null,null,null,null,null,null,null,null,null,null,"COMPOSANTS"]
[7716385,"GMX-S 2030 COMBI CONDENS ","HP130",3107,null,null,null,null,null,null,null,null,null,null,null,null,null,null,null,null,null,null,null,"HP130","GMX-S 2030 COMBI CONDENS ",7716385,3107,3107]
[]
[7723811,"GMX-S 2024 Condens HOR OBUB 130",null,3539,null,null,null,null,null,null,null,null,null,null,null,null,null,null,null,null,null,null,null,null,"GMX-S 2024 Condens HOR OBUB 130",7723811,3539,3539]
["COMPOSANTS",null,null,null,null,null,null,null,null,null,null,null,null,null,null,null,null,null,null,null,null,null,null,null,null,"COMPOSANTS"]
[7601255,"KIT DE RACCORDEMENT POUR BMR 80","HR93",115,null,null,null,null,null,null,null,null,null,null,null,null,null,null,null,null,null,null,null,"HR93","KIT DE RACCORDEMENT POUR BMR 80",7601255,115,115]
[100005661,"SONDE BALLON 5M LONG NTC 12K","AD226",51,null,null,null,null,null,null,null,null,null,null,null,null,null,null,null,null,null,null,null,"AD226","SONDE BALLON 5M LONG NTC 12K",100005661,51,51]
[]
["OPTIONS CHAUDIERES",null,null,null,null,null,null,null,null,null,null,null,null,null,null,null,null,null,null,null,null,null,null,null,null,"OPTIONS CHAUDIERES"]
[7723463,"REMPLISSAGE AUTOMATIQUE EMC-S MI","HP138",169,null,null,null,null,null,null,null,null,null,null,null,null,null,null,null,null,null,null,null,"HP138","REMPLISSAGE AUTOMATIQUE EMC-S MI",7723463,169,169]
["S101711","ADAPTATEUR BI-FLUX   2x80","HR70",32,null,null,null,null,null,null,null,null,null,null,null,null,null,null,null,null,null,null,null,"HR70","ADAPTATEUR BI-FLUX   2x80","S101711",32,32]
[7600410,"KIT REMPLACEMENT  A VISSER - SD","HR91",80,null,null,null,null,null,null,null,null,null,null,null,null,null,null,null,null,null,null,null,"HR91","KIT REMPLACEMENT  A VISSER - SD",7600410,80,80]
[100016399,"KIT DE REMPLACEMENT FLEXIBLE PRINCIPAUX CONCURENTS","HX17",84,null,null,null,null,null,null,null,null,null,null,null,null,null,null,null,null,null,null,null,"HX17","KIT DE REMPLACEMENT FLEXIBLE PRINCIPAUX CONCURENTS",100016399,84,84]
[7613609,"STATION DE NEUTRALISATION DN2 ","SA3",648,null,null,null,null,null,null,null,null,null,null,null,null,null,null,null,null,null,null,null,"SA3","STATION DE NEUTRALISATION DN2 ",7613609,648,648]
["S101712","COUDE REDUIT POUR VENTOUSE HORIZONTALE","HR67",32,null,null,null,null,null,null,null,null,null,null,null,null,null,null,null,null,null,null,null,"HR67","COUDE REDUIT POUR VENTOUSE HORIZONTALE","S101712",32,32]
[85757741,"SONDE EXTERIEURE","FM46",43,null,null,null,null,null,null,null,null,null,null,null,null,null,null,null,null,null,null,null,"FM46","SONDE EXTERIEURE",85757741,43,43]
[7609764,"THERMOSTAT D'AMBIANCE MODULANT RADIO RS200 -3R","AD305",365,null,null,null,null,null,null,null,null,null,null,null,null,null,null,null,null,null,null,null,"AD305","THERMOSTAT D'AMBIANCE MODULANT RADIO RS200 -3R",7609764,365,365]
[100005661,"SONDE BALLON 5M LONG NTC 12K","AD226",51,null,null,null,null,null,null,null,null,null,null,null,null,null,null,null,null,null,null,null,"AD226","SONDE BALLON 5M LONG NTC 12K",100005661,51,51]
[null,"PPS/ALU 60/100",null,null,null,null,null,null,null,null,null,null,null,null,null,null,null,null,null,null,null,null,null,null,"PPS/ALU 60/100"]
[84887681,"PPS-ALU RALLONGE CONCENTRIQUE  ø 60/100 mm L=  500 mm","DY681",43,null,null,null,null,null,null,null,null,null,null,null,null,null,null,null,null,null,null,null,"DY681","PPS-ALU RALLONGE CONCENTRIQUE  ø 60/100 mm L=  500 mm",84887681,43,43]
[84887683,"PPS-ALU RALLONGE CONCENTRIQUE ø 60/100mm L=1950mm","DY683",112,null,null,null,null,null,null,null,null,null,null,null,null,null,null,null,null,null,null,null,"DY683","PPS-ALU RALLONGE CONCENTRIQUE ø 60/100mm L=1950mm",84887683,112,112]
[84887689,"PPS-ALU  PIECE DE REVISIONDROITE  Ø 60/100 mm","DY689",140,null,null,null,null,null,null,null,null,null,null,null,null,null,null,null,null,null,null,null,"DY689","PPS-ALU  PIECE DE REVISIONDROITE  Ø 60/100 mm",84887689,140,140]
[]
[null,"FLEXIBLE PPS Ø 80",null,null,null,null,null,null,null,null,null,null,null,null,null,null,null,null,null,null,null,null,null,null,"FLEXIBLE PPS Ø 80"]
[100015327,"TUBE FLEXIBLE LG=12,5M","DY897",381,null,null,null,null,null,null,null,null,null,null,null,null,null,null,null,null,null,null,null,"DY897","TUBE FLEXIBLE LG=12,5M",100015327,381,381]
[100015330,"PIÈCE D'INSPECTION POUR TUBE FLEXIBLE","DY900",136,null,null,null,null,null,null,null,null,null,null,null,null,null,null,null,null,null,null,null,"DY900","PIÈCE D'INSPECTION POUR TUBE FLEXIBLE",100015330,136,136]
[100015881,"ADAPTATEUR PPS  Ø 110","DY905",54,null,null,null,null,null,null,null,null,null,null,null,null,null,null,null,null,null,null,null,"DY905","ADAPTATEUR PPS  Ø 110",100015881,54,54]
[300007173,"GRILLE DE PROTECTION INOX D.120MM",null,"CPR",null,null,null,null,null,null,null,null,null,null,null,null,null,null,null,null,null,null,null,null,"GRILLE DE PROTECTION INOX D.120MM",300007173,"CPR","CPR"]
[null,"CONDUITS 80 PPS",null,null,null,null,null,null,null,null,null,null,null,null,null,null,null,null,null,null,null,null,null,null,"CONDUITS 80 PPS"]
[84887613,"RALLONGE PPS Ø 80 mm   L= 250 mm (2 PCS)","DY613",42,null,null,null,null,null,null,null,null,null,null,null,null,null,null,null,null,null,null,null,"DY613","RALLONGE PPS Ø 80 mm   L= 250 mm (2 PCS)",84887613,42,42]
[84887614,"RALLONGE PPS  Ø 80 mm   L=  500 mm (2 PCS)","DY614",40,null,null,null,null,null,null,null,null,null,null,null,null,null,null,null,null,null,null,null,"DY614","RALLONGE PPS  Ø 80 mm   L=  500 mm (2 PCS)",84887614,40,40]
[84887552,"COUDE PPS à 90°","DY152",16,null,null,null,null,null,null,null,null,null,null,null,null,null,null,null,null,null,null,null,"DY152","COUDE PPS à 90°",84887552,16,16]
[84887551,"COLLIER DE CENTRAGE Ø 80 mm (2 PIECES)","DY151",14,null,null,null,null,null,null,null,null,null,null,null,null,null,null,null,null,null,null,null,"DY151","COLLIER DE CENTRAGE Ø 80 mm (2 PIECES)",84887551,14,14]
[84887524,"PIECE D'INSPECTION DROITE ALU/PPS Ø 80/125 mm","DY124",118,null,null,null,null,null,null,null,null,null,null,null,null,null,null,null,null,null,null,null,"DY124","PIECE D'INSPECTION DROITE ALU/PPS Ø 80/125 mm",84887524,118,118]
[84887526,"RALLONGE CONCENTRIQUE ALU/PPS  80/125 L= 250 mm","DY126",43,null,null,null,null,null,null,null,null,null,null,null,null,null,null,null,null,null,null,null,"DY126","RALLONGE CONCENTRIQUE ALU/PPS  80/125 L= 250 mm",84887526,43,43]
[84887529,"RALLONGE CONCENTRIQUE ALU/PPS 80/125 L=1950 mm","DY129",129,null,null,null,null,null,null,null,null,null,null,null,null,null,null,null,null,null,null,null,"DY129","RALLONGE CONCENTRIQUE ALU/PPS 80/125 L=1950 mm",84887529,129,129]
[84887532,"COUDE CONCENTRIQUE 45° ALU/PPS Ø 80/125 mm (2 PCES)","DY132",82,null,null,null,null,null,null,null,null,null,null,null,null,null,null,null,null,null,null,null,"DY132","COUDE CONCENTRIQUE 45° ALU/PPS Ø 80/125 mm (2 PCES)",84887532,82,82]
[84837729,"SORTIE DE TOIT EN PENTE DE 40° A 60° ( uniquement pour tuiles mécaniques)","CX49",191,null,null,null,null,null,null,null,null,null,null,null,null,null,null,null,null,null,null,null,"CX49","SORTIE DE TOIT EN PENTE DE 40° A 60° ( uniquement pour tuiles mécaniques)",84837729,191,191]
[84837731,"EMBASE D'ETANCHE TOIT PLAT","CX51",45,null,null,null,null,null,null,null,null,null,null,null,null,null,null,null,null,null,null,null,"CX51","EMBASE D'ETANCHE TOIT PLAT",84837731,45,45]
[84837734,"TUILE A DOUILLE 35 A 55° NOIRE ","CX63",105,null,null,null,null,null,null,null,null,null,null,null,null,null,null,null,null,null,null,null,"CX63","TUILE A DOUILLE 35 A 55° NOIRE ",84837734,105,105]
[84837784,"TUILE A DOUILLE 25 A 55 ROUGE","CX84",105,null,null,null,null,null,null,null,null,null,null,null,null,null,null,null,null,null,null,null,"CX84","TUILE A DOUILLE 25 A 55 ROUGE",84837784,105,105]
[84887752,"PLAQUE DE FINITION CHEMINEE ","DY752",38,null,null,null,null,null,null,null,null,null,null,null,null,null,null,null,null,null,null,null,"DY752","PLAQUE DE FINITION CHEMINEE ",84887752,38,38]
[7700918,"GMC 3015 Condens HOR  ",null,3476,null,null,null,null,null,null,null,null,null,null,null,null,null,null,null,null,null,null,null,null,"GMC 3015 Condens HOR  ",7700918,3476,3476]
[7700922,"GMC 3025 Combi Condens HOR",null,3646,null,null,null,null,null,null,null,null,null,null,null,null,null,null,null,null,null,null,null,null,"GMC 3025 Combi Condens HOR",7700922,3646,3646]
[7700925,"GMC 3025 CS Condens VER",null,4898,null,null,null,null,null,null,null,null,null,null,null,null,null,null,null,null,null,null,null,null,"GMC 3025 CS Condens VER",7700925,4898,4898]
[7700927,"GMC 3025 CS PLUS VER",null,5090,null,null,null,null,null,null,null,null,null,null,null,null,null,null,null,null,null,null,null,null,"GMC 3025 CS PLUS VER",7700927,5090,5090]
[]
[7700933,"GMC 3015 Condens HOR OBUB 130",null,4710,null,null,null,null,null,null,null,null,null,null,null,null,null,null,null,null,null,null,null,null,"GMC 3015 Condens HOR OBUB 130",7700933,4710,4710]
[7700936,"GMC 3025 Condens VER BMC 60",null,4731,null,null,null,null,null,null,null,null,null,null,null,null,null,null,null,null,null,null,null,null,"GMC 3025 Condens VER BMC 60",7700936,4731,4731]
[7700940,"GMC 3035 Condens VER BMC 60",null,5078,null,null,null,null,null,null,null,null,null,null,null,null,null,null,null,null,null,null,null,null,"GMC 3035 Condens VER BMC 60",7700940,5078,5078]
["COMPOSANTS",null,null,null,null,null,null,null,null,null,null,null,null,null,null,null,null,null,null,null,null,null,null,null,null,"COMPOSANTS"]
[7670382,"GMC 3025 Combi Condens","HR143",3444,null,null,null,null,null,null,null,null,null,null,null,null,null,null,null,null,null,null,null,"HR143","GMC 3025 Combi Condens",7670382,3444,3444]
[7676238,"PREPARATEUR BMC 60","EE75",1006,null,null,null,null,null,null,null,null,null,null,null,null,null,null,null,null,null,null,null,"EE75","PREPARATEUR BMC 60",7676238,1006,1006]
[7680757,"PREPARATEUR OBUB 130 ","EE80",1051,null,null,null,null,null,null,null,null,null,null,null,null,null,null,null,null,null,null,null,"EE80","PREPARATEUR OBUB 130 ",7680757,1051,1051]
["S100465","ADAPTATEUR AIR/FUMEES Ø 80/125","HR38",58,null,null,null,null,null,null,null,null,null,null,null,null,null,null,null,null,null,null,null,"HR38","ADAPTATEUR AIR/FUMEES Ø 80/125","S100465",58,58]
[]
["S100465","ADAPTATEUR AIR/FUMEES Ø 80/125","HR38",58,null,null,null,null,null,null,null,null,null,null,null,null,null,null,null,null,null,null,null,"HR38","ADAPTATEUR AIR/FUMEES Ø 80/125","S100465",58,58]
["S100935","KIT TUBULURE POUR CADRE REHAUSSEUR FR","HR40",92,null,null,null,null,null,null,null,null,null,null,null,null,null,null,null,null,null,null,null,"HR40","KIT TUBULURE POUR CADRE REHAUSSEUR FR","S100935",92,92]
["S101232","THERMOSTAT FUMEE POUR GMR 3025 CS CONDENS","HR53",74,null,null,null,null,null,null,null,null,null,null,null,null,null,null,null,null,null,null,null,"HR53","THERMOSTAT FUMEE POUR GMR 3025 CS CONDENS","S101232",74,74]
[94225601,"RECHARGE DE GRANULATS DE NEUTRALISATION 10 KG**",null,66,null,null,null,null,null,null,null,null,null,null,null,null,null,null,null,null,null,null,null,null,"RECHARGE DE GRANULATS DE NEUTRALISATION 10 KG**",94225601,66,66]
[100020165,"CONSOLE MUR COLLECTEUR ","EA141",48,null,null,null,null,null,null,null,null,null,null,null,null,null,null,null,null,null,null,null,"EA141","CONSOLE MUR COLLECTEUR ",100020165,48,48]
[100020168,"CIRCUIT V3V P.ELEC","EA144",1023,null,null,null,null,null,null,null,null,null,null,null,null,null,null,null,null,null,null,null,"EA144","CIRCUIT V3V P.ELEC",100020168,1023,1023]
[89557009,"KIT DE TRANSFORMATION G/R 3/4 '' ET 1 ''","BH84",35,null,null,null,null,null,null,null,null,null,null,null,null,null,null,null,null,null,null,null,"BH84","KIT DE TRANSFORMATION G/R 3/4 '' ET 1 ''",89557009,35,35]
[]
[88017010,"THERMOSTAT D'AMBIANCE PROGRAMMABLE (SANS FILS)","AD192",308,null,null,null,null,null,null,null,null,null,null,null,null,null,null,null,null,null,null,null,"AD192","THERMOSTAT D'AMBIANCE PROGRAMMABLE (SANS FILS)",88017010,308,308]
[7609765,"THERMOSTAT D'AMBIANCE MODULANT FILAIRE RS200 -3","AD306",221,null,null,null,null,null,null,null,null,null,null,null,null,null,null,null,null,null,null,null,"AD306","THERMOSTAT D'AMBIANCE MODULANT FILAIRE RS200 -3",7609765,221,221]
[88017851,"CABLE DE LIAISON BUS LG 12 M","AD134",118,null,null,null,null,null,null,null,null,null,null,null,null,null,null,null,null,null,null,null,"AD134","CABLE DE LIAISON BUS LG 12 M",88017851,118,118]
[7663618,"CABLE S-BUS 1,5M AVEC BOUCHONS","AD308",35,null,null,null,null,null,null,null,null,null,null,null,null,null,null,null,null,null,null,null,"AD308","CABLE S-BUS 1,5M AVEC BOUCHONS",7663618,35,35]
[100000030,"COLIS OPTION SONDE ECS","AD212",53,null,null,null,null,null,null,null,null,null,null,null,null,null,null,null,null,null,null,null,"AD212","COLIS OPTION SONDE ECS",100000030,53,53]
[]
[7699456,"GMR 6065 OEtroCom-3",null,4506,null,null,null,null,null,null,null,null,null,null,null,null,null,null,null,null,null,null,null,null,"GMR 6065 OEtroCom-3",7699456,4506,4506]
[7699458,"GMR 6115 OEtroCom-3",null,7181,null,null,null,null,null,null,null,null,null,null,null,null,null,null,null,null,null,null,null,null,"GMR 6115 OEtroCom-3",7699458,7181,7181]
[100000030,"COLIS OPTION SONDE ECS","AD212",53,null,null,null,null,null,null,null,null,null,null,null,null,null,null,null,null,null,null,null,"AD212","COLIS OPTION SONDE ECS",100000030,53,53]
[100002310,"KIT DE RACCORDEMENT HYDRAULIQUE FRANCE GMR 5065 ET 5090 ","HC139",358,null,null,null,null,null,null,null,null,null,null,null,null,null,null,null,null,null,null,null,"HC139","KIT DE RACCORDEMENT HYDRAULIQUE FRANCE GMR 5065 ET 5090 ",100002310,358,358]
["S100762","ADAPTATEUR BIFLUX 2 X 80MM","DY906",69,null,null,null,null,null,null,null,null,null,null,null,null,null,null,null,null,null,null,null,"DY906","ADAPTATEUR BIFLUX 2 X 80MM","S100762",69,69]
["S101614","POMPE CHAUFFAGE EEI UPM2 25-70 130MM",null,326,null,null,null,null,null,null,null,null,null,null,null,null,null,null,null,null,null,null,null,null,"POMPE CHAUFFAGE EEI UPM2 25-70 130MM","S101614",326,326]
[7613606,"SUPPORT FIXATION MURAL","SA2",68,null,null,null,null,null,null,null,null,null,null,null,null,null,null,null,null,null,null,null,"SA2","SUPPORT FIXATION MURAL",7613606,68,68]
[7628752,"REGULATEUR DE PRESSION  GDJ 15 300MBAR  raccordt Ø 1/2'","SA11",155,null,null,null,null,null,null,null,null,null,null,null,null,null,null,null,null,null,null,null,"SA11","REGULATEUR DE PRESSION  GDJ 15 300MBAR  raccordt Ø 1/2'",7628752,155,155]
[83877011,"STATION NEUTRALISATION","DU15",1457,null,null,null,null,null,null,null,null,null,null,null,null,null,null,null,null,null,null,null,"DU15","STATION NEUTRALISATION",83877011,1457,1457]
["S58286","OUTIL DE NETTOYAGE POUR MCA 90 - 115 (L=460 MM)","HC247",94,null,null,null,null,null,null,null,null,null,null,null,null,null,null,null,null,null,null,null,"HC247","OUTIL DE NETTOYAGE POUR MCA 90 - 115 (L=460 MM)","S58286",94,94]
[100018985,"RECUPERATEUR DE CONDENSATS  Ø 80 mm PPs","DY919",36,null,null,null,null,null,null,null,null,null,null,null,null,null,null,null,null,null,null,null,"DY919","RECUPERATEUR DE CONDENSATS  Ø 80 mm PPs",100018985,36,36]
[100019348,"BOUTEILLE DE DECOUPLAGE  120/80-2''   ","GV47",658,null,null,null,null,null,null,null,null,null,null,null,null,null,null,null,null,null,null,null,"GV47","BOUTEILLE DE DECOUPLAGE  120/80-2''   ",100019348,658,658]
[]
[100013304,"COLIS OPTION V3V OE-TRONIC 4","AD249",170,null,null,null,null,null,null,null,null,null,null,null,null,null,null,null,null,null,null,null,"AD249","COLIS OPTION V3V OE-TRONIC 4",100013304,170,170]
[88017018,"THERMOSTAT D AMBIANCE PROGRAMMABLE SANS FILS","AD192",308,null,null,null,null,null,null,null,null,null,null,null,null,null,null,null,null,null,null,null,"AD192","THERMOSTAT D AMBIANCE PROGRAMMABLE SANS FILS",88017018,308,308]
[7691374,"THERMOSTAT AMBIANCE OETROSMART (R-BUS)","AD323",207,null,null,null,null,null,null,null,null,null,null,null,null,null,null,null,null,null,null,null,"AD323","THERMOSTAT AMBIANCE OETROSMART (R-BUS)",7691374,207,207]
[7663619,"CABLE S-BUS 20M AVEC BOUCHONS","AD310",140,null,null,null,null,null,null,null,null,null,null,null,null,null,null,null,null,null,null,null,"AD310","CABLE S-BUS 20M AVEC BOUCHONS",7663619,140,140]
[7750177,"SET WALL 4 BOILERS AMC  115",null,7458,null,null,null,null,null,null,null,null,null,null,null,null,null,null,null,null,null,null,null,null,"SET WALL 4 BOILERS AMC  115",7750177,7458,7458]
[7750179,"SET FLOOR 3BOI AMC45-65-90-115",null,6045,null,null,null,null,null,null,null,null,null,null,null,null,null,null,null,null,null,null,null,null,"SET FLOOR 3BOI AMC45-65-90-115",7750179,6045,6045]
[7750186,"SET WALL 2 BOILERS MCA 160",null,5568,null,null,null,null,null,null,null,null,null,null,null,null,null,null,null,null,null,null,null,null,"SET WALL 2 BOILERS MCA 160",7750186,5568,5568]
[7750189,"SET FLOOR 2 BOILERS MCA 160",null,6337,null,null,null,null,null,null,null,null,null,null,null,null,null,null,null,null,null,null,null,null,"SET FLOOR 2 BOILERS MCA 160",7750189,6337,6337]
[90777,"COLLECTEUR DN65 - 2 CHAUDIERES ","HC259",712,null,null,null,null,null,null,null,null,null,null,null,null,null,null,null,null,null,null,null,"HC259","COLLECTEUR DN65 - 2 CHAUDIERES ",90777,712,712]
[111688,"RAIL DE MONTAGE MURAL 2 CHAUDIÈRES ","HC192",45,null,null,null,null,null,null,null,null,null,null,null,null,null,null,null,null,null,null,null,"HC192","RAIL DE MONTAGE MURAL 2 CHAUDIÈRES ",111688,45,45]
[111689,"RAIL DE MONTAGE MURAL 3 CHAUDIÈRES ","HC193",54,null,null,null,null,null,null,null,null,null,null,null,null,null,null,null,null,null,null,null,"HC193","RAIL DE MONTAGE MURAL 3 CHAUDIÈRES ",111689,54,54]
[111703,"BRIDES PLEINES EAU DN100","HC199",203,null,null,null,null,null,null,null,null,null,null,null,null,null,null,null,null,null,null,null,"HC199","BRIDES PLEINES EAU DN100",111703,203,203]
[120900,"MONTANT-SUPPORT I GMR 5000","HC250",95,null,null,null,null,null,null,null,null,null,null,null,null,null,null,null,null,null,null,null,"HC250","MONTANT-SUPPORT I GMR 5000",120900,95,95]
[7608398,"POMPE CHAUFFAGE UPML 25-115 130 MM",null,421,null,null,null,null,null,null,null,null,null,null,null,null,null,null,null,null,null,null,null,null,"POMPE CHAUFFAGE UPML 25-115 130 MM",7608398,421,421]
[7622701,"RAC COLLEC L MCA 160 EH656","EH656",767,null,null,null,null,null,null,null,null,null,null,null,null,null,null,null,null,null,null,null,"EH656","RAC COLLEC L MCA 160 EH656",7622701,767,767]
[7637223,"POMPE UPM XL GRUNDFOS 25-105 H180","EH651",652,null,null,null,null,null,null,null,null,null,null,null,null,null,null,null,null,null,null,null,"EH651","POMPE UPM XL GRUNDFOS 25-105 H180",7637223,652,652]
[100008701,"SONDE DE DÉPART + DOIGT DE GANT","HC206",167,null,null,null,null,null,null,null,null,null,null,null,null,null,null,null,null,null,null,null,"HC206","SONDE DE DÉPART + DOIGT DE GANT",100008701,167,167]
["OPTIONS CASCADE",null,null,null,null,null,null,null,null,null,null,null,null,null,null,null,null,null,null,null,null,null,null,null,null,"OPTIONS CASCADE"]
["S101655","FILTRE GAZ DN50","HC255",558,null,null,null,null,null,null,null,null,null,null,null,null,null,null,null,null,null,null,null,"HC255","FILTRE GAZ DN50","S101655",558,558]
[122441,"ISOLATION ARRIERE KIT DE RACCORDEMENT HYDRAULIQUE","HC252",73,null,null,null,null,null,null,null,null,null,null,null,null,null,null,null,null,null,null,null,"HC252","ISOLATION ARRIERE KIT DE RACCORDEMENT HYDRAULIQUE",122441,73,73]
[111167,"ISOLATION COUDES 90°C","HC216",111,null,null,null,null,null,null,null,null,null,null,null,null,null,null,null,null,null,null,null,"HC216","ISOLATION COUDES 90°C",111167,111,111]
[112632,"JEU DE CONTRE-BRIDES À SOUDER DN65","HC217",165,null,null,null,null,null,null,null,null,null,null,null,null,null,null,null,null,null,null,null,"HC217","JEU DE CONTRE-BRIDES À SOUDER DN65",112632,165,165]
[100015325,"KIT N° 1 RACCORDEMENT CHEMINÉE FLEXIBLE PPS Ø 80 mm","DY895",253,null,null,null,null,null,null,null,null,null,null,null,null,null,null,null,null,null,null,null,"DY895","KIT N° 1 RACCORDEMENT CHEMINÉE FLEXIBLE PPS Ø 80 mm",100015325,253,253]
[100015328,"PIÈCE DE COUPLAGE FLEXIBLE Ø 80 mm","DY898",76,null,null,null,null,null,null,null,null,null,null,null,null,null,null,null,null,null,null,null,"DY898","PIÈCE DE COUPLAGE FLEXIBLE Ø 80 mm",100015328,76,76]
[100015329,"TERMINAL AVEC SOLIN FLEX. Ø 80 mm","DY899",190,null,null,null,null,null,null,null,null,null,null,null,null,null,null,null,null,null,null,null,"DY899","TERMINAL AVEC SOLIN FLEX. Ø 80 mm",100015329,190,190]
[100015880,"ADAPTATEUR PPS FLEX Ø 80 MM","DY904",44,null,null,null,null,null,null,null,null,null,null,null,null,null,null,null,null,null,null,null,"DY904","ADAPTATEUR PPS FLEX Ø 80 MM",100015880,44,44]
[7650964,"KIT TELESCO. PLAFOND C93 FLEX D80 ","DY927",226,null,null,null,null,null,null,null,null,null,null,null,null,null,null,null,null,null,null,null,"DY927","KIT TELESCO. PLAFOND C93 FLEX D80 ",7650964,226,226]
[100015325,"KIT N° 1 RACCORDEMENT CHEMINÉE FLEXIBLE PPS Ø 80 mm","DY895",253,null,null,null,null,null,null,null,null,null,null,null,null,null,null,null,null,null,null,null,"DY895","KIT N° 1 RACCORDEMENT CHEMINÉE FLEXIBLE PPS Ø 80 mm",100015325,253,253]
[84887701,"KIT  RACCORDEMENT CHEMINEE PPS Ø 60/80 MM ","DY701",290,null,null,null,null,null,null,null,null,null,null,null,null,null,null,null,null,null,null,null,"DY701","KIT  RACCORDEMENT CHEMINEE PPS Ø 60/80 MM ",84887701,290,290]
[84887613,"RALLONGE PPS Ø 80 mm   L= 250 mm (2 PCS)","DY613",42,null,null,null,null,null,null,null,null,null,null,null,null,null,null,null,null,null,null,null,"DY613","RALLONGE PPS Ø 80 mm   L= 250 mm (2 PCS)",84887613,42,42]
[84887554,"COUDE PPS a 45°  (2 PCS)","DY154",37,null,null,null,null,null,null,null,null,null,null,null,null,null,null,null,null,null,null,null,"DY154","COUDE PPS a 45°  (2 PCS)",84887554,37,37]
[100008301,"COUDE DE REVISION 87° PPS Ø80mm","DY877",43,null,null,null,null,null,null,null,null,null,null,null,null,null,null,null,null,null,null,null,"DY877","COUDE DE REVISION 87° PPS Ø80mm",100008301,43,43]
["S100762","ADAPTATEUR BIFLUX 2 X 80MM","DY906",69,null,null,null,null,null,null,null,null,null,null,null,null,null,null,null,null,null,null,null,"DY906","ADAPTATEUR BIFLUX 2 X 80MM","S100762",69,69]
[]
[100002733,"TERMINAL VERTICAL PPS Ø 80/125 mm ROUGE","DY844",166,null,null,null,null,null,null,null,null,null,null,null,null,null,null,null,null,null,null,null,"DY844","TERMINAL VERTICAL PPS Ø 80/125 mm ROUGE",100002733,166,166]
[100008311,"COUDE DE REVISION ALU/PPS Ø 80/125 mm","DY875",124,null,null,null,null,null,null,null,null,null,null,null,null,null,null,null,null,null,null,null,"DY875","COUDE DE REVISION ALU/PPS Ø 80/125 mm",100008311,124,124]
[84887526,"RALLONGE CONCENTRIQUE ALU/PPS  80/125 L= 250 mm","DY126",43,null,null,null,null,null,null,null,null,null,null,null,null,null,null,null,null,null,null,null,"DY126","RALLONGE CONCENTRIQUE ALU/PPS  80/125 L= 250 mm",84887526,43,43]
[84887528,"RALLONGECONCENTRIQUE ALU/PPS 80/125 L=1000 mm","DY128",74,null,null,null,null,null,null,null,null,null,null,null,null,null,null,null,null,null,null,null,"DY128","RALLONGECONCENTRIQUE ALU/PPS 80/125 L=1000 mm",84887528,74,74]
[]
[7715064,"RALLONGE CONC. D110 160 L1950  ","DY423",291,null,null,null,null,null,null,null,null,null,null,null,null,null,null,null,null,null,null,null,"DY423","RALLONGE CONC. D110 160 L1950  ",7715064,291,291]
[7715067,"TRAPPE DE VISITE 110 160 ","DY426",159,null,null,null,null,null,null,null,null,null,null,null,null,null,null,null,null,null,null,null,"DY426","TRAPPE DE VISITE 110 160 ",7715067,159,159]
[7715075,"ADAPTATEUR 110 160","DY434",144,null,null,null,null,null,null,null,null,null,null,null,null,null,null,null,null,null,null,null,"DY434","ADAPTATEUR 110 160",7715075,144,144]
[null,"DIVERS FUMISTERIE",null,null,null,null,null,null,null,null,null,null,null,null,null,null,null,null,null,null,null,null,null,null,"DIVERS FUMISTERIE"]
[84837731,"EMBASE D'ETANCHE TOIT PLAT","CX51",45,null,null,null,null,null,null,null,null,null,null,null,null,null,null,null,null,null,null,null,"CX51","EMBASE D'ETANCHE TOIT PLAT",84837731,45,45]
[84837120,"TUILE A DOUILLE 5 A 25° ROUGE","CX120",120,null,null,null,null,null,null,null,null,null,null,null,null,null,null,null,null,null,null,null,"CX120","TUILE A DOUILLE 5 A 25° ROUGE",84837120,120,120]
[84837741,"PLATINE DE FINITION INTER","CX72",16,null,null,null,null,null,null,null,null,null,null,null,null,null,null,null,null,null,null,null,"CX72","PLATINE DE FINITION INTER",84837741,16,16]
[84887436,"GRILLE D'AERATION INTERIEURE 175 CM²","DY36",27,null,null,null,null,null,null,null,null,null,null,null,null,null,null,null,null,null,null,null,"DY36","GRILLE D'AERATION INTERIEURE 175 CM²",84887436,27,27]
[null,"FLEXIBLE PPS Ø 110 MM",null,null,null,null,null,null,null,null,null,null,null,null,null,null,null,null,null,null,null,null,null,null,"FLEXIBLE PPS Ø 110 MM"]
[100002280,"ETOILES DE CENTRAGE  Ø 110 mm POUR FLEXIBLE (4 PIÈCES)","DY805",44,null,null,null,null,null,null,null,null,null,null,null,null,null,null,null,null,null,null,null,"DY805","ETOILES DE CENTRAGE  Ø 110 mm POUR FLEXIBLE (4 PIÈCES)",100002280,44,44]
[100015321,"PIÈCE DE COUPLAGE FLEXIBLE Ø 110 mm","DY891",177,null,null,null,null,null,null,null,null,null,null,null,null,null,null,null,null,null,null,null,"DY891","PIÈCE DE COUPLAGE FLEXIBLE Ø 110 mm",100015321,177,177]
[100015322,"TERMINAL AVEC SOLIN POUR FLEX Ø 110","DY892",281,null,null,null,null,null,null,null,null,null,null,null,null,null,null,null,null,null,null,null,"DY892","TERMINAL AVEC SOLIN POUR FLEX Ø 110",100015322,281,281]
[null,"PPS 110/150 MM",null,null,null,null,null,null,null,null,null,null,null,null,null,null,null,null,null,null,null,null,null,null,"PPS 110/150 MM"]
[100002351,"RALLONGE PPS-ALU  ø 110/150 mm L=  500 mm","DY811",74,null,null,null,null,null,null,null,null,null,null,null,null,null,null,null,null,null,null,null,"DY811","RALLONGE PPS-ALU  ø 110/150 mm L=  500 mm",100002351,74,74]
[100002354,"COUDE PPS-ALU  45° ø 110/150 mm (2 PIECES)","DY814",235,null,null,null,null,null,null,null,null,null,null,null,null,null,null,null,null,null,null,null,"DY814","COUDE PPS-ALU  45° ø 110/150 mm (2 PIECES)",100002354,235,235]
[84827104,"TUILE A DOUILLE NOIRE AVEC ROTULE PENTE DE 25 ° A 45 °","CX104",118,null,null,null,null,null,null,null,null,null,null,null,null,null,null,null,null,null,null,null,"CX104","TUILE A DOUILLE NOIRE AVEC ROTULE PENTE DE 25 ° A 45 °",84827104,118,118]
[84827103,"EMBASE D'ETANCHEITE POUR TOIT PLAT","CX103",63,null,null,null,null,null,null,null,null,null,null,null,null,null,null,null,null,null,null,null,"CX103","EMBASE D'ETANCHEITE POUR TOIT PLAT",84827103,63,63]
[100008312,"KIT DE RACCORDEMENT CHEMINEE ø 80 - 110 mm PPS","DY876",223,null,null,null,null,null,null,null,null,null,null,null,null,null,null,null,null,null,null,null,"DY876","KIT DE RACCORDEMENT CHEMINEE ø 80 - 110 mm PPS",100008312,223,223]
[100002357,"ADAPTATEUR PPS-ALU  100/150 - 110/150 mm","DY817",120,null,null,null,null,null,null,null,null,null,null,null,null,null,null,null,null,null,null,null,"DY817","ADAPTATEUR PPS-ALU  100/150 - 110/150 mm",100002357,120,120]
[84887578,"TUYAU PPS Ø 110 MM LG = 1950 MM (GRIS)","DY178",77,null,null,null,null,null,null,null,null,null,null,null,null,null,null,null,null,null,null,null,"DY178","TUYAU PPS Ø 110 MM LG = 1950 MM (GRIS)",84887578,77,77]
[84887581,"COUDE PPS 87° Ø 110 MM (GRIS)","DY181",38,null,null,null,null,null,null,null,null,null,null,null,null,null,null,null,null,null,null,null,"DY181","COUDE PPS 87° Ø 110 MM (GRIS)",84887581,38,38]
[100010270,"PLAQUE DE FINITION CHEMINEE Ø 110 MM","DY879",46,null,null,null,null,null,null,null,null,null,null,null,null,null,null,null,null,null,null,null,"DY879","PLAQUE DE FINITION CHEMINEE Ø 110 MM",100010270,46,46]
[]
[]
[]
[7637223,"POMPE UPM XL GRUNDFOS 25-105 H180","EH651",652,null,null,null,null,null,null,null,null,null,null,null,null,null,null,null,null,null,null,null,"EH651","POMPE UPM XL GRUNDFOS 25-105 H180",7637223,652,652]
[100019348,"BOUTEILLE DE DECOUPLAGE  120/80-2''   ","GV47",658,null,null,null,null,null,null,null,null,null,null,null,null,null,null,null,null,null,null,null,"GV47","BOUTEILLE DE DECOUPLAGE  120/80-2''   ",100019348,658,658]
[7613613,"GRANULATS DE NEUTRALISATION (SAC DE 25 KG)","SA7",89,null,null,null,null,null,null,null,null,null,null,null,null,null,null,null,null,null,null,null,"SA7","GRANULATS DE NEUTRALISATION (SAC DE 25 KG)",7613613,89,89]
[100011223,"REGULATEUR PRESSION 300 mbar GDJ25 RACCORDT. Ø 1''","AD245 ",205,null,null,null,null,null,null,null,null,null,null,null,null,null,null,null,null,null,null,null,"AD245 ","REGULATEUR PRESSION 300 mbar GDJ25 RACCORDT. Ø 1''",100011223,205,205]
["OPTIONS REGULATION",null,null,null,null,null,null,null,null,null,null,null,null,null,null,null,null,null,null,null,null,null,null,null,null,"OPTIONS REGULATION"]
[100013305,"SONDE SYSTÈME ECS","AD250",49,null,null,null,null,null,null,null,null,null,null,null,null,null,null,null,null,null,null,null,"AD250","SONDE SYSTÈME ECS",100013305,49,49]
[88017010,"THERMOSTAT D'AMBIANCE PROGRAMMABLE (SANS FILS)","AD192",308,null,null,null,null,null,null,null,null,null,null,null,null,null,null,null,null,null,null,null,"AD192","THERMOSTAT D'AMBIANCE PROGRAMMABLE (SANS FILS)",88017010,308,308]
[7663561,"CABLE S-BUS 12M AVEC BOUCHONS","AD309",106,null,null,null,null,null,null,null,null,null,null,null,null,null,null,null,null,null,null,null,"AD309","CABLE S-BUS 12M AVEC BOUCHONS",7663561,106,106]
[]
[]
[7612942,"MONTANT-SUPPORT L MCA 160","EH662",170,null,null,null,null,null,null,null,null,null,null,null,null,null,null,null,null,null,null,null,"EH662","MONTANT-SUPPORT L MCA 160",7612942,170,170]
[7665728,"COLLECTEUR DN100-3 CHAUDIERES  MCA 160  FR","EH653",1551,null,null,null,null,null,null,null,null,null,null,null,null,null,null,null,null,null,null,null,"EH653","COLLECTEUR DN100-3 CHAUDIERES  MCA 160  FR",7665728,1551,1551]
[111703,"BRIDES PLEINES EAU DN100","HC199",203,null,null,null,null,null,null,null,null,null,null,null,null,null,null,null,null,null,null,null,"HC199","BRIDES PLEINES EAU DN100",111703,203,203]
[7633244,"ADAPTATEUR DN100/DN65","EH654",328,null,null,null,null,null,null,null,null,null,null,null,null,null,null,null,null,null,null,null,"EH654","ADAPTATEUR DN100/DN65",7633244,328,328]
[100013027,"SONDE DE DÉPART + DOIGT DE GANT-BOUTEILLE < 350 kW","HC223",141,null,null,null,null,null,null,null,null,null,null,null,null,null,null,null,null,null,null,null,"HC223","SONDE DE DÉPART + DOIGT DE GANT-BOUTEILLE < 350 kW",100013027,141,141]
[]
[111788,"COUDES DN65","HC209",714,null,null,null,null,null,null,null,null,null,null,null,null,null,null,null,null,null,null,null,"HC209","COUDES DN65",111788,714,714]
[111790,"COUDES DN100","HC210",959,null,null,null,null,null,null,null,null,null,null,null,null,null,null,null,null,null,null,null,"HC210","COUDES DN100",111790,959,959]
[7631858,"PLAQ ISOLATION AR","EH649",85,null,null,null,null,null,null,null,null,null,null,null,null,null,null,null,null,null,null,null,"EH649","PLAQ ISOLATION AR",7631858,85,85]
[111067,"ISOLATION BOUTEILLE DE DÉCOUPLAGE","HC215",260,null,null,null,null,null,null,null,null,null,null,null,null,null,null,null,null,null,null,null,"HC215","ISOLATION BOUTEILLE DE DÉCOUPLAGE",111067,260,260]
["OPTIONS FUMISTERIE GMR 6160",null,null,null,null,null,null,null,null,null,null,null,null,null,null,null,null,null,null,null,null,null,null,null,null,"OPTIONS FUMISTERIE GMR 6160"]
[7619539,"KIT RAC CHAUD  100/150 EH692","EH692",117,null,null,null,null,null,null,null,null,null,null,null,null,null,null,null,null,null,null,null,"EH692","KIT RAC CHAUD  100/150 EH692",7619539,117,117]
[100011364,"PPS/ALU KIT VENTOUSE HORIZONTALE Ø 110/150MM","DY881",490,null,null,null,null,null,null,null,null,null,null,null,null,null,null,null,null,null,null,null,"DY881","PPS/ALU KIT VENTOUSE HORIZONTALE Ø 110/150MM",100011364,490,490]
[100002351,"RALLONGE PPS-ALU  ø 110/150 mm L=  500 mm","DY811",74,null,null,null,null,null,null,null,null,null,null,null,null,null,null,null,null,null,null,null,"DY811","RALLONGE PPS-ALU  ø 110/150 mm L=  500 mm",100002351,74,74]
[100002355,"PIECE DE REVISION DROITE PPS-ALU  ø 110/150 mm","DY815",141,null,null,null,null,null,null,null,null,null,null,null,null,null,null,null,null,null,null,null,"DY815","PIECE DE REVISION DROITE PPS-ALU  ø 110/150 mm",100002355,141,141]
[100002356,"TÉ DE RÉVISION PPS-ALU  Ø 110/150 MM","DY816",203,null,null,null,null,null,null,null,null,null,null,null,null,null,null,null,null,null,null,null,"DY816","TÉ DE RÉVISION PPS-ALU  Ø 110/150 MM",100002356,203,203]
[84827106,"TUILE A DOUILLE NOIRE AVEC ROTULE ROUGE POUR PENTE DE 25 ° A 45 °","CX106",118,null,null,null,null,null,null,null,null,null,null,null,null,null,null,null,null,null,null,null,"CX106","TUILE A DOUILLE NOIRE AVEC ROTULE ROUGE POUR PENTE DE 25 ° A 45 °",84827106,118,118]
[84827103,"EMBASE D'ETANCHEITE POUR TOIT PLAT","CX103",63,null,null,null,null,null,null,null,null,null,null,null,null,null,null,null,null,null,null,null,"CX103","EMBASE D'ETANCHEITE POUR TOIT PLAT",84827103,63,63]
[100017529,"KIT DE BASE PPS/ALU Ø 110/150","DY914",304,null,null,null,null,null,null,null,null,null,null,null,null,null,null,null,null,null,null,null,"DY914","KIT DE BASE PPS/ALU Ø 110/150",100017529,304,304]
[84887589,"TERMINAL AVEC SOLIN DIAMÉTRE 100/110","DY189",247,null,null,null,null,null,null,null,null,null,null,null,null,null,null,null,null,null,null,null,"DY189","TERMINAL AVEC SOLIN DIAMÉTRE 100/110",84887589,247,247]
[84887581,"COUDE PPS 87° Ø 110 MM (GRIS)","DY181",38,null,null,null,null,null,null,null,null,null,null,null,null,null,null,null,null,null,null,null,"DY181","COUDE PPS 87° Ø 110 MM (GRIS)",84887581,38,38]
[84887587,"ETOILE DE CENTRAGE PPS  Ø 110 MM (2 PIÈCES)","DY187",15,null,null,null,null,null,null,null,null,null,null,null,null,null,null,null,null,null,null,null,"DY187","ETOILE DE CENTRAGE PPS  Ø 110 MM (2 PIÈCES)",84887587,15,15]
[null," ALU Ø 150 MM",null,null,null,null,null,null,null,null,null,null,null,null,null,null,null,null,null,null,null,null,null,null," ALU Ø 150 MM"]
[100002473,"VENTOUSE VERTICALE ALU / GALVA Ø 150/220 MM","DY835",902,null,null,null,null,null,null,null,null,null,null,null,null,null,null,null,null,null,null,null,"DY835","VENTOUSE VERTICALE ALU / GALVA Ø 150/220 MM",100002473,902,902]
[84887645,"RALLONGE  Ø 150 MM   LG = 500 MM","DY645",47,null,null,null,null,null,null,null,null,null,null,null,null,null,null,null,null,null,null,null,"DY645","RALLONGE  Ø 150 MM   LG = 500 MM",84887645,47,47]
[84887436,"GRILLE D'AERATION INTERIEURE 175 CM²","DY36",27,null,null,null,null,null,null,null,null,null,null,null,null,null,null,null,null,null,null,null,"DY36","GRILLE D'AERATION INTERIEURE 175 CM²",84887436,27,27]
[100002403,"SOLIN POUR TOIT INCLINÉ Ø 160/220 MM","DY829",171,null,null,null,null,null,null,null,null,null,null,null,null,null,null,null,null,null,null,null,"DY829","SOLIN POUR TOIT INCLINÉ Ø 160/220 MM",100002403,171,171]
[100002700,"PLATINES DE FINITION INTERIEURES Ø 220 MM","DY840",40,null,null,null,null,null,null,null,null,null,null,null,null,null,null,null,null,null,null,null,"DY840","PLATINES DE FINITION INTERIEURES Ø 220 MM",100002700,40,40]
[100002404,"PIÈCE DE RACCORDEMENT AIR POUR VENTOUSE Ø 150 MM","DY830",113,null,null,null,null,null,null,null,null,null,null,null,null,null,null,null,null,null,null,null,"DY830","PIÈCE DE RACCORDEMENT AIR POUR VENTOUSE Ø 150 MM",100002404,113,113]
[100002396,"RALLONGE PPS  Ø 160 MM LG =  500 MM","DY822",90,null,null,null,null,null,null,null,null,null,null,null,null,null,null,null,null,null,null,null,"DY822","RALLONGE PPS  Ø 160 MM LG =  500 MM",100002396,90,90]
[100002397,"COUDE PPS  87° Ø 160 MM","DY823",107,null,null,null,null,null,null,null,null,null,null,null,null,null,null,null,null,null,null,null,"DY823","COUDE PPS  87° Ø 160 MM",100002397,107,107]
[100002472,"COUDE  DE RÉVISION Ø 160 MM","DY834",200,null,null,null,null,null,null,null,null,null,null,null,null,null,null,null,null,null,null,null,"DY834","COUDE  DE RÉVISION Ø 160 MM",100002472,200,200]
[100002700,"PLATINES DE FINITION INTERIEURES Ø 220 MM","DY840",40,null,null,null,null,null,null,null,null,null,null,null,null,null,null,null,null,null,null,null,"DY840","PLATINES DE FINITION INTERIEURES Ø 220 MM",100002700,40,40]
[100004040,"RALLONGE VENTOUSE PPS HORIZONTALE Ø160/200 L.1M ","DY857",278,null,null,null,null,null,null,null,null,null,null,null,null,null,null,null,null,null,null,null,"DY857","RALLONGE VENTOUSE PPS HORIZONTALE Ø160/200 L.1M ",100004040,278,278]
[100002395," RALLONGE PPS  Ø 160 MM LG = 1000 MM","DY821",129,null,null,null,null,null,null,null,null,null,null,null,null,null,null,null,null,null,null,null,"DY821"," RALLONGE PPS  Ø 160 MM LG = 1000 MM",100002395,129,129]
[100002397," COUDE PPS  87° Ø 160 MM","DY823",107,null,null,null,null,null,null,null,null,null,null,null,null,null,null,null,null,null,null,null,"DY823"," COUDE PPS  87° Ø 160 MM",100002397,107,107]
[]
[]
[7723000,"GSC 150-45  OEtroCom-3",null,5594,null,null,null,null,null,null,null,null,null,null,null,null,null,null,null,null,null,null,null,null,"GSC 150-45  OEtroCom-3",7723000,5594,5594]
[7723007,"GSC 150-115  OEtroCom-3",null,9834,null,null,null,null,null,null,null,null,null,null,null,null,null,null,null,null,null,null,null,null,"GSC 150-115  OEtroCom-3",7723007,9834,9834]
[7723034,"GSC 150-45  OEtroCom-3 SH",null,7172,null,null,null,null,null,null,null,null,null,null,null,null,null,null,null,null,null,null,null,null,"GSC 150-45  OEtroCom-3 SH",7723034,7172,7172]
[]
[7723061,"GSC 150-65  OEtroCom-3 EP",null,8566,null,null,null,null,null,null,null,null,null,null,null,null,null,null,null,null,null,null,null,null,"GSC 150-65  OEtroCom-3 EP",7723061,8566,8566]
[7723064,"GSC 150-115  OEtroCom-3 EP",null,12146,null,null,null,null,null,null,null,null,null,null,null,null,null,null,null,null,null,null,null,null,"GSC 150-115  OEtroCom-3 EP",7723064,12146,12146]
[7703060,"GSC 150-115","JJ203",9028,null,null,null,null,null,null,null,null,null,null,null,null,null,null,null,null,null,null,null,"JJ203","GSC 150-115",7703060,9028,9028]
[7720939,"KIT ECHANGEUR 90-115","JJ408",2312,null,null,null,null,null,null,null,null,null,null,null,null,null,null,null,null,null,null,null,"JJ408","KIT ECHANGEUR 90-115",7720939,2312,2312]
[7709269,"KIT SEPARATEUR 45-65","JJ409",1577,null,null,null,null,null,null,null,null,null,null,null,null,null,null,null,null,null,null,null,"JJ409","KIT SEPARATEUR 45-65",7709269,1577,1577]
["OPTIONS ECS",null,null,null,null,null,null,null,null,null,null,null,null,null,null,null,null,null,null,null,null,null,null,null,null,"OPTIONS ECS"]
[89557009,"KIT DE TRANSFORMATION G/R 3/4 '' ET 1 ''","BH84",35,null,null,null,null,null,null,null,null,null,null,null,null,null,null,null,null,null,null,null,"BH84","KIT DE TRANSFORMATION G/R 3/4 '' ET 1 ''",89557009,35,35]
[100019197,"PREPARATEUR VERTICAL OBPB 200","EC625",1707,null,null,null,null,null,null,null,null,null,null,null,null,null,null,null,null,null,null,null,"EC625","PREPARATEUR VERTICAL OBPB 200",100019197,1707,1707]
[7683324,"OBPB 501","EC796",3629,null,null,null,null,null,null,null,null,null,null,null,null,null,null,null,null,null,null,null,"EC796","OBPB 501",7683324,3629,3629]
[100018188,"PREPARATEUR VERTICAL OBLC 200","EC615",1437,null,null,null,null,null,null,null,null,null,null,null,null,null,null,null,null,null,null,null,"EC615","PREPARATEUR VERTICAL OBLC 200",100018188,1437,1437]
[]
[100013304,"COLIS OPTION V3V OE-TRONIC 4","AD249",170,null,null,null,null,null,null,null,null,null,null,null,null,null,null,null,null,null,null,null,"AD249","COLIS OPTION V3V OE-TRONIC 4",100013304,170,170]
[88017904,"THERMOSTAT AMBIANCE PROGRAMMABLE (FILAIRE)","AD191",176,null,null,null,null,null,null,null,null,null,null,null,null,null,null,null,null,null,null,null,"AD191","THERMOSTAT AMBIANCE PROGRAMMABLE (FILAIRE)",88017904,176,176]
[7663618,"CABLE S-BUS 1,5M AVEC BOUCHONS","AD308",35,null,null,null,null,null,null,null,null,null,null,null,null,null,null,null,null,null,null,null,"AD308","CABLE S-BUS 1,5M AVEC BOUCHONS",7663618,35,35]
[7721982,"GTW 08 INTERFACE MODBUS","AD332",176,null,null,null,null,null,null,null,null,null,null,null,null,null,null,null,null,null,null,null,"AD332","GTW 08 INTERFACE MODBUS",7721982,176,176]
[7715445,"COUDE 87 AVEC TRAPPE DE VISITE","DY931",219,null,null,null,null,null,null,null,null,null,null,null,null,null,null,null,null,null,null,null,"DY931","COUDE 87 AVEC TRAPPE DE VISITE",7715445,219,219]
[100002313,"POMPE CHAUFFAGE ELECTRONIQUE HEE POUR MCA 45/DTG 45","HC142",351,null,null,null,null,null,null,null,null,null,null,null,null,null,null,null,null,null,null,null,"HC142","POMPE CHAUFFAGE ELECTRONIQUE HEE POUR MCA 45/DTG 45",100002313,351,351]
[100002685,"CLAPET OBTURATEUR FUMEES  Ø 100 mm","HC154",526,null,null,null,null,null,null,null,null,null,null,null,null,null,null,null,null,null,null,null,"HC154","CLAPET OBTURATEUR FUMEES  Ø 100 mm",100002685,526,526]
[7613606,"SUPPORT FIXATION MURAL","SA2",68,null,null,null,null,null,null,null,null,null,null,null,null,null,null,null,null,null,null,null,"SA2","SUPPORT FIXATION MURAL",7613606,68,68]
[7613613,"GRANULATS DE NEUTRALISATION (SAC DE 25 KG)","SA7",89,null,null,null,null,null,null,null,null,null,null,null,null,null,null,null,null,null,null,null,"SA7","GRANULATS DE NEUTRALISATION (SAC DE 25 KG)",7613613,89,89]
[83877011,"STATION NEUTRALISATION","DU15",1457,null,null,null,null,null,null,null,null,null,null,null,null,null,null,null,null,null,null,null,"DU15","STATION NEUTRALISATION",83877011,1457,1457]
[100018983,"RECUPERATEUR DE CONDENSATS  Ø 110 mm PPs","DY917",69,null,null,null,null,null,null,null,null,null,null,null,null,null,null,null,null,null,null,null,"DY917","RECUPERATEUR DE CONDENSATS  Ø 110 mm PPs",100018983,69,69]
[100019347,"BOUTEILLE DE DECOUPLAGE  80/60-1'' 1/4 ","GV46",489,null,null,null,null,null,null,null,null,null,null,null,null,null,null,null,null,null,null,null,"GV46","BOUTEILLE DE DECOUPLAGE  80/60-1'' 1/4 ",100019347,489,489]
[]
[null,"REFERENCES DES COMPOSANTS DE BASE DE LA CASCADE :",null,null,null,null,null,null,null,null,null,null,null,null,null,null,null,null,null,null,null,null,null,null,"REFERENCES DES COMPOSANTS DE BASE DE LA CASCADE :"]
[114311,"BOUTEILLE DE DÉCOUPLAGE DN65 < 350 kW","HC222",664,null,null,null,null,null,null,null,null,null,null,null,null,null,null,null,null,null,null,null,"HC222","BOUTEILLE DE DÉCOUPLAGE DN65 < 350 kW",114311,664,664]
[111714,"BOUTEILLE DE DÉCOUPLAGE DN100 > 460 kW","HC201",1334,null,null,null,null,null,null,null,null,null,null,null,null,null,null,null,null,null,null,null,"HC201","BOUTEILLE DE DÉCOUPLAGE DN100 > 460 kW",111714,1334,1334]
[100013027,"SONDE DE DÉPART + DOIGT DE GANT-BOUTEILLE < 350 kW","HC223",141,null,null,null,null,null,null,null,null,null,null,null,null,null,null,null,null,null,null,null,"HC223","SONDE DE DÉPART + DOIGT DE GANT-BOUTEILLE < 350 kW",100013027,141,141]
[100008701,"SONDE DE DÉPART + DOIGT DE GANT","HC206",167,null,null,null,null,null,null,null,null,null,null,null,null,null,null,null,null,null,null,null,"HC206","SONDE DE DÉPART + DOIGT DE GANT",100008701,167,167]
["OPTIONS CASCADE",null,null,null,null,null,null,null,null,null,null,null,null,null,null,null,null,null,null,null,null,null,null,null,null,"OPTIONS CASCADE"]
[111807,"PIED RÉGLABLE","HC219",4,null,null,null,null,null,null,null,null,null,null,null,null,null,null,null,null,null,null,null,"HC219","PIED RÉGLABLE",111807,4,4]
["S103345","JEUX DE BRIDES À SOUDER DN50 POUR FILTRE A GAZ","HC261",90,null,null,null,null,null,null,null,null,null,null,null,null,null,null,null,null,null,null,null,"HC261","JEUX DE BRIDES À SOUDER DN50 POUR FILTRE A GAZ","S103345",90,90]
[]
[100015327,"TUBE FLEXIBLE LG=12,5M","DY897",381,null,null,null,null,null,null,null,null,null,null,null,null,null,null,null,null,null,null,null,"DY897","TUBE FLEXIBLE LG=12,5M",100015327,381,381]
[100015328,"PIÈCE DE COUPLAGE FLEXIBLE Ø 80 mm","DY898",76,null,null,null,null,null,null,null,null,null,null,null,null,null,null,null,null,null,null,null,"DY898","PIÈCE DE COUPLAGE FLEXIBLE Ø 80 mm",100015328,76,76]
[100015329,"TERMINAL AVEC SOLIN FLEX. Ø 80 mm","DY899",190,null,null,null,null,null,null,null,null,null,null,null,null,null,null,null,null,null,null,null,"DY899","TERMINAL AVEC SOLIN FLEX. Ø 80 mm",100015329,190,190]
[7650956,"KIT CHEMINEE B33 FLEX PPS D80","DY924",434,null,null,null,null,null,null,null,null,null,null,null,null,null,null,null,null,null,null,null,"DY924","KIT CHEMINEE B33 FLEX PPS D80",7650956,434,434]
[7650964,"KIT TELESCO. PLAFOND C93 FLEX D80 ","DY927",226,null,null,null,null,null,null,null,null,null,null,null,null,null,null,null,null,null,null,null,"DY927","KIT TELESCO. PLAFOND C93 FLEX D80 ",7650964,226,226]
[100017527,"KIT DE BASE PPS/ALU Ø 80/125 ","DY913",178,null,null,null,null,null,null,null,null,null,null,null,null,null,null,null,null,null,null,null,"DY913","KIT DE BASE PPS/ALU Ø 80/125 ",100017527,178,178]
[84887546,"PIÈCE DE VISITE Ø 80 mm droite","DY146",63,null,null,null,null,null,null,null,null,null,null,null,null,null,null,null,null,null,null,null,"DY146","PIÈCE DE VISITE Ø 80 mm droite",84887546,63,63]
[84887615,"RALLONGE PPS  Ø 80 mm   L=  1000 mm (2 PCS)","DY615",54,null,null,null,null,null,null,null,null,null,null,null,null,null,null,null,null,null,null,null,"DY615","RALLONGE PPS  Ø 80 mm   L=  1000 mm (2 PCS)",84887615,54,54]
[84887563,"T PPS  AVEC COUVERCLE  D'INSPECTION","DY163",63,null,null,null,null,null,null,null,null,null,null,null,null,null,null,null,null,null,null,null,"DY163","T PPS  AVEC COUVERCLE  D'INSPECTION",84887563,63,63]
[100008301,"COUDE DE REVISION 87° PPS Ø80mm","DY877",43,null,null,null,null,null,null,null,null,null,null,null,null,null,null,null,null,null,null,null,"DY877","COUDE DE REVISION 87° PPS Ø80mm",100008301,43,43]
[]
[100011365,"KIT VENTOUSE HOR PPS/ALU Ø 80/125mm","DY882",223,null,null,null,null,null,null,null,null,null,null,null,null,null,null,null,null,null,null,null,"DY882","KIT VENTOUSE HOR PPS/ALU Ø 80/125mm",100011365,223,223]
[84887716,"KIT N° 3 RACCORDEMENT CHAUDIERE  PPS Ø 80/125 mm","DY716",155,null,null,null,null,null,null,null,null,null,null,null,null,null,null,null,null,null,null,null,"DY716","KIT N° 3 RACCORDEMENT CHAUDIERE  PPS Ø 80/125 mm",84887716,155,155]
[100003272,"KIT DE RACCORDEMENT CHAUDIÈRE SOUS CONDUIT","DY850",180,null,null,null,null,null,null,null,null,null,null,null,null,null,null,null,null,null,null,null,"DY850","KIT DE RACCORDEMENT CHAUDIÈRE SOUS CONDUIT",100003272,180,180]
[84887528,"RALLONGECONCENTRIQUE ALU/PPS 80/125 L=1000 mm","DY128",74,null,null,null,null,null,null,null,null,null,null,null,null,null,null,null,null,null,null,null,"DY128","RALLONGECONCENTRIQUE ALU/PPS 80/125 L=1000 mm",84887528,74,74]
[84887531,"COUDE A 87° ALU/PPS  Ø 80/125 mm","DY131",54,null,null,null,null,null,null,null,null,null,null,null,null,null,null,null,null,null,null,null,"DY131","COUDE A 87° ALU/PPS  Ø 80/125 mm",84887531,54,54]
[7715060,"RALLONGE CONC. D110 160 L500  ","DY421",99,null,null,null,null,null,null,null,null,null,null,null,null,null,null,null,null,null,null,null,"DY421","RALLONGE CONC. D110 160 L500  ",7715060,99,99]
[7715065,"COUDE 110 160  45 ","DY424",123,null,null,null,null,null,null,null,null,null,null,null,null,null,null,null,null,null,null,null,"DY424","COUDE 110 160  45 ",7715065,123,123]
[7715066,"COUDE 110 160  90 ","DY425",142,null,null,null,null,null,null,null,null,null,null,null,null,null,null,null,null,null,null,null,"DY425","COUDE 110 160  90 ",7715066,142,142]
[null,"DIVERS FUMISTERIE",null,null,null,null,null,null,null,null,null,null,null,null,null,null,null,null,null,null,null,null,null,null,"DIVERS FUMISTERIE"]
[84887411,"SORTIE HORIZONTALE TOIT PENTE DE 30° A 45° ( uniquement pour tuiles mécaniques)","DY11",192,null,null,null,null,null,null,null,null,null,null,null,null,null,null,null,null,null,null,null,"DY11","SORTIE HORIZONTALE TOIT PENTE DE 30° A 45° ( uniquement pour tuiles mécaniques)",84887411,192,192]
[84837732,"TUILE A DOUILLE 25 A 35' NOIRE","CX52",82,null,null,null,null,null,null,null,null,null,null,null,null,null,null,null,null,null,null,null,"CX52","TUILE A DOUILLE 25 A 35' NOIRE",84837732,82,82]
[84837783,"TUILE A DOUILLE 25 A 35 ROUGE","CX83",82,null,null,null,null,null,null,null,null,null,null,null,null,null,null,null,null,null,null,null,"CX83","TUILE A DOUILLE 25 A 35 ROUGE",84837783,82,82]
[84887436,"GRILLE D'AERATION INTERIEURE 175 CM²","DY36",27,null,null,null,null,null,null,null,null,null,null,null,null,null,null,null,null,null,null,null,"DY36","GRILLE D'AERATION INTERIEURE 175 CM²",84887436,27,27]
[84887451,"COLLIER D'ETANCHEITE POUR MONTAGE EXTERIEUR","DY51",30,null,null,null,null,null,null,null,null,null,null,null,null,null,null,null,null,null,null,null,"DY51","COLLIER D'ETANCHEITE POUR MONTAGE EXTERIEUR",84887451,30,30]
[84887624,"TUBE D'INSPECTION L=300 mm","DY624",116,null,null,null,null,null,null,null,null,null,null,null,null,null,null,null,null,null,null,null,"DY624","TUBE D'INSPECTION L=300 mm",84887624,116,116]
[84887739,"T DE VISITE ø 100 mm","DY739",100,null,null,null,null,null,null,null,null,null,null,null,null,null,null,null,null,null,null,null,"DY739","T DE VISITE ø 100 mm",84887739,100,100]
[84887630,"COUDE 45°  (2 PIECES)","DY630",100,null,null,null,null,null,null,null,null,null,null,null,null,null,null,null,null,null,null,null,"DY630","COUDE 45°  (2 PIECES)",84887630,100,100]
[84887633,"KIT N° 1 RACCORDEMENT CHEMINEE Ø  100 ","DY633",308,null,null,null,null,null,null,null,null,null,null,null,null,null,null,null,null,null,null,null,"DY633","KIT N° 1 RACCORDEMENT CHEMINEE Ø  100 ",84887633,308,308]
[84887752,"PLAQUE DE FINITION CHEMINEE ","DY752",38,null,null,null,null,null,null,null,null,null,null,null,null,null,null,null,null,null,null,null,"DY752","PLAQUE DE FINITION CHEMINEE ",84887752,38,38]
[84887633,"KIT N° 1 RACCORDEMENT CHEMINEE Ø  100 ","DY633",308,null,null,null,null,null,null,null,null,null,null,null,null,null,null,null,null,null,null,null,"DY633","KIT N° 1 RACCORDEMENT CHEMINEE Ø  100 ",84887633,308,308]
[100002280,"ETOILES DE CENTRAGE  Ø 110 mm POUR FLEXIBLE (4 PIÈCES)","DY805",44,null,null,null,null,null,null,null,null,null,null,null,null,null,null,null,null,null,null,null,"DY805","ETOILES DE CENTRAGE  Ø 110 mm POUR FLEXIBLE (4 PIÈCES)",100002280,44,44]
[100015324,"OUTIL D'AIDE À L'INSERTION  Ø 110 mm","DY894",293,null,null,null,null,null,null,null,null,null,null,null,null,null,null,null,null,null,null,null,"DY894","OUTIL D'AIDE À L'INSERTION  Ø 110 mm",100015324,293,293]
[100015881,"ADAPTATEUR PPS FLEX Ø 110 MM","DY905",54,null,null,null,null,null,null,null,null,null,null,null,null,null,null,null,null,null,null,null,"DY905","ADAPTATEUR PPS FLEX Ø 110 MM",100015881,54,54]
[]
[100002352,"RALLONGE PPS-ALU ø 110/150 mm L=1000 mm","DY812",111,null,null,null,null,null,null,null,null,null,null,null,null,null,null,null,null,null,null,null,"DY812","RALLONGE PPS-ALU ø 110/150 mm L=1000 mm",100002352,111,111]
[100002353,"COUDE PPS-ALU  87° ø 110/150 mm  ","DY813",133,null,null,null,null,null,null,null,null,null,null,null,null,null,null,null,null,null,null,null,"DY813","COUDE PPS-ALU  87° ø 110/150 mm  ",100002353,133,133]
[100002357,"ADAPTATEUR PPS-ALU  100/150 - 110/150 mm","DY817",120,null,null,null,null,null,null,null,null,null,null,null,null,null,null,null,null,null,null,null,"DY817","ADAPTATEUR PPS-ALU  100/150 - 110/150 mm",100002357,120,120]
[84827111,"COLLIER DE FIXATION Ø 150 MM","CX111",12,null,null,null,null,null,null,null,null,null,null,null,null,null,null,null,null,null,null,null,"CX111","COLLIER DE FIXATION Ø 150 MM",84827111,12,12]
[]
[null,"PPS Ø 110 MM",null,null,null,null,null,null,null,null,null,null,null,null,null,null,null,null,null,null,null,null,null,null,"PPS Ø 110 MM"]
[84887578,"TUYAU PPS Ø 110 MM LG = 1950 MM (GRIS)","DY178",77,null,null,null,null,null,null,null,null,null,null,null,null,null,null,null,null,null,null,null,"DY178","TUYAU PPS Ø 110 MM LG = 1950 MM (GRIS)",84887578,77,77]
[84887579,"TUYAU PPS Ø 110 MM LG = 1000 MM (GRIS)","DY179",43,null,null,null,null,null,null,null,null,null,null,null,null,null,null,null,null,null,null,null,"DY179","TUYAU PPS Ø 110 MM LG = 1000 MM (GRIS)",84887579,43,43]
[84887582,"COUDE PPS 45° Ø 110 MM (GRIS)","DY182",51,null,null,null,null,null,null,null,null,null,null,null,null,null,null,null,null,null,null,null,"DY182","COUDE PPS 45° Ø 110 MM (GRIS)",84887582,51,51]
[100010270,"PLAQUE DE FINITION CHEMINEE Ø 110 MM","DY879",46,null,null,null,null,null,null,null,null,null,null,null,null,null,null,null,null,null,null,null,"DY879","PLAQUE DE FINITION CHEMINEE Ø 110 MM",100010270,46,46]
["CHAUDIERES POUR RACCORDEMENT VENTOUSE",null,null,null,null,null,null,null,null,null,null,null,null,null,null,null,null,null,null,null,null,null,null,null,null,"CHAUDIERES POUR RACCORDEMENT VENTOUSE"]
[]
["S100465","ADAPTATEUR AIR/FUMEES Ø 80/125","HR38",58,null,null,null,null,null,null,null,null,null,null,null,null,null,null,null,null,null,null,null,"HR38","ADAPTATEUR AIR/FUMEES Ø 80/125","S100465",58,58]
[100002732,"TERMINAL VERTICAL PPS Ø 80/125 mm NOIR","DY843",167,null,null,null,null,null,null,null,null,null,null,null,null,null,null,null,null,null,null,null,"DY843","TERMINAL VERTICAL PPS Ø 80/125 mm NOIR",100002732,167,167]
[]
["COMPOSANTS",null,null,null,null,null,null,null,null,null,null,null,null,null,null,null,null,null,null,null,null,null,null,null,null,"COMPOSANTS"]
[100017391,"KIT RACC. BALLONS SL-SSL","JA8",77,null,null,null,null,null,null,null,null,null,null,null,null,null,null,null,null,null,null,null,"JA8","KIT RACC. BALLONS SL-SSL",100017391,77,77]
[100002732,"TERMINAL VERTICAL PPS Ø 80/125 mm NOIR","DY843",167,null,null,null,null,null,null,null,null,null,null,null,null,null,null,null,null,null,null,null,"DY843","TERMINAL VERTICAL PPS Ø 80/125 mm NOIR",100002732,167,167]
[100018209,"GSCR 15 VER ",null,3789,null,null,null,null,null,null,null,null,null,null,null,null,null,null,null,null,null,null,null,null,"GSCR 15 VER ",100018209,3789,3789]
[100018212,"GSCR 35 HOR  ",null,4383,null,null,null,null,null,null,null,null,null,null,null,null,null,null,null,null,null,null,null,null,"GSCR 35 HOR  ",100018212,4383,4383]
[100017756,"GSCR 15","JA21",3622,null,null,null,null,null,null,null,null,null,null,null,null,null,null,null,null,null,null,null,"JA21","GSCR 15",100017756,3622,3622]
[100017757,"GSCR 25","JA22",3806,null,null,null,null,null,null,null,null,null,null,null,null,null,null,null,null,null,null,null,"JA22","GSCR 25",100017757,3806,3806]
[]
[]
[100018216,"GVCR 25 HOR/100HL ",null,5272,null,null,null,null,null,null,null,null,null,null,null,null,null,null,null,null,null,null,null,null,"GVCR 25 HOR/100HL ",100018216,5272,5272]
[]
[100017757,"GSCR 25","JA22",3806,null,null,null,null,null,null,null,null,null,null,null,null,null,null,null,null,null,null,null,"JA22","GSCR 25",100017757,3806,3806]
[100013756,"TERMINAL HORIZONTAL PPS/GALVA Ø 60/100 mm","HR48",202,null,null,null,null,null,null,null,null,null,null,null,null,null,null,null,null,null,null,null,"HR48","TERMINAL HORIZONTAL PPS/GALVA Ø 60/100 mm",100013756,202,202]
[]
[100018221,"GVCR 15 VER/160SL ",null,4930,null,null,null,null,null,null,null,null,null,null,null,null,null,null,null,null,null,null,null,null,"GVCR 15 VER/160SL ",100018221,4930,4930]
[100018223,"GCCR 15 VER/160SL ",null,5176,null,null,null,null,null,null,null,null,null,null,null,null,null,null,null,null,null,null,null,null,"GCCR 15 VER/160SL ",100018223,5176,5176]
[100018226,"GCCR 25 HOR/160SL ",null,5395,null,null,null,null,null,null,null,null,null,null,null,null,null,null,null,null,null,null,null,null,"GCCR 25 HOR/160SL ",100018226,5395,5395]
[100018229,"GVCR 35 VER/160SL ",null,5468,null,null,null,null,null,null,null,null,null,null,null,null,null,null,null,null,null,null,null,null,"GVCR 35 VER/160SL ",100018229,5468,5468]
["COMPOSANTS",null,null,null,null,null,null,null,null,null,null,null,null,null,null,null,null,null,null,null,null,null,null,null,null,"COMPOSANTS"]
[100017758,"GSCR 35","JA23",4160,null,null,null,null,null,null,null,null,null,null,null,null,null,null,null,null,null,null,null,"JA23","GSCR 35",100017758,4160,4160]
[100013756,"TERMINAL HORIZONTAL PPS/GALVA Ø 60/100 mm","HR48",202,null,null,null,null,null,null,null,null,null,null,null,null,null,null,null,null,null,null,null,"HR48","TERMINAL HORIZONTAL PPS/GALVA Ø 60/100 mm",100013756,202,202]
[]
[7606049,"GVCR 15 VER/L160SL ",null,5073,null,null,null,null,null,null,null,null,null,null,null,null,null,null,null,null,null,null,null,null,"GVCR 15 VER/L160SL ",7606049,5073,5073]
[7606051,"GVCR 25 VER/L160SL ",null,5257,null,null,null,null,null,null,null,null,null,null,null,null,null,null,null,null,null,null,null,null,"GVCR 25 VER/L160SL ",7606051,5257,5257]
[]
[100017757,"GSCR 25","JA22",3806,null,null,null,null,null,null,null,null,null,null,null,null,null,null,null,null,null,null,null,"JA22","GSCR 25",100017757,3806,3806]
[100013756,"TERMINAL HORIZONTAL PPS/GALVA Ø 60/100 mm","HR48",202,null,null,null,null,null,null,null,null,null,null,null,null,null,null,null,null,null,null,null,"HR48","TERMINAL HORIZONTAL PPS/GALVA Ø 60/100 mm",100013756,202,202]
[]
[100018233,"GVCR 15 VER /220SHL ",null,6785,null,null,null,null,null,null,null,null,null,null,null,null,null,null,null,null,null,null,null,null,"GVCR 15 VER /220SHL ",100018233,6785,6785]
[100018237,"GVCR 25 VER /220SHL ",null,6969,null,null,null,null,null,null,null,null,null,null,null,null,null,null,null,null,null,null,null,null,"GVCR 25 VER /220SHL ",100018237,6969,6969]
[100018240,"GVCR 35 HOR /220SHL ",null,7379,null,null,null,null,null,null,null,null,null,null,null,null,null,null,null,null,null,null,null,null,"GVCR 35 HOR /220SHL ",100018240,7379,7379]
[100018241,"GVCR 35 VER /220SHL ",null,7323,null,null,null,null,null,null,null,null,null,null,null,null,null,null,null,null,null,null,null,null,"GVCR 35 VER /220SHL ",100018241,7323,7323]
[100017756,"GSCR 15","JA21",3622,null,null,null,null,null,null,null,null,null,null,null,null,null,null,null,null,null,null,null,"JA21","GSCR 15",100017756,3622,3622]
[100017758,"GSCR 35","JA23",4160,null,null,null,null,null,null,null,null,null,null,null,null,null,null,null,null,null,null,null,"JA23","GSCR 35",100017758,4160,4160]
[7605758,"KIT VASE SOLAIRE 12L GFS-G8 ","JA72",194,null,null,null,null,null,null,null,null,null,null,null,null,null,null,null,null,null,null,null,"JA72","KIT VASE SOLAIRE 12L GFS-G8 ",7605758,194,194]
[100002732,"TERMINAL VERTICAL PPS Ø 80/125 mm NOIR","DY843",167,null,null,null,null,null,null,null,null,null,null,null,null,null,null,null,null,null,null,null,"DY843","TERMINAL VERTICAL PPS Ø 80/125 mm NOIR",100002732,167,167]
[100017395,"KIT DE RACCORDEMENT GAUCHE ","JA12",323,null,null,null,null,null,null,null,null,null,null,null,null,null,null,null,null,null,null,null,"JA12","KIT DE RACCORDEMENT GAUCHE ",100017395,323,323]
[100018165,"KIT DE CONVERSION PROPANE 25kW ","JA40",13,null,null,null,null,null,null,null,null,null,null,null,null,null,null,null,null,null,null,null,"JA40","KIT DE CONVERSION PROPANE 25kW ",100018165,13,13]
[100017390,"KIT V3V EXTERNE","JA7",103,null,null,null,null,null,null,null,null,null,null,null,null,null,null,null,null,null,null,null,"JA7","KIT V3V EXTERNE",100017390,103,103]
[7613605,"STATION DE NEUTRALISATION DN1","SA1",371,null,null,null,null,null,null,null,null,null,null,null,null,null,null,null,null,null,null,null,"SA1","STATION DE NEUTRALISATION DN1",7613605,371,371]
[94225601,"RECHARGE DE GRANULATS DE NEUTRALISATION 10 KG**",null,66,null,null,null,null,null,null,null,null,null,null,null,null,null,null,null,null,null,null,null,null,"RECHARGE DE GRANULATS DE NEUTRALISATION 10 KG**",94225601,66,66]
["S100465","ADAPTATEUR AIR/FUMEES Ø 80/125","HR38",58,null,null,null,null,null,null,null,null,null,null,null,null,null,null,null,null,null,null,null,"HR38","ADAPTATEUR AIR/FUMEES Ø 80/125","S100465",58,58]
[100020164,"COLLECTEUR 2/3 CIRCUITS ","EA140",382,null,null,null,null,null,null,null,null,null,null,null,null,null,null,null,null,null,null,null,"EA140","COLLECTEUR 2/3 CIRCUITS ",100020164,382,382]
[100020167,"CIRCUIT DIRECT P.ELEC CLASSE A  ","EA143",720,null,null,null,null,null,null,null,null,null,null,null,null,null,null,null,null,null,null,null,"EA143","CIRCUIT DIRECT P.ELEC CLASSE A  ",100020167,720,720]
[100019369,"POMPE MOD UPM2 15-70 RES CLASSE A  ","JA44",262,null,null,null,null,null,null,null,null,null,null,null,null,null,null,null,null,null,null,null,"JA44","POMPE MOD UPM2 15-70 RES CLASSE A  ",100019369,262,262]
[100020045,"KIT FILTRE FERNOX TF1","EH896",288,null,null,null,null,null,null,null,null,null,null,null,null,null,null,null,null,null,null,null,"EH896","KIT FILTRE FERNOX TF1",100020045,288,288]
[100013304,"COLIS OPTION V3V OE-TRONIC 4","AD249",170,null,null,null,null,null,null,null,null,null,null,null,null,null,null,null,null,null,null,null,"AD249","COLIS OPTION V3V OE-TRONIC 4",100013304,170,170]
[100013305,"SONDE SYSTÈME ECS","AD250",49,null,null,null,null,null,null,null,null,null,null,null,null,null,null,null,null,null,null,null,"AD250","SONDE SYSTÈME ECS",100013305,49,49]
[100013472,"CDE A DISTANCE RADIO RS 400R     ","AD255",256,null,null,null,null,null,null,null,null,null,null,null,null,null,null,null,null,null,null,null,"AD255","CDE A DISTANCE RADIO RS 400R     ",100013472,256,256]
[7684433,"OETROSMART OT ","AD320",269,null,null,null,null,null,null,null,null,null,null,null,null,null,null,null,null,null,null,null,"AD320","OETROSMART OT ",7684433,269,269]
[88017010,"THERMOSTAT D'AMBIANCE PROGRAMMABLE (SANS FILS)","AD192",308,null,null,null,null,null,null,null,null,null,null,null,null,null,null,null,null,null,null,null,"AD192","THERMOSTAT D'AMBIANCE PROGRAMMABLE (SANS FILS)",88017010,308,308]
[7609765,"THERMOSTAT D'AMBIANCE MODULANT FILAIRE RS200 -3","AD306",221,null,null,null,null,null,null,null,null,null,null,null,null,null,null,null,null,null,null,null,"AD306","THERMOSTAT D'AMBIANCE MODULANT FILAIRE RS200 -3",7609765,221,221]
[100017432,"KIT RECIRCULATION BS100HL","ER218",24,null,null,null,null,null,null,null,null,null,null,null,null,null,null,null,null,null,null,null,"ER218","KIT RECIRCULATION BS100HL",100017432,24,24]
[100017393,"KIT RACC. BALLONS AUTRES","JA10",63,null,null,null,null,null,null,null,null,null,null,null,null,null,null,null,null,null,null,null,"JA10","KIT RACC. BALLONS AUTRES",100017393,63,63]
[null,"FUMISTERIE",null,null,null,null,null,null,null,null,null,null,null,null,null,null,null,null,null,null,null,null,null,null,"FUMISTERIE"]
[null,"PPS Ø 60 MM",null,null,null,null,null,null,null,null,null,null,null,null,null,null,null,null,null,null,null,null,null,null,"PPS Ø 60 MM"]
[84887691,"RALLONGE PPS D60L1000 2X ","DY691",50,null,null,null,null,null,null,null,null,null,null,null,null,null,null,null,null,null,null,null,"DY691","RALLONGE PPS D60L1000 2X ",84887691,50,50]
[84887741,"TE DE VISITE PPS Ø 60","DY741",76,null,null,null,null,null,null,null,null,null,null,null,null,null,null,null,null,null,null,null,"DY741","TE DE VISITE PPS Ø 60",84887741,76,76]
[84887701,"KIT DE RACCORDEMENT CHEMINÉE PPS 60/80 MM","DY701",290,null,null,null,null,null,null,null,null,null,null,null,null,null,null,null,null,null,null,null,"DY701","KIT DE RACCORDEMENT CHEMINÉE PPS 60/80 MM",84887701,290,290]
[null,"ALU Ø 80 MM",null,null,null,null,null,null,null,null,null,null,null,null,null,null,null,null,null,null,null,null,null,null,"ALU Ø 80 MM"]
[84887438,"PRISE D'AIR EXTERIEURE LG=500 mm","DY38",107,null,null,null,null,null,null,null,null,null,null,null,null,null,null,null,null,null,null,null,"DY38","PRISE D'AIR EXTERIEURE LG=500 mm",84887438,107,107]
[null,"PPS/ALU 60/100 MM",null,null,null,null,null,null,null,null,null,null,null,null,null,null,null,null,null,null,null,null,null,null,"PPS/ALU 60/100 MM"]
[84887682,"PPS-ALU RALLONGE CONCENTRIQUE ø 60/100 mm L=1000 mm","DY682",54,null,null,null,null,null,null,null,null,null,null,null,null,null,null,null,null,null,null,null,"DY682","PPS-ALU RALLONGE CONCENTRIQUE ø 60/100 mm L=1000 mm",84887682,54,54]
[84887683,"PPS-ALU RALLONGE CONCENTRIQUE ø 60/100mm L=1950mm","DY683",112,null,null,null,null,null,null,null,null,null,null,null,null,null,null,null,null,null,null,null,"DY683","PPS-ALU RALLONGE CONCENTRIQUE ø 60/100mm L=1950mm",84887683,112,112]
[84887686,"PPS-ALU COUDE CONCENTRIQUE MOULE à 30° ø 60/100 mm (2 PIECES)","DY686",171,null,null,null,null,null,null,null,null,null,null,null,null,null,null,null,null,null,null,null,"DY686","PPS-ALU COUDE CONCENTRIQUE MOULE à 30° ø 60/100 mm (2 PIECES)",84887686,171,171]
[100017526,"TERMINAL REFTROFIT Ø 60/95","DY912",124,null,null,null,null,null,null,null,null,null,null,null,null,null,null,null,null,null,null,null,"DY912","TERMINAL REFTROFIT Ø 60/95",100017526,124,124]
[null,"FLEXIBLE PPS Ø 80 MM",null,null,null,null,null,null,null,null,null,null,null,null,null,null,null,null,null,null,null,null,null,null,"FLEXIBLE PPS Ø 80 MM"]
[100015326,"TUBE FLEXIBLE LG=50M","DY896",1337,null,null,null,null,null,null,null,null,null,null,null,null,null,null,null,null,null,null,null,"DY896","TUBE FLEXIBLE LG=50M",100015326,1337,1337]
[100015330,"PIÈCE D'INSPECTION POUR TUBE FLEXIBLE","DY900",136,null,null,null,null,null,null,null,null,null,null,null,null,null,null,null,null,null,null,null,"DY900","PIÈCE D'INSPECTION POUR TUBE FLEXIBLE",100015330,136,136]
[]
[null,"PPS Ø 80 MM",null,null,null,null,null,null,null,null,null,null,null,null,null,null,null,null,null,null,null,null,null,null,"PPS Ø 80 MM"]
[84887717,"KIT N° 1 KIT DE RACCORDEMENT CHEMINÉE PPS Ø 80 mm","DY717",169,null,null,null,null,null,null,null,null,null,null,null,null,null,null,null,null,null,null,null,"DY717","KIT N° 1 KIT DE RACCORDEMENT CHEMINÉE PPS Ø 80 mm",84887717,169,169]
[84887614,"RALLONGE PPS  Ø 80 mm   L=  500 mm (2 PCS)","DY614",40,null,null,null,null,null,null,null,null,null,null,null,null,null,null,null,null,null,null,null,"DY614","RALLONGE PPS  Ø 80 mm   L=  500 mm (2 PCS)",84887614,40,40]
[84887554,"COUDE PPS a 45°  (2 PCS)","DY154",37,null,null,null,null,null,null,null,null,null,null,null,null,null,null,null,null,null,null,null,"DY154","COUDE PPS a 45°  (2 PCS)",84887554,37,37]
[84887551,"COLLIER DE CENTRAGE Ø 80mm (2 PIECES)","DY151",14,null,null,null,null,null,null,null,null,null,null,null,null,null,null,null,null,null,null,null,"DY151","COLLIER DE CENTRAGE Ø 80mm (2 PIECES)",84887551,14,14]
[100002732,"TERMINAL VERTICAL PPS Ø 80/125 mm NOIR","DY843",167,null,null,null,null,null,null,null,null,null,null,null,null,null,null,null,null,null,null,null,"DY843","TERMINAL VERTICAL PPS Ø 80/125 mm NOIR",100002732,167,167]
[100008311,"COUDE DE REVISION ALU/PPS Ø 80/125 mm","DY875",124,null,null,null,null,null,null,null,null,null,null,null,null,null,null,null,null,null,null,null,"DY875","COUDE DE REVISION ALU/PPS Ø 80/125 mm",100008311,124,124]
[84887525,"T D'INSPECTION ALU/PPS Ø 80/125 mm","DY125",135,null,null,null,null,null,null,null,null,null,null,null,null,null,null,null,null,null,null,null,"DY125","T D'INSPECTION ALU/PPS Ø 80/125 mm",84887525,135,135]
[84887526,"RALLONGE CONCENTRIQUE ALU/PPS 80/125 LG= 250 mm","DY126",43,null,null,null,null,null,null,null,null,null,null,null,null,null,null,null,null,null,null,null,"DY126","RALLONGE CONCENTRIQUE ALU/PPS 80/125 LG= 250 mm",84887526,43,43]
[84887530,"MANC. COMP. D80/125","DY130",76,null,null,null,null,null,null,null,null,null,null,null,null,null,null,null,null,null,null,null,"DY130","MANC. COMP. D80/125",84887530,76,76]
[]
[84837731,"EMBASE D'ETANCHE TOIT PLAT","CX51",45,null,null,null,null,null,null,null,null,null,null,null,null,null,null,null,null,null,null,null,"CX51","EMBASE D'ETANCHE TOIT PLAT",84837731,45,45]
[84837732,"TUILE A DOUILLE 25 A 45° NOIRE","CX52",82,null,null,null,null,null,null,null,null,null,null,null,null,null,null,null,null,null,null,null,"CX52","TUILE A DOUILLE 25 A 45° NOIRE",84837732,82,82]
[100005002,"PANIER DE PROTECTION INOX  Ø 80/125","DY865",189,null,null,null,null,null,null,null,null,null,null,null,null,null,null,null,null,null,null,null,"DY865","PANIER DE PROTECTION INOX  Ø 80/125",100005002,189,189]
[84837779,"COLLIER DE FIXATION Ø 125 mm PATTE LONGUE","CX79",15,null,null,null,null,null,null,null,null,null,null,null,null,null,null,null,null,null,null,null,"CX79","COLLIER DE FIXATION Ø 125 mm PATTE LONGUE",84837779,15,15]
[]
[]
[115771,"GSR 236 CONDENS","GW4",14805,null,null,null,null,null,null,null,null,null,null,null,null,null,null,null,null,null,null,null,"GW4","GSR 236 CONDENS",115771,14805,14805]
[100002442,"COLIS 2 ème RETOUR C 210 Eco ","GR5",153,null,null,null,null,null,null,null,null,null,null,null,null,null,null,null,null,null,null,null,"GR5","COLIS 2 ème RETOUR C 210 Eco ",100002442,153,153]
[100011031,"PRESSOSTAT MINI GAZ POUR GSR 233 & GSR 234 ","GV22(*)",72,null,null,null,null,null,null,null,null,null,null,null,null,null,null,null,null,null,null,null,"GV22(*)","PRESSOSTAT MINI GAZ POUR GSR 233 & GSR 234 ",100011031,72,72]
[100011033,"CLAPET DE FUMEE","GV24(*)",874,null,null,null,null,null,null,null,null,null,null,null,null,null,null,null,null,null,null,null,"GV24(*)","CLAPET DE FUMEE",100011033,874,874]
[100011037,"PLATINE DE RACCORDEMENT SCU-01","GW5",120,null,null,null,null,null,null,null,null,null,null,null,null,null,null,null,null,null,null,null,"GW5","PLATINE DE RACCORDEMENT SCU-01",100011037,120,120]
[7613613,"GRANULATS DE NEUTRALISATION (SAC DE 25 KG)","SA7",89,null,null,null,null,null,null,null,null,null,null,null,null,null,null,null,null,null,null,null,"SA7","GRANULATS DE NEUTRALISATION (SAC DE 25 KG)",7613613,89,89]
[100002685,"CLAPET OBTURATEUR FUMEES  Ø 100 mm","HC154",526,null,null,null,null,null,null,null,null,null,null,null,null,null,null,null,null,null,null,null,"HC154","CLAPET OBTURATEUR FUMEES  Ø 100 mm",100002685,526,526]
[94225601,"RECHARGE DE GRANULATS DE NEUTRALISATION 10 KG**",null,66,null,null,null,null,null,null,null,null,null,null,null,null,null,null,null,null,null,null,null,null,"RECHARGE DE GRANULATS DE NEUTRALISATION 10 KG**",94225601,66,66]
["OPTIONS POUR OETRONIC  3",null,null,null,null,null,null,null,null,null,null,null,null,null,null,null,null,null,null,null,null,null,null,null,null,"OPTIONS POUR OETRONIC  3"]
[88017014," PLATINE + SONDE V3V","AD196",193,null,null,null,null,null,null,null,null,null,null,null,null,null,null,null,null,null,null,null,"AD196"," PLATINE + SONDE V3V",88017014,193,193]
["FUMISTERIE",null,null,null,null,null,null,null,null,null,null,null,null,null,null,null,null,null,null,null,null,null,null,null,null,"FUMISTERIE"]
[100002404,"PIECE DE RACCORDEMENT AIR POUR VENTOUSE Ø 150 mm","DY830",113,null,null,null,null,null,null,null,null,null,null,null,null,null,null,null,null,null,null,null,"DY830","PIECE DE RACCORDEMENT AIR POUR VENTOUSE Ø 150 mm",100002404,113,113]
[84887646,"RALLONGE  Ø 150 mm   LG = 1000 mm ","DY646",83,null,null,null,null,null,null,null,null,null,null,null,null,null,null,null,null,null,null,null,"DY646","RALLONGE  Ø 150 mm   LG = 1000 mm ",84887646,83,83]
[100002402,"SOLIN POUR TOIT PLAT Ø 160/220 mm","DY828",79,null,null,null,null,null,null,null,null,null,null,null,null,null,null,null,null,null,null,null,"DY828","SOLIN POUR TOIT PLAT Ø 160/220 mm",100002402,79,79]
[100002700,"PLATINES DE FINITION INTERIEURES Ø 220 mm","DY840",40,null,null,null,null,null,null,null,null,null,null,null,null,null,null,null,null,null,null,null,"DY840","PLATINES DE FINITION INTERIEURES Ø 220 mm",100002700,40,40]
[100004243,"RALLONGE GALVA/ALU VENTOUSE HORIZONTALE F 150/220 LONG. 1M","DY864",321,null,null,null,null,null,null,null,null,null,null,null,null,null,null,null,null,null,null,null,"DY864","RALLONGE GALVA/ALU VENTOUSE HORIZONTALE F 150/220 LONG. 1M",100004243,321,321]
[null,"PPS Ø 160 mm",null,null,null,null,null,null,null,null,null,null,null,null,null,null,null,null,null,null,null,null,null,null,"PPS Ø 160 mm"]
[100002395,"RALLONGE PPS  Ø 160 mm LG = 1000 mm","DY821",129,null,null,null,null,null,null,null,null,null,null,null,null,null,null,null,null,null,null,null,"DY821","RALLONGE PPS  Ø 160 mm LG = 1000 mm",100002395,129,129]
[100002398,"COUDE PPS  45° Ø 160 mm","DY824",195,null,null,null,null,null,null,null,null,null,null,null,null,null,null,null,null,null,null,null,"DY824","COUDE PPS  45° Ø 160 mm",100002398,195,195]
[100002402,"SOLIN POUR TOIT PLAT Ø 160/220 mm","DY828",79,null,null,null,null,null,null,null,null,null,null,null,null,null,null,null,null,null,null,null,"DY828","SOLIN POUR TOIT PLAT Ø 160/220 mm",100002402,79,79]
[100002700,"PLATINE DE FINITION INTERIEURES Ø 220 mm","DY840",40,null,null,null,null,null,null,null,null,null,null,null,null,null,null,null,null,null,null,null,"DY840","PLATINE DE FINITION INTERIEURES Ø 220 mm",100002700,40,40]
[100002404,"PIECE DE RACCORDEMENT AIR POUR VENTOUSE Ø 150 mm","DY830",113,null,null,null,null,null,null,null,null,null,null,null,null,null,null,null,null,null,null,null,"DY830","PIECE DE RACCORDEMENT AIR POUR VENTOUSE Ø 150 mm",100002404,113,113]
[100002396,"RALLONGE PPS  Ø 160 mm LG = 500 mm","DY822",90,null,null,null,null,null,null,null,null,null,null,null,null,null,null,null,null,null,null,null,"DY822","RALLONGE PPS  Ø 160 mm LG = 500 mm",100002396,90,90]
[100002397,"COUDE PPS  87° Ø 160 mm","DY823",107,null,null,null,null,null,null,null,null,null,null,null,null,null,null,null,null,null,null,null,"DY823","COUDE PPS  87° Ø 160 mm",100002397,107,107]
[100002472,"COUDE  DE REVISION Ø 160 mm","DY834",200,null,null,null,null,null,null,null,null,null,null,null,null,null,null,null,null,null,null,null,"DY834","COUDE  DE REVISION Ø 160 mm",100002472,200,200]
[100002470,"TÉ D'INSPECTION Ø 150 mm ALU","DY832",242,null,null,null,null,null,null,null,null,null,null,null,null,null,null,null,null,null,null,null,"DY832","TÉ D'INSPECTION Ø 150 mm ALU",100002470,242,242]
[84887647,"RALLONGE  Ø 150 mm   LG = 1950 mm","DY647",150,null,null,null,null,null,null,null,null,null,null,null,null,null,null,null,null,null,null,null,"DY647","RALLONGE  Ø 150 mm   LG = 1950 mm",84887647,150,150]
[100003968,"COUDE 87° AVEC SUPPORT Ø 150 mm","DY855",152,null,null,null,null,null,null,null,null,null,null,null,null,null,null,null,null,null,null,null,"DY855","COUDE 87° AVEC SUPPORT Ø 150 mm",100003968,152,152]
[null,"RACCORDEMENT CHEMINEE  PPS Ø 160 mm",null,null,null,null,null,null,null,null,null,null,null,null,null,null,null,null,null,null,null,null,null,null,"RACCORDEMENT CHEMINEE  PPS Ø 160 mm"]
[100002396,"RALLONGE PPS  Ø 160 mm LG =  500 mm","DY822",90,null,null,null,null,null,null,null,null,null,null,null,null,null,null,null,null,null,null,null,"DY822","RALLONGE PPS  Ø 160 mm LG =  500 mm",100002396,90,90]
[100002472,"COUDE  DE REVISION Ø 160 mm","DY834",200,null,null,null,null,null,null,null,null,null,null,null,null,null,null,null,null,null,null,null,"DY834","COUDE  DE REVISION Ø 160 mm",100002472,200,200]
[100002471,"TUBE D'INSPECTION Ø 160 mm LG  300 mm","DY833",169,null,null,null,null,null,null,null,null,null,null,null,null,null,null,null,null,null,null,null,"DY833","TUBE D'INSPECTION Ø 160 mm LG  300 mm",100002471,169,169]
[100002476,"PLAQUE DE FINITION CHEMINEE  Ø 160 mm","DY838",42,null,null,null,null,null,null,null,null,null,null,null,null,null,null,null,null,null,null,null,"DY838","PLAQUE DE FINITION CHEMINEE  Ø 160 mm",100002476,42,42]
[100017634,"ADAPTATEUR PPS  Ø 150-110 mm","DY915",114,null,null,null,null,null,null,null,null,null,null,null,null,null,null,null,null,null,null,null,"DY915","ADAPTATEUR PPS  Ø 150-110 mm",100017634,114,114]
["MODELES NON ISOLES EP NT",null,null,null,null,null,null,null,null,null,null,null,null,null,null,null,null,null,null,null,null,null,null,null,null,"MODELES NON ISOLES EP NT"]
[7609007,"ECH PLAQUES NT-130","EC737",3192,null,null,null,null,null,null,null,null,null,null,null,null,null,null,null,null,null,null,null,"EC737","ECH PLAQUES NT-130",7609007,3192,3192]
[7609086,"ECH PLAQUES NT-350","EC745",4491,null,null,null,null,null,null,null,null,null,null,null,null,null,null,null,null,null,null,null,"EC745","ECH PLAQUES NT-350",7609086,4491,4491]
[7609089,"ECH PLAQUES NT-575","EC748",5986,null,null,null,null,null,null,null,null,null,null,null,null,null,null,null,null,null,null,null,"EC748","ECH PLAQUES NT-575",7609089,5986,5986]
[]
[7609011,"ECH ISOLATION NT-100A",null,3914,null,null,null,null,null,null,null,null,null,null,null,null,null,null,null,null,null,null,null,null,"ECH ISOLATION NT-100A",7609011,3914,3914]
[7609092,"ECH ISOLATION NT-205A",null,4475,null,null,null,null,null,null,null,null,null,null,null,null,null,null,null,null,null,null,null,null,"ECH ISOLATION NT-205A",7609092,4475,4475]
[7609099,"ECH ISOLATION NT-575A",null,6890,null,null,null,null,null,null,null,null,null,null,null,null,null,null,null,null,null,null,null,null,"ECH ISOLATION NT-575A",7609099,6890,6890]
["COMPOSANTS",null,null,null,null,null,null,null,null,null,null,null,null,null,null,null,null,null,null,null,null,null,null,null,null,"COMPOSANTS"]
[7609007,"ECH PLAQUES NT-130","EC737",3192,null,null,null,null,null,null,null,null,null,null,null,null,null,null,null,null,null,null,null,"EC737","ECH PLAQUES NT-130",7609007,3192,3192]
[7609086,"ECH PLAQUES NT-350","EC745",4491,null,null,null,null,null,null,null,null,null,null,null,null,null,null,null,null,null,null,null,"EC745","ECH PLAQUES NT-350",7609086,4491,4491]
[7609089,"ECH PLAQUES NT-575","EC748",5986,null,null,null,null,null,null,null,null,null,null,null,null,null,null,null,null,null,null,null,"EC748","ECH PLAQUES NT-575",7609089,5986,5986]
[7609103,"ISOLATION ECH NT 575-650","EC759",904,null,null,null,null,null,null,null,null,null,null,null,null,null,null,null,null,null,null,null,"EC759","ISOLATION ECH NT 575-650",7609103,904,904]
[]
["S103118","KIT DE CONNEXION FUMEE POUR 2 X GSR 330 Condens",null,2471,null,null,null,null,null,null,null,null,null,null,null,null,null,null,null,null,null,null,null,null,"KIT DE CONNEXION FUMEE POUR 2 X GSR 330 Condens","S103118",2471,2471]
[46157,"SOLIN POUR TOIT PLAT Ø 300 MM",null,254,null,null,null,null,null,null,null,null,null,null,null,null,null,null,null,null,null,null,null,null,"SOLIN POUR TOIT PLAT Ø 300 MM",46157,254,254]
[]
[7736424,"OFSC 24","MY762",5239,null,null,null,null,null,null,null,null,null,null,null,null,null,null,null,null,null,null,null,"MY762","OFSC 24",7736424,5239,5239]
["OPTIONS OFSC ",null,null,null,null,null,null,null,null,null,null,null,null,null,null,null,null,null,null,null,null,null,null,null,null,"OPTIONS OFSC "]
["ACCESSOIRES ECS",null,null,null,null,null,null,null,null,null,null,null,null,null,null,null,null,null,null,null,null,null,null,null,null,"ACCESSOIRES ECS"]
[100000030,"COLIS OPTION SONDE ECS","AD212",53,null,null,null,null,null,null,null,null,null,null,null,null,null,null,null,null,null,null,null,"AD212","COLIS OPTION SONDE ECS",100000030,53,53]
[7622082,"KIT ACI","MY417",138,null,null,null,null,null,null,null,null,null,null,null,null,null,null,null,null,null,null,null,"MY417","KIT ACI",7622082,138,138]
[]
[100004292,"SUPPORT STATION DE NEUTRALISATION","FM157",145,null,null,null,null,null,null,null,null,null,null,null,null,null,null,null,null,null,null,null,"FM157","SUPPORT STATION DE NEUTRALISATION",100004292,145,145]
[7616272,"KIT EQUIPEMENT HYDRAULIQUE","MY404",536,null,null,null,null,null,null,null,null,null,null,null,null,null,null,null,null,null,null,null,"MY404","KIT EQUIPEMENT HYDRAULIQUE",7616272,536,536]
[]
[88017904,"THERMOSTAT AMBIANCE PROGRAMMABLE (FILAIRE)","AD191",176,null,null,null,null,null,null,null,null,null,null,null,null,null,null,null,null,null,null,null,"AD191","THERMOSTAT AMBIANCE PROGRAMMABLE (FILAIRE)",88017904,176,176]
[7609764,"THERMOSTAT D'AMBIANCE MODULANT RADIO RS200 -3R","AD305",365,null,null,null,null,null,null,null,null,null,null,null,null,null,null,null,null,null,null,null,"AD305","THERMOSTAT D'AMBIANCE MODULANT RADIO RS200 -3R",7609764,365,365]
["MODULES HYDRAULIQUES",null,null,null,null,null,null,null,null,null,null,null,null,null,null,null,null,null,null,null,null,null,null,null,null,"MODULES HYDRAULIQUES"]
[7627062,"TUBULURES DE LIAISON CHAUDIERE / MODULES DROITE FS./FSB.","MY423",191,null,null,null,null,null,null,null,null,null,null,null,null,null,null,null,null,null,null,null,"MY423","TUBULURES DE LIAISON CHAUDIERE / MODULES DROITE FS./FSB.",7627062,191,191]
[100020164,"COLLECTEUR 2/3 CIRCUITS","EA140",382,null,null,null,null,null,null,null,null,null,null,null,null,null,null,null,null,null,null,null,"EA140","COLLECTEUR 2/3 CIRCUITS",100020164,382,382]
[100020166,"CONSOLE MUR 1 MODULE","EA142",129,null,null,null,null,null,null,null,null,null,null,null,null,null,null,null,null,null,null,null,"EA142","CONSOLE MUR 1 MODULE",100020166,129,129]
[null,"PPS Ø 80 MM",null,null,null,null,null,null,null,null,null,null,null,null,null,null,null,null,null,null,null,null,null,null,"PPS Ø 80 MM"]
[100017527,"KIT DE BASE PPS/ALU D80/125","DY913",178,null,null,null,null,null,null,null,null,null,null,null,null,null,null,null,null,null,null,null,"DY913","KIT DE BASE PPS/ALU D80/125",100017527,178,178]
[84887613,"RALLONGE PPS Ø 80 MM   LG= 250 MM (2 PIÈCES)","DY613",42,null,null,null,null,null,null,null,null,null,null,null,null,null,null,null,null,null,null,null,"DY613","RALLONGE PPS Ø 80 MM   LG= 250 MM (2 PIÈCES)",84887613,42,42]
[84887550,"RALLONGE PPS Ø 80 MM   LG= 2000 MM  (2 PIÈCES)","DY150",82,null,null,null,null,null,null,null,null,null,null,null,null,null,null,null,null,null,null,null,"DY150","RALLONGE PPS Ø 80 MM   LG= 2000 MM  (2 PIÈCES)",84887550,82,82]
[84887552,"COUDE PPS À 90°","DY152",16,null,null,null,null,null,null,null,null,null,null,null,null,null,null,null,null,null,null,null,"DY152","COUDE PPS À 90°",84887552,16,16]
[84887551,"COLLIER DE CENTRAGE Ø 80 mm (2 PIECES)","DY151",14,null,null,null,null,null,null,null,null,null,null,null,null,null,null,null,null,null,null,null,"DY151","COLLIER DE CENTRAGE Ø 80 mm (2 PIECES)",84887551,14,14]
[100015319,"MANCHON PPS 80M-80F AVEC PRISE DE MESURE","DY903",50,null,null,null,null,null,null,null,null,null,null,null,null,null,null,null,null,null,null,null,"DY903","MANCHON PPS 80M-80F AVEC PRISE DE MESURE",100015319,50,50]
[7650958,"KIT CHEMINEE C93 FLEX PPS D80 ","DY925",496,null,null,null,null,null,null,null,null,null,null,null,null,null,null,null,null,null,null,null,"DY925","KIT CHEMINEE C93 FLEX PPS D80 ",7650958,496,496]
[7650969,"TERMINAL VERTICAL PPS D60/100 RO","DY929",160,null,null,null,null,null,null,null,null,null,null,null,null,null,null,null,null,null,null,null,"DY929","TERMINAL VERTICAL PPS D60/100 RO",7650969,160,160]
[null,"PPS 80/125 MM",null,null,null,null,null,null,null,null,null,null,null,null,null,null,null,null,null,null,null,null,null,null,"PPS 80/125 MM"]
[100003271,"KIT DE RACCORDEMENT CHAUDIÈRE PERPENDICULAIRE","DY849",242,null,null,null,null,null,null,null,null,null,null,null,null,null,null,null,null,null,null,null,"DY849","KIT DE RACCORDEMENT CHAUDIÈRE PERPENDICULAIRE",100003271,242,242]
[84887526,"RALLONGE CONCENTRIQUE ALU/PPS 80/125 LG= 250 MM","DY126",43,null,null,null,null,null,null,null,null,null,null,null,null,null,null,null,null,null,null,null,"DY126","RALLONGE CONCENTRIQUE ALU/PPS 80/125 LG= 250 MM",84887526,43,43]
[84887527,"RALLONGE CONCENTRIQUE ALU/PPS 80/125 LG= 500 MM","DY127",50,null,null,null,null,null,null,null,null,null,null,null,null,null,null,null,null,null,null,null,"DY127","RALLONGE CONCENTRIQUE ALU/PPS 80/125 LG= 500 MM",84887527,50,50]
[84887758,"PLAQUE DE FINITION Ø125MM","DY758",69,null,null,null,null,null,null,null,null,null,null,null,null,null,null,null,null,null,null,null,"DY758","PLAQUE DE FINITION Ø125MM",84887758,69,69]
[]
[100015327,"TUBE FLEXIBLE LG=12,5M","DY897",381,null,null,null,null,null,null,null,null,null,null,null,null,null,null,null,null,null,null,null,"DY897","TUBE FLEXIBLE LG=12,5M",100015327,381,381]
[100015328,"PIÈCE DE COUPLAGE FLEXIBLE Ø 80 mm","DY898",76,null,null,null,null,null,null,null,null,null,null,null,null,null,null,null,null,null,null,null,"DY898","PIÈCE DE COUPLAGE FLEXIBLE Ø 80 mm",100015328,76,76]
[100015330,"PIÈCE D'INSPECTION POUR TUBE FLEXIBLE","DY900",136,null,null,null,null,null,null,null,null,null,null,null,null,null,null,null,null,null,null,null,"DY900","PIÈCE D'INSPECTION POUR TUBE FLEXIBLE",100015330,136,136]
[84887578,"TUYAU PPS Ø 110 mm LG = 1950 mm (GRIS)","DY178",77,null,null,null,null,null,null,null,null,null,null,null,null,null,null,null,null,null,null,null,"DY178","TUYAU PPS Ø 110 mm LG = 1950 mm (GRIS)",84887578,77,77]
[84887579,"TUYAU PPS Ø 110 mm LG = 1000 mm (GRIS)","DY179",43,null,null,null,null,null,null,null,null,null,null,null,null,null,null,null,null,null,null,null,"DY179","TUYAU PPS Ø 110 mm LG = 1000 mm (GRIS)",84887579,43,43]
[84887582,"COUDE PPS 45° Ø 110 mm (GRIS)","DY182",51,null,null,null,null,null,null,null,null,null,null,null,null,null,null,null,null,null,null,null,"DY182","COUDE PPS 45° Ø 110 mm (GRIS)",84887582,51,51]
[84887588,"COUDE DE REVISION PPS 87° Ø 110 mm (GRIS)","DY188",77,null,null,null,null,null,null,null,null,null,null,null,null,null,null,null,null,null,null,null,"DY188","COUDE DE REVISION PPS 87° Ø 110 mm (GRIS)",84887588,77,77]
[100015325,"KIT N° 1 RACCORDEMENT CHEMINÉE FLEXIBLE PPS Ø 80 mm","DY895",253,null,null,null,null,null,null,null,null,null,null,null,null,null,null,null,null,null,null,null,"DY895","KIT N° 1 RACCORDEMENT CHEMINÉE FLEXIBLE PPS Ø 80 mm",100015325,253,253]
[100015328,"PIÈCE DE COUPLAGE FLEXIBLE Ø 80 mm","DY898",76,null,null,null,null,null,null,null,null,null,null,null,null,null,null,null,null,null,null,null,"DY898","PIÈCE DE COUPLAGE FLEXIBLE Ø 80 mm",100015328,76,76]
[100015329,"TERMINAL AVEC SOLIN FLEX. Ø 80 mm","DY899",190,null,null,null,null,null,null,null,null,null,null,null,null,null,null,null,null,null,null,null,"DY899","TERMINAL AVEC SOLIN FLEX. Ø 80 mm",100015329,190,190]
[84837729,"SORTIE DE TOIT EN PENTE DE 40° A 60° ( uniquement pour tuiles mécaniques)","CX49",191,null,null,null,null,null,null,null,null,null,null,null,null,null,null,null,null,null,null,null,"CX49","SORTIE DE TOIT EN PENTE DE 40° A 60° ( uniquement pour tuiles mécaniques)",84837729,191,191]
[84837121,"TUILE A DOUILLE 5 A 25° NOIRE","CX121",120,null,null,null,null,null,null,null,null,null,null,null,null,null,null,null,null,null,null,null,"CX121","TUILE A DOUILLE 5 A 25° NOIRE",84837121,120,120]
[84837120,"TUILE A DOUILLE 5 A 25° ROUGE","CX120",120,null,null,null,null,null,null,null,null,null,null,null,null,null,null,null,null,null,null,null,"CX120","TUILE A DOUILLE 5 A 25° ROUGE",84837120,120,120]
[84837741,"PLATINE DE FINITION INTERIEURE","CX72",16,null,null,null,null,null,null,null,null,null,null,null,null,null,null,null,null,null,null,null,"CX72","PLATINE DE FINITION INTERIEURE",84837741,16,16]
[84887436,"GRILLE D'AERATION INTERIEURE 175 CM²","DY36",27,null,null,null,null,null,null,null,null,null,null,null,null,null,null,null,null,null,null,null,"DY36","GRILLE D'AERATION INTERIEURE 175 CM²",84887436,27,27]
[]
[100017740,"OSCR 24","MV13",7125,null,null,null,null,null,null,null,null,null,null,null,null,null,null,null,null,null,null,null,"MV13","OSCR 24",100017740,7125,7125]
[]
[7635813,"OVCR 30/100HL",null,8896,null,null,null,null,null,null,null,null,null,null,null,null,null,null,null,null,null,null,null,null,"OVCR 30/100HL",7635813,8896,8896]
["COMPOSANTS ",null,null,null,null,null,null,null,null,null,null,null,null,null,null,null,null,null,null,null,null,null,null,null,null,"COMPOSANTS "]
[100017741,"OSCR 30","MV14",7378,null,null,null,null,null,null,null,null,null,null,null,null,null,null,null,null,null,null,null,"MV14","OSCR 30",100017741,7378,7378]
[]
[7635814,"OCCR 18/160SL",null,8550,null,null,null,null,null,null,null,null,null,null,null,null,null,null,null,null,null,null,null,null,"OCCR 18/160SL",7635814,8550,8550]
["COMPOSANTS ",null,null,null,null,null,null,null,null,null,null,null,null,null,null,null,null,null,null,null,null,null,null,null,null,"COMPOSANTS "]
[100016428," BALLON 160SL ","ER223",1064,null,null,null,null,null,null,null,null,null,null,null,null,null,null,null,null,null,null,null,"ER223"," BALLON 160SL ",100016428,1064,1064]
[]
[7635819,"OVCR 30/L160SL",null,8916,null,null,null,null,null,null,null,null,null,null,null,null,null,null,null,null,null,null,null,null,"OVCR 30/L160SL",7635819,8916,8916]
[100017739,"OSCR 18","MV12",6930,null,null,null,null,null,null,null,null,null,null,null,null,null,null,null,null,null,null,null,"MV12","OSCR 18",100017739,6930,6930]
[100020079,"BALLON L160SL ","EC600",1207,null,null,null,null,null,null,null,null,null,null,null,null,null,null,null,null,null,null,null,"EC600","BALLON L160SL ",100020079,1207,1207]
[]
[7635820,"OCCR 18/220SHL",null,10489,null,null,null,null,null,null,null,null,null,null,null,null,null,null,null,null,null,null,null,null,"OCCR 18/220SHL",7635820,10489,10489]
["COMPOSANTS ",null,null,null,null,null,null,null,null,null,null,null,null,null,null,null,null,null,null,null,null,null,null,null,null,"COMPOSANTS "]
[100016425,"BALLON 220SHL","ER220",2725,null,null,null,null,null,null,null,null,null,null,null,null,null,null,null,null,null,null,null,"ER220","BALLON 220SHL",100016425,2725,2725]
[]
[7614433,"OSCR 18  VER",null,7097,null,null,null,null,null,null,null,null,null,null,null,null,null,null,null,null,null,null,null,null,"OSCR 18  VER",7614433,7097,7097]
[7614436,"OSCR 30  HOR",null,7540,null,null,null,null,null,null,null,null,null,null,null,null,null,null,null,null,null,null,null,null,"OSCR 30  HOR",7614436,7540,7540]
["COMPOSANTS ",null,null,null,null,null,null,null,null,null,null,null,null,null,null,null,null,null,null,null,null,null,null,null,null,"COMPOSANTS "]
[100017740,"OSCR 24","MV13",7125,null,null,null,null,null,null,null,null,null,null,null,null,null,null,null,null,null,null,null,"MV13","OSCR 24",100017740,7125,7125]
[100007638,"TERMINAL HORIZONTAL  Ø 80/125","FM183",108,null,null,null,null,null,null,null,null,null,null,null,null,null,null,null,null,null,null,null,"FM183","TERMINAL HORIZONTAL  Ø 80/125",100007638,108,108]
[]
[7635841,"OVCR 24  VER /100HL",null,8810,null,null,null,null,null,null,null,null,null,null,null,null,null,null,null,null,null,null,null,null,"OVCR 24  VER /100HL",7635841,8810,8810]
["COMPOSANTS ",null,null,null,null,null,null,null,null,null,null,null,null,null,null,null,null,null,null,null,null,null,null,null,null,"COMPOSANTS "]
[100017741,"OSCR 30","MV14",7378,null,null,null,null,null,null,null,null,null,null,null,null,null,null,null,null,null,null,null,"MV14","OSCR 30",100017741,7378,7378]
[84887531,"COUDE A 87° ALU/PPS  Ø 80/125 MM","DY131",54,null,null,null,null,null,null,null,null,null,null,null,null,null,null,null,null,null,null,null,"DY131","COUDE A 87° ALU/PPS  Ø 80/125 MM",84887531,54,54]
[]
[]
[7635847,"OCCR 24  VER /160SL",null,8912,null,null,null,null,null,null,null,null,null,null,null,null,null,null,null,null,null,null,null,null,"OCCR 24  VER /160SL",7635847,8912,8912]
[]
[100017740,"OSCR 24","MV13",7125,null,null,null,null,null,null,null,null,null,null,null,null,null,null,null,null,null,null,null,"MV13","OSCR 24",100017740,7125,7125]
[100007638,"TERMINAL HORIZONTAL  Ø 80/125","FM183",108,null,null,null,null,null,null,null,null,null,null,null,null,null,null,null,null,null,null,null,"FM183","TERMINAL HORIZONTAL  Ø 80/125",100007638,108,108]
[]
[7635825,"OVCR 18  VER /L160SL",null,8635,null,null,null,null,null,null,null,null,null,null,null,null,null,null,null,null,null,null,null,null,"OVCR 18  VER /L160SL",7635825,8635,8635]
[7635826,"OVCR 24  HOR /L160SL",null,8825,null,null,null,null,null,null,null,null,null,null,null,null,null,null,null,null,null,null,null,null,"OVCR 24  HOR /L160SL",7635826,8825,8825]
[100017739,"OSCR 18","MV12",6930,null,null,null,null,null,null,null,null,null,null,null,null,null,null,null,null,null,null,null,"MV12","OSCR 18",100017739,6930,6930]
[100017741,"OSCR 30","MV14",7378,null,null,null,null,null,null,null,null,null,null,null,null,null,null,null,null,null,null,null,"MV14","OSCR 30",100017741,7378,7378]
[84887531,"COUDE A 87° ALU/PPS  Ø 80/125 MM","DY131",54,null,null,null,null,null,null,null,null,null,null,null,null,null,null,null,null,null,null,null,"DY131","COUDE A 87° ALU/PPS  Ø 80/125 MM",84887531,54,54]
[]
[7635853,"OCCR 24  HOR /220SHL",null,10846,null,null,null,null,null,null,null,null,null,null,null,null,null,null,null,null,null,null,null,null,"OCCR 24  HOR /220SHL",7635853,10846,10846]
[7635858,"OCCR 30  VER /220SHL",null,11104,null,null,null,null,null,null,null,null,null,null,null,null,null,null,null,null,null,null,null,null,"OCCR 30  VER /220SHL",7635858,11104,11104]
[]
[100017740,"OSCR 24","MV13",7125,null,null,null,null,null,null,null,null,null,null,null,null,null,null,null,null,null,null,null,"MV13","OSCR 24",100017740,7125,7125]
[100007638,"TERMINAL HORIZONTAL  Ø 80/125","FM183",108,null,null,null,null,null,null,null,null,null,null,null,null,null,null,null,null,null,null,null,"FM183","TERMINAL HORIZONTAL  Ø 80/125",100007638,108,108]
[]
[100016490,"KIT CIRCUIT EXTERNE ","MV6",93,null,null,null,null,null,null,null,null,null,null,null,null,null,null,null,null,null,null,null,"MV6","KIT CIRCUIT EXTERNE ",100016490,93,93]
[100019734,"MANCHETTE DE MESURE 80/125 PPs/Alu ","MV25",78,null,null,null,null,null,null,null,null,null,null,null,null,null,null,null,null,null,null,null,"MV25","MANCHETTE DE MESURE 80/125 PPs/Alu ",100019734,78,78]
[7611256,"KIT DE LIAISON BALLON 220L SHL HEE","MV35",640,null,null,null,null,null,null,null,null,null,null,null,null,null,null,null,null,null,null,null,"MV35","KIT DE LIAISON BALLON 220L SHL HEE",7611256,640,640]
[100004291,"RECHARGE STATION DE NEUTRALISATION","FM156",145,null,null,null,null,null,null,null,null,null,null,null,null,null,null,null,null,null,null,null,"FM156","RECHARGE STATION DE NEUTRALISATION",100004291,145,145]
[100004292,"COLIS SUPPORT STATION DE NEUTRALISATION ","FM157",145,null,null,null,null,null,null,null,null,null,null,null,null,null,null,null,null,null,null,null,"FM157","COLIS SUPPORT STATION DE NEUTRALISATION ",100004292,145,145]
[]
[100013305,"SONDE SYSTÈME ECS","AD250",49,null,null,null,null,null,null,null,null,null,null,null,null,null,null,null,null,null,null,null,"AD250","SONDE SYSTÈME ECS",100013305,49,49]
[100013472,"CDE A DISTANCE RADIO RS 400R     ","AD255",256,null,null,null,null,null,null,null,null,null,null,null,null,null,null,null,null,null,null,null,"AD255","CDE A DISTANCE RADIO RS 400R     ",100013472,256,256]
[100018255,"OE-TRONIC 4 MR","AD282",1177,null,null,null,null,null,null,null,null,null,null,null,null,null,null,null,null,null,null,null,"AD282","OE-TRONIC 4 MR",100018255,1177,1177]
[100000492,"KIT ANODE MAGNESIUM","EA103",74,null,null,null,null,null,null,null,null,null,null,null,null,null,null,null,null,null,null,null,"EA103","KIT ANODE MAGNESIUM",100000492,74,74]
[100017433,"KIT RECIRCULATION BS160/220","ER219",77,null,null,null,null,null,null,null,null,null,null,null,null,null,null,null,null,null,null,null,"ER219","KIT RECIRCULATION BS160/220",100017433,77,77]
[]
[100020165,"CONSOLE MUR COLLECTEUR ","EA141",48,null,null,null,null,null,null,null,null,null,null,null,null,null,null,null,null,null,null,null,"EA141","CONSOLE MUR COLLECTEUR ",100020165,48,48]
[100020168,"CIRCUIT V3V P.ELEC HEE","EA144",1023,null,null,null,null,null,null,null,null,null,null,null,null,null,null,null,null,null,null,null,"EA144","CIRCUIT V3V P.ELEC HEE",100020168,1023,1023]
[]
[]
[]
[7685372,"KIT CABLE POMPE MODULANTE","MV147",50,null,null,null,null,null,null,null,null,null,null,null,null,null,null,null,null,null,null,null,"MV147","KIT CABLE POMPE MODULANTE",7685372,50,50]
[7680288,"COLIS FUMISTERIE POUR CASCADE","MV146",789,null,null,null,null,null,null,null,null,null,null,null,null,null,null,null,null,null,null,null,"MV146","COLIS FUMISTERIE POUR CASCADE",7680288,789,789]
[100019346,"BOUTEILLE DE DECOUPLAGE  60/60-1''  ","GV45",409,null,null,null,null,null,null,null,null,null,null,null,null,null,null,null,null,null,null,null,"GV45","BOUTEILLE DE DECOUPLAGE  60/60-1''  ",100019346,409,409]
[100004292,"SUPPORT STATION DE NEUTRALISATION","FM157",145,null,null,null,null,null,null,null,null,null,null,null,null,null,null,null,null,null,null,null,"FM157","SUPPORT STATION DE NEUTRALISATION",100004292,145,145]
[null,"OPTIONS EAU CHAUDE SANITAIRE",null,null,null,null,null,null,null,null,null,null,null,null,null,null,null,null,null,null,null,null,null,null,"OPTIONS EAU CHAUDE SANITAIRE"]
["OPTIONS REGULATION OSCR Max 45/60",null,null,null,null,null,null,null,null,null,null,null,null,null,null,null,null,null,null,null,null,null,null,null,null,"OPTIONS REGULATION OSCR Max 45/60"]
[88017904,"THERMOSTAT AMBIANCE PROGRAMMABLE (FILAIRE)","AD191",176,null,null,null,null,null,null,null,null,null,null,null,null,null,null,null,null,null,null,null,"AD191","THERMOSTAT AMBIANCE PROGRAMMABLE (FILAIRE)",88017904,176,176]
[88017851,"CABLE DE LIAISON BUS LG 12 M","AD134",118,null,null,null,null,null,null,null,null,null,null,null,null,null,null,null,null,null,null,null,"AD134","CABLE DE LIAISON BUS LG 12 M",88017851,118,118]
[7688305,"TERMINAISON DE BUS","AD321",53,null,null,null,null,null,null,null,null,null,null,null,null,null,null,null,null,null,null,null,"AD321","TERMINAISON DE BUS",7688305,53,53]
["FUMISTERIE",null,null,null,null,null,null,null,null,null,null,null,null,null,null,null,null,null,null,null,null,null,null,null,null,"FUMISTERIE"]
[84887578,"TUYAU PPS Ø 110 mm LG = 1950 mm (GRIS)","DY178",77,null,null,null,null,null,null,null,null,null,null,null,null,null,null,null,null,null,null,null,"DY178","TUYAU PPS Ø 110 mm LG = 1950 mm (GRIS)",84887578,77,77]
[84887580,"TUYAU PPS Ø 110 mm LG = 500 mm (GRIS)","DY180",33,null,null,null,null,null,null,null,null,null,null,null,null,null,null,null,null,null,null,null,"DY180","TUYAU PPS Ø 110 mm LG = 500 mm (GRIS)",84887580,33,33]
[84887583,"T DE REVISION Ø 110 mm (GRIS)","DY183",51,null,null,null,null,null,null,null,null,null,null,null,null,null,null,null,null,null,null,null,"DY183","T DE REVISION Ø 110 mm (GRIS)",84887583,51,51]
[84887773,"FOURREAU Ø165mm L 500mm","DY773",43,null,null,null,null,null,null,null,null,null,null,null,null,null,null,null,null,null,null,null,"DY773","FOURREAU Ø165mm L 500mm",84887773,43,43]
[100015327,"TUBE FLEXIBLE LG=12,5M","DY897",381,null,null,null,null,null,null,null,null,null,null,null,null,null,null,null,null,null,null,null,"DY897","TUBE FLEXIBLE LG=12,5M",100015327,381,381]
[100015328,"PIÈCE DE COUPLAGE FLEXIBLE Ø 80 mm","DY898",76,null,null,null,null,null,null,null,null,null,null,null,null,null,null,null,null,null,null,null,"DY898","PIÈCE DE COUPLAGE FLEXIBLE Ø 80 mm",100015328,76,76]
[100015289,"FLEXIBLE PPS Ø 110 MM LG= 25 M","DY890",955,null,null,null,null,null,null,null,null,null,null,null,null,null,null,null,null,null,null,null,"DY890","FLEXIBLE PPS Ø 110 MM LG= 25 M",100015289,955,955]
[100015323,"TUBE DE VISITE Ø 110 mm POUR FLEXIBLE PPS","DY893",253,null,null,null,null,null,null,null,null,null,null,null,null,null,null,null,null,null,null,null,"DY893","TUBE DE VISITE Ø 110 mm POUR FLEXIBLE PPS",100015323,253,253]
[100015322,"TERMINAL AVEC SOLIN POUR FLEX Ø 110","DY892",281,null,null,null,null,null,null,null,null,null,null,null,null,null,null,null,null,null,null,null,"DY892","TERMINAL AVEC SOLIN POUR FLEX Ø 110",100015322,281,281]
[100008312,"KIT DE RACCORDEMENT CHEMINÉE Ø 80 - 110 MM PPS","DY876",223,null,null,null,null,null,null,null,null,null,null,null,null,null,null,null,null,null,null,null,"DY876","KIT DE RACCORDEMENT CHEMINÉE Ø 80 - 110 MM PPS",100008312,223,223]
[84887589,"TERMINAL AVEC SOLIN DIAMÉTRE 100/110","DY189",247,null,null,null,null,null,null,null,null,null,null,null,null,null,null,null,null,null,null,null,"DY189","TERMINAL AVEC SOLIN DIAMÉTRE 100/110",84887589,247,247]
[84887717,"KIT N° 1 KIT DE RACCORDEMENT CHEMINEE PPS Ø 80 mm","DY717",169,null,null,null,null,null,null,null,null,null,null,null,null,null,null,null,null,null,null,null,"DY717","KIT N° 1 KIT DE RACCORDEMENT CHEMINEE PPS Ø 80 mm",84887717,169,169]
[84887615,"RALLONGE PPS  Ø 80 mm   L=  1000 mm (2 PCS)","DY615",54,null,null,null,null,null,null,null,null,null,null,null,null,null,null,null,null,null,null,null,"DY615","RALLONGE PPS  Ø 80 mm   L=  1000 mm (2 PCS)",84887615,54,54]
[84887554,"COUDE PPS a 45°  (2 PCS)","DY154",37,null,null,null,null,null,null,null,null,null,null,null,null,null,null,null,null,null,null,null,"DY154","COUDE PPS a 45°  (2 PCS)",84887554,37,37]
[84887757,"PLAQUE DE FINITION Ø80mm","DY757",43,null,null,null,null,null,null,null,null,null,null,null,null,null,null,null,null,null,null,null,"DY757","PLAQUE DE FINITION Ø80mm",84887757,43,43]
[null,"PPS Ø 80/125 mm",null,null,null,null,null,null,null,null,null,null,null,null,null,null,null,null,null,null,null,null,null,null,"PPS Ø 80/125 mm"]
[84887763,"TUYAU DE PROTECTION L500mm Ø141mm","DY763",32,null,null,null,null,null,null,null,null,null,null,null,null,null,null,null,null,null,null,null,"DY763","TUYAU DE PROTECTION L500mm Ø141mm",84887763,32,32]
[84887525,"T D'INSPECTION ALU/PPS Ø 80/125 mm","DY125",135,null,null,null,null,null,null,null,null,null,null,null,null,null,null,null,null,null,null,null,"DY125","T D'INSPECTION ALU/PPS Ø 80/125 mm",84887525,135,135]
[84887528,"RALLONGE CONCENTRIQUE ALU/PPS 80/125 L=1000 mm","DY128",74,null,null,null,null,null,null,null,null,null,null,null,null,null,null,null,null,null,null,null,"DY128","RALLONGE CONCENTRIQUE ALU/PPS 80/125 L=1000 mm",84887528,74,74]
[100008311,"COUDE DE REVISION ALU/PPS Ø 80/125 mm","DY875",124,null,null,null,null,null,null,null,null,null,null,null,null,null,null,null,null,null,null,null,"DY875","COUDE DE REVISION ALU/PPS Ø 80/125 mm",100008311,124,124]
[100015325,"KIT N° 1 RACCORDEMENT CHEMINÉE FLEXIBLE PPS Ø 80 mm","DY895",253,null,null,null,null,null,null,null,null,null,null,null,null,null,null,null,null,null,null,null,"DY895","KIT N° 1 RACCORDEMENT CHEMINÉE FLEXIBLE PPS Ø 80 mm",100015325,253,253]
[84887618,"ETOILE DE CENTRAGE POUR FLEXIBLE Ø 80  mm (2 PIÈCES)","DY618",39,null,null,null,null,null,null,null,null,null,null,null,null,null,null,null,null,null,null,null,"DY618","ETOILE DE CENTRAGE POUR FLEXIBLE Ø 80  mm (2 PIÈCES)",84887618,39,39]
[100015329,"TERMINAL AVEC SOLIN FLEX. Ø 80 mm","DY899",190,null,null,null,null,null,null,null,null,null,null,null,null,null,null,null,null,null,null,null,"DY899","TERMINAL AVEC SOLIN FLEX. Ø 80 mm",100015329,190,190]
[100002395,"RALLONGE PPS  Ø 160 MM LG =1000 MM","DY821",129,null,null,null,null,null,null,null,null,null,null,null,null,null,null,null,null,null,null,null,"DY821","RALLONGE PPS  Ø 160 MM LG =1000 MM",100002395,129,129]
[100002396,"RALLONGE PPS  Ø 160 MM LG =  500 MM","DY822",90,null,null,null,null,null,null,null,null,null,null,null,null,null,null,null,null,null,null,null,"DY822","RALLONGE PPS  Ø 160 MM LG =  500 MM",100002396,90,90]
[100002472,"COUDE  DE REVISION Ø 160 mm","DY834",200,null,null,null,null,null,null,null,null,null,null,null,null,null,null,null,null,null,null,null,"DY834","COUDE  DE REVISION Ø 160 mm",100002472,200,200]
[84887773,"FOURREAU Ø165mm L 500mm","DY773",43,null,null,null,null,null,null,null,null,null,null,null,null,null,null,null,null,null,null,null,"DY773","FOURREAU Ø165mm L 500mm",84887773,43,43]
[84887435,"GRILLE D'AERATION EXTERIEURE 250 X 300 mm","DY35",26,null,null,null,null,null,null,null,null,null,null,null,null,null,null,null,null,null,null,null,"DY35","GRILLE D'AERATION EXTERIEURE 250 X 300 mm",84887435,26,26]
[null,"ACCESSOIRES",null,null,null,null,null,null,null,null,null,null,null,null,null,null,null,null,null,null,null,null,null,null,"ACCESSOIRES"]
[84837729,"SORTIE DE TOIT EN PENTE DE 40° A 60° ( uniquement pour tuiles mécaniques)","CX49",191,null,null,null,null,null,null,null,null,null,null,null,null,null,null,null,null,null,null,null,"CX49","SORTIE DE TOIT EN PENTE DE 40° A 60° ( uniquement pour tuiles mécaniques)",84837729,191,191]
[84837734,"TUILE A DOUILLE 35 A 55° NOIRE ","CX63",105,null,null,null,null,null,null,null,null,null,null,null,null,null,null,null,null,null,null,null,"CX63","TUILE A DOUILLE 35 A 55° NOIRE ",84837734,105,105]
[84837741,"PLATINE DE FINITION INTER","CX72",16,null,null,null,null,null,null,null,null,null,null,null,null,null,null,null,null,null,null,null,"CX72","PLATINE DE FINITION INTER",84837741,16,16]
[84837779,"COLLIER DE FIXATION D.125 mm PATTE LONGUE","CX79",15,null,null,null,null,null,null,null,null,null,null,null,null,null,null,null,null,null,null,null,"CX79","COLLIER DE FIXATION D.125 mm PATTE LONGUE",84837779,15,15]
[84887566,"PANIER DE PROTECTION INOX","DY166",85,null,null,null,null,null,null,null,null,null,null,null,null,null,null,null,null,null,null,null,"DY166","PANIER DE PROTECTION INOX",84887566,85,85]
[]
[]
[]
[]
[]
[100000030,"COLIS OPTION SONDE ECS","AD212",53,null,null,null,null,null,null,null,null,null,null,null,null,null,null,null,null,null,null,null,"AD212","COLIS OPTION SONDE ECS",100000030,53,53]
[7622082,"KIT ACI","MY417",138,null,null,null,null,null,null,null,null,null,null,null,null,null,null,null,null,null,null,null,"MY417","KIT ACI",7622082,138,138]
[7639495,"KIT LIAISON EF/EFU/EFU C - BLC/BPB ","ER599",546,null,null,null,null,null,null,null,null,null,null,null,null,null,null,null,null,null,null,null,"ER599","KIT LIAISON EF/EFU/EFU C - BLC/BPB ",7639495,546,546]
[7629826,"KIT DE SECURITE ","MY480",145,null,null,null,null,null,null,null,null,null,null,null,null,null,null,null,null,null,null,null,"MY480","KIT DE SECURITE ",7629826,145,145]
[81998548,"MANCHON DE VISITE LG= 0.25 M","DB85",169,null,null,null,null,null,null,null,null,null,null,null,null,null,null,null,null,null,null,null,"DB85","MANCHON DE VISITE LG= 0.25 M",81998548,169,169]
[81998534,"TERMINAL VERTICAL NOIR","DB91",221,null,null,null,null,null,null,null,null,null,null,null,null,null,null,null,null,null,null,null,"DB91","TERMINAL VERTICAL NOIR",81998534,221,221]
[81998537,"RALLONGE LG 0.25 M","DB94",77,null,null,null,null,null,null,null,null,null,null,null,null,null,null,null,null,null,null,null,"DB94","RALLONGE LG 0.25 M",81998537,77,77]
[81998540,"JEU DE 2 COUDES A 45 °","DB97",183,null,null,null,null,null,null,null,null,null,null,null,null,null,null,null,null,null,null,null,"DB97","JEU DE 2 COUDES A 45 °",81998540,183,183]
[84837732,"TUILE A DOUILLE 25 A 45° NOIRE","CX52",82,null,null,null,null,null,null,null,null,null,null,null,null,null,null,null,null,null,null,null,"CX52","TUILE A DOUILLE 25 A 45° NOIRE",84837732,82,82]
[84837734,"TUILE A DOUILLE 35 A 55° NOIRE","CX63",105,null,null,null,null,null,null,null,null,null,null,null,null,null,null,null,null,null,null,null,"CX63","TUILE A DOUILLE 35 A 55° NOIRE",84837734,105,105]
[84837784,"TUILE A DOUILLE 35 A 55° ROUGE","CX84",105,null,null,null,null,null,null,null,null,null,null,null,null,null,null,null,null,null,null,null,"CX84","TUILE A DOUILLE 35 A 55° ROUGE",84837784,105,105]
[]
[84887580,"TUYAU PPS Ø 110 mm LG = 500 mm (GRIS)","DY180",33,null,null,null,null,null,null,null,null,null,null,null,null,null,null,null,null,null,null,null,"DY180","TUYAU PPS Ø 110 mm LG = 500 mm (GRIS)",84887580,33,33]
[84887582,"COUDE PPS 45° Ø 110 mm (GRIS)","DY182",51,null,null,null,null,null,null,null,null,null,null,null,null,null,null,null,null,null,null,null,"DY182","COUDE PPS 45° Ø 110 mm (GRIS)",84887582,51,51]
[84887772,"PLAQUE DE FINITION","DY772",63,null,null,null,null,null,null,null,null,null,null,null,null,null,null,null,null,null,null,null,"DY772","PLAQUE DE FINITION",84887772,63,63]
[100015325,"KIT N° 1 RACCORDEMENT CHEMINÉE FLEXIBLE PPS Ø 80 mm","DY895",253,null,null,null,null,null,null,null,null,null,null,null,null,null,null,null,null,null,null,null,"DY895","KIT N° 1 RACCORDEMENT CHEMINÉE FLEXIBLE PPS Ø 80 mm",100015325,253,253]
[100015328,"PIÈCE DE COUPLAGE FLEXIBLE Ø 80 mm","DY898",76,null,null,null,null,null,null,null,null,null,null,null,null,null,null,null,null,null,null,null,"DY898","PIÈCE DE COUPLAGE FLEXIBLE Ø 80 mm",100015328,76,76]
[100015331,"OUTIL D'AIDE À L'INSERTION Ø 80 mm","DY901",190,null,null,null,null,null,null,null,null,null,null,null,null,null,null,null,null,null,null,null,"DY901","OUTIL D'AIDE À L'INSERTION Ø 80 mm",100015331,190,190]
[]
[100006000,"DK 35/150-2 ","FS4",3180,null,null,null,null,null,null,null,null,null,null,null,null,null,null,null,null,null,null,null,"FS4","DK 35/150-2 ",100006000,3180,3180]
[85287002,"KIT DE RACCORDEMENT SANITAIRE","FL11",221,null,null,null,null,null,null,null,null,null,null,null,null,null,null,null,null,null,null,null,"FL11","KIT DE RACCORDEMENT SANITAIRE",85287002,221,221]
[]
["OPTIONS DSX",null,null,null,null,null,null,null,null,null,null,null,null,null,null,null,null,null,null,null,null,null,null,null,null,"OPTIONS DSX"]
[85287002,"KIT DE RACCORDEMENT SANITAIRE","FL11",221,null,null,null,null,null,null,null,null,null,null,null,null,null,null,null,null,null,null,null,"FL11","KIT DE RACCORDEMENT SANITAIRE",85287002,221,221]
["OPTIONS REGULATIONS DK/DSX",null,null,null,null,null,null,null,null,null,null,null,null,null,null,null,null,null,null,null,null,null,null,null,null,"OPTIONS REGULATIONS DK/DSX"]
[88017904,"THERMOSTAT AMBIANCE PROGRAMMABLE (FILAIRE)","AD191",176,null,null,null,null,null,null,null,null,null,null,null,null,null,null,null,null,null,null,null,"AD191","THERMOSTAT AMBIANCE PROGRAMMABLE (FILAIRE)",88017904,176,176]
[]
[100004398,"PKX 266 CORPS MONTE",null,5109,null,null,null,null,null,null,null,null,null,null,null,null,null,null,null,null,null,null,null,null,"PKX 266 CORPS MONTE",100004398,5109,5109]
[100004401,"PKX2 266 CORPS MONTE",null,5232,null,null,null,null,null,null,null,null,null,null,null,null,null,null,null,null,null,null,null,null,"PKX2 266 CORPS MONTE",100004401,5232,5232]
[100004403,"PKX2 268 CORPS MONTE",null,5916,null,null,null,null,null,null,null,null,null,null,null,null,null,null,null,null,null,null,null,null,"PKX2 268 CORPS MONTE",100004403,5916,5916]
[100004409,"PKR 266 + AD217  CORPS MONTE",null,6197,null,null,null,null,null,null,null,null,null,null,null,null,null,null,null,null,null,null,null,null,"PKR 266 + AD217  CORPS MONTE",100004409,6197,6197]
[]
[100004480,"PKX 266 CORPS NON MONTE",null,5112,null,null,null,null,null,null,null,null,null,null,null,null,null,null,null,null,null,null,null,null,"PKX 266 CORPS NON MONTE",100004480,5112,5112]
[100004481,"PKX 267 CORPS NON MONTE",null,5453,null,null,null,null,null,null,null,null,null,null,null,null,null,null,null,null,null,null,null,null,"PKX 267 CORPS NON MONTE",100004481,5453,5453]
[100004485,"PKX2 268 CORPS NON MONTE",null,5921,null,null,null,null,null,null,null,null,null,null,null,null,null,null,null,null,null,null,null,null,"PKX2 268 CORPS NON MONTE",100004485,5921,5921]
[100004489,"PKR 267 CORPS NON MONTE",null,6212,null,null,null,null,null,null,null,null,null,null,null,null,null,null,null,null,null,null,null,null,"PKR 267 CORPS NON MONTE",100004489,6212,6212]
[100004492,"PKR 267 + AD217  CORPS NON MONTE",null,6541,null,null,null,null,null,null,null,null,null,null,null,null,null,null,null,null,null,null,null,null,"PKR 267 + AD217  CORPS NON MONTE",100004492,6541,6541]
[]
[100004367,"CAISSE ACCESSOIRES 5 ELEMENTS","ME7",1130,null,null,null,null,null,null,null,null,null,null,null,null,null,null,null,null,null,null,null,"ME7","CAISSE ACCESSOIRES 5 ELEMENTS",100004367,1130,1130]
[100004370,"CAISSE ACCESSOIRES 8 ELEMENTS","ME10",1272,null,null,null,null,null,null,null,null,null,null,null,null,null,null,null,null,null,null,null,"ME10","CAISSE ACCESSOIRES 8 ELEMENTS",100004370,1272,1272]
[100004531,"COLIS JAQUETTE PKR264 ","MF1",996,null,null,null,null,null,null,null,null,null,null,null,null,null,null,null,null,null,null,null,"MF1","COLIS JAQUETTE PKR264 ",100004531,996,996]
[100019221,"COLIS JAQUETTE PK267/PU267","MF8",1295,null,null,null,null,null,null,null,null,null,null,null,null,null,null,null,null,null,null,null,"MF8","COLIS JAQUETTE PK267/PU267",100019221,1295,1295]
[100004363,"CORPS ASSEMBLE 6 ELEMENTS   ","ME3",3112,null,null,null,null,null,null,null,null,null,null,null,null,null,null,null,null,null,null,null,"ME3","CORPS ASSEMBLE 6 ELEMENTS   ",100004363,3112,3112]
[82277011,"LIASSE TIGE ASSEMB. 7 EL  ",null,11,null,null,null,null,null,null,null,null,null,null,null,null,null,null,null,null,null,null,null,null,"LIASSE TIGE ASSEMB. 7 EL  ",82277011,11,11]
[100004587,"TABLEAU  R/TA","FT63",1469,null,null,null,null,null,null,null,null,null,null,null,null,null,null,null,null,null,null,null,"FT63","TABLEAU  R/TA",100004587,1469,1469]
[]
[88017017,"SONDE DEPART v3v","AD199",85,null,null,null,null,null,null,null,null,null,null,null,null,null,null,null,null,null,null,null,"AD199","SONDE DEPART v3v",88017017,85,85]
[88017851,"CABLE DE LIAISON BUS LG 12 M","AD134",118,null,null,null,null,null,null,null,null,null,null,null,null,null,null,null,null,null,null,null,"AD134","CABLE DE LIAISON BUS LG 12 M",88017851,118,118]
[88017904,"THERMOSTAT AMBIANCE PROGRAMMABLE (FILAIRE)","AD191",176,null,null,null,null,null,null,null,null,null,null,null,null,null,null,null,null,null,null,null,"AD191","THERMOSTAT AMBIANCE PROGRAMMABLE (FILAIRE)",88017904,176,176]
[100004781,"SONDE PLONGEUR + DOIGT DE GANT","AD218",201,null,null,null,null,null,null,null,null,null,null,null,null,null,null,null,null,null,null,null,"AD218","SONDE PLONGEUR + DOIGT DE GANT",100004781,201,201]
[89557009,"KIT DE TRANSFORMATION G/R 3/4 '' ET 1 ''","BH84",35,null,null,null,null,null,null,null,null,null,null,null,null,null,null,null,null,null,null,null,"BH84","KIT DE TRANSFORMATION G/R 3/4 '' ET 1 ''",89557009,35,35]
[]
[100018991,"OUTIL MONTAGE JD-TE PLUS NEUF",null,3104,null,null,null,null,null,null,null,null,null,null,null,null,null,null,null,null,null,null,null,null,"OUTIL MONTAGE JD-TE PLUS NEUF",100018991,3104,3104]
[]
[100004919,"PKX-357 CORPS NON MONTE",null,5782,null,null,null,null,null,null,null,null,null,null,null,null,null,null,null,null,null,null,null,null,"PKX-357 CORPS NON MONTE",100004919,5782,5782]
[100004899,"PKX-357 CORPS MONTE ",null,6410,null,null,null,null,null,null,null,null,null,null,null,null,null,null,null,null,null,null,null,null,"PKX-357 CORPS MONTE ",100004899,6410,6410]
[100004910,"PKX-358 CORPS MONTE ",null,7419,null,null,null,null,null,null,null,null,null,null,null,null,null,null,null,null,null,null,null,null,"PKX-358 CORPS MONTE ",100004910,7419,7419]
[100004923,"PKR-356 CORPS NON MONTE ",null,5426,null,null,null,null,null,null,null,null,null,null,null,null,null,null,null,null,null,null,null,null,"PKR-356 CORPS NON MONTE ",100004923,5426,5426]
[100004912,"PKR-355 CORPS MONTE     ",null,5447,null,null,null,null,null,null,null,null,null,null,null,null,null,null,null,null,null,null,null,null,"PKR-355 CORPS MONTE     ",100004912,5447,5447]
[100004916,"PKR-359 CORPS MONTE     ",null,8951,null,null,null,null,null,null,null,null,null,null,null,null,null,null,null,null,null,null,null,null,"PKR-359 CORPS MONTE     ",100004916,8951,8951]
[85537067,"CORPS MONTE PKR355",null,3205,null,null,null,null,null,null,null,null,null,null,null,null,null,null,null,null,null,null,null,null,"CORPS MONTE PKR355",85537067,3205,3205]
[85537071,"CORPS MONTE PKR359",null,5138,null,null,null,null,null,null,null,null,null,null,null,null,null,null,null,null,null,null,null,null,"CORPS MONTE PKR359",85537071,5138,5138]
[100004867,"COLIS JAQUETTE LATERALE PK 356","MD9",700,null,null,null,null,null,null,null,null,null,null,null,null,null,null,null,null,null,null,null,"MD9","COLIS JAQUETTE LATERALE PK 356",100004867,700,700]
[82190002,"ELEMENT AVANT   PKR350",null,558,null,null,null,null,null,null,null,null,null,null,null,null,null,null,null,null,null,null,null,null,"ELEMENT AVANT   PKR350",82190002,558,558]
[85537072,"ELEMENT ARRIERE PKR350",null,614,null,null,null,null,null,null,null,null,null,null,null,null,null,null,null,null,null,null,null,null,"ELEMENT ARRIERE PKR350",85537072,614,614]
[85537011,"ACCESSOIRES PKR356","FD11",597,null,null,null,null,null,null,null,null,null,null,null,null,null,null,null,null,null,null,null,"FD11","ACCESSOIRES PKR356",85537011,597,597]
[85537014,"ACCESSOIRES PKR359","FD14",804,null,null,null,null,null,null,null,null,null,null,null,null,null,null,null,null,null,null,null,"FD14","ACCESSOIRES PKR359",85537014,804,804]
[85537015,"ACCESSOIRES CORPS ASS.  PKR 355-6","FD15",325,null,null,null,null,null,null,null,null,null,null,null,null,null,null,null,null,null,null,null,"FD15","ACCESSOIRES CORPS ASS.  PKR 355-6",85537015,325,325]
[82198945,"TIGE ASSEMBL. PKR355",null,11,null,null,null,null,null,null,null,null,null,null,null,null,null,null,null,null,null,null,null,null,"TIGE ASSEMBL. PKR355",82198945,11,11]
[82198949,"TIGE ASSEMBL. PKR359",null,26,null,null,null,null,null,null,null,null,null,null,null,null,null,null,null,null,null,null,null,null,"TIGE ASSEMBL. PKR359",82198949,26,26]
[85537063,"CHASSIS PKR357","FD33",181,null,null,null,null,null,null,null,null,null,null,null,null,null,null,null,null,null,null,null,"FD33","CHASSIS PKR357",85537063,181,181]
[100005564,"DOC.TECHN","MG5",45,null,null,null,null,null,null,null,null,null,null,null,null,null,null,null,null,null,null,null,"MG5","DOC.TECHN",100005564,45,45]
[100005566,"DOC. TECHN. ","MG7",45,null,null,null,null,null,null,null,null,null,null,null,null,null,null,null,null,null,null,null,"MG7","DOC. TECHN. ",100005566,45,45]
[82197718,"PORTE FOYERE PKR340 F135","BP13",317,null,null,null,null,null,null,null,null,null,null,null,null,null,null,null,null,null,null,null,"BP13","PORTE FOYERE PKR340 F135",82197718,317,317]
["OPTIONS",null,null,null,null,null,null,null,null,null,null,null,null,null,null,null,null,null,null,null,null,null,null,null,null,"OPTIONS"]
[125392,"REA-130B POUR 1 CIRCUIT",null,715,null,null,null,null,null,null,null,null,null,null,null,null,null,null,null,null,null,null,null,null,"REA-130B POUR 1 CIRCUIT",125392,715,715]
[126490,"CABLAGE POUR 2è VANNE MELANGEUSE",null,81,null,null,null,null,null,null,null,null,null,null,null,null,null,null,null,null,null,null,null,null,"CABLAGE POUR 2è VANNE MELANGEUSE",126490,81,81]
[85537076,"KIT DE SECURITE < 115 kW","FD39",195,null,null,null,null,null,null,null,null,null,null,null,null,null,null,null,null,null,null,null,"FD39","KIT DE SECURITE < 115 kW",85537076,195,195]
[85537079,"KIT DE SECURITE 115 à 330 kW","FD42",277,null,null,null,null,null,null,null,null,null,null,null,null,null,null,null,null,null,null,null,"FD42","KIT DE SECURITE 115 à 330 kW",85537079,277,277]
[100000030,"COLIS OPTION SONDE ECS","AD212",53,null,null,null,null,null,null,null,null,null,null,null,null,null,null,null,null,null,null,null,"AD212","COLIS OPTION SONDE ECS",100000030,53,53]
[88017014," PLATINE + SONDE V3V","AD196",193,null,null,null,null,null,null,null,null,null,null,null,null,null,null,null,null,null,null,null,"AD196"," PLATINE + SONDE V3V",88017014,193,193]
[88017858,"PROLONGATEUR BUS","AD139",26,null,null,null,null,null,null,null,null,null,null,null,null,null,null,null,null,null,null,null,"AD139","PROLONGATEUR BUS",88017858,26,26]
[]
[7724274,"TRANSFO SANS FICHE","AD333",36,null,null,null,null,null,null,null,null,null,null,null,null,null,null,null,null,null,null,null,"AD333","TRANSFO SANS FICHE",7724274,36,36]
[]
[100018920,"BOITIER MURAL INTERFACE OTH/MIDBUS","AD286",150,null,null,null,null,null,null,null,null,null,null,null,null,null,null,null,null,null,null,null,"AD286","BOITIER MURAL INTERFACE OTH/MIDBUS",100018920,150,150]
[100013477,"CDE A DISTANCE FILAIRE RS 400   ","AD257",190,null,null,null,null,null,null,null,null,null,null,null,null,null,null,null,null,null,null,null,"AD257","CDE A DISTANCE FILAIRE RS 400   ",100013477,190,190]
[100002803,"COMMANDE A DISTANCE SIMPLIFIEE AD208","AD208",112,null,null,null,null,null,null,null,null,null,null,null,null,null,null,null,null,null,null,null,"AD208","COMMANDE A DISTANCE SIMPLIFIEE AD208",100002803,112,112]
[100013307,"MODULE CHAUDIERE RADIO (EMETTEUR)","AD252",132,null,null,null,null,null,null,null,null,null,null,null,null,null,null,null,null,null,null,null,"AD252","MODULE CHAUDIERE RADIO (EMETTEUR)",100013307,132,132]
[88017836,"CABLE BUS RX11  LG 1,5 M","AD124",90,null,null,null,null,null,null,null,null,null,null,null,null,null,null,null,null,null,null,null,"AD124","CABLE BUS RX11  LG 1,5 M",88017836,90,90]
[]
[7676417,"OETROCOM-3 MR ","AD316",1146,null,null,null,null,null,null,null,null,null,null,null,null,null,null,null,null,null,null,null,"AD316","OETROCOM-3 MR ",7676417,1146,1146]
[7663619,"CABLE S-BUS 20M AVEC BOUCHONS","AD310",140,null,null,null,null,null,null,null,null,null,null,null,null,null,null,null,null,null,null,null,"AD310","CABLE S-BUS 20M AVEC BOUCHONS",7663619,140,140]
[88017851,"CABLE DE LIAISON BUS LG 12 M","AD134",118,null,null,null,null,null,null,null,null,null,null,null,null,null,null,null,null,null,null,null,"AD134","CABLE DE LIAISON BUS LG 12 M",88017851,118,118]
[100000030,"COLIS OPTION SONDE ECS","AD212",53,null,null,null,null,null,null,null,null,null,null,null,null,null,null,null,null,null,null,null,"AD212","COLIS OPTION SONDE ECS",100000030,53,53]
[88017017,"SONDE DEPART v3v","AD199",85,null,null,null,null,null,null,null,null,null,null,null,null,null,null,null,null,null,null,null,"AD199","SONDE DEPART v3v",88017017,85,85]
[]
[100000030,"COLIS OPTION SONDE ECS","AD212",53,null,null,null,null,null,null,null,null,null,null,null,null,null,null,null,null,null,null,null,"AD212","COLIS OPTION SONDE ECS",100000030,53,53]
[85757742,"SONDE FUMEES","FM47",77,null,null,null,null,null,null,null,null,null,null,null,null,null,null,null,null,null,null,null,"FM47","SONDE FUMEES",85757742,77,77]
[]
[100012592,"REA 060B",null,252,null,null,null,null,null,null,null,null,null,null,null,null,null,null,null,null,null,null,null,null,"REA 060B",100012592,252,252]
[7721982,"GTW08 L-Bus/Modbus","AD332",176,null,null,null,null,null,null,null,null,null,null,null,null,null,null,null,null,null,null,null,"AD332","GTW08 L-Bus/Modbus",7721982,176,176]
[]
[]
[7650338,"DEGAZEUR MICROBULLES DN65/PN16","SA21",1108,null,null,null,null,null,null,null,null,null,null,null,null,null,null,null,null,null,null,null,"SA21","DEGAZEUR MICROBULLES DN65/PN16",7650338,1108,1108]
[7650339,"DEGAZEUR MICROBULLES DN80/PN16","SA22",1518,null,null,null,null,null,null,null,null,null,null,null,null,null,null,null,null,null,null,null,"SA22","DEGAZEUR MICROBULLES DN80/PN16",7650339,1518,1518]
["SEPARATEUR AVEC BARREAU MAGNETIQUE ",null,null,null,null,null,null,null,null,null,null,null,null,null,null,null,null,null,null,null,null,null,null,null,null,"SEPARATEUR AVEC BARREAU MAGNETIQUE "]
[7650378,"SEPARATEUR BOUES A AIMANT RP 2 S","SA26",458,null,null,null,null,null,null,null,null,null,null,null,null,null,null,null,null,null,null,null,"SA26","SEPARATEUR BOUES A AIMANT RP 2 S",7650378,458,458]
[7651732,"SEPARATEUR AVEC BARREAU MAGNETIQUE DN100",null,1988,null,null,null,null,null,null,null,null,null,null,null,null,null,null,null,null,null,null,null,null,"SEPARATEUR AVEC BARREAU MAGNETIQUE DN100",7651732,1988,1988]
[7651733,"SEPARATEUR AVEC BARREAU MAGNETIQUE DN125",null,3414,null,null,null,null,null,null,null,null,null,null,null,null,null,null,null,null,null,null,null,null,"SEPARATEUR AVEC BARREAU MAGNETIQUE DN125",7651733,3414,3414]
[7650384,"SEPARATEUR BOUES DN125/PN16","SA30",2829,null,null,null,null,null,null,null,null,null,null,null,null,null,null,null,null,null,null,null,"SA30","SEPARATEUR BOUES DN125/PN16",7650384,2829,2829]
[7650386,"BARREAU MAGNETIQUE POUR DN50 A 100","SA31",520,null,null,null,null,null,null,null,null,null,null,null,null,null,null,null,null,null,null,null,"SA31","BARREAU MAGNETIQUE POUR DN50 A 100",7650386,520,520]
[7651698,"SEPAR.BOUES DERIV./CIRC.9M3_H DN32","SA34",3922,null,null,null,null,null,null,null,null,null,null,null,null,null,null,null,null,null,null,null,"SA34","SEPAR.BOUES DERIV./CIRC.9M3_H DN32",7651698,3922,3922]
[7651701,"POCHE 50 MICRON","SA37",17,null,null,null,null,null,null,null,null,null,null,null,null,null,null,null,null,null,null,null,"SA37","POCHE 50 MICRON",7651701,17,17]
[]
[]
[100018188,"PREPARATEUR VERTICAL OBLC 200","EC615",1437,null,null,null,null,null,null,null,null,null,null,null,null,null,null,null,null,null,null,null,"EC615","PREPARATEUR VERTICAL OBLC 200",100018188,1437,1437]
[100018189,"PREPARATEUR VERTICAL OBLC 300","EC616",1767,null,null,null,null,null,null,null,null,null,null,null,null,null,null,null,null,null,null,null,"EC616","PREPARATEUR VERTICAL OBLC 300",100018189,1767,1767]
[100007835,"KIT LIAISON PK264-6","EA117",586,null,null,null,null,null,null,null,null,null,null,null,null,null,null,null,null,null,null,null,"EA117","KIT LIAISON PK264-6",100007835,586,586]
[100007836,"TUBULURE GSR 230 - PKR256 à 258/OB(<=300)  ","EA118",586,null,null,null,null,null,null,null,null,null,null,null,null,null,null,null,null,null,null,null,"EA118","TUBULURE GSR 230 - PKR256 à 258/OB(<=300)  ",100007836,586,586]
[100005661,"SONDE BALLON 5M LONG NTC 12K","AD226",51,null,null,null,null,null,null,null,null,null,null,null,null,null,null,null,null,null,null,null,"AD226","SONDE BALLON 5M LONG NTC 12K",100005661,51,51]
[]
[100019198,"PREPARATEUR VERTICAL OBPB 300","EC626",2176,null,null,null,null,null,null,null,null,null,null,null,null,null,null,null,null,null,null,null,"EC626","PREPARATEUR VERTICAL OBPB 300",100019198,2176,2176]
[]
[100010652,"KIT OECOPROTEC PROTECTION ACI SUR OETRONIC","EC431",134,null,null,null,null,null,null,null,null,null,null,null,null,null,null,null,null,null,null,null,"EC431","KIT OECOPROTEC PROTECTION ACI SUR OETRONIC",100010652,134,134]
[89608920,"ANODE ACI CORREX UP BALLON > 300 LITRES","AM7",583,null,null,null,null,null,null,null,null,null,null,null,null,null,null,null,null,null,null,null,"AM7","ANODE ACI CORREX UP BALLON > 300 LITRES",89608920,583,583]
[]
["OPTIONS",null,null,null,null,null,null,null,null,null,null,null,null,null,null,null,null,null,null,null,null,null,null,null,null,"OPTIONS"]
[7600413,"KIT DE RACCORDEMENT POUR BALLON DE 130 L","HR92",77,null,null,null,null,null,null,null,null,null,null,null,null,null,null,null,null,null,null,null,"HR92","KIT DE RACCORDEMENT POUR BALLON DE 130 L",7600413,77,77]
[]
[7616405,"BALLON EL160SL","ER592",1106,null,null,null,null,null,null,null,null,null,null,null,null,null,null,null,null,null,null,null,"ER592","BALLON EL160SL",7616405,1106,1106]
["OPTIONS",null,null,null,null,null,null,null,null,null,null,null,null,null,null,null,null,null,null,null,null,null,null,null,null,"OPTIONS"]
[7629841,"KIT ANODE ACI POUR OECOIL CONDENS ","MY475",136,null,null,null,null,null,null,null,null,null,null,null,null,null,null,null,null,null,null,null,"MY475","KIT ANODE ACI POUR OECOIL CONDENS ",7629841,136,136]
[]
[7650480,"BALLON B 650","AJ78",3247,null,null,null,null,null,null,null,null,null,null,null,null,null,null,null,null,null,null,null,"AJ78","BALLON B 650",7650480,3247,3247]
[7650483,"BALLON B 1500","AJ81",5263,null,null,null,null,null,null,null,null,null,null,null,null,null,null,null,null,null,null,null,"AJ81","BALLON B 1500",7650483,5263,5263]
[7650486,"BALLON B 3000","AJ84",7054,null,null,null,null,null,null,null,null,null,null,null,null,null,null,null,null,null,null,null,"AJ84","BALLON B 3000",7650486,7054,7054]
[7650499,"JAQUETTE RIGIDE 1000 TP B/RSB ","AJ97",784,null,null,null,null,null,null,null,null,null,null,null,null,null,null,null,null,null,null,null,"AJ97","JAQUETTE RIGIDE 1000 TP B/RSB ",7650499,784,784]
[7650508,"JAQUETTE RIGIDE 2500 TP B/RSB ","AJ103",1680,null,null,null,null,null,null,null,null,null,null,null,null,null,null,null,null,null,null,null,"AJ103","JAQUETTE RIGIDE 2500 TP B/RSB ",7650508,1680,1680]
[7650584,"JAQUETTE RIGIDE M0 1000 TP B/RSB","AJ142",1680,null,null,null,null,null,null,null,null,null,null,null,null,null,null,null,null,null,null,null,"AJ142","JAQUETTE RIGIDE M0 1000 TP B/RSB",7650584,1680,1680]
[7650590,"JAQUETTE RIGIDE M0 2500 TP B/RSB","AJ146",2856,null,null,null,null,null,null,null,null,null,null,null,null,null,null,null,null,null,null,null,"AJ146","JAQUETTE RIGIDE M0 2500 TP B/RSB",7650590,2856,2856]
[89757750,"RESISTANCE BLINDEE 6 KW/400V A VISSER 1''1/2","AJ36",689,null,null,null,null,null,null,null,null,null,null,null,null,null,null,null,null,null,null,null,"AJ36","RESISTANCE BLINDEE 6 KW/400V A VISSER 1''1/2",89757750,689,689]
[100019314,"KIT ELECTRIQUE 12 KW/400V  1 1/2  ( POUR RSB 1500 A 3000 )","ER335",798,null,null,null,null,null,null,null,null,null,null,null,null,null,null,null,null,null,null,null,"ER335","KIT ELECTRIQUE 12 KW/400V  1 1/2  ( POUR RSB 1500 A 3000 )",100019314,798,798]
[7651116,"RESIST.B.30KW400V DN110 SUP.800L ","AJ166",729,null,null,null,null,null,null,null,null,null,null,null,null,null,null,null,null,null,null,null,"AJ166","RESIST.B.30KW400V DN110 SUP.800L ",7651116,729,729]
[7651078,"DOIGT DE GANT 350 MM 1/2 ","AJ162",39,null,null,null,null,null,null,null,null,null,null,null,null,null,null,null,null,null,null,null,"AJ162","DOIGT DE GANT 350 MM 1/2 ",7651078,39,39]
["CUVE",null,null,null,null,null,null,null,null,null,null,null,null,null,null,null,null,null,null,null,null,null,null,null,null,"CUVE"]
["HABILLAGE ",null,null,null,null,null,null,null,null,null,null,null,null,null,null,null,null,null,null,null,null,null,null,null,null,"HABILLAGE "]
["OPTIONS",null,null,null,null,null,null,null,null,null,null,null,null,null,null,null,null,null,null,null,null,null,null,null,null,"OPTIONS"]
[]
["CUVE",null,null,null,null,null,null,null,null,null,null,null,null,null,null,null,null,null,null,null,null,null,null,null,null,"CUVE"]
[7650461,"BALLON PS 600","AJ59",1567,null,null,null,null,null,null,null,null,null,null,null,null,null,null,null,null,null,null,null,"AJ59","BALLON PS 600",7650461,1567,1567]
[7650466,"BALLON PS 2500","AJ64",4256,null,null,null,null,null,null,null,null,null,null,null,null,null,null,null,null,null,null,null,"AJ64","BALLON PS 2500",7650466,4256,4256]
[]
[7650491,"JAQUETTE RIGIDE 1000 PS/PSE ","AJ89",784,null,null,null,null,null,null,null,null,null,null,null,null,null,null,null,null,null,null,null,"AJ89","JAQUETTE RIGIDE 1000 PS/PSE ",7650491,784,784]
[7650494,"JAQUETTE RIGIDE 2500 PS/PSE ","AJ92",1680,null,null,null,null,null,null,null,null,null,null,null,null,null,null,null,null,null,null,null,"AJ92","JAQUETTE RIGIDE 2500 PS/PSE ",7650494,1680,1680]
[7650513,"JAQUETTE SOUPLE M1 600 PS/PSE ","AJ107",336,null,null,null,null,null,null,null,null,null,null,null,null,null,null,null,null,null,null,null,"AJ107","JAQUETTE SOUPLE M1 600 PS/PSE ",7650513,336,336]
[7650528,"JAQUETTE SOUPLE M1 2000 PS/PSE ","AJ111",897,null,null,null,null,null,null,null,null,null,null,null,null,null,null,null,null,null,null,null,"AJ111","JAQUETTE SOUPLE M1 2000 PS/PSE ",7650528,897,897]
[]
[]
[7650456,"BALLON PSB 1000","AJ54",1343,null,null,null,null,null,null,null,null,null,null,null,null,null,null,null,null,null,null,null,"AJ54","BALLON PSB 1000",7650456,1343,1343]
[7650458,"BALLON PSB 2000","AJ56",2351,null,null,null,null,null,null,null,null,null,null,null,null,null,null,null,null,null,null,null,"AJ56","BALLON PSB 2000",7650458,2351,2351]
["HABILLAGE RIGIDE (HR)",null,null,null,null,null,null,null,null,null,null,null,null,null,null,null,null,null,null,null,null,null,null,null,null,"HABILLAGE RIGIDE (HR)"]
[7650491,"JAQUETTE RIGIDE 1000 PS/PSE ","AJ89",784,null,null,null,null,null,null,null,null,null,null,null,null,null,null,null,null,null,null,null,"AJ89","JAQUETTE RIGIDE 1000 PS/PSE ",7650491,784,784]
[7650495,"JAQUETTE RIGIDE 3000 PS/PSE ","AJ93",1903,null,null,null,null,null,null,null,null,null,null,null,null,null,null,null,null,null,null,null,"AJ93","JAQUETTE RIGIDE 3000 PS/PSE ",7650495,1903,1903]
[7650514,"JAQUETTE SOUPLE M1 800 PS/PSE","AJ108",336,null,null,null,null,null,null,null,null,null,null,null,null,null,null,null,null,null,null,null,"AJ108","JAQUETTE SOUPLE M1 800 PS/PSE",7650514,336,336]
[7650528,"JAQUETTE SOUPLE M1 2000 PS/PSE","AJ111",897,null,null,null,null,null,null,null,null,null,null,null,null,null,null,null,null,null,null,null,"AJ111","JAQUETTE SOUPLE M1 2000 PS/PSE",7650528,897,897]
[7650529,"JAQUETTE SOUPLE M1 2500 PS/PSE","AJ112",1008,null,null,null,null,null,null,null,null,null,null,null,null,null,null,null,null,null,null,null,"AJ112","JAQUETTE SOUPLE M1 2500 PS/PSE",7650529,1008,1008]
["CUVE",null,null,null,null,null,null,null,null,null,null,null,null,null,null,null,null,null,null,null,null,null,null,null,null,"CUVE"]
[7650469,"BALLON RSB 1000","AJ67",2576,null,null,null,null,null,null,null,null,null,null,null,null,null,null,null,null,null,null,null,"AJ67","BALLON RSB 1000",7650469,2576,2576]
[7650473,"BALLON RSB 3000","AJ71",4031,null,null,null,null,null,null,null,null,null,null,null,null,null,null,null,null,null,null,null,"AJ71","BALLON RSB 3000",7650473,4031,4031]
[7650497,"JAQUETTE RIGIDE 800 TP B/RSB","AJ95",694,null,null,null,null,null,null,null,null,null,null,null,null,null,null,null,null,null,null,null,"AJ95","JAQUETTE RIGIDE 800 TP B/RSB",7650497,694,694]
[7650508,"JAQUETTE RIGIDE 2500 TP B/RSB ","AJ103",1680,null,null,null,null,null,null,null,null,null,null,null,null,null,null,null,null,null,null,null,"AJ103","JAQUETTE RIGIDE 2500 TP B/RSB ",7650508,1680,1680]
[7650534,"JAQUETTE SOUPLE M1 800 TP B/RSB ","AJ115",336,null,null,null,null,null,null,null,null,null,null,null,null,null,null,null,null,null,null,null,"AJ115","JAQUETTE SOUPLE M1 800 TP B/RSB ",7650534,336,336]
[7650561,"JAQUETTE SOUPLE M1 2000 TP B/RSB ","AJ121",897,null,null,null,null,null,null,null,null,null,null,null,null,null,null,null,null,null,null,null,"AJ121","JAQUETTE SOUPLE M1 2000 TP B/RSB ",7650561,897,897]
[7650563,"JAQUETTE SOUPLE M1 2500 TP B/RSB ","AJ123",1008,null,null,null,null,null,null,null,null,null,null,null,null,null,null,null,null,null,null,null,"AJ123","JAQUETTE SOUPLE M1 2500 TP B/RSB ",7650563,1008,1008]
["HABILLAGE RIGIDE (CLASSEMENT AU FEU)",null,null,null,null,null,null,null,null,null,null,null,null,null,null,null,null,null,null,null,null,null,null,null,null,"HABILLAGE RIGIDE (CLASSEMENT AU FEU)"]
[7650475,"BALLON RSB 1000 ","AJ73",2800,null,null,null,null,null,null,null,null,null,null,null,null,null,null,null,null,null,null,null,"AJ73","BALLON RSB 1000 ",7650475,2800,2800]
[7650477,"BALLON RSB 2000","AJ75",3471,null,null,null,null,null,null,null,null,null,null,null,null,null,null,null,null,null,null,null,"AJ75","BALLON RSB 2000",7650477,3471,3471]
[]
[7650594,"JAQUETTE RIGIDE M0 2000 TH B/RSB","AJ150",2351,null,null,null,null,null,null,null,null,null,null,null,null,null,null,null,null,null,null,null,"AJ150","JAQUETTE RIGIDE M0 2000 TH B/RSB",7650594,2351,2351]
["HABILLAGE SOUPLE (CLASSEMENT AU FEU)",null,null,null,null,null,null,null,null,null,null,null,null,null,null,null,null,null,null,null,null,null,null,null,null,"HABILLAGE SOUPLE (CLASSEMENT AU FEU)"]
[7650562,"JAQUETTE SOUPLE M1 2000 TH B/RSB ","AJ122",897,null,null,null,null,null,null,null,null,null,null,null,null,null,null,null,null,null,null,null,"AJ122","JAQUETTE SOUPLE M1 2000 TH B/RSB ",7650562,897,897]
[7650564,"JAQUETTE SOUPLE M1 2500 TH B/RSB ","AJ124",1008,null,null,null,null,null,null,null,null,null,null,null,null,null,null,null,null,null,null,null,"AJ124","JAQUETTE SOUPLE M1 2500 TH B/RSB ",7650564,1008,1008]
["OPTIONS",null,null,null,null,null,null,null,null,null,null,null,null,null,null,null,null,null,null,null,null,null,null,null,null,"OPTIONS"]
[7651127,"RESIST. STEATITE 30 KW 400V DN400","AJ172",2688,null,null,null,null,null,null,null,null,null,null,null,null,null,null,null,null,null,null,null,"AJ172","RESIST. STEATITE 30 KW 400V DN400",7651127,2688,2688]
[89608920,"ANODE ACI CORREX UP BALLON > 300 LITRES","AM7",583,null,null,null,null,null,null,null,null,null,null,null,null,null,null,null,null,null,null,null,"AM7","ANODE ACI CORREX UP BALLON > 300 LITRES",89608920,583,583]
[]
["OPTIONS",null,null,null,null,null,null,null,null,null,null,null,null,null,null,null,null,null,null,null,null,null,null,null,null,"OPTIONS"]
[]
[100005131,"BALLON SOLAIRE COMBI CHAUFFAGE + ECS DC 750-2","EC140",3536,null,null,null,null,null,null,null,null,null,null,null,null,null,null,null,null,null,null,null,"EC140","BALLON SOLAIRE COMBI CHAUFFAGE + ECS DC 750-2",100005131,3536,3536]
[]
[89757753,"ANODE A COURANT IMPOSE","AJ39",428,null,null,null,null,null,null,null,null,null,null,null,null,null,null,null,null,null,null,null,"AJ39","ANODE A COURANT IMPOSE",89757753,428,428]
[7630422,"REGULATION OETROSOL-PLUS","ER709",285,null,null,null,null,null,null,null,null,null,null,null,null,null,null,null,null,null,null,null,"ER709","REGULATION OETROSOL-PLUS",7630422,285,285]
[]
[]
[7618252,"KIT CASCADE DN 32 2 FWM 70","EC691",1976,null,null,null,null,null,null,null,null,null,null,null,null,null,null,null,null,null,null,null,"EC691","KIT CASCADE DN 32 2 FWM 70",7618252,1976,1976]
[]
[]
[7694340,"CHAUFFE EAU GAZ G20 OCGB 18 ","EB20",8072,null,null,null,null,null,null,null,null,null,null,null,null,null,null,null,null,null,null,null,"EB20","CHAUFFE EAU GAZ G20 OCGB 18 ",7694340,8072,8072]
[]
[]
[7694509,"CHAUFFE EAU GAZ G31 OCGB 18 ","EB23",8072,null,null,null,null,null,null,null,null,null,null,null,null,null,null,null,null,null,null,null,"EB23","CHAUFFE EAU GAZ G31 OCGB 18 ",7694509,8072,8072]
[7694508,"KIT COUDE 90° VENTOUSE HZ 1 M DN110","EB19",215,null,null,null,null,null,null,null,null,null,null,null,null,null,null,null,null,null,null,null,"EB19","KIT COUDE 90° VENTOUSE HZ 1 M DN110",7694508,215,215]
[]
[107141,"OES 151L E",null,1171,null,null,null,null,null,null,null,null,null,null,null,null,null,null,null,null,null,null,null,null,"OES 151L E",107141,1171,1171]
[107300,"OES-152L E",null,1171,null,null,null,null,null,null,null,null,null,null,null,null,null,null,null,null,null,null,null,null,"OES-152L E",107300,1171,1171]
[602523,"CONTRE-PLAQUE PERCAGE 120/DIX.150",null,93,null,null,null,null,null,null,null,null,null,null,null,null,null,null,null,null,null,null,null,null,"CONTRE-PLAQUE PERCAGE 120/DIX.150",602523,93,93]
[]
[]
[107936,"OES 255 LE",null,1400,null,null,null,null,null,null,null,null,null,null,null,null,null,null,null,null,null,null,null,null,"OES 255 LE",107936,1400,1400]
[]
[100004077,"OES 355 LZ",null,2365,null,null,null,null,null,null,null,null,null,null,null,null,null,null,null,null,null,null,null,null,"OES 355 LZ",100004077,2365,2365]
[7724970,"BRULEUR OES 362 LZ",null,1958,null,null,null,null,null,null,null,null,null,null,null,null,null,null,null,null,null,null,null,null,"BRULEUR OES 362 LZ",7724970,1958,1958]
[7724971,"BRULEUR OES 363 LZ",null,2026,null,null,null,null,null,null,null,null,null,null,null,null,null,null,null,null,null,null,null,null,"BRULEUR OES 363 LZ",7724971,2026,2026]
[7724972,"BRULEUR OES 364 LZ",null,2088,null,null,null,null,null,null,null,null,null,null,null,null,null,null,null,null,null,null,null,null,"BRULEUR OES 364 LZ",7724972,2088,2088]
[]
["OPTIONS",null,null,null,null,null,null,null,null,null,null,null,null,null,null,null,null,null,null,null,null,null,null,null,null,"OPTIONS"]
[602523,"CONTRE-PLAQUE PERCAGE 120/DIX.150",null,93,null,null,null,null,null,null,null,null,null,null,null,null,null,null,null,null,null,null,null,null,"CONTRE-PLAQUE PERCAGE 120/DIX.150",602523,93,93]
[602519,"CONTRE-PLAQUE PERCAGE 130/DIX.170",null,87,null,null,null,null,null,null,null,null,null,null,null,null,null,null,null,null,null,null,null,null,"CONTRE-PLAQUE PERCAGE 130/DIX.170",602519,87,87]
[]
[]
[]
[105617,"OES-441-1 LZ",null,2913,null,null,null,null,null,null,null,null,null,null,null,null,null,null,null,null,null,null,null,null,"OES-441-1 LZ",105617,2913,2913]
[106124,"OES-441-2 LZ",null,3555,null,null,null,null,null,null,null,null,null,null,null,null,null,null,null,null,null,null,null,null,"OES-441-2 LZ",106124,3555,3555]
[105518,"OES-441-3 LZ",null,3807,null,null,null,null,null,null,null,null,null,null,null,null,null,null,null,null,null,null,null,null,"OES-441-3 LZ",105518,3807,3807]
[105519,"OES-442 LZ",null,4114,null,null,null,null,null,null,null,null,null,null,null,null,null,null,null,null,null,null,null,null,"OES-442 LZ",105519,4114,4114]
[105520,"OES-443 LZ",null,4418,null,null,null,null,null,null,null,null,null,null,null,null,null,null,null,null,null,null,null,null,"OES-443 LZ",105520,4418,4418]
[]
[]
[]
[]
[]
[7724973,"OEN 161 GE",null,1932,null,null,null,null,null,null,null,null,null,null,null,null,null,null,null,null,null,null,null,null,"OEN 161 GE",7724973,1932,1932]
[7724974,"OEN 165 GE",null,2238,null,null,null,null,null,null,null,null,null,null,null,null,null,null,null,null,null,null,null,null,"OEN 165 GE",7724974,2238,2238]
[]
["OPTIONS",null,null,null,null,null,null,null,null,null,null,null,null,null,null,null,null,null,null,null,null,null,null,null,null,"OPTIONS"]
[88027289,"KIT GPL POUR BRUL G100 DD",null,165,null,null,null,null,null,null,null,null,null,null,null,null,null,null,null,null,null,null,null,null,"KIT GPL POUR BRUL G100 DD",88027289,165,165]
[88027290,"KIT GPL POUR BRUL G200/1",null,163,null,null,null,null,null,null,null,null,null,null,null,null,null,null,null,null,null,null,null,null,"KIT GPL POUR BRUL G200/1",88027290,163,163]
[7724963,"KIT VANNE MANU G MM1/2",null,55,null,null,null,null,null,null,null,null,null,null,null,null,null,null,null,null,null,null,null,null,"KIT VANNE MANU G MM1/2",7724963,55,55]
[7724964,"KIT RELAIS ELECTROVANNE EXT",null,172,null,null,null,null,null,null,null,null,null,null,null,null,null,null,null,null,null,null,null,null,"KIT RELAIS ELECTROVANNE EXT",7724964,172,172]
[]
[]
[]
[108534,"OEN 255 GE",null,2655,null,null,null,null,null,null,null,null,null,null,null,null,null,null,null,null,null,null,null,null,"OEN 255 GE",108534,2655,2655]
[108535,"OEN 255 GI",null,3162,null,null,null,null,null,null,null,null,null,null,null,null,null,null,null,null,null,null,null,null,"OEN 255 GI",108535,3162,3162]
[]
["OPTIONS",null,null,null,null,null,null,null,null,null,null,null,null,null,null,null,null,null,null,null,null,null,null,null,null,"OPTIONS"]
[200001978,"KIT DE CONVERSION PROPANE",null,503,null,null,null,null,null,null,null,null,null,null,null,null,null,null,null,null,null,null,null,null,"KIT DE CONVERSION PROPANE",200001978,503,503]
[100002804,"SET CONTROLEUR ETANCHEITE TC116 W05-T",null,1249,null,null,null,null,null,null,null,null,null,null,null,null,null,null,null,null,null,null,null,null,"SET CONTROLEUR ETANCHEITE TC116 W05-T",100002804,1249,1249]
[88027302,"CONTROLEUR ETANCH  VPS 504",null,1249,null,null,null,null,null,null,null,null,null,null,null,null,null,null,null,null,null,null,null,null,"CONTROLEUR ETANCH  VPS 504",88027302,1249,1249]
[null,"cONTROLEUR ETANCH  VPS 504",null,null,null,null,null,null,null,null,null,null,null,null,null,null,null,null,null,null,null,null,null,null,"cONTROLEUR ETANCH  VPS 504"]
[]
[]
[100004599,"OEN 352 GI",null,3817,null,null,null,null,null,null,null,null,null,null,null,null,null,null,null,null,null,null,null,null,"OEN 352 GI",100004599,3817,3817]
[100004600,"OEN 353 GI",null,4429,null,null,null,null,null,null,null,null,null,null,null,null,null,null,null,null,null,null,null,null,"OEN 353 GI",100004600,4429,4429]
[100004601,"OEN 355 GI - 20 mbar",null,5036,null,null,null,null,null,null,null,null,null,null,null,null,null,null,null,null,null,null,null,null,"OEN 355 GI - 20 mbar",100004601,5036,5036]
[]
["OPTIONS",null,null,null,null,null,null,null,null,null,null,null,null,null,null,null,null,null,null,null,null,null,null,null,null,"OPTIONS"]
[602524,"CONTRE-PLAQUE PERCAGE 170/DIX. 200",null,132,null,null,null,null,null,null,null,null,null,null,null,null,null,null,null,null,null,null,null,null,"CONTRE-PLAQUE PERCAGE 170/DIX. 200",602524,132,132]
[7626036,"KIT REGULATEUR RWF55 ","MW1",1392,null,null,null,null,null,null,null,null,null,null,null,null,null,null,null,null,null,null,null,"MW1","KIT REGULATEUR RWF55 ",7626036,1392,1392]
[200005580,"S/E POTENTIOMETRE DE RECOPIE",null,418,null,null,null,null,null,null,null,null,null,null,null,null,null,null,null,null,null,null,null,null,"S/E POTENTIOMETRE DE RECOPIE",200005580,418,418]
[130716,"INTERRUPTEUR +/- POUR GI (CPR)",null,null,null,null,null,null,null,null,null,null,null,null,null,null,null,null,null,null,null,null,null,null,"INTERRUPTEUR +/- POUR GI (CPR)",130716]
[88027302,"CONTROLEUR ETANCH  VPS 504",null,1249,null,null,null,null,null,null,null,null,null,null,null,null,null,null,null,null,null,null,null,null,"CONTROLEUR ETANCH  VPS 504",88027302,1249,1249]
[]
[]
[]
[106401,"OES 441.2 GI",null,3882,null,null,null,null,null,null,null,null,null,null,null,null,null,null,null,null,null,null,null,null,"OES 441.2 GI",106401,3882,3882]
[106402,"OES 441.3 GI",null,5411,null,null,null,null,null,null,null,null,null,null,null,null,null,null,null,null,null,null,null,null,"OES 441.3 GI",106402,5411,5411]
[106404,"OES 443 GI",null,5987,null,null,null,null,null,null,null,null,null,null,null,null,null,null,null,null,null,null,null,null,"OES 443 GI",106404,5987,5987]
[]
["OPTIONS",null,null,null,null,null,null,null,null,null,null,null,null,null,null,null,null,null,null,null,null,null,null,null,null,"OPTIONS"]
[100019540,"RAMPE GAZ MB-VEF 415 S32",null,1598,null,null,null,null,null,null,null,null,null,null,null,null,null,null,null,null,null,null,null,null,"RAMPE GAZ MB-VEF 415 S32",100019540,1598,1598]
[100019542,"RAMPE GAZ MB-VEF 420 S12",null,2067,null,null,null,null,null,null,null,null,null,null,null,null,null,null,null,null,null,null,null,null,"RAMPE GAZ MB-VEF 420 S12",100019542,2067,2067]
[100019543,"RAMPE GAZ MB-VEF 425 S12",null,3004,null,null,null,null,null,null,null,null,null,null,null,null,null,null,null,null,null,null,null,null,"RAMPE GAZ MB-VEF 425 S12",100019543,3004,3004]
[88027177,"REGULATEUR PRESSION 300 mbar GDJ 50 RACCORDT. Ø 2''","AD246",483,null,null,null,null,null,null,null,null,null,null,null,null,null,null,null,null,null,null,null,"AD246","REGULATEUR PRESSION 300 mbar GDJ 50 RACCORDT. Ø 2''",88027177,483,483]
[97955833,"SET RACCORDEMENT  RAMPE FOYER",null,37,null,null,null,null,null,null,null,null,null,null,null,null,null,null,null,null,null,null,null,null,"SET RACCORDEMENT  RAMPE FOYER",97955833,37,37]
[88027317,"KIT POUR FONCTIONNEMENT BRULEUR EN 2 ALLURES (THERMOSTAT  2 POINTS)",null,126,null,null,null,null,null,null,null,null,null,null,null,null,null,null,null,null,null,null,null,null,"KIT POUR FONCTIONNEMENT BRULEUR EN 2 ALLURES (THERMOSTAT  2 POINTS)",88027317,126,126]
[105627,"CHARIOT BRULEUR OE 440",null,1237,null,null,null,null,null,null,null,null,null,null,null,null,null,null,null,null,null,null,null,null,"CHARIOT BRULEUR OE 440",105627,1237,1237]
[7626036,"KIT REGULATEUR RWF55 ","MW1",1392,null,null,null,null,null,null,null,null,null,null,null,null,null,null,null,null,null,null,null,"MW1","KIT REGULATEUR RWF55 ",7626036,1392,1392]
[200005582,"KIT POTENTIOMETRE DE RECOPIE ",null,418,null,null,null,null,null,null,null,null,null,null,null,null,null,null,null,null,null,null,null,null,"KIT POTENTIOMETRE DE RECOPIE ",200005582,418,418]
[]
[]
[]
[108286,"OES 541 GI (modulant)",null,6899,null,null,null,null,null,null,null,null,null,null,null,null,null,null,null,null,null,null,null,null,"OES 541 GI (modulant)",108286,6899,6899]
[108287,"OES 542 GI (modulant)",null,8871,null,null,null,null,null,null,null,null,null,null,null,null,null,null,null,null,null,null,null,null,"OES 542 GI (modulant)",108287,8871,8871]
[]
["OPTIONS",null,null,null,null,null,null,null,null,null,null,null,null,null,null,null,null,null,null,null,null,null,null,null,null,"OPTIONS"]
[88027298,"ADAPTATEUR FN 65 2\"",null,231,null,null,null,null,null,null,null,null,null,null,null,null,null,null,null,null,null,null,null,null,"ADAPTATEUR FN 65 2\"",88027298,231,231]
[88027299,"ADAPTATEUR FN 80 FN 65",null,394,null,null,null,null,null,null,null,null,null,null,null,null,null,null,null,null,null,null,null,null,"ADAPTATEUR FN 80 FN 65",88027299,394,394]
[88027317,"KIT POUR FONCTIONNEMENT BRULEUR EN 2 ALLURES (THERMOSTAT  2 POINTS)",null,126,null,null,null,null,null,null,null,null,null,null,null,null,null,null,null,null,null,null,null,null,"KIT POUR FONCTIONNEMENT BRULEUR EN 2 ALLURES (THERMOSTAT  2 POINTS)",88027317,126,126]
[130990,"RWD 40 POUR OEN 540 GI",null,null,null,null,null,null,null,null,null,null,null,null,null,null,null,null,null,null,null,null,null,null,"RWD 40 POUR OEN 540 GI",130990]
[100006662,"SET POTENTIOMETRE DE RECOPIE",null,555,null,null,null,null,null,null,null,null,null,null,null,null,null,null,null,null,null,null,null,null,"SET POTENTIOMETRE DE RECOPIE",100006662,555,555]
[]
[]
[]
[]
[]
[7736280,"OECOPELLETS 24 COMPACT","LB89",4900,null,null,null,null,null,null,null,null,null,null,null,null,null,null,null,null,null,null,null,"LB89","OECOPELLETS 24 COMPACT",7736280,4900,4900]
[7736281,"OECOPELLETS 24 BASIC","LB90",6800,null,null,null,null,null,null,null,null,null,null,null,null,null,null,null,null,null,null,null,"LB90","OECOPELLETS 24 BASIC",7736281,6800,6800]
[]
["OPTIONS OEtraPellet 24",null,null,null,null,null,null,null,null,null,null,null,null,null,null,null,null,null,null,null,null,null,null,null,null,"OPTIONS OEtraPellet 24"]
[7736282,"SILO 200 OECOPELLETS BASIC","LB91",900,null,null,null,null,null,null,null,null,null,null,null,null,null,null,null,null,null,null,null,"LB91","SILO 200 OECOPELLETS BASIC",7736282,900,900]
[7650888,"CUVE QUADRO 400 ET HABILLAGE E","EC67",3191,null,null,null,null,null,null,null,null,null,null,null,null,null,null,null,null,null,null,null,"EC67","CUVE QUADRO 400 ET HABILLAGE E",7650888,3191,3191]
[7650884,"CUVE QUADRO 700 ET HABILLAGE E","EC66",3807,null,null,null,null,null,null,null,null,null,null,null,null,null,null,null,null,null,null,null,"EC66","CUVE QUADRO 700 ET HABILLAGE E",7650884,3807,3807]
[100019167,"R. ELECTRIQUE 2,3 kW THERMOSTATIQUE","ER396",306,null,null,null,null,null,null,null,null,null,null,null,null,null,null,null,null,null,null,null,"ER396","R. ELECTRIQUE 2,3 kW THERMOSTATIQUE",100019167,306,306]
[100019138,"BALLON OBS 300","ER363",1879,null,null,null,null,null,null,null,null,null,null,null,null,null,null,null,null,null,null,null,"ER363","BALLON OBS 300",100019138,1879,1879]
[100019139,"BALLON OBS 400","ER364",2952,null,null,null,null,null,null,null,null,null,null,null,null,null,null,null,null,null,null,null,"ER364","BALLON OBS 400",100019139,2952,2952]
[100018188,"PREPARATEUR VERTICAL OBLC 200","EC615",1437,null,null,null,null,null,null,null,null,null,null,null,null,null,null,null,null,null,null,null,"EC615","PREPARATEUR VERTICAL OBLC 200",100018188,1437,1437]
[100018189,"PREPARATEUR VERTICAL OBLC 300","EC616",1767,null,null,null,null,null,null,null,null,null,null,null,null,null,null,null,null,null,null,null,"EC616","PREPARATEUR VERTICAL OBLC 300",100018189,1767,1767]
[88017010,"THERMOSTAT D'AMBIANCE PROGRAMMABLE (SANS FILS)","AD192",308,null,null,null,null,null,null,null,null,null,null,null,null,null,null,null,null,null,null,null,"AD192","THERMOSTAT D'AMBIANCE PROGRAMMABLE (SANS FILS)",88017010,308,308]
[7684433,"OETROSMART OT ","AD320",269,null,null,null,null,null,null,null,null,null,null,null,null,null,null,null,null,null,null,null,"AD320","OETROSMART OT ",7684433,269,269]
[100018255,"OE-TRONIC 4 MR","AD282",1177,null,null,null,null,null,null,null,null,null,null,null,null,null,null,null,null,null,null,null,"AD282","OE-TRONIC 4 MR",100018255,1177,1177]
[]
[]
[]
[]
[]
[7670691,"CHAUDIERE BÛCHES OCBI 30C5 ","ML105",6628,null,null,null,null,null,null,null,null,null,null,null,null,null,null,null,null,null,null,null,"ML105","CHAUDIERE BÛCHES OCBI 30C5 ",7670691,6628,6628]
[]
[]
[]
[7725200,"CHAUDIERE BUCHES 20 KW  CBI 20 GS ","ML108",5228,null,null,null,null,null,null,null,null,null,null,null,null,null,null,null,null,null,null,null,"ML108","CHAUDIERE BUCHES 20 KW  CBI 20 GS ",7725200,5228,5228]
[7725201,"CHAUDIERE BUCHES 30 KW CBI 32 GS","ML109",5638,null,null,null,null,null,null,null,null,null,null,null,null,null,null,null,null,null,null,null,"ML109","CHAUDIERE BUCHES 30 KW CBI 32 GS",7725201,5638,5638]
[]
["OPTIONS OCBI/CBI",null,null,null,null,null,null,null,null,null,null,null,null,null,null,null,null,null,null,null,null,null,null,null,null,"OPTIONS OCBI/CBI"]
[100020120,"MODULE DE TEMPERAURE RETOUR ","ML52",770,null,null,null,null,null,null,null,null,null,null,null,null,null,null,null,null,null,null,null,"ML52","MODULE DE TEMPERAURE RETOUR ",100020120,770,770]
[100018255,"OE-TRONIC 4 MR","AD282",1177,null,null,null,null,null,null,null,null,null,null,null,null,null,null,null,null,null,null,null,"AD282","OE-TRONIC 4 MR",100018255,1177,1177]
[125392,"REA-130B POUR 1 CIRCUIT",null,715,null,null,null,null,null,null,null,null,null,null,null,null,null,null,null,null,null,null,null,null,"REA-130B POUR 1 CIRCUIT",125392,715,715]
[125394,"REA-131B POUR 2 CIRCUITS",null,920,null,null,null,null,null,null,null,null,null,null,null,null,null,null,null,null,null,null,null,null,"REA-131B POUR 2 CIRCUITS",125394,920,920]
[125400,"REA  232B : POUR 2 CIRCUITS VANNE",null,1238,null,null,null,null,null,null,null,null,null,null,null,null,null,null,null,null,null,null,null,null,"REA  232B : POUR 2 CIRCUITS VANNE",125400,1238,1238]
[100007832,"RÉGULATION POMPE DE CHARGE SLA 2","EC320",229,null,null,null,null,null,null,null,null,null,null,null,null,null,null,null,null,null,null,null,"EC320","RÉGULATION POMPE DE CHARGE SLA 2",100007832,229,229]
[88017904,"THERMOSTAT AMBIANCE PROGRAMMABLE (FILAIRE)","AD191",176,null,null,null,null,null,null,null,null,null,null,null,null,null,null,null,null,null,null,null,"AD191","THERMOSTAT AMBIANCE PROGRAMMABLE (FILAIRE)",88017904,176,176]
[88017010,"THERMOSTAT D'AMBIANCE PROGRAMMABLE (SANS FILS)","AD192",308,null,null,null,null,null,null,null,null,null,null,null,null,null,null,null,null,null,null,null,"AD192","THERMOSTAT D'AMBIANCE PROGRAMMABLE (SANS FILS)",88017010,308,308]
[100005131,"BALLON SOLAIRE COMBI CHAUFFAGE + ECS DC 750-2","EC140",3536,null,null,null,null,null,null,null,null,null,null,null,null,null,null,null,null,null,null,null,"EC140","BALLON SOLAIRE COMBI CHAUFFAGE + ECS DC 750-2",100005131,3536,3536]
[82697701,"VANNE DE COMMANDE DE L'ECHANGEUR DE SECURITE","L33",240,null,null,null,null,null,null,null,null,null,null,null,null,null,null,null,null,null,null,null,"L33","VANNE DE COMMANDE DE L'ECHANGEUR DE SECURITE",82697701,240,240]
[84907702,"THERMOSTAT DE FUMEE (CDE Chaudière Fioul/gaz) ","AC6",543,null,null,null,null,null,null,null,null,null,null,null,null,null,null,null,null,null,null,null,"AC6","THERMOSTAT DE FUMEE (CDE Chaudière Fioul/gaz) ",84907702,543,543]
[]
[]
[]
[]
[]
[7701583,"POÊLE OPPA 7PB 7KW BLANC ","LB82",2906,null,null,null,null,null,null,null,null,null,null,null,null,null,null,null,null,null,null,null,"LB82","POÊLE OPPA 7PB 7KW BLANC ",7701583,2906,2906]
[7701584,"POÊLE OPPA 7PG 7KW GRIS ","LB83",2906,null,null,null,null,null,null,null,null,null,null,null,null,null,null,null,null,null,null,null,"LB83","POÊLE OPPA 7PG 7KW GRIS ",7701584,2906,2906]
[7701585,"POÊLE OPPA 7PC 7KW CORTEN ","LB84",2906,null,null,null,null,null,null,null,null,null,null,null,null,null,null,null,null,null,null,null,"LB84","POÊLE OPPA 7PC 7KW CORTEN ",7701585,2906,2906]
[]
["OPTIONS",null,null,null,null,null,null,null,null,null,null,null,null,null,null,null,null,null,null,null,null,null,null,null,null,"OPTIONS"]
[100019286,"PROTECTION DE SOL RECT 900X750  ","LB16",105,null,null,null,null,null,null,null,null,null,null,null,null,null,null,null,null,null,null,null,"LB16","PROTECTION DE SOL RECT 900X750  ",100019286,105,105]
[7684433,"OETROSMART OT ","AD320",269,null,null,null,null,null,null,null,null,null,null,null,null,null,null,null,null,null,null,null,"AD320","OETROSMART OT ",7684433,269,269]
[]
[]
[]
[7749430,"POELE A GRANULES OPPAR 7 BLANC","LB103",3200,null,null,null,null,null,null,null,null,null,null,null,null,null,null,null,null,null,null,null,"LB103","POELE A GRANULES OPPAR 7 BLANC",7749430,3200,3200]
[7749431,"POELE A GRANULES OPPAR 7 NOIR ","LB104",3200,null,null,null,null,null,null,null,null,null,null,null,null,null,null,null,null,null,null,null,"LB104","POELE A GRANULES OPPAR 7 NOIR ",7749431,3200,3200]
[7749433,"POELE A GRANULES OPPAR 7 ROUGE","LB106",3200,null,null,null,null,null,null,null,null,null,null,null,null,null,null,null,null,null,null,null,"LB106","POELE A GRANULES OPPAR 7 ROUGE",7749433,3200,3200]
[]
["OPTIONS",null,null,null,null,null,null,null,null,null,null,null,null,null,null,null,null,null,null,null,null,null,null,null,null,"OPTIONS"]
[100019287,"PROTECTION DE SOL ARROND 1000X100","LB17",123,null,null,null,null,null,null,null,null,null,null,null,null,null,null,null,null,null,null,null,"LB17","PROTECTION DE SOL ARROND 1000X100",100019287,123,123]
[7684433,"OETROSMART OT ","AD320",269,null,null,null,null,null,null,null,null,null,null,null,null,null,null,null,null,null,null,null,"AD320","OETROSMART OT ",7684433,269,269]
[]
[]
[]
[7651164,"POELE PELLETS 8KW BLANC",null,3583,null,null,null,null,null,null,null,null,null,null,null,null,null,null,null,null,null,null,null,null,"POELE PELLETS 8KW BLANC",7651164,3583,3583]
[7651165,"POELE PELLETS 8KW PERLE",null,3583,null,null,null,null,null,null,null,null,null,null,null,null,null,null,null,null,null,null,null,null,"POELE PELLETS 8KW PERLE",7651165,3583,3583]
[7651167,"POELE PELLETS 8KW GRIS",null,3583,null,null,null,null,null,null,null,null,null,null,null,null,null,null,null,null,null,null,null,null,"POELE PELLETS 8KW GRIS",7651167,3583,3583]
[7651168,"POELE PELLETS 8KW NOIR",null,3583,null,null,null,null,null,null,null,null,null,null,null,null,null,null,null,null,null,null,null,null,"POELE PELLETS 8KW NOIR",7651168,3583,3583]
[7651170,"POELE PELLETS 8KW INOX",null,3583,null,null,null,null,null,null,null,null,null,null,null,null,null,null,null,null,null,null,null,null,"POELE PELLETS 8KW INOX",7651170,3583,3583]
[]
["COMPOSANTS OPPA 8 CS",null,null,null,null,null,null,null,null,null,null,null,null,null,null,null,null,null,null,null,null,null,null,null,null,"COMPOSANTS OPPA 8 CS"]
[7651024,"CORPS DE CHAUFFE OPPA 8 CS ","LB80",3303,null,null,null,null,null,null,null,null,null,null,null,null,null,null,null,null,null,null,null,"LB80","CORPS DE CHAUFFE OPPA 8 CS ",7651024,3303,3303]
[7650999,"HABILLAGE BLANC ","LB73",280,null,null,null,null,null,null,null,null,null,null,null,null,null,null,null,null,null,null,null,"LB73","HABILLAGE BLANC ",7650999,280,280]
[7651001,"HABILLAGE PERLE","LB74",280,null,null,null,null,null,null,null,null,null,null,null,null,null,null,null,null,null,null,null,"LB74","HABILLAGE PERLE",7651001,280,280]
[7651002,"HABILLAGE GRIS","LB75",280,null,null,null,null,null,null,null,null,null,null,null,null,null,null,null,null,null,null,null,"LB75","HABILLAGE GRIS",7651002,280,280]
[7651004,"HABILLAGE NOIR","LB76",280,null,null,null,null,null,null,null,null,null,null,null,null,null,null,null,null,null,null,null,"LB76","HABILLAGE NOIR",7651004,280,280]
[7651005,"HABILLAGE INOX","LB77",280,null,null,null,null,null,null,null,null,null,null,null,null,null,null,null,null,null,null,null,"LB77","HABILLAGE INOX",7651005,280,280]
[]
["OPTIONS",null,null,null,null,null,null,null,null,null,null,null,null,null,null,null,null,null,null,null,null,null,null,null,null,"OPTIONS"]
[100019286,"PROTECTION DE SOL RECT 900X750  ","LB16",105,null,null,null,null,null,null,null,null,null,null,null,null,null,null,null,null,null,null,null,"LB16","PROTECTION DE SOL RECT 900X750  ",100019286,105,105]
[]
[]
[]
[7648370,"OMPA 6 R-NO",null,3920,null,null,null,null,null,null,null,null,null,null,null,null,null,null,null,null,null,null,null,null,"OMPA 6 R-NO",7648370,3920,3920]
[7648372,"OMPA 6 R-NB",null,3920,null,null,null,null,null,null,null,null,null,null,null,null,null,null,null,null,null,null,null,null,"OMPA 6 R-NB",7648372,3920,3920]
[7648374,"OMPA 6 RC-BA",null,4311,null,null,null,null,null,null,null,null,null,null,null,null,null,null,null,null,null,null,null,null,"OMPA 6 RC-BA",7648374,4311,4311]
[7648376,"OMPA 6 RC-NO",null,4311,null,null,null,null,null,null,null,null,null,null,null,null,null,null,null,null,null,null,null,null,"OMPA 6 RC-NO",7648376,4311,4311]
[7648378,"OMPA 6 RC-RO",null,4311,null,null,null,null,null,null,null,null,null,null,null,null,null,null,null,null,null,null,null,null,"OMPA 6 RC-RO",7648378,4311,4311]
[7648371,"OMPA 9 R-NO",null,4031,null,null,null,null,null,null,null,null,null,null,null,null,null,null,null,null,null,null,null,null,"OMPA 9 R-NO",7648371,4031,4031]
[7648373,"OMPA 9 R-NB",null,4031,null,null,null,null,null,null,null,null,null,null,null,null,null,null,null,null,null,null,null,null,"OMPA 9 R-NB",7648373,4031,4031]
[7648375,"OMPA 9 RC-BA",null,4422,null,null,null,null,null,null,null,null,null,null,null,null,null,null,null,null,null,null,null,null,"OMPA 9 RC-BA",7648375,4422,4422]
[7648377,"OMPA 9 RC-NO",null,4422,null,null,null,null,null,null,null,null,null,null,null,null,null,null,null,null,null,null,null,null,"OMPA 9 RC-NO",7648377,4422,4422]
[7648379,"OMPA 9 RC-RO",null,4422,null,null,null,null,null,null,null,null,null,null,null,null,null,null,null,null,null,null,null,null,"OMPA 9 RC-RO",7648379,4422,4422]
[]
["COMPOSANTS OMPA 6/9",null,null,null,null,null,null,null,null,null,null,null,null,null,null,null,null,null,null,null,null,null,null,null,null,"COMPOSANTS OMPA 6/9"]
[7716328,"OMPA 6 CORPS PELLETS 6KW ","LB64",2240,null,null,null,null,null,null,null,null,null,null,null,null,null,null,null,null,null,null,null,"LB64","OMPA 6 CORPS PELLETS 6KW ",7716328,2240,2240]
[7716332,"OMPA 9 CORPS PELLETS 9KW","LB65",2351,null,null,null,null,null,null,null,null,null,null,null,null,null,null,null,null,null,null,null,"LB65","OMPA 9 CORPS PELLETS 9KW",7716332,2351,2351]
[7647773,"HABILLAGE ROND ACIER NOIR ","LB59",1680,null,null,null,null,null,null,null,null,null,null,null,null,null,null,null,null,null,null,null,"LB59","HABILLAGE ROND ACIER NOIR ",7647773,1680,1680]
[7647774,"HABILLAGE ROND ACIER N-B","LB60",1680,null,null,null,null,null,null,null,null,null,null,null,null,null,null,null,null,null,null,null,"LB60","HABILLAGE ROND ACIER N-B",7647774,1680,1680]
[7647775,"HABILLAGE ROND CERAM. BORDEAUX ","LB61",784,null,null,null,null,null,null,null,null,null,null,null,null,null,null,null,null,null,null,null,"LB61","HABILLAGE ROND CERAM. BORDEAUX ",7647775,784,784]
[7647777,"HABILLAGE ROND CERAM. BLANC ","LB62",784,null,null,null,null,null,null,null,null,null,null,null,null,null,null,null,null,null,null,null,"LB62","HABILLAGE ROND CERAM. BLANC ",7647777,784,784]
[7647778,"HABILLAGE ROND CERAM. NOIR","LB63",784,null,null,null,null,null,null,null,null,null,null,null,null,null,null,null,null,null,null,null,"LB63","HABILLAGE ROND CERAM. NOIR",7647778,784,784]
[7648984,"PORTE POUR HABIL. CERAM.","LB66",1287,null,null,null,null,null,null,null,null,null,null,null,null,null,null,null,null,null,null,null,"LB66","PORTE POUR HABIL. CERAM.",7648984,1287,1287]
[]
["OPTIONS",null,null,null,null,null,null,null,null,null,null,null,null,null,null,null,null,null,null,null,null,null,null,null,null,"OPTIONS"]
[100019287,"PROTECTION DE SOL ARROND 1000X100","LB17",123,null,null,null,null,null,null,null,null,null,null,null,null,null,null,null,null,null,null,null,"LB17","PROTECTION DE SOL ARROND 1000X100",100019287,123,123]
[7684433,"OETROSMART OT ","AD320",269,null,null,null,null,null,null,null,null,null,null,null,null,null,null,null,null,null,null,null,"AD320","OETROSMART OT ",7684433,269,269]
[]
[]
[]
[7617755,"POÊLE A PELLETS OPPA 8 V","LB38",3809,null,null,null,null,null,null,null,null,null,null,null,null,null,null,null,null,null,null,null,"LB38","POÊLE A PELLETS OPPA 8 V",7617755,3809,3809]
[7617756,"POÊLE A PELLETS OPPA 8 PVI","LB39",4007,null,null,null,null,null,null,null,null,null,null,null,null,null,null,null,null,null,null,null,"LB39","POÊLE A PELLETS OPPA 8 PVI",7617756,4007,4007]
[7617757,"POÊLE A PELLETS OPPA 8 GVI","LB40",4587,null,null,null,null,null,null,null,null,null,null,null,null,null,null,null,null,null,null,null,"LB40","POÊLE A PELLETS OPPA 8 GVI",7617757,4587,4587]
[]
["OPTIONS VENTOUSE HORIZONTALE POUR POELE A PELLETS BBC",null,null,null,null,null,null,null,null,null,null,null,null,null,null,null,null,null,null,null,null,null,null,null,null,"OPTIONS VENTOUSE HORIZONTALE POUR POELE A PELLETS BBC"]
[7607218,"KIT VENTOUSE H 80-130 PGI","LB25",1069,null,null,null,null,null,null,null,null,null,null,null,null,null,null,null,null,null,null,null,"LB25","KIT VENTOUSE H 80-130 PGI",7607218,1069,1069]
[7607219,"ELEMENT DROIT L1000 80-130 PGI ","LB26",169,null,null,null,null,null,null,null,null,null,null,null,null,null,null,null,null,null,null,null,"LB26","ELEMENT DROIT L1000 80-130 PGI ",7607219,169,169]
[7607220,"ELEMENT DROIT L450 80-130 PGI","LB27",116,null,null,null,null,null,null,null,null,null,null,null,null,null,null,null,null,null,null,null,"LB27","ELEMENT DROIT L450 80-130 PGI",7607220,116,116]
[7607221,"ELEMENT DROIT L250 80-130 PGI","LB28",98,null,null,null,null,null,null,null,null,null,null,null,null,null,null,null,null,null,null,null,"LB28","ELEMENT DROIT L250 80-130 PGI",7607221,98,98]
[7607222,"ELEMENT REGLABLE 80-130 PGI","LB29",147,null,null,null,null,null,null,null,null,null,null,null,null,null,null,null,null,null,null,null,"LB29","ELEMENT REGLABLE 80-130 PGI",7607222,147,147]
[7607223,"KIT TRAVERSEE MUR STH 80-130 PGI","LB30",400,null,null,null,null,null,null,null,null,null,null,null,null,null,null,null,null,null,null,null,"LB30","KIT TRAVERSEE MUR STH 80-130 PGI",7607223,400,400]
[7607224,"COLLIER MURAL D130","LB31",33,null,null,null,null,null,null,null,null,null,null,null,null,null,null,null,null,null,null,null,"LB31","COLLIER MURAL D130",7607224,33,33]
[]
["OPTIONS",null,null,null,null,null,null,null,null,null,null,null,null,null,null,null,null,null,null,null,null,null,null,null,null,"OPTIONS"]
[100019286,"PROTECTION DE SOL RECT 900X750  ","LB16",105,null,null,null,null,null,null,null,null,null,null,null,null,null,null,null,null,null,null,null,"LB16","PROTECTION DE SOL RECT 900X750  ",100019286,105,105]
[100019287,"PROTECTION DE SOL ARROND 1000X100","LB17",123,null,null,null,null,null,null,null,null,null,null,null,null,null,null,null,null,null,null,null,"LB17","PROTECTION DE SOL ARROND 1000X100",100019287,123,123]
[]
[]
[]
[]
[]
[7651027,"POELE A BOIS OPBE 8 T","LB81",1399,null,null,null,null,null,null,null,null,null,null,null,null,null,null,null,null,null,null,null,"LB81","POELE A BOIS OPBE 8 T",7651027,1399,1399]
[]
["OPTIONS",null,null,null,null,null,null,null,null,null,null,null,null,null,null,null,null,null,null,null,null,null,null,null,null,"OPTIONS"]
[100019286,"PROTECTION DE SOL RECT 900X750  ","LB16",105,null,null,null,null,null,null,null,null,null,null,null,null,null,null,null,null,null,null,null,"LB16","PROTECTION DE SOL RECT 900X750  ",100019286,105,105]
[]
[]
[]
[100019283,"POÊLE A BOIS OPBA 6 T","LB8",2336,null,null,null,null,null,null,null,null,null,null,null,null,null,null,null,null,null,null,null,"LB8","POÊLE A BOIS OPBA 6 T",100019283,2336,2336]
[100019284,"POÊLE A BOIS OPBA 6 O    ","LB9",2336,null,null,null,null,null,null,null,null,null,null,null,null,null,null,null,null,null,null,null,"LB9","POÊLE A BOIS OPBA 6 O    ",100019284,2336,2336]
[]
[]
[]
[7749460,"POELE A BUCHES OPBA 7 NOIR LB110","LB110",2350,null,null,null,null,null,null,null,null,null,null,null,null,null,null,null,null,null,null,null,"LB110","POELE A BUCHES OPBA 7 NOIR LB110",7749460,2350,2350]
[7749461,"POELE A BUCHES OPBA 7 BLANC LB111","LB111",2350,null,null,null,null,null,null,null,null,null,null,null,null,null,null,null,null,null,null,null,"LB111","POELE A BUCHES OPBA 7 BLANC LB111",7749461,2350,2350]
[7749462,"POELE A BUCHES OPBA 7 ROUGE LB112","LB112",2350,null,null,null,null,null,null,null,null,null,null,null,null,null,null,null,null,null,null,null,"LB112","POELE A BUCHES OPBA 7 ROUGE LB112",7749462,2350,2350]
[]
[]
[]
[7617764,"POÊLE OPBR 5 T   TÔLE NOIRE","LB44",2735,null,null,null,null,null,null,null,null,null,null,null,null,null,null,null,null,null,null,null,"LB44","POÊLE OPBR 5 T   TÔLE NOIRE",7617764,2735,2735]
[7618738,"POÊLE OPBR 5 CR   HABILLAGE CERAM ROUGE",null,4330,null,null,null,null,null,null,null,null,null,null,null,null,null,null,null,null,null,null,null,null,"POÊLE OPBR 5 CR   HABILLAGE CERAM ROUGE",7618738,4330,4330]
[7618737,"POÊLE OPBR 5 CB   HABILLAGE CERAM BLANC",null,4330,null,null,null,null,null,null,null,null,null,null,null,null,null,null,null,null,null,null,null,null,"POÊLE OPBR 5 CB   HABILLAGE CERAM BLANC",7618737,4330,4330]
[7618736,"POÊLE OPBR 5 CN   HABILLAGE CERAM NOIR",null,4330,null,null,null,null,null,null,null,null,null,null,null,null,null,null,null,null,null,null,null,null,"POÊLE OPBR 5 CN   HABILLAGE CERAM NOIR",7618736,4330,4330]
[]
["COMPOSANTS OPBR 5",null,null,null,null,null,null,null,null,null,null,null,null,null,null,null,null,null,null,null,null,null,null,null,null,"COMPOSANTS OPBR 5"]
[7617766,"POÊLE OPBR 5 C CORPS SEUL CERAM","LB46",2279,null,null,null,null,null,null,null,null,null,null,null,null,null,null,null,null,null,null,null,"LB46","POÊLE OPBR 5 C CORPS SEUL CERAM",7617766,2279,2279]
[7617767,"HABILLAGE OPBR CERAMIQUE BORDEAUX","LB47",2051,null,null,null,null,null,null,null,null,null,null,null,null,null,null,null,null,null,null,null,"LB47","HABILLAGE OPBR CERAMIQUE BORDEAUX",7617767,2051,2051]
[7617769,"HABILLAGE OPBR CERAMIQUE BLANCHE","LB49",2051,null,null,null,null,null,null,null,null,null,null,null,null,null,null,null,null,null,null,null,"LB49","HABILLAGE OPBR CERAMIQUE BLANCHE",7617769,2051,2051]
[7617768,"HABILLAGE OPBR CERAMIQUE NOIR","LB48",2051,null,null,null,null,null,null,null,null,null,null,null,null,null,null,null,null,null,null,null,"LB48","HABILLAGE OPBR CERAMIQUE NOIR",7617768,2051,2051]
[]
["OPTIONS",null,null,null,null,null,null,null,null,null,null,null,null,null,null,null,null,null,null,null,null,null,null,null,null,"OPTIONS"]
[7617774,"BLOC ACCUMULATION OPBR","LB52",280,null,null,null,null,null,null,null,null,null,null,null,null,null,null,null,null,null,null,null,"LB52","BLOC ACCUMULATION OPBR",7617774,280,280]
[100019287,"PROTECTION DE SOL ARROND 1000X100","LB17",123,null,null,null,null,null,null,null,null,null,null,null,null,null,null,null,null,null,null,null,"LB17","PROTECTION DE SOL ARROND 1000X100",100019287,123,123]

{"sheet":"texte","index":8,"n_rows":89,"n_cols":19,"rows_kept":89,"cut":false,"hidden":true,"merged":[[26,3,29,3],[0,15,0,18]]}
[2,{"$f":"HLOOKUP(texte!$C$75,Language!$B$3:$J$67,A1,FALSE)","v":"Détermination et chiffrage des systèmes cascade"},null,null,null,null,null,"PRIX TOTAL DU SYSTEME CASCADE AVEC CHAUDIERES ",null,null,"CASCADES MCA 45 A 115",null,null,null,null,"Ajout pour MCA 160"]
[3,"Pour MCA 160",null,null,null,null,null,null,null,null,"REFERENCE","DESIGNATION","COLIS","PRIX",null,"Colis","Désignation","Référence","Prix"]
[4,{"$f":"HLOOKUP(texte!$C$75,Language!$B$3:$J$67,A3,FALSE)","v":"PRIX DU SYSTEME CASCADE"},null,null,null,null,null,null,null,null,null,null,null,null,null,null,"MCA 160",7674140,10073]
[5,{"$f":"H1","v":"PRIX TOTAL DU SYSTEME CASCADE AVEC CHAUDIERES "},null,null,null,null,null,null,null,null,null,null,null,null,null,"EH651","POMPE UPM XL GRUNDFOS 25-105 H180",7637223,605.79999999999995]
[6,{"$f":"HLOOKUP(texte!$C$75,Language!$B$3:$J$67,A5,FALSE)","v":"PRIX TOTAL ACCESSOIRES"},null,null,null,null,null,null,null,null,null,"REFERENCES DES COMPOSANTS DE BASE DE LA CASCADE :",null,null,null,"EH652","COLLECTEUR DN100-2 CHAUDIERES MCA  160 FR",7665725,1137.5]
[7,{"$f":"HLOOKUP(texte!$C$75,Language!$B$3:$J$67,A6,FALSE)","v":"Version 02/2011"},null,null,"Ref. France",null,null,null,null,"Ref. France",null,null,null,null,null,"EH653","COLLECTEUR DN100-3 CHAUDIERES  MCA 160  FR",7665728,1442]
[8,{"$f":"HLOOKUP(texte!$C$75,Language!$B$3:$J$67,A7,FALSE)","v":"Identification de l'étude"},null,null,100008701,{"$f":"VLOOKUP($E7,'Price List'!$A:$K,1,FALSE)","v":100008701},{"$f":"VLOOKUP($F7,'Price List'!$A:$K,3,FALSE)","v":"HC206"},{"$f":"VLOOKUP($F7,'Price List'!$A:$K,2,FALSE)","v":"SONDE DE DÉPART + DOIGT DE GANT"},{"$f":"(1-remise)*VLOOKUP($F7,'Price List'!$A:$K,4,FALSE)","v":167},120918,{"$f":"VLOOKUP(J7,'Price List'!$1:65510,1,FALSE)","v":120918},{"$f":"VLOOKUP($K7,'Price List'!$A:$K,2,FALSE)","v":"CHASSIS DE MONTAGE GMR 5000"},{"$f":"VLOOKUP($K7,'Price List'!$A:$K,3,FALSE)","v":"HC248"},{"$f":"(1-remise)*VLOOKUP($K7,'Price List'!$A:$K,4,FALSE)","v":100},null,"HC222","BOUTEILLE DE DÉCOUPLAGE DN65 < 350 kW",114311,617.5]
[9,{"$f":"HLOOKUP(texte!$C$75,Language!$B$3:$J$67,A8,FALSE)","v":"Référence"},null,null,100013027,{"$f":"VLOOKUP($E8,'Price List'!$A:$K,1,FALSE)","v":100013027},{"$f":"VLOOKUP($F8,'Price List'!$A:$K,3,FALSE)","v":"HC223"},{"$f":"VLOOKUP($F8,'Price List'!$A:$K,2,FALSE)","v":"SONDE DE DÉPART + DOIGT DE GANT-BOUTEILLE < 350 kW"},{"$f":"(1-remise)*VLOOKUP($F8,'Price List'!$A:$K,4,FALSE)","v":141},120842,{"$f":"VLOOKUP(J8,'Price List'!$1:1048576,1,FALSE)","v":{"$error":"#N/A"}},{"$f":"VLOOKUP($K8,'Price List'!$A:$K,2,FALSE)","v":{"$error":"#N/A"}},{"$f":"VLOOKUP($K8,'Price List'!$A:$K,3,FALSE)","v":{"$error":"#N/A"}},{"$f":"(1-remise)*VLOOKUP($K8,'Price List'!$A:$K,4,FALSE)","v":{"$error":"#N/A"}},null,"HC200","BOUTEILLE DE DÉCOUPLAGE DN65 > 350 et < 460 kW",111712,1028.2]
[10,{"$f":"HLOOKUP(texte!$C$75,Language!$B$3:$J$67,A9,FALSE)","v":"Données"},null,null,88017836,{"$f":"VLOOKUP($E9,'Price List'!$A:$K,1,FALSE)","v":88017836},{"$f":"VLOOKUP($F9,'Price List'!$A:$K,3,FALSE)","v":"AD124"},{"$f":"VLOOKUP($F9,'Price List'!$A:$K,2,FALSE)","v":"CABLE BUS RX11  LG 1,5 M"},{"$f":"(1-remise)*VLOOKUP($F9,'Price List'!$A:$K,4,FALSE)","v":90},120900,{"$f":"VLOOKUP(J9,'Price List'!$1:1048576,1,FALSE)","v":120900},{"$f":"VLOOKUP($K9,'Price List'!$A:$K,2,FALSE)","v":"MONTANT-SUPPORT I GMR 5000"},{"$f":"VLOOKUP($K9,'Price List'!$A:$K,3,FALSE)","v":"HC250"},{"$f":"(1-remise)*VLOOKUP($K9,'Price List'!$A:$K,4,FALSE)","v":95},null,"HC201","BOUTEILLE DE DÉCOUPLAGE DN100 > 460 kW",111714,1239.7]
[11,{"$f":"HLOOKUP(texte!$C$75,Language!$B$3:$J$67,A10,FALSE)","v":"Puisance de l'installation (kW)"},null,null,"S101614",{"$f":"VLOOKUP($E10,'Price List'!$A:$K,1,FALSE)","v":"S101614"},{"$f":"VLOOKUP($F10,'Price List'!$A:$K,3,FALSE)","v":0},{"$f":"VLOOKUP($F10,'Price List'!$A:$K,2,FALSE)","v":"POMPE CHAUFFAGE EEI UPM2 25-70 130MM"},{"$f":"(1-remise)*VLOOKUP($F10,'Price List'!$A:$K,4,FALSE)","v":326},90777,90777,{"$f":"VLOOKUP($K10,'Price List'!$A:$K,2,FALSE)","v":"COLLECTEUR DN65 - 2 CHAUDIERES "},{"$f":"VLOOKUP($K10,'Price List'!$A:$K,3,FALSE)","v":"HC259"},{"$f":"(1-remise)*VLOOKUP($K10,'Price List'!$A:$K,4,FALSE)","v":712},null,"EH654","ADAPTATEUR DN100/DN65",7633244,304.89999999999998]
[12,{"$f":"HLOOKUP(texte!$C$75,Language!$B$3:$J$67,A11,FALSE)","v":"Intervalle autorisé (+/- … kW)"},null,null,"S101614",{"$f":"VLOOKUP($E11,'Price List'!$A:$K,1,FALSE)","v":"S101614"},{"$f":"VLOOKUP($F11,'Price List'!$A:$K,3,FALSE)","v":0},{"$f":"VLOOKUP($F11,'Price List'!$A:$K,2,FALSE)","v":"POMPE CHAUFFAGE EEI UPM2 25-70 130MM"},{"$f":"(1-remise)*VLOOKUP($F11,'Price List'!$A:$K,4,FALSE)","v":326},90778,90778,{"$f":"VLOOKUP($K11,'Price List'!$A:$K,2,FALSE)","v":"COLLECTEUR DN65 - 3 CHAUDIERES "},{"$f":"VLOOKUP($K11,'Price List'!$A:$K,3,FALSE)","v":"HC260"},{"$f":"(1-remise)*VLOOKUP($K11,'Price List'!$A:$K,4,FALSE)","v":964},null,"EH656","RAC COLLEC L MCA 160 EH656",7622701,712.3]
[13,{"$f":"HLOOKUP(texte!$C$75,Language!$B$3:$J$67,A12,FALSE)","v":"Nombre de chaudières"},null,null,7608398,{"$f":"VLOOKUP($E12,'Price List'!$A:$K,1,FALSE)","v":7608398},{"$f":"VLOOKUP($F12,'Price List'!$A:$K,3,FALSE)","v":0},{"$f":"VLOOKUP($F12,'Price List'!$A:$K,2,FALSE)","v":"POMPE CHAUFFAGE UPML 25-115 130 MM"},{"$f":"(1-remise)*VLOOKUP($F12,'Price List'!$A:$K,4,FALSE)","v":421},{"$f":"\"\"","v":""},{"$f":"\"\"","v":""},{"$f":"\"\"","v":""},{"$f":"\"\"","v":""},{"$f":"\"\"","v":""}]
[14,{"$f":"HLOOKUP(texte!$C$75,Language!$B$3:$J$67,A13,FALSE)","v":"Alignement de la cascade"},null,null,90777,{"$f":"VLOOKUP($E13,'Price List'!$A:$K,1,FALSE)","v":90777},{"$f":"VLOOKUP($F13,'Price List'!$A:$K,3,FALSE)","v":"HC259"},{"$f":"VLOOKUP($F13,'Price List'!$A:$K,2,FALSE)","v":"COLLECTEUR DN65 - 2 CHAUDIERES "},{"$f":"(1-remise)*VLOOKUP($F13,'Price List'!$A:$K,4,FALSE)","v":712},{"$f":"\"\"","v":""},{"$f":"\"\"","v":""},{"$f":"\"\"","v":""},{"$f":"\"\"","v":""},{"$f":"\"\"","v":""},null,"HC199","BRIDES PLEINES EAU DN100",111703,189.1]
[15,{"$f":"HLOOKUP(texte!$C$75,Language!$B$3:$J$67,A14,FALSE)","v":"Système cascade"},null,null,90778,{"$f":"VLOOKUP($E14,'Price List'!$A:$K,1,FALSE)","v":90778},{"$f":"VLOOKUP($F14,'Price List'!$A:$K,3,FALSE)","v":"HC260"},{"$f":"VLOOKUP($F14,'Price List'!$A:$K,2,FALSE)","v":"COLLECTEUR DN65 - 3 CHAUDIERES "},{"$f":"(1-remise)*VLOOKUP($F14,'Price List'!$A:$K,4,FALSE)","v":964},{"$f":"\"\"","v":""},{"$f":"\"\"","v":""},{"$f":"\"\"","v":""},{"$f":"\"\"","v":""},{"$f":"\"\"","v":""},null,"EH663","MONTANT-SUPPORT I MCA 160",7612941,116.7]
[16,{"$f":"HLOOKUP(texte!$C$75,Language!$B$3:$J$67,A15,FALSE)","v":"Attention ! Lorsque vous modifiez une des sélections, il faut toujours revalider les suivantes !"},null,null,null,{"$f":"\"\"","v":""},{"$f":"\"\"","v":""},{"$f":"\"\"","v":""},{"$f":"\"\"","v":""},{"$f":"\"\"","v":""},{"$f":"\"\"","v":""},{"$f":"\"\"","v":""},{"$f":"\"\"","v":""},{"$f":"\"\"","v":""},null,"EH664","CHASSIS DE MONTAGE MCA 160",7621566,193.1]
[17,{"$f":"HLOOKUP(texte!$C$75,Language!$B$3:$J$67,A16,FALSE)","v":"Nb chaudières !"},null,null,111712,{"$f":"VLOOKUP($E16,'Price List'!$A:$K,1,FALSE)","v":111712},{"$f":"VLOOKUP($F16,'Price List'!$A:$K,3,FALSE)","v":"HC200"},{"$f":"VLOOKUP($F16,'Price List'!$A:$K,2,FALSE)","v":"BOUTEILLE DE DÉCOUPLAGE DN65 > 350 et < 460 kW"},{"$f":"(1-remise)*VLOOKUP($F16,'Price List'!$A:$K,4,FALSE)","v":1101},111688,{"$f":"IF(VLOOKUP($J16,References!$C$3:$L$208,texte!$C$74+1,FALSE)<>0,VLOOKUP($J16,References!$C$3:$L$208,texte!$C$74+1,FALSE),$J16)","v":111688},{"$f":"VLOOKUP($K16,'Price List'!$A:$K,2,FALSE)","v":"RAIL DE MONTAGE MURAL 2 CHAUDIÈRES "},{"$f":"VLOOKUP($K16,'Price List'!$A:$K,3,FALSE)","v":"HC192"},{"$f":"(1-remise)*VLOOKUP($K16,'Price List'!$A:$K,4,FALSE)","v":45},null,"EH670","RAIL DE MONTAGE MURAL 2 CHAUDIÈRES MCA 160",7637077,46.5]
[18,{"$f":"HLOOKUP(texte!$C$75,Language!$B$3:$J$67,A17,FALSE)","v":"Solution De Dietrich"},null,null,114311,{"$f":"VLOOKUP($E17,'Price List'!$A:$K,1,FALSE)","v":114311},{"$f":"VLOOKUP($F17,'Price List'!$A:$K,3,FALSE)","v":"HC222"},{"$f":"VLOOKUP($F17,'Price List'!$A:$K,2,FALSE)","v":"BOUTEILLE DE DÉCOUPLAGE DN65 < 350 kW"},{"$f":"(1-remise)*VLOOKUP($F17,'Price List'!$A:$K,4,FALSE)","v":664},111689,{"$f":"IF(VLOOKUP($J17,References!$C$3:$L$208,texte!$C$74+1,FALSE)<>0,VLOOKUP($J17,References!$C$3:$L$208,texte!$C$74+1,FALSE),$J17)","v":111689},{"$f":"VLOOKUP($K17,'Price List'!$A:$K,2,FALSE)","v":"RAIL DE MONTAGE MURAL 3 CHAUDIÈRES "},{"$f":"VLOOKUP($K17,'Price List'!$A:$K,3,FALSE)","v":"HC193"},{"$f":"(1-remise)*VLOOKUP($K17,'Price List'!$A:$K,4,FALSE)","v":54},null,"EH671","RAIL DE MONTAGE MURAL 3 CHAUDIÈRES MCA 160",7637088,65.2]
[19,{"$f":"HLOOKUP(texte!$C$75,Language!$B$3:$J$67,A18,FALSE)","v":"Solution De Dietrich (suite)"},null,null,{"$f":"\"\"","v":""},{"$f":"\"\"","v":""},{"$f":"\"\"","v":""},{"$f":"\"\"","v":""},{"$f":"\"\"","v":""},111690,{"$f":"IF(VLOOKUP($J18,References!$C$3:$L$208,texte!$C$74+1,FALSE)<>0,VLOOKUP($J18,References!$C$3:$L$208,texte!$C$74+1,FALSE),$J18)","v":111690},{"$f":"VLOOKUP($K18,'Price List'!$A:$K,2,FALSE)","v":"RAIL DE MONTAGE MURAL 4 CHAUDIÈRES "},{"$f":"VLOOKUP($K18,'Price List'!$A:$K,3,FALSE)","v":"HC194"},{"$f":"(1-remise)*VLOOKUP($K18,'Price List'!$A:$K,4,FALSE)","v":71},null,"HC256","FILTRE GAZ DN65","S101656",714.5]
[20,{"$f":"HLOOKUP(texte!$C$75,Language!$B$3:$J$67,A19,FALSE)","v":"Désignation"},null,null,{"$f":"\"\"","v":""},{"$f":"\"\"","v":""},{"$f":"\"\"","v":""},{"$f":"\"\"","v":""},{"$f":"\"\"","v":""},111708,{"$f":"IF(VLOOKUP($J19,References!$C$3:$L$208,texte!$C$74+1,FALSE)<>0,VLOOKUP($J19,References!$C$3:$L$208,texte!$C$74+1,FALSE),$J19)","v":111708},{"$f":"VLOOKUP($K19,'Price List'!$A:$K,2,FALSE)","v":"JEU DE BOUCHONS"},{"$f":"VLOOKUP($K19,'Price List'!$A:$K,3,FALSE)","v":"HC195"},{"$f":"(1-remise)*VLOOKUP($K19,'Price List'!$A:$K,4,FALSE)","v":43},null,"HC209","COUDES DN65",111788,647.70000000000005]
[21,{"$f":"HLOOKUP(texte!$C$75,Language!$B$3:$J$67,A20,FALSE)","v":"Puissance (kW)"},null,null,{"$f":"\"\"","v":""},{"$f":"\"\"","v":""},{"$f":"\"\"","v":""},{"$f":"\"\"","v":""},{"$f":"\"\"","v":""},{"$f":"\"\"","v":""},{"$f":"\"\"","v":""},{"$f":"\"\"","v":""},{"$f":"\"\"","v":""},{"$f":"\"\"","v":""},null,"HC210","COUDES DN100",111790,893.1]
[22,{"$f":"HLOOKUP(texte!$C$75,Language!$B$3:$J$67,A21,FALSE)","v":"Nombre de chaudières"},null,null,{"$f":"\"\"","v":""},{"$f":"\"\"","v":""},{"$f":"\"\"","v":""},{"$f":"\"\"","v":""},{"$f":"\"\"","v":""},{"$f":"\"\"","v":""},{"$f":"\"\"","v":""},{"$f":"\"\"","v":""},{"$f":"\"\"","v":""},{"$f":"\"\"","v":""}]
[23,{"$f":"HLOOKUP(texte!$C$75,Language!$B$3:$J$67,A22,FALSE)","v":"Type de chaudières"},null,null,111022,{"$f":"VLOOKUP($E22,'Price List'!$A:$K,1,FALSE)","v":111022},{"$f":"VLOOKUP($F22,'Price List'!$A:$K,3,FALSE)","v":"HC202"},{"$f":"VLOOKUP($F22,'Price List'!$A:$K,2,FALSE)","v":"KIT DE RACCORDEMENT AVANT FR + BE"},{"$f":"(1-remise)*VLOOKUP($F22,'Price List'!$A:$K,4,FALSE)","v":650},111701,{"$f":"IF(VLOOKUP($J22,References!$C$3:$L$208,texte!$C$74+1,FALSE)<>0,VLOOKUP($J22,References!$C$3:$L$208,texte!$C$74+1,FALSE),$J22)","v":111701},{"$f":"VLOOKUP($K22,'Price List'!$A:$K,2,FALSE)","v":"BRIDES PLEINES EAU DN65"},{"$f":"VLOOKUP($K22,'Price List'!$A:$K,3,FALSE)","v":"HC198"},{"$f":"(1-remise)*VLOOKUP($K22,'Price List'!$A:$K,4,FALSE)","v":160},null,"EH647","ISOLATION COLLECTEUR MCA 160",7613401,89.2]
[24,{"$f":"HLOOKUP(texte!$C$75,Language!$B$3:$J$67,A23,FALSE)","v":"MCA 45"},{"$f":"(1-remise)*VLOOKUP($D23,'Price List'!$1:$1048576,4,FALSE)","v":{"$error":"#N/A"}},100016195,{"$f":"\"\"","v":""},{"$f":"\"\"","v":""},{"$f":"\"\"","v":""},{"$f":"\"\"","v":""},{"$f":"\"\"","v":""},112632,112632,{"$f":"VLOOKUP($K23,'Price List'!$A:$K,2,FALSE)","v":"JEU DE CONTRE-BRIDES À SOUDER DN65"},{"$f":"VLOOKUP($K23,'Price List'!$A:$K,3,FALSE)","v":"HC217"},{"$f":"(1-remise)*VLOOKUP($K23,'Price List'!$A:$K,4,FALSE)","v":165},null,"EH648","ISOLATION RACCORD MCA 160 ",7611804,86.6]
[25,{"$f":"HLOOKUP(texte!$C$75,Language!$B$3:$J$67,A24,FALSE)","v":"MCA 65"},{"$f":"(1-remise)*VLOOKUP($D24,'Price List'!$1:$1048576,4,FALSE)","v":{"$error":"#N/A"}},100016196,{"$f":"\"\"","v":""},{"$f":"\"\"","v":""},{"$f":"\"\"","v":""},{"$f":"\"\"","v":""},{"$f":"\"\"","v":""},114311,{"$f":"IF(VLOOKUP($J24,References!$C$3:$L$208,texte!$C$74+1,FALSE)<>0,VLOOKUP($J24,References!$C$3:$L$208,texte!$C$74+1,FALSE),$J24)","v":114311},{"$f":"VLOOKUP($K24,'Price List'!$A:$K,2,FALSE)","v":"BOUTEILLE DE DÉCOUPLAGE DN65 < 350 kW"},{"$f":"VLOOKUP($K24,'Price List'!$A:$K,3,FALSE)","v":"HC222"},{"$f":"(1-remise)*VLOOKUP($K24,'Price List'!$A:$K,4,FALSE)","v":664},null,"EH649","PLAQ ISOLATION AR",7631858,79.8]
[26,{"$f":"HLOOKUP(texte!$C$75,Language!$B$3:$J$67,A25,FALSE)","v":"MCA 90"},{"$f":"(1-remise)*VLOOKUP($D25,'Price List'!$1:$1048576,4,FALSE)","v":{"$error":"#N/A"}},100016197,{"$f":"\"\"","v":""},{"$f":"\"\"","v":""},{"$f":"\"\"","v":""},{"$f":"\"\"","v":""},{"$f":"\"\"","v":""},111712,{"$f":"IF(VLOOKUP($J25,References!$C$3:$L$208,texte!$C$74+1,FALSE)<>0,VLOOKUP($J25,References!$C$3:$L$208,texte!$C$74+1,FALSE),$J25)","v":111712},{"$f":"VLOOKUP($K25,'Price List'!$A:$K,2,FALSE)","v":"BOUTEILLE DE DÉCOUPLAGE DN65 > 350 et < 460 kW"},{"$f":"VLOOKUP($K25,'Price List'!$A:$K,3,FALSE)","v":"HC200"},{"$f":"(1-remise)*VLOOKUP($K25,'Price List'!$A:$K,4,FALSE)","v":1101},null,"HC215","ISOLATION BOUTEILLE DE DÉCOUPLAGE",111067,237.6]
[27,{"$f":"HLOOKUP(texte!$C$75,Language!$B$3:$J$67,A26,FALSE)","v":"MCA 115"},{"$f":"(1-remise)*VLOOKUP($D26,'Price List'!$1:$1048576,4,FALSE)","v":{"$error":"#N/A"}},100016198,111708,{"$f":"VLOOKUP($E26,'Price List'!$A:$K,1,FALSE)","v":111708},{"$f":"VLOOKUP($F26,'Price List'!$A:$K,3,FALSE)","v":"HC195"},{"$f":"VLOOKUP($F26,'Price List'!$A:$K,2,FALSE)","v":"JEU DE BOUCHONS"},{"$f":"(1-remise)*VLOOKUP($F26,'Price List'!$A:$K,4,FALSE)","v":43},{"$f":"\"\"","v":""},{"$f":"\"\"","v":""},{"$f":"\"\"","v":""},{"$f":"\"\"","v":""},{"$f":"\"\"","v":""},null,"EH650","ISOLATION ADAPTATEUR 100/65",7622201,46.7]
[28,{"$f":"HLOOKUP(texte!$C$75,Language!$B$3:$J$67,A27,FALSE)","v":"Prix système cascade seul"},{"$f":"C31-C23","v":{"$error":"#N/A"}},"diférence iSystem/Inicontol",{"$f":"\"\"","v":""},{"$f":"\"\"","v":""},{"$f":"\"\"","v":""},{"$f":"\"\"","v":""},{"$f":"\"\"","v":""},111022,{"$f":"IF(VLOOKUP($J27,References!$C$3:$L$208,texte!$C$74+1,FALSE)<>0,VLOOKUP($J27,References!$C$3:$L$208,texte!$C$74+1,FALSE),$J27)","v":111022},{"$f":"VLOOKUP($K27,'Price List'!$A:$K,2,FALSE)","v":"KIT DE RACCORDEMENT AVANT FR + BE"},{"$f":"VLOOKUP($K27,'Price List'!$A:$K,3,FALSE)","v":"HC202"},{"$f":"(1-remise)*VLOOKUP($K27,'Price List'!$A:$K,4,FALSE)","v":650},null,"HC224","ISOLATION BOUTEILLE DE DÉCOUPLAGE < 350 kW",115269,35.1]
[29,"Prix du système cascade avec chaudières",null,null,111701,{"$f":"VLOOKUP($E28,'Price List'!$A:$K,1,FALSE)","v":111701},{"$f":"VLOOKUP($F28,'Price List'!$A:$K,3,FALSE)","v":"HC198"},{"$f":"VLOOKUP($F28,'Price List'!$A:$K,2,FALSE)","v":"BRIDES PLEINES EAU DN65"},{"$f":"(1-remise)*VLOOKUP($F28,'Price List'!$A:$K,4,FALSE)","v":160},{"$f":"\"\"","v":""},{"$f":"\"\"","v":""},{"$f":"\"\"","v":""},{"$f":"\"\"","v":""},{"$f":"\"\"","v":""},null,"HC216","ISOLATION COUDES 90°",111167,100]
[30,{"$f":"HLOOKUP(texte!$C$75,Language!$B$3:$J$67,A29,FALSE)","v":"en €"},null,null,{"$f":"\"\"","v":""},{"$f":"\"\"","v":""},{"$f":"\"\"","v":""},{"$f":"\"\"","v":""},{"$f":"\"\"","v":""},{"$f":"\"\"","v":""},{"$f":"\"\"","v":""},{"$f":"\"\"","v":""},{"$f":"\"\"","v":""},{"$f":"\"\"","v":""},null,"HC219","PIED RÉGLABLE",111807,4.2]
[31,{"$f":"HLOOKUP(texte!$C$75,Language!$B$3:$J$67,A30,FALSE)","v":"Solution sélectionnée"},null,null,{"$f":"\"\"","v":""},{"$f":"\"\"","v":""},{"$f":"\"\"","v":""},{"$f":"\"\"","v":""},{"$f":"\"\"","v":""},"S101614",{"$f":"IF(VLOOKUP($J30,References!$C$3:$L$208,texte!$C$74+1,FALSE)<>0,VLOOKUP($J30,References!$C$3:$L$208,texte!$C$74+1,FALSE),$J30)","v":"S101614"},{"$f":"VLOOKUP($K30,'Price List'!$A:$K,2,FALSE)","v":"POMPE CHAUFFAGE EEI UPM2 25-70 130MM"},{"$f":"VLOOKUP($K30,'Price List'!$A:$K,3,FALSE)","v":0},{"$f":"(1-remise)*VLOOKUP($K30,'Price List'!$A:$K,4,FALSE)","v":326},null,"EH669","JEU DE CONTRE BRIDE A SOUDER DN65",7638518,139.6]
[32,{"$f":"HLOOKUP(texte!$C$75,Language!$B$3:$J$67,A31,FALSE)","v":"Qtté"},{"$f":"(1-remise)*VLOOKUP($D31,'Price List'!$1:$1048576,4,FALSE)","v":{"$error":"#N/A"}},100016199,120842,{"$f":"VLOOKUP($E31,'Price List'!$A:$K,1,FALSE)","v":{"$error":"#N/A"}},{"$f":"VLOOKUP($F31,'Price List'!$A:$K,3,FALSE)","v":{"$error":"#N/A"}},{"$f":"VLOOKUP($F31,'Price List'!$A:$K,2,FALSE)","v":{"$error":"#N/A"}},{"$f":"(1-remise)*VLOOKUP($F31,'Price List'!$A:$K,4,FALSE)","v":{"$error":"#N/A"}},"S101614",{"$f":"IF(VLOOKUP($J31,References!$C$3:$L$208,texte!$C$74+1,FALSE)<>0,VLOOKUP($J31,References!$C$3:$L$208,texte!$C$74+1,FALSE),$J31)","v":"S101614"},{"$f":"VLOOKUP($K31,'Price List'!$A:$K,2,FALSE)","v":"POMPE CHAUFFAGE EEI UPM2 25-70 130MM"},{"$f":"VLOOKUP($K31,'Price List'!$A:$K,3,FALSE)","v":0},{"$f":"(1-remise)*VLOOKUP($K31,'Price List'!$A:$K,4,FALSE)","v":326},null,"HC218","JEU DE CONTRE-BRIDES À SOUDER DN100",112633,170.8]
[33,{"$f":"HLOOKUP(texte!$C$75,Language!$B$3:$J$67,A32,FALSE)","v":"Prix unitaire"},null,null,120900,{"$f":"VLOOKUP($E32,'Price List'!$A:$K,1,FALSE)","v":120900},{"$f":"VLOOKUP($F32,'Price List'!$A:$K,3,FALSE)","v":"HC250"},{"$f":"VLOOKUP($F32,'Price List'!$A:$K,2,FALSE)","v":"MONTANT-SUPPORT I GMR 5000"},{"$f":"(1-remise)*VLOOKUP($F32,'Price List'!$A:$K,4,FALSE)","v":95},7608398,{"$f":"IF(VLOOKUP($J32,References!$C$3:$L$208,texte!$C$74+1,FALSE)<>0,VLOOKUP($J32,References!$C$3:$L$208,texte!$C$74+1,FALSE),$J32)","v":7608398},{"$f":"VLOOKUP($K32,'Price List'!$A:$K,2,FALSE)","v":"POMPE CHAUFFAGE UPML 25-115 130 MM"},{"$f":"VLOOKUP($K32,'Price List'!$A:$K,3,FALSE)","v":0},{"$f":"(1-remise)*VLOOKUP($K32,'Price List'!$A:$K,4,FALSE)","v":421},null,"HC195","JEU DE BOUCHONS",111708,40.5]
[34,{"$f":"HLOOKUP(texte!$C$75,Language!$B$3:$J$67,A33,FALSE)","v":"Prix total"},null,null,120918,{"$f":"VLOOKUP($E33,'Price List'!$A:$K,1,FALSE)","v":120918},{"$f":"VLOOKUP($F33,'Price List'!$A:$K,3,FALSE)","v":"HC248"},{"$f":"VLOOKUP($F33,'Price List'!$A:$K,2,FALSE)","v":"CHASSIS DE MONTAGE GMR 5000"},{"$f":"(1-remise)*VLOOKUP($F33,'Price List'!$A:$K,4,FALSE)","v":100},100013027,{"$f":"IF(VLOOKUP($J33,References!$C$3:$L$208,texte!$C$74+1,FALSE)<>0,VLOOKUP($J33,References!$C$3:$L$208,texte!$C$74+1,FALSE),$J33)","v":100013027},{"$f":"VLOOKUP($K33,'Price List'!$A:$K,2,FALSE)","v":"SONDE DE DÉPART + DOIGT DE GANT-BOUTEILLE < 350 kW"},{"$f":"VLOOKUP($K33,'Price List'!$A:$K,3,FALSE)","v":"HC223"},{"$f":"(1-remise)*VLOOKUP($K33,'Price List'!$A:$K,4,FALSE)","v":141}]
[35,{"$f":"HLOOKUP(texte!$C$75,Language!$B$3:$J$67,A34,FALSE)","v":"Référence"},null,null,111688,{"$f":"VLOOKUP($E34,'Price List'!$A:$K,1,FALSE)","v":111688},{"$f":"VLOOKUP($F34,'Price List'!$A:$K,3,FALSE)","v":"HC192"},{"$f":"VLOOKUP($F34,'Price List'!$A:$K,2,FALSE)","v":"RAIL DE MONTAGE MURAL 2 CHAUDIÈRES "},{"$f":"(1-remise)*VLOOKUP($F34,'Price List'!$A:$K,4,FALSE)","v":45},100008701,{"$f":"IF(VLOOKUP($J34,References!$C$3:$L$208,texte!$C$74+1,FALSE)<>0,VLOOKUP($J34,References!$C$3:$L$208,texte!$C$74+1,FALSE),$J34)","v":100008701},{"$f":"VLOOKUP($K34,'Price List'!$A:$K,2,FALSE)","v":"SONDE DE DÉPART + DOIGT DE GANT"},{"$f":"VLOOKUP($K34,'Price List'!$A:$K,3,FALSE)","v":"HC206"},{"$f":"(1-remise)*VLOOKUP($K34,'Price List'!$A:$K,4,FALSE)","v":167},null,"HC223","SONDE DE DÉPART + DOIGT DE GANT-BOUTEILLE < 350 kW",100013027,132.30000000000001]
[36,{"$f":"HLOOKUP(texte!$C$75,Language!$B$3:$J$67,A35,FALSE)","v":"Désignation"},null,null,111689,{"$f":"VLOOKUP($E35,'Price List'!$A:$K,1,FALSE)","v":111689},{"$f":"VLOOKUP($F35,'Price List'!$A:$K,3,FALSE)","v":"HC193"},{"$f":"VLOOKUP($F35,'Price List'!$A:$K,2,FALSE)","v":"RAIL DE MONTAGE MURAL 3 CHAUDIÈRES "},{"$f":"(1-remise)*VLOOKUP($F35,'Price List'!$A:$K,4,FALSE)","v":54},88017836,{"$f":"IF(VLOOKUP($J35,References!$C$3:$L$208,texte!$C$74+1,FALSE)<>0,VLOOKUP($J35,References!$C$3:$L$208,texte!$C$74+1,FALSE),$J35)","v":88017836},{"$f":"VLOOKUP($K35,'Price List'!$A:$K,2,FALSE)","v":"CABLE BUS RX11  LG 1,5 M"},{"$f":"VLOOKUP($K35,'Price List'!$A:$K,3,FALSE)","v":"AD124"},{"$f":"(1-remise)*VLOOKUP($K35,'Price List'!$A:$K,4,FALSE)","v":90},null,"HC206","SONDE DE DÉPART + DOIGT DE GANT-BOUTEILLE > 350 kW",100008701,155.1]
[37,{"$f":"HLOOKUP(texte!$C$75,Language!$B$3:$J$67,A36,FALSE)","v":"Système"},null,null,111690,{"$f":"VLOOKUP($E36,'Price List'!$A:$K,1,FALSE)","v":111690},{"$f":"VLOOKUP($F36,'Price List'!$A:$K,3,FALSE)","v":"HC194"},{"$f":"VLOOKUP($F36,'Price List'!$A:$K,2,FALSE)","v":"RAIL DE MONTAGE MURAL 4 CHAUDIÈRES "},{"$f":"(1-remise)*VLOOKUP($F36,'Price List'!$A:$K,4,FALSE)","v":71},null,null,null,null,null,null,"AD124","CABLE DE LIAISON INTER-MODULE RX 11",88017836,86.3]
[38,{"$f":"HLOOKUP(texte!$C$75,Language!$B$3:$J$67,A37,FALSE)","v":"Accessoires"},null,null,{"$f":"\"\"","v":""},{"$f":"\"\"","v":""},{"$f":"\"\"","v":""},{"$f":"\"\"","v":""},{"$f":"\"\"","v":""},{"$f":"\"\"","v":""},"OPTIONS CASCADE"]
[39,{"$f":"HLOOKUP(texte!$C$75,Language!$B$3:$J$67,A38,FALSE)","v":"Composition"},null,null,{"$f":"\"\"","v":""},{"$f":"\"\"","v":""},{"$f":"\"\"","v":""},{"$f":"\"\"","v":""},{"$f":"\"\"","v":""},{"$f":"\"\"","v":""}]
[40,{"$f":"HLOOKUP(texte!$C$75,Language!$B$3:$J$67,A39,FALSE)","v":"du système cascade"},null,null,84887768,{"$f":"VLOOKUP($E39,'Price List'!$A:$K,1,FALSE)","v":84887768},{"$f":"VLOOKUP($F39,'Price List'!$A:$K,3,FALSE)","v":"DY768"},{"$f":"VLOOKUP($F39,'Price List'!$A:$K,2,FALSE)","v":"ADAPTATEUR Ø 80 - 100 MM"},{"$f":"(1-remise)*VLOOKUP($F39,'Price List'!$A:$K,4,FALSE)","v":58},"S101655","S101655",{"$f":"VLOOKUP($K39,'Price List'!$A:$K,2,FALSE)","v":"FILTRE GAZ DN50"},{"$f":"VLOOKUP($K39,'Price List'!$A:$K,3,FALSE)","v":"HC255"},{"$f":"(1-remise)*VLOOKUP($K39,'Price List'!$A:$K,4,FALSE)","v":558},null,"Ordre d'affichage"]
[41,{"$f":"HLOOKUP(texte!$C$75,Language!$B$3:$J$67,A40,FALSE)","v":"mural \"LW\""},null,null,{"$f":"\"\"","v":""},{"$f":"\"\"","v":""},{"$f":"\"\"","v":""},{"$f":"\"\"","v":""},{"$f":"\"\"","v":""},{"$f":"\"\"","v":""},{"$f":"\"\"","v":""},{"$f":"\"\"","v":""},{"$f":"\"\"","v":""},{"$f":"\"\"","v":""}]
[42,{"$f":"HLOOKUP(texte!$C$75,Language!$B$3:$J$67,A41,FALSE)","v":"sol \"LV\""},null,null,{"$f":"\"\"","v":""},{"$f":"\"\"","v":""},{"$f":"\"\"","v":""},{"$f":"\"\"","v":""},{"$f":"\"\"","v":""},111788,{"$f":"IF(VLOOKUP($J41,References!$C$3:$L$208,texte!$C$74+1,FALSE)<>0,VLOOKUP($J41,References!$C$3:$L$208,texte!$C$74+1,FALSE),$J41)","v":111788},{"$f":"VLOOKUP($K41,'Price List'!$A:$K,2,FALSE)","v":"COUDES DN65"},{"$f":"VLOOKUP($K41,'Price List'!$A:$K,3,FALSE)","v":"HC209"},{"$f":"(1-remise)*VLOOKUP($K41,'Price List'!$A:$K,4,FALSE)","v":714},null,{"$f":"R34","v":100013027},{"$f":"Q34","v":"SONDE DE DÉPART + DOIGT DE GANT-BOUTEILLE < 350 kW"},{"$f":"P34","v":"HC223"},{"$f":"S34","v":132.30000000000001}]
[43,{"$f":"HLOOKUP(texte!$C$75,Language!$B$3:$J$67,A42,FALSE)","v":"dos à dos \"RG\""},null,null,{"$f":"\"\"","v":""},{"$f":"\"\"","v":""},{"$f":"\"\"","v":""},{"$f":"\"\"","v":""},{"$f":"\"\"","v":""},{"$f":"\"\"","v":""},{"$f":"\"\"","v":""},{"$f":"\"\"","v":""},{"$f":"\"\"","v":""},{"$f":"\"\"","v":""},null,{"$f":"R35","v":100008701},{"$f":"Q35","v":"SONDE DE DÉPART + DOIGT DE GANT-BOUTEILLE > 350 kW"},{"$f":"P35","v":"HC206"},{"$f":"S35","v":155.1}]
[44,{"$f":"HLOOKUP(texte!$C$75,Language!$B$3:$J$67,A43,FALSE)","v":"* Pour installation en cascade sous pression"},null,null,"S101655",{"$f":"VLOOKUP($E43,'Price List'!$A:$K,1,FALSE)","v":"S101655"},{"$f":"VLOOKUP($F43,'Price List'!$A:$K,3,FALSE)","v":"HC255"},{"$f":"VLOOKUP($F43,'Price List'!$A:$K,2,FALSE)","v":"FILTRE GAZ DN50"},{"$f":"(1-remise)*VLOOKUP($F43,'Price List'!$A:$K,4,FALSE)","v":558},{"$f":"\"\"","v":""},{"$f":"\"\"","v":""},{"$f":"\"\"","v":""},{"$f":"\"\"","v":""},{"$f":"\"\"","v":""},null,{"$f":"R36","v":88017836},"CABLE DE LIAISON INTER-MODULE RX 11","AD124",86.3]
[45,{"$f":"HLOOKUP(texte!$C$75,Language!$B$3:$J$67,A44,FALSE)","v":"Code à rappeler lors de la commande."},null,null,{"$f":"\"\"","v":""},{"$f":"\"\"","v":""},{"$f":"\"\"","v":""},{"$f":"\"\"","v":""},{"$f":"\"\"","v":""},{"$f":"\"\"","v":""},{"$f":"\"\"","v":""},{"$f":"\"\"","v":""},{"$f":"\"\"","v":""},{"$f":"\"\"","v":""},null,{"$f":"R4","v":7637223},{"$f":"Q4","v":"POMPE UPM XL GRUNDFOS 25-105 H180"},{"$f":"P4","v":"EH651"},{"$f":"S4","v":605.79999999999995}]
[46,{"$f":"HLOOKUP(texte!$C$75,Language!$B$3:$J$67,A45,FALSE)","v":"Marché"},null,"Place pour bride DN 50","S103345",{"$f":"VLOOKUP($E45,'Price List'!$A:$K,1,FALSE)","v":"S103345"},{"$f":"VLOOKUP($F45,'Price List'!$A:$K,3,FALSE)","v":"HC261"},{"$f":"VLOOKUP($F45,'Price List'!$A:$K,2,FALSE)","v":"JEUX DE BRIDES À SOUDER DN50 POUR FILTRE A GAZ"},{"$f":"(1-remise)*VLOOKUP($F45,'Price List'!$A:$K,4,FALSE)","v":90},111069,{"$f":"IF(VLOOKUP($J45,References!$C$3:$L$208,texte!$C$74+1,FALSE)<>0,VLOOKUP($J45,References!$C$3:$L$208,texte!$C$74+1,FALSE),$J45)","v":111069},{"$f":"VLOOKUP($K45,'Price List'!$A:$K,2,FALSE)","v":"ISOLATION COLLECTEUR"},{"$f":"VLOOKUP($K45,'Price List'!$A:$K,3,FALSE)","v":"HC213"},{"$f":"(1-remise)*VLOOKUP($K45,'Price List'!$A:$K,4,FALSE)","v":92},null,7665725,"COLLECTEUR DN100-2 CHAUDIERES MCA  160 FR","EH652",1137.5]
[47,{"$f":"HLOOKUP(texte!$C$75,Language!$B$3:$J$67,A46,FALSE)","v":"Puissance (80/60°C)"},null,null,111788,{"$f":"VLOOKUP($E46,'Price List'!$A:$K,1,FALSE)","v":111788},{"$f":"VLOOKUP($F46,'Price List'!$A:$K,3,FALSE)","v":"HC209"},{"$f":"VLOOKUP($F46,'Price List'!$A:$K,2,FALSE)","v":"COUDES DN65"},{"$f":"(1-remise)*VLOOKUP($F46,'Price List'!$A:$K,4,FALSE)","v":714},122441,122441,{"$f":"VLOOKUP($K46,'Price List'!$A:$K,2,FALSE)","v":"ISOLATION ARRIERE KIT DE RACCORDEMENT HYDRAULIQUE"},{"$f":"VLOOKUP($K46,'Price List'!$A:$K,3,FALSE)","v":"HC252"},{"$f":"(1-remise)*VLOOKUP($K46,'Price List'!$A:$K,4,FALSE)","v":73},null,7665728,"COLLECTEUR DN100-3 CHAUDIERES  MCA 160  FR","EH653",1442]
[48,{"$f":"HLOOKUP(texte!$C$75,Language!$B$3:$J$67,A47,FALSE)","v":"Support"},null,null,{"$f":"\"\"","v":""},{"$f":"\"\"","v":""},{"$f":"\"\"","v":""},{"$f":"\"\"","v":""},{"$f":"\"\"","v":""},115269,{"$f":"IF(VLOOKUP($J47,References!$C$3:$L$208,texte!$C$74+1,FALSE)<>0,VLOOKUP($J47,References!$C$3:$L$208,texte!$C$74+1,FALSE),$J47)","v":115269},{"$f":"VLOOKUP($K47,'Price List'!$A:$K,2,FALSE)","v":"ISOLATION BOUTEILLE DE DÉCOUPLAGE < 350 kW"},{"$f":"VLOOKUP($K47,'Price List'!$A:$K,3,FALSE)","v":"HC224"},{"$f":"(1-remise)*VLOOKUP($K47,'Price List'!$A:$K,4,FALSE)","v":40},null,114311,"BOUTEILLE DE DÉCOUPLAGE DN65 < 350 kW","HC222",617.5]
[49,{"$f":"HLOOKUP(texte!$C$75,Language!$B$3:$J$67,A48,FALSE)","v":"_"},null,null,{"$f":"\"\"","v":""},{"$f":"\"\"","v":""},{"$f":"\"\"","v":""},{"$f":"\"\"","v":""},{"$f":"\"\"","v":""},111067,{"$f":"IF(VLOOKUP($J48,References!$C$3:$L$208,texte!$C$74+1,FALSE)<>0,VLOOKUP($J48,References!$C$3:$L$208,texte!$C$74+1,FALSE),$J48)","v":111067},{"$f":"VLOOKUP($K48,'Price List'!$A:$K,2,FALSE)","v":"ISOLATION BOUTEILLE DE DÉCOUPLAGE"},{"$f":"VLOOKUP($K48,'Price List'!$A:$K,3,FALSE)","v":"HC215"},{"$f":"(1-remise)*VLOOKUP($K48,'Price List'!$A:$K,4,FALSE)","v":260},null,111712,"BOUTEILLE DE DÉCOUPLAGE DN65 > 350 et < 460 kW","HC200",1028.2]
[50,{"$f":"HLOOKUP(texte!$C$75,Language!$B$3:$J$67,A49,FALSE)","v":"Régulation"},null,null,{"$f":"\"\"","v":""},{"$f":"\"\"","v":""},{"$f":"\"\"","v":""},{"$f":"\"\"","v":""},{"$f":"\"\"","v":""},111167,{"$f":"IF(VLOOKUP($J49,References!$C$3:$L$208,texte!$C$74+1,FALSE)<>0,VLOOKUP($J49,References!$C$3:$L$208,texte!$C$74+1,FALSE),$J49)","v":111167},{"$f":"VLOOKUP($K49,'Price List'!$A:$K,2,FALSE)","v":"ISOLATION COUDES 90°C"},{"$f":"VLOOKUP($K49,'Price List'!$A:$K,3,FALSE)","v":"HC216"},{"$f":"(1-remise)*VLOOKUP($K49,'Price List'!$A:$K,4,FALSE)","v":111},null,111714,"BOUTEILLE DE DÉCOUPLAGE DN100 > 460 kW","HC201",1239.7]
[51,{"$f":"HLOOKUP(texte!$C$75,Language!$B$3:$J$67,A50,FALSE)","v":"Hydraulique"},null,null,111069,{"$f":"VLOOKUP($E50,'Price List'!$A:$K,1,FALSE)","v":111069},{"$f":"VLOOKUP($F50,'Price List'!$A:$K,3,FALSE)","v":"HC213"},{"$f":"VLOOKUP($F50,'Price List'!$A:$K,2,FALSE)","v":"ISOLATION COLLECTEUR"},{"$f":"(1-remise)*VLOOKUP($F50,'Price List'!$A:$K,4,FALSE)","v":92},{"$f":"\"\"","v":""},{"$f":"\"\"","v":""},{"$f":"\"\"","v":""},{"$f":"\"\"","v":""},{"$f":"\"\"","v":""},null,{"$f":"R11","v":7622701},{"$f":"Q11","v":"RAC COLLEC L MCA 160 EH656"},{"$f":"P11","v":"EH656"},{"$f":"S11","v":712.3}]
[52,{"$f":"HLOOKUP(texte!$C$75,Language!$B$3:$J$67,A51,FALSE)","v":"DESIGNATION"},null,null,{"$f":"\"\"","v":""},{"$f":"\"\"","v":""},{"$f":"\"\"","v":""},{"$f":"\"\"","v":""},{"$f":"\"\"","v":""},{"$f":"\"\"","v":""},{"$f":"\"\"","v":""},{"$f":"\"\"","v":""},{"$f":"\"\"","v":""},{"$f":"\"\"","v":""}]
[53,{"$f":"HLOOKUP(texte!$C$75,Language!$B$3:$J$67,A52,FALSE)","v":"COLIS"},null,null,111067,{"$f":"VLOOKUP($E52,'Price List'!$A:$K,1,FALSE)","v":111067},{"$f":"VLOOKUP($F52,'Price List'!$A:$K,3,FALSE)","v":"HC215"},{"$f":"VLOOKUP($F52,'Price List'!$A:$K,2,FALSE)","v":"ISOLATION BOUTEILLE DE DÉCOUPLAGE"},{"$f":"(1-remise)*VLOOKUP($F52,'Price List'!$A:$K,4,FALSE)","v":260},111807,{"$f":"IF(VLOOKUP($J52,References!$C$3:$L$208,texte!$C$74+1,FALSE)<>0,VLOOKUP($J52,References!$C$3:$L$208,texte!$C$74+1,FALSE),$J52)","v":111807},{"$f":"VLOOKUP($K52,'Price List'!$A:$K,2,FALSE)","v":"PIED RÉGLABLE"},{"$f":"VLOOKUP($K52,'Price List'!$A:$K,3,FALSE)","v":"HC219"},{"$f":"(1-remise)*VLOOKUP($K52,'Price List'!$A:$K,4,FALSE)","v":4}]
[54,{"$f":"HLOOKUP(texte!$C$75,Language!$B$3:$J$67,A53,FALSE)","v":"PRIX"},null,null,115269,{"$f":"VLOOKUP($E53,'Price List'!$A:$K,1,FALSE)","v":115269},{"$f":"VLOOKUP($F53,'Price List'!$A:$K,3,FALSE)","v":"HC224"},{"$f":"VLOOKUP($F53,'Price List'!$A:$K,2,FALSE)","v":"ISOLATION BOUTEILLE DE DÉCOUPLAGE < 350 kW"},{"$f":"(1-remise)*VLOOKUP($F53,'Price List'!$A:$K,4,FALSE)","v":40},{"$f":"\"\"","v":""},{"$f":"\"\"","v":""},{"$f":"\"\"","v":""},{"$f":"\"\"","v":""},{"$f":"\"\"","v":""},null,{"$f":"R13","v":111703},{"$f":"Q13","v":"BRIDES PLEINES EAU DN100"},{"$f":"P13","v":"HC199"},{"$f":"S13","v":189.1}]
[55,{"$f":"HLOOKUP(texte!$C$75,Language!$B$3:$J$67,A54,FALSE)","v":"Merci de spécifier le marché de destination de ce logiciel"},null,null,111167,{"$f":"VLOOKUP($E54,'Price List'!$A:$K,1,FALSE)","v":111167},{"$f":"VLOOKUP($F54,'Price List'!$A:$K,3,FALSE)","v":"HC216"},{"$f":"VLOOKUP($F54,'Price List'!$A:$K,2,FALSE)","v":"ISOLATION COUDES 90°C"},{"$f":"(1-remise)*VLOOKUP($F54,'Price List'!$A:$K,4,FALSE)","v":111},{"$f":"\"\"","v":""},{"$f":"\"\"","v":""},{"$f":"\"\"","v":""},{"$f":"\"\"","v":""},{"$f":"\"\"","v":""}]
[56,{"$f":"HLOOKUP(texte!$C$75,Language!$B$3:$J$67,A55,FALSE)","v":"Vérifiez les données (tarif, calcul, …)"},null,null,111807,{"$f":"VLOOKUP($E55,'Price List'!$A:$K,1,FALSE)","v":111807},{"$f":"VLOOKUP($F55,'Price List'!$A:$K,3,FALSE)","v":"HC219"},{"$f":"VLOOKUP($F55,'Price List'!$A:$K,2,FALSE)","v":"PIED RÉGLABLE"},{"$f":"(1-remise)*VLOOKUP($F55,'Price List'!$A:$K,4,FALSE)","v":4},84887768,{"$f":"VLOOKUP(J55,'Price List'!$1:65509,1,FALSE)","v":84887768},{"$f":"VLOOKUP($K55,'Price List'!$A:$K,2,FALSE)","v":"ADAPTATEUR Ø 80 - 100 MM"},{"$f":"VLOOKUP($K55,'Price List'!$A:$K,3,FALSE)","v":"DY768"},{"$f":"(1-remise)*VLOOKUP($K55,'Price List'!$A:$K,4,FALSE)","v":58},null,{"$f":"R14","v":7612941},{"$f":"Q14","v":"MONTANT-SUPPORT I MCA 160"},{"$f":"P14","v":"EH663"},{"$f":"S14","v":116.7}]
[57,{"$f":"HLOOKUP(texte!$C$75,Language!$B$3:$J$67,A56,FALSE)","v":"H.T. en €"},null,null,112632,{"$f":"VLOOKUP($E56,'Price List'!$A:$K,1,FALSE)","v":112632},{"$f":"VLOOKUP($F56,'Price List'!$A:$K,3,FALSE)","v":"HC217"},{"$f":"VLOOKUP($F56,'Price List'!$A:$K,2,FALSE)","v":"JEU DE CONTRE-BRIDES À SOUDER DN65"},{"$f":"(1-remise)*VLOOKUP($F56,'Price List'!$A:$K,4,FALSE)","v":165},null,null,null,null,null,null,{"$f":"R15","v":7621566},{"$f":"Q15","v":"CHASSIS DE MONTAGE MCA 160"},{"$f":"P15","v":"EH664"},{"$f":"S15","v":193.1}]
[null,null,null,null,null,null,null,null,null,null,null,null,null,null,null,{"$f":"R16","v":7637077},{"$f":"Q16","v":"RAIL DE MONTAGE MURAL 2 CHAUDIÈRES MCA 160"},{"$f":"P16","v":"EH670"},{"$f":"S16","v":46.5}]
[null,null,null,null,null,null,null,{"$f":"B43","v":"* Pour installation en cascade sous pression"},null,null,null,null,null,null,null,{"$f":"R17","v":7637088},{"$f":"Q17","v":"RAIL DE MONTAGE MURAL 3 CHAUDIÈRES MCA 160"},{"$f":"P17","v":"EH671"},{"$f":"S17","v":65.2}]
[]
[null,null,null,null,null,null,null,null,null,null,null,null,null,null,null,"options"]
[null,null,null,null,null,null,null,null,null,null,null,null,null,null,null,{"$f":"R10","v":7633244},{"$f":"Q10","v":"ADAPTATEUR DN100/DN65"},{"$f":"P10","v":"EH654"},{"$f":"S10","v":304.89999999999998}]
[]
[null,null,null,null,null,null,null,null,null,null,null,null,null,null,null,{"$f":"R18","v":"S101656"},{"$f":"Q18","v":"FILTRE GAZ DN65"},{"$f":"P18","v":"HC256"},{"$f":"S18","v":714.5}]
[]
[]
[null,null,null,null,null,null,null,null,null,null,null,null,null,null,null,{"$f":"R19","v":111788},{"$f":"Q19","v":"COUDES DN65"},{"$f":"P19","v":"HC209"},{"$f":"S19","v":647.70000000000005}]
[null,null,null,null,null,null,null,null,null,null,null,null,null,null,null,{"$f":"R20","v":111790},{"$f":"Q20","v":"COUDES DN100"},{"$f":"P20","v":"HC210"},{"$f":"S20","v":893.1}]
[]
[null,null,null,null,null,null,null,null,null,null,null,null,null,null,null,{"$f":"R22","v":7613401},{"$f":"Q22","v":"ISOLATION COLLECTEUR MCA 160"},{"$f":"P22","v":"EH647"},{"$f":"S22","v":89.2}]
[null,null,null,null,null,null,null,null,null,null,null,null,null,null,null,7611804,"ISOLATION RACCORD MCA 160 ","EH648",86.6]
[null,null,null,null,null,null,null,null,null,null,null,null,null,null,null,7631858,"PLAQ ISOLATION AR","EH649",79.8]
[null,"Menus déroulants Langues + marchés",null,null,null,null,null,null,null,null,null,null,null,null,null,111067,"ISOLATION BOUTEILLE DE DÉCOUPLAGE","HC215",237.6]
[null,null,"Langues",null,null,"Marchés",null,null,null,null,null,null,null,null,null,7622201,"ISOLATION ADAPTATEUR 100/65","EH650",46.7]
[null,"INDEX    ",4,null,null,"Belgium",null,null,null,null,null,null,null,null,null,115269,"ISOLATION BOUTEILLE DE DÉCOUPLAGE < 350 kW","HC224",35.1]
[null,null,{"$f":"INDEX(texte!$B$81:$B$89,C74,1)","v":"Français"},null,null,"Italy",null,null,null,null,null,null,null,null,null,111167,"ISOLATION COUDES 90°","HC216",100]
[null,null,null,null,null,"Other",null,null,null,null,null,null,null,null,null,111807,"PIED RÉGLABLE","HC219",4.2]
[null,"RECHERCHE TARIF    ",{"$f":"B51","v":"DESIGNATION"},null,null,3,null,null,null,null,null,null,null,null,null,7638518,"JEU DE CONTRE BRIDE A SOUDER DN65","EH669",139.6]
[null,null,{"$f":"B52","v":"COLIS"},null,null,{"$f":"INDEX(F74:F76,F77)","v":"Other"},null,null,null,null,null,null,null,null,null,112633,"JEU DE CONTRE-BRIDES À SOUDER DN100","HC218",170.8]
[null,null,{"$f":"B53","v":"PRIX"}]
[]
[null,"Deutsch"]
[null,"English"]
[null,"Español"]
[null,"Français"]
[null,"Italiano"]
[null,"Polsky"]
[null,"Русский"]
[null,"Nederlands"]
[null,{"$f":"Language!J3","v":"Other"}]

{"sheet":"DEVIS","index":9,"n_rows":53,"n_cols":6,"rows_kept":53,"cut":false,"hidden":true,"merged":[]}
["Référence","Désignation","Colis","Prix unitaire","Quantité","Prix total"]
[{"$f":"IF(+'Calcul dim par chaudière'!$D$16=0,\"\",7674140)","v":""},{"$f":"VLOOKUP($A$2,'Price List'!$1:$1048576,2,FALSE)","v":{"$error":"#N/A"}},null,{"$f":"VLOOKUP($A$2,'Price List'!$1:$1048576,5,FALSE)","v":{"$error":"#N/A"}},{"$f":"IF('Calcul dim par chaudière'!$D$16=0,\"\",+'Calcul dim par chaudière'!$D$16)","v":""},{"$f":"IF(A2=\"\",\"\",D2*E2)","v":""}]
[{"$f":"IF('Calcul dim par chaudière'!$G$44=0,\"\",7674142)","v":7674142},{"$f":"VLOOKUP($A$3,'Price List'!$1:$1048576,2,FALSE)","v":{"$error":"#N/A"}},null,{"$f":"VLOOKUP($A$3,'Price List'!$1:$1048576,5,FALSE)","v":{"$error":"#N/A"}},{"$f":"IF('Calcul dim par chaudière'!G44=0,\"\",'Calcul dim par chaudière'!G44)","v":3},{"$f":"IF(A3=\"\",\"\",D3*E3)","v":{"$error":"#N/A"}}]
[{"$f":"IF('Dimensionnement par chaudière'!E43<>\"\",'Dimensionnement par chaudière'!E43,\"\")","v":""},{"$f":"IF('Dimensionnement par chaudière'!G43<>\"\",'Dimensionnement par chaudière'!G43,\"\")","v":""},{"$f":"IF('Dimensionnement par chaudière'!K43<>\"\",'Dimensionnement par chaudière'!K43,\"\")","v":""},{"$f":"IF('Dimensionnement par chaudière'!L43<>\"\",'Dimensionnement par chaudière'!L43,\"\")","v":""},{"$f":"IF('Dimensionnement par chaudière'!M43<>\"\",'Dimensionnement par chaudière'!M43,\"\")","v":""},{"$f":"IF('Dimensionnement par chaudière'!N43<>\"\",'Dimensionnement par chaudière'!N43,\"\")","v":""}]
[{"$f":"IF('Dimensionnement par chaudière'!E44<>\"\",'Dimensionnement par chaudière'!E44,\"\")","v":""},{"$f":"IF('Dimensionnement par chaudière'!G44<>\"\",'Dimensionnement par chaudière'!G44,\"\")","v":""},{"$f":"IF('Dimensionnement par chaudière'!K44<>\"\",'Dimensionnement par chaudière'!K44,\"\")","v":""},{"$f":"IF('Dimensionnement par chaudière'!L44<>\"\",'Dimensionnement par chaudière'!L44,\"\")","v":""},{"$f":"IF('Dimensionnement par chaudière'!M44<>\"\",'Dimensionnement par chaudière'!M44,\"\")","v":""},{"$f":"IF('Dimensionnement par chaudière'!N44<>\"\",'Dimensionnement par chaudière'!N44,\"\")","v":""}]
[{"$f":"IF('Dimensionnement par chaudière'!E45<>\"\",'Dimensionnement par chaudière'!E45,\"\")","v":""},{"$f":"IF('Dimensionnement par chaudière'!G45<>\"\",'Dimensionnement par chaudière'!G45,\"\")","v":""},{"$f":"IF('Dimensionnement par chaudière'!K45<>\"\",'Dimensionnement par chaudière'!K45,\"\")","v":""},{"$f":"IF('Dimensionnement par chaudière'!L45<>\"\",'Dimensionnement par chaudière'!L45,\"\")","v":""},{"$f":"IF('Dimensionnement par chaudière'!M45<>\"\",'Dimensionnement par chaudière'!M45,\"\")","v":""},{"$f":"IF('Dimensionnement par chaudière'!N45<>\"\",'Dimensionnement par chaudière'!N45,\"\")","v":""}]
[{"$f":"IF('Dimensionnement par chaudière'!E46<>\"\",'Dimensionnement par chaudière'!E46,\"\")","v":""},{"$f":"IF('Dimensionnement par chaudière'!G46<>\"\",'Dimensionnement par chaudière'!G46,\"\")","v":""},{"$f":"IF('Dimensionnement par chaudière'!K46<>\"\",'Dimensionnement par chaudière'!K46,\"\")","v":""},{"$f":"IF('Dimensionnement par chaudière'!L46<>\"\",'Dimensionnement par chaudière'!L46,\"\")","v":""},{"$f":"IF('Dimensionnement par chaudière'!M46<>\"\",'Dimensionnement par chaudière'!M46,\"\")","v":""},{"$f":"IF('Dimensionnement par chaudière'!N46<>\"\",'Dimensionnement par chaudière'!N46,\"\")","v":""}]
[{"$f":"IF('Dimensionnement par chaudière'!E47<>\"\",'Dimensionnement par chaudière'!E47,\"\")","v":7637088},{"$f":"IF('Dimensionnement par chaudière'!G47<>\"\",'Dimensionnement par chaudière'!G47,\"\")","v":"RAIL DE MONTAGE MURAL 3 CHAUDIÈRES MCA 160"},{"$f":"IF('Dimensionnement par chaudière'!K47<>\"\",'Dimensionnement par chaudière'!K47,\"\")","v":"EH671"},{"$f":"IF('Dimensionnement par chaudière'!L47<>\"\",'Dimensionnement par chaudière'!L47,\"\")","v":70},{"$f":"IF('Dimensionnement par chaudière'!M47<>\"\",'Dimensionnement par chaudière'!M47,\"\")","v":1},{"$f":"IF('Dimensionnement par chaudière'!N47<>\"\",'Dimensionnement par chaudière'!N47,\"\")","v":70}]
[{"$f":"IF('Dimensionnement par chaudière'!E48<>\"\",'Dimensionnement par chaudière'!E48,\"\")","v":""},{"$f":"IF('Dimensionnement par chaudière'!G48<>\"\",'Dimensionnement par chaudière'!G48,\"\")","v":""},{"$f":"IF('Dimensionnement par chaudière'!K48<>\"\",'Dimensionnement par chaudière'!K48,\"\")","v":""},{"$f":"IF('Dimensionnement par chaudière'!L48<>\"\",'Dimensionnement par chaudière'!L48,\"\")","v":""},{"$f":"IF('Dimensionnement par chaudière'!M48<>\"\",'Dimensionnement par chaudière'!M48,\"\")","v":""},{"$f":"IF('Dimensionnement par chaudière'!N48<>\"\",'Dimensionnement par chaudière'!N48,\"\")","v":""}]
[{"$f":"IF('Dimensionnement par chaudière'!E49<>\"\",'Dimensionnement par chaudière'!E49,\"\")","v":""},{"$f":"IF('Dimensionnement par chaudière'!G49<>\"\",'Dimensionnement par chaudière'!G49,\"\")","v":""},{"$f":"IF('Dimensionnement par chaudière'!K49<>\"\",'Dimensionnement par chaudière'!K49,\"\")","v":""},{"$f":"IF('Dimensionnement par chaudière'!L49<>\"\",'Dimensionnement par chaudière'!L49,\"\")","v":""},{"$f":"IF('Dimensionnement par chaudière'!M49<>\"\",'Dimensionnement par chaudière'!M49,\"\")","v":""},{"$f":"IF('Dimensionnement par chaudière'!N49<>\"\",'Dimensionnement par chaudière'!N49,\"\")","v":""}]
[{"$f":"IF('Dimensionnement par chaudière'!E50<>\"\",'Dimensionnement par chaudière'!E50,\"\")","v":""},{"$f":"IF('Dimensionnement par chaudière'!G50<>\"\",'Dimensionnement par chaudière'!G50,\"\")","v":""},{"$f":"IF('Dimensionnement par chaudière'!K50<>\"\",'Dimensionnement par chaudière'!K50,\"\")","v":""},{"$f":"IF('Dimensionnement par chaudière'!L50<>\"\",'Dimensionnement par chaudière'!L50,\"\")","v":""},{"$f":"IF('Dimensionnement par chaudière'!M50<>\"\",'Dimensionnement par chaudière'!M50,\"\")","v":""},{"$f":"IF('Dimensionnement par chaudière'!N50<>\"\",'Dimensionnement par chaudière'!N50,\"\")","v":""}]
[{"$f":"IF('Dimensionnement par chaudière'!E52<>\"\",'Dimensionnement par chaudière'!E52,\"\")","v":""},{"$f":"IF('Dimensionnement par chaudière'!G52<>\"\",'Dimensionnement par chaudière'!G52,\"\")","v":""},{"$f":"IF('Dimensionnement par chaudière'!K52<>\"\",'Dimensionnement par chaudière'!K52,\"\")","v":""},{"$f":"IF('Dimensionnement par chaudière'!L52<>\"\",'Dimensionnement par chaudière'!L52,\"\")","v":""},{"$f":"IF('Dimensionnement par chaudière'!M52<>\"\",'Dimensionnement par chaudière'!M52,\"\")","v":""},{"$f":"IF('Dimensionnement par chaudière'!N52<>\"\",'Dimensionnement par chaudière'!N52,\"\")","v":""}]
[{"$f":"IF('Dimensionnement par chaudière'!E53<>\"\",'Dimensionnement par chaudière'!E53,\"\")","v":""},{"$f":"IF('Dimensionnement par chaudière'!G53<>\"\",'Dimensionnement par chaudière'!G53,\"\")","v":""},{"$f":"IF('Dimensionnement par chaudière'!K53<>\"\",'Dimensionnement par chaudière'!K53,\"\")","v":""},{"$f":"IF('Dimensionnement par chaudière'!L53<>\"\",'Dimensionnement par chaudière'!L53,\"\")","v":""},{"$f":"IF('Dimensionnement par chaudière'!M53<>\"\",'Dimensionnement par chaudière'!M53,\"\")","v":""},{"$f":"IF('Dimensionnement par chaudière'!N53<>\"\",'Dimensionnement par chaudière'!N53,\"\")","v":""}]
[{"$f":"IF('Dimensionnement par chaudière'!E54<>\"\",'Dimensionnement par chaudière'!E54,\"\")","v":7665728},{"$f":"IF('Dimensionnement par chaudière'!G54<>\"\",'Dimensionnement par chaudière'!G54,\"\")","v":"COLLECTEUR DN100-3 CHAUDIERES  MCA 160  FR"},{"$f":"IF('Dimensionnement par chaudière'!K54<>\"\",'Dimensionnement par chaudière'!K54,\"\")","v":"EH653"},{"$f":"IF('Dimensionnement par chaudière'!L54<>\"\",'Dimensionnement par chaudière'!L54,\"\")","v":1551},{"$f":"IF('Dimensionnement par chaudière'!M54<>\"\",'Dimensionnement par chaudière'!M54,\"\")","v":1},{"$f":"IF('Dimensionnement par chaudière'!N54<>\"\",'Dimensionnement par chaudière'!N54,\"\")","v":1551}]
[{"$f":"IF('Dimensionnement par chaudière'!E55<>\"\",'Dimensionnement par chaudière'!E55,\"\")","v":111712},{"$f":"IF('Dimensionnement par chaudière'!G55<>\"\",'Dimensionnement par chaudière'!G55,\"\")","v":"BOUTEILLE DE DÉCOUPLAGE DN65 > 350 et < 460 kW"},{"$f":"IF('Dimensionnement par chaudière'!K55<>\"\",'Dimensionnement par chaudière'!K55,\"\")","v":"HC200"},{"$f":"IF('Dimensionnement par chaudière'!L55<>\"\",'Dimensionnement par chaudière'!L55,\"\")","v":1101},{"$f":"IF('Dimensionnement par chaudière'!M55<>\"\",'Dimensionnement par chaudière'!M55,\"\")","v":1},{"$f":"IF('Dimensionnement par chaudière'!N55<>\"\",'Dimensionnement par chaudière'!N55,\"\")","v":1101}]
[{"$f":"IF('Dimensionnement par chaudière'!E56<>\"\",'Dimensionnement par chaudière'!E56,\"\")","v":""},{"$f":"IF('Dimensionnement par chaudière'!G56<>\"\",'Dimensionnement par chaudière'!G56,\"\")","v":""},{"$f":"IF('Dimensionnement par chaudière'!K56<>\"\",'Dimensionnement par chaudière'!K56,\"\")","v":""},{"$f":"IF('Dimensionnement par chaudière'!L56<>\"\",'Dimensionnement par chaudière'!L56,\"\")","v":""},{"$f":"IF('Dimensionnement par chaudière'!M56<>\"\",'Dimensionnement par chaudière'!M56,\"\")","v":""},{"$f":"IF('Dimensionnement par chaudière'!N56<>\"\",'Dimensionnement par chaudière'!N56,\"\")","v":""}]
[{"$f":"IF('Dimensionnement par chaudière'!E57<>\"\",'Dimensionnement par chaudière'!E57,\"\")","v":""},{"$f":"IF('Dimensionnement par chaudière'!G57<>\"\",'Dimensionnement par chaudière'!G57,\"\")","v":""},{"$f":"IF('Dimensionnement par chaudière'!K57<>\"\",'Dimensionnement par chaudière'!K57,\"\")","v":""},{"$f":"IF('Dimensionnement par chaudière'!L57<>\"\",'Dimensionnement par chaudière'!L57,\"\")","v":""},{"$f":"IF('Dimensionnement par chaudière'!M57<>\"\",'Dimensionnement par chaudière'!M57,\"\")","v":""},{"$f":"IF('Dimensionnement par chaudière'!N57<>\"\",'Dimensionnement par chaudière'!N57,\"\")","v":""}]
[{"$f":"IF('Dimensionnement par chaudière'!E59<>\"\",'Dimensionnement par chaudière'!E59,\"\")","v":""},{"$f":"IF('Dimensionnement par chaudière'!G59<>\"\",'Dimensionnement par chaudière'!G59,\"\")","v":""},{"$f":"IF('Dimensionnement par chaudière'!K59<>\"\",'Dimensionnement par chaudière'!K59,\"\")","v":""},{"$f":"IF('Dimensionnement par chaudière'!L59<>\"\",'Dimensionnement par chaudière'!L59,\"\")","v":""},{"$f":"IF('Dimensionnement par chaudière'!M59<>\"\",'Dimensionnement par chaudière'!M59,\"\")","v":""},{"$f":"IF('Dimensionnement par chaudière'!N59<>\"\",'Dimensionnement par chaudière'!N59,\"\")","v":""}]
[{"$f":"IF('Dimensionnement par chaudière'!E60<>\"\",'Dimensionnement par chaudière'!E60,\"\")","v":7622701},{"$f":"IF('Dimensionnement par chaudière'!G60<>\"\",'Dimensionnement par chaudière'!G60,\"\")","v":"RAC COLLEC L MCA 160 EH656"},{"$f":"IF('Dimensionnement par chaudière'!K60<>\"\",'Dimensionnement par chaudière'!K60,\"\")","v":"EH656"},{"$f":"IF('Dimensionnement par chaudière'!L60<>\"\",'Dimensionnement par chaudière'!L60,\"\")","v":767},{"$f":"IF('Dimensionnement par chaudière'!M60<>\"\",'Dimensionnement par chaudière'!M60,\"\")","v":3},{"$f":"IF('Dimensionnement par chaudière'!N60<>\"\",'Dimensionnement par chaudière'!N60,\"\")","v":2301}]
[{"$f":"IF('Dimensionnement par chaudière'!E61<>\"\",'Dimensionnement par chaudière'!E61,\"\")","v":111708},{"$f":"IF('Dimensionnement par chaudière'!G61<>\"\",'Dimensionnement par chaudière'!G61,\"\")","v":"JEU DE BOUCHONS"},{"$f":"IF('Dimensionnement par chaudière'!K61<>\"\",'Dimensionnement par chaudière'!K61,\"\")","v":"HC195"},{"$f":"IF('Dimensionnement par chaudière'!L61<>\"\",'Dimensionnement par chaudière'!L61,\"\")","v":43},{"$f":"IF('Dimensionnement par chaudière'!M61<>\"\",'Dimensionnement par chaudière'!M61,\"\")","v":3},{"$f":"IF('Dimensionnement par chaudière'!N61<>\"\",'Dimensionnement par chaudière'!N61,\"\")","v":129}]
[{"$f":"IF('Dimensionnement par chaudière'!E62<>\"\",'Dimensionnement par chaudière'!E62,\"\")","v":""},{"$f":"IF('Dimensionnement par chaudière'!G62<>\"\",'Dimensionnement par chaudière'!G62,\"\")","v":""},{"$f":"IF('Dimensionnement par chaudière'!K62<>\"\",'Dimensionnement par chaudière'!K62,\"\")","v":""},{"$f":"IF('Dimensionnement par chaudière'!L62<>\"\",'Dimensionnement par chaudière'!L62,\"\")","v":""},{"$f":"IF('Dimensionnement par chaudière'!M62<>\"\",'Dimensionnement par chaudière'!M62,\"\")","v":""},{"$f":"IF('Dimensionnement par chaudière'!N62<>\"\",'Dimensionnement par chaudière'!N62,\"\")","v":""}]
[{"$f":"IF('Dimensionnement par chaudière'!E63<>\"\",'Dimensionnement par chaudière'!E63,\"\")","v":111703},{"$f":"IF('Dimensionnement par chaudière'!G63<>\"\",'Dimensionnement par chaudière'!G63,\"\")","v":"BRIDES PLEINES EAU DN100"},{"$f":"IF('Dimensionnement par chaudière'!K63<>\"\",'Dimensionnement par chaudière'!K63,\"\")","v":"HC199"},{"$f":"IF('Dimensionnement par chaudière'!L63<>\"\",'Dimensionnement par chaudière'!L63,\"\")","v":203},{"$f":"IF('Dimensionnement par chaudière'!M63<>\"\",'Dimensionnement par chaudière'!M63,\"\")","v":1},{"$f":"IF('Dimensionnement par chaudière'!N63<>\"\",'Dimensionnement par chaudière'!N63,\"\")","v":203}]
[{"$f":"IF('Dimensionnement par chaudière'!E64<>\"\",'Dimensionnement par chaudière'!E64,\"\")","v":""},{"$f":"IF('Dimensionnement par chaudière'!G64<>\"\",'Dimensionnement par chaudière'!G64,\"\")","v":""},{"$f":"IF('Dimensionnement par chaudière'!K64<>\"\",'Dimensionnement par chaudière'!K64,\"\")","v":""},{"$f":"IF('Dimensionnement par chaudière'!L64<>\"\",'Dimensionnement par chaudière'!L64,\"\")","v":""},{"$f":"IF('Dimensionnement par chaudière'!M64<>\"\",'Dimensionnement par chaudière'!M64,\"\")","v":""},{"$f":"IF('Dimensionnement par chaudière'!N64<>\"\",'Dimensionnement par chaudière'!N64,\"\")","v":""}]
[{"$f":"IF('Dimensionnement par chaudière'!E65<>\"\",'Dimensionnement par chaudière'!E65,\"\")","v":7637223},{"$f":"IF('Dimensionnement par chaudière'!G65<>\"\",'Dimensionnement par chaudière'!G65,\"\")","v":"POMPE UPM XL GRUNDFOS 25-105 H180"},{"$f":"IF('Dimensionnement par chaudière'!K65<>\"\",'Dimensionnement par chaudière'!K65,\"\")","v":"EH651"},{"$f":"IF('Dimensionnement par chaudière'!L65<>\"\",'Dimensionnement par chaudière'!L65,\"\")","v":652},{"$f":"IF('Dimensionnement par chaudière'!M65<>\"\",'Dimensionnement par chaudière'!M65,\"\")","v":3},{"$f":"IF('Dimensionnement par chaudière'!N65<>\"\",'Dimensionnement par chaudière'!N65,\"\")","v":1956}]
[{"$f":"IF('Dimensionnement par chaudière'!E66<>\"\",'Dimensionnement par chaudière'!E66,\"\")","v":7638518},{"$f":"IF('Dimensionnement par chaudière'!K66<>\"\",'Dimensionnement par chaudière'!K66,\"\")","v":"EH669"},{"$f":"IF('Dimensionnement par chaudière'!#REF!<>\"\",'Dimensionnement par chaudière'!#REF!,\"\")","v":{"$error":"#REF!"}},{"$f":"IF('Dimensionnement par chaudière'!L66<>\"\",'Dimensionnement par chaudière'!L66,\"\")","v":150},{"$f":"IF('Dimensionnement par chaudière'!M66<>\"\",'Dimensionnement par chaudière'!M66,\"\")","v":1},{"$f":"IF('Dimensionnement par chaudière'!N66<>\"\",'Dimensionnement par chaudière'!N66,\"\")","v":150}]
[{"$f":"IF('Dimensionnement par chaudière'!E67<>\"\",'Dimensionnement par chaudière'!E67,\"\")","v":""},{"$f":"IF('Dimensionnement par chaudière'!G67<>\"\",'Dimensionnement par chaudière'!G67,\"\")","v":""},{"$f":"IF('Dimensionnement par chaudière'!K67<>\"\",'Dimensionnement par chaudière'!K67,\"\")","v":""},{"$f":"IF('Dimensionnement par chaudière'!L67<>\"\",'Dimensionnement par chaudière'!L67,\"\")","v":""},{"$f":"IF('Dimensionnement par chaudière'!M67<>\"\",'Dimensionnement par chaudière'!M67,\"\")","v":""},{"$f":"IF('Dimensionnement par chaudière'!N67<>\"\",'Dimensionnement par chaudière'!N67,\"\")","v":""}]
[{"$f":"IF('Dimensionnement par chaudière'!E68<>\"\",'Dimensionnement par chaudière'!E68,\"\")","v":""},{"$f":"IF('Dimensionnement par chaudière'!G68<>\"\",'Dimensionnement par chaudière'!G68,\"\")","v":""},{"$f":"IF('Dimensionnement par chaudière'!K68<>\"\",'Dimensionnement par chaudière'!K68,\"\")","v":""},{"$f":"IF('Dimensionnement par chaudière'!L68<>\"\",'Dimensionnement par chaudière'!L68,\"\")","v":""},{"$f":"IF('Dimensionnement par chaudière'!M68<>\"\",'Dimensionnement par chaudière'!M68,\"\")","v":""},{"$f":"IF('Dimensionnement par chaudière'!N68<>\"\",'Dimensionnement par chaudière'!N68,\"\")","v":""}]
[{"$f":"IF('Dimensionnement par chaudière'!E69<>\"\",'Dimensionnement par chaudière'!E69,\"\")","v":""},{"$f":"IF('Dimensionnement par chaudière'!G69<>\"\",'Dimensionnement par chaudière'!G69,\"\")","v":""},{"$f":"IF('Dimensionnement par chaudière'!K69<>\"\",'Dimensionnement par chaudière'!K69,\"\")","v":""},{"$f":"IF('Dimensionnement par chaudière'!L69<>\"\",'Dimensionnement par chaudière'!L69,\"\")","v":""},{"$f":"IF('Dimensionnement par chaudière'!M69<>\"\",'Dimensionnement par chaudière'!M69,\"\")","v":""},{"$f":"IF('Dimensionnement par chaudière'!N69<>\"\",'Dimensionnement par chaudière'!N69,\"\")","v":""}]
[{"$f":"IF('Dimensionnement par chaudière'!E70<>\"\",'Dimensionnement par chaudière'!E70,\"\")","v":""},{"$f":"IF('Dimensionnement par chaudière'!G70<>\"\",'Dimensionnement par chaudière'!G70,\"\")","v":""},{"$f":"IF('Dimensionnement par chaudière'!K70<>\"\",'Dimensionnement par chaudière'!K70,\"\")","v":""},{"$f":"IF('Dimensionnement par chaudière'!L70<>\"\",'Dimensionnement par chaudière'!L70,\"\")","v":""},{"$f":"IF('Dimensionnement par chaudière'!M70<>\"\",'Dimensionnement par chaudière'!M70,\"\")","v":""},{"$f":"IF('Dimensionnement par chaudière'!N70<>\"\",'Dimensionnement par chaudière'!N70,\"\")","v":""}]
[{"$f":"IF('Dimensionnement par chaudière'!E71<>\"\",'Dimensionnement par chaudière'!E71,\"\")","v":""},{"$f":"IF('Dimensionnement par chaudière'!G71<>\"\",'Dimensionnement par chaudière'!G71,\"\")","v":""},{"$f":"IF('Dimensionnement par chaudière'!K71<>\"\",'Dimensionnement par chaudière'!K71,\"\")","v":""},{"$f":"IF('Dimensionnement par chaudière'!L71<>\"\",'Dimensionnement par chaudière'!L71,\"\")","v":""},{"$f":"IF('Dimensionnement par chaudière'!M71<>\"\",'Dimensionnement par chaudière'!M71,\"\")","v":""},{"$f":"IF('Dimensionnement par chaudière'!N71<>\"\",'Dimensionnement par chaudière'!N71,\"\")","v":""}]
[{"$f":"IF('Dimensionnement par chaudière'!E72<>\"\",'Dimensionnement par chaudière'!E72,\"\")","v":""},{"$f":"IF('Dimensionnement par chaudière'!G72<>\"\",'Dimensionnement par chaudière'!G72,\"\")","v":""},{"$f":"IF('Dimensionnement par chaudière'!K72<>\"\",'Dimensionnement par chaudière'!K72,\"\")","v":""},{"$f":"IF('Dimensionnement par chaudière'!L72<>\"\",'Dimensionnement par chaudière'!L72,\"\")","v":""},{"$f":"IF('Dimensionnement par chaudière'!M72<>\"\",'Dimensionnement par chaudière'!M72,\"\")","v":""},{"$f":"IF('Dimensionnement par chaudière'!N72<>\"\",'Dimensionnement par chaudière'!N72,\"\")","v":""}]
[{"$f":"IF('Dimensionnement par chaudière'!E73<>\"\",'Dimensionnement par chaudière'!E73,\"\")","v":""},{"$f":"IF('Dimensionnement par chaudière'!G73<>\"\",'Dimensionnement par chaudière'!G73,\"\")","v":""},{"$f":"IF('Dimensionnement par chaudière'!K73<>\"\",'Dimensionnement par chaudière'!K73,\"\")","v":""},{"$f":"IF('Dimensionnement par chaudière'!L73<>\"\",'Dimensionnement par chaudière'!L73,\"\")","v":""},{"$f":"IF('Dimensionnement par chaudière'!M73<>\"\",'Dimensionnement par chaudière'!M73,\"\")","v":""},{"$f":"IF('Dimensionnement par chaudière'!N73<>\"\",'Dimensionnement par chaudière'!N73,\"\")","v":""}]
[{"$f":"IF('Dimensionnement par chaudière'!E74<>\"\",'Dimensionnement par chaudière'!E74,\"\")","v":""},{"$f":"IF('Dimensionnement par chaudière'!G74<>\"\",'Dimensionnement par chaudière'!G74,\"\")","v":""},{"$f":"IF('Dimensionnement par chaudière'!K74<>\"\",'Dimensionnement par chaudière'!K74,\"\")","v":""},{"$f":"IF('Dimensionnement par chaudière'!L74<>\"\",'Dimensionnement par chaudière'!L74,\"\")","v":""},{"$f":"IF('Dimensionnement par chaudière'!M74<>\"\",'Dimensionnement par chaudière'!M74,\"\")","v":""},{"$f":"IF('Dimensionnement par chaudière'!N74<>\"\",'Dimensionnement par chaudière'!N74,\"\")","v":""}]
[{"$f":"IF('Dimensionnement par chaudière'!E75<>\"\",'Dimensionnement par chaudière'!E75,\"\")","v":""},{"$f":"IF('Dimensionnement par chaudière'!G75<>\"\",'Dimensionnement par chaudière'!G75,\"\")","v":""},{"$f":"IF('Dimensionnement par chaudière'!K75<>\"\",'Dimensionnement par chaudière'!K75,\"\")","v":""},{"$f":"IF('Dimensionnement par chaudière'!L75<>\"\",'Dimensionnement par chaudière'!L75,\"\")","v":""},{"$f":"IF('Dimensionnement par chaudière'!M75<>\"\",'Dimensionnement par chaudière'!M75,\"\")","v":""},{"$f":"IF('Dimensionnement par chaudière'!N75<>\"\",'Dimensionnement par chaudière'!N75,\"\")","v":""}]
[{"$f":"IF('Dimensionnement par chaudière'!E76<>\"\",'Dimensionnement par chaudière'!E76,\"\")","v":""},{"$f":"IF('Dimensionnement par chaudière'!G76<>\"\",'Dimensionnement par chaudière'!G76,\"\")","v":""},{"$f":"IF('Dimensionnement par chaudière'!K76<>\"\",'Dimensionnement par chaudière'!K76,\"\")","v":""},{"$f":"IF('Dimensionnement par chaudière'!L76<>\"\",'Dimensionnement par chaudière'!L76,\"\")","v":""},{"$f":"IF('Dimensionnement par chaudière'!M76<>\"\",'Dimensionnement par chaudière'!M76,\"\")","v":""},{"$f":"IF('Dimensionnement par chaudière'!N76<>\"\",'Dimensionnement par chaudière'!N76,\"\")","v":""}]
[{"$f":"IF($E36=\"\",\"\",IF('Dimensionnement par chaudière'!E107<>\"\",'Dimensionnement par chaudière'!E107,\"\"))","v":""},{"$f":"IF($E36=\"\",\"\",IF('Dimensionnement par chaudière'!F107<>\"\",'Dimensionnement par chaudière'!F107,\"\"))","v":""},{"$f":"IF('Dimensionnement par chaudière'!K107<>\"\",'Dimensionnement par chaudière'!K107,\"\")","v":""},{"$f":"IF('Dimensionnement par chaudière'!L107<>\"\",'Dimensionnement par chaudière'!L107,\"\")","v":""},{"$f":"IF('Dimensionnement par chaudière'!M107<>\"\",'Dimensionnement par chaudière'!M107,\"\")","v":""},{"$f":"IF('Dimensionnement par chaudière'!N107<>\"\",'Dimensionnement par chaudière'!N107,\"\")","v":""}]
[{"$f":"IF('Dimensionnement par chaudière'!E78<>\"\",'Dimensionnement par chaudière'!E78,\"\")","v":""},{"$f":"IF('Dimensionnement par chaudière'!G78<>\"\",'Dimensionnement par chaudière'!G78,\"\")","v":""},{"$f":"IF('Dimensionnement par chaudière'!K78<>\"\",'Dimensionnement par chaudière'!K78,\"\")","v":""},{"$f":"IF('Dimensionnement par chaudière'!L78<>\"\",'Dimensionnement par chaudière'!L78,\"\")","v":""},{"$f":"IF('Dimensionnement par chaudière'!M78<>\"\",'Dimensionnement par chaudière'!M78,\"\")","v":""},{"$f":"IF('Dimensionnement par chaudière'!N78<>\"\",'Dimensionnement par chaudière'!N78,\"\")","v":""}]
[{"$f":"IF('Dimensionnement par chaudière'!E79<>\"\",'Dimensionnement par chaudière'!E79,\"\")","v":""},{"$f":"IF('Dimensionnement par chaudière'!G79<>\"\",'Dimensionnement par chaudière'!G79,\"\")","v":""},{"$f":"IF('Dimensionnement par chaudière'!K79<>\"\",'Dimensionnement par chaudière'!K79,\"\")","v":""},{"$f":"IF('Dimensionnement par chaudière'!L79<>\"\",'Dimensionnement par chaudière'!L79,\"\")","v":""},{"$f":"IF('Dimensionnement par chaudière'!M79<>\"\",'Dimensionnement par chaudière'!M79,\"\")","v":""},{"$f":"IF('Dimensionnement par chaudière'!N79<>\"\",'Dimensionnement par chaudière'!N79,\"\")","v":""}]
[{"$f":"IF('Dimensionnement par chaudière'!E80<>\"\",'Dimensionnement par chaudière'!E80,\"\")","v":100008701},{"$f":"IF('Dimensionnement par chaudière'!G80<>\"\",'Dimensionnement par chaudière'!G80,\"\")","v":"SONDE DE DÉPART + DOIGT DE GANT"},{"$f":"IF('Dimensionnement par chaudière'!K80<>\"\",'Dimensionnement par chaudière'!K80,\"\")","v":"HC206"},{"$f":"IF('Dimensionnement par chaudière'!L80<>\"\",'Dimensionnement par chaudière'!L80,\"\")","v":167},{"$f":"IF('Dimensionnement par chaudière'!M80<>\"\",'Dimensionnement par chaudière'!M80,\"\")","v":1},{"$f":"IF('Dimensionnement par chaudière'!N80<>\"\",'Dimensionnement par chaudière'!N80,\"\")","v":167}]
[{"$f":"IF('Dimensionnement par chaudière'!E81<>\"\",'Dimensionnement par chaudière'!E81,\"\")","v":7663561},{"$f":"IF('Dimensionnement par chaudière'!G81<>\"\",'Dimensionnement par chaudière'!G81,\"\")","v":"CABLE S-BUS 12M AVEC BOUCHONS"},{"$f":"IF('Dimensionnement par chaudière'!K81<>\"\",'Dimensionnement par chaudière'!K81,\"\")","v":"AD309"},{"$f":"IF('Dimensionnement par chaudière'!L81<>\"\",'Dimensionnement par chaudière'!L81,\"\")","v":106},{"$f":"IF('Dimensionnement par chaudière'!M81<>\"\",'Dimensionnement par chaudière'!M81,\"\")","v":2},{"$f":"IF('Dimensionnement par chaudière'!N81<>\"\",'Dimensionnement par chaudière'!N81,\"\")","v":212}]
[{"$f":"IF('Dimensionnement par chaudière'!E82<>\"\",'Dimensionnement par chaudière'!E82,\"\")","v":85757741},{"$f":"IF('Dimensionnement par chaudière'!G82<>\"\",'Dimensionnement par chaudière'!G82,\"\")","v":"SONDE EXTERIEURE"},{"$f":"IF('Dimensionnement par chaudière'!K82<>\"\",'Dimensionnement par chaudière'!K82,\"\")","v":"FM46"},{"$f":"IF('Dimensionnement par chaudière'!L82<>\"\",'Dimensionnement par chaudière'!L82,\"\")","v":43},{"$f":"IF('Dimensionnement par chaudière'!M82<>\"\",'Dimensionnement par chaudière'!M82,\"\")","v":1},{"$f":"IF('Dimensionnement par chaudière'!N82<>\"\",'Dimensionnement par chaudière'!N82,\"\")","v":43}]
[null,{"$f":"IF('Dimensionnement par chaudière'!G84<>\"\",'Dimensionnement par chaudière'!G84,\"\")","v":""},{"$f":"IF('Dimensionnement par chaudière'!K84<>\"\",'Dimensionnement par chaudière'!K84,\"\")","v":""},{"$f":"IF('Dimensionnement par chaudière'!L84<>\"\",'Dimensionnement par chaudière'!L84,\"\")","v":""},{"$f":"IF('Dimensionnement par chaudière'!M84<>\"\",'Dimensionnement par chaudière'!M84,\"\")","v":""},{"$f":"IF('Dimensionnement par chaudière'!N84<>\"\",'Dimensionnement par chaudière'!N84,\"\")","v":""}]
[{"$f":"IF('Dimensionnement par chaudière'!#REF!<>\"\",'Dimensionnement par chaudière'!#REF!,\"\")","v":{"$error":"#REF!"}},{"$f":"IF('Dimensionnement par chaudière'!G85<>\"\",'Dimensionnement par chaudière'!G85,\"\")","v":""},{"$f":"IF('Dimensionnement par chaudière'!K85<>\"\",'Dimensionnement par chaudière'!K85,\"\")","v":""},{"$f":"IF('Dimensionnement par chaudière'!L85<>\"\",'Dimensionnement par chaudière'!L85,\"\")","v":""},{"$f":"IF('Dimensionnement par chaudière'!M85<>\"\",'Dimensionnement par chaudière'!M85,\"\")","v":""},{"$f":"IF('Dimensionnement par chaudière'!#REF!<>\"\",'Dimensionnement par chaudière'!#REF!,\"\")","v":{"$error":"#REF!"}}]
[{"$f":"IF($E44=\"\",\"\",IF('Dimensionnement par chaudière'!E98<>\"\",'Dimensionnement par chaudière'!E98,\"\"))","v":""},{"$f":"IF($E44=\"\",\"\",IF('Dimensionnement par chaudière'!F98<>\"\",'Dimensionnement par chaudière'!F98,\"\"))","v":""},{"$f":"IF('Dimensionnement par chaudière'!K98<>\"\",'Dimensionnement par chaudière'!K98,\"\")","v":""},{"$f":"IF('Dimensionnement par chaudière'!L98<>\"\",'Dimensionnement par chaudière'!L98,\"\")","v":""},{"$f":"IF('Dimensionnement par chaudière'!M98<>\"\",'Dimensionnement par chaudière'!M98,\"\")","v":""},{"$f":"IF('Dimensionnement par chaudière'!N98<>\"\",'Dimensionnement par chaudière'!N98,\"\")","v":""}]
[{"$f":"IF($E45=\"\",\"\",IF('Dimensionnement par chaudière'!E99<>\"\",'Dimensionnement par chaudière'!E99,\"\"))","v":""},{"$f":"IF($E45=\"\",\"\",IF('Dimensionnement par chaudière'!F99<>\"\",'Dimensionnement par chaudière'!F99,\"\"))","v":""},{"$f":"IF('Dimensionnement par chaudière'!K99<>\"\",'Dimensionnement par chaudière'!K99,\"\")","v":""},{"$f":"IF('Dimensionnement par chaudière'!L99<>\"\",'Dimensionnement par chaudière'!L99,\"\")","v":""},{"$f":"IF('Dimensionnement par chaudière'!M99<>\"\",'Dimensionnement par chaudière'!M99,\"\")","v":""},{"$f":"IF('Dimensionnement par chaudière'!N99<>\"\",'Dimensionnement par chaudière'!N99,\"\")","v":""}]
[{"$f":"IF($E46=\"\",\"\",IF('Dimensionnement par chaudière'!E100<>\"\",'Dimensionnement par chaudière'!E100,\"\"))","v":""},{"$f":"IF($E46=\"\",\"\",IF('Dimensionnement par chaudière'!F100<>\"\",'Dimensionnement par chaudière'!F100,\"\"))","v":""},{"$f":"IF('Dimensionnement par chaudière'!K100<>\"\",'Dimensionnement par chaudière'!K100,\"\")","v":""},{"$f":"IF('Dimensionnement par chaudière'!L100<>\"\",'Dimensionnement par chaudière'!L100,\"\")","v":""},{"$f":"IF('Dimensionnement par chaudière'!M100<>\"\",'Dimensionnement par chaudière'!M100,\"\")","v":""},{"$f":"IF('Dimensionnement par chaudière'!N100<>\"\",'Dimensionnement par chaudière'!N100,\"\")","v":""}]
[{"$f":"IF($E47=\"\",\"\",IF('Dimensionnement par chaudière'!E101<>\"\",'Dimensionnement par chaudière'!E101,\"\"))","v":""},{"$f":"IF($E47=\"\",\"\",IF('Dimensionnement par chaudière'!F101<>\"\",'Dimensionnement par chaudière'!F101,\"\"))","v":""},{"$f":"IF('Dimensionnement par chaudière'!K101<>\"\",'Dimensionnement par chaudière'!K101,\"\")","v":""},{"$f":"IF('Dimensionnement par chaudière'!L101<>\"\",'Dimensionnement par chaudière'!L101,\"\")","v":""},{"$f":"IF('Dimensionnement par chaudière'!M101<>\"\",'Dimensionnement par chaudière'!M101,\"\")","v":""},{"$f":"IF('Dimensionnement par chaudière'!N101<>\"\",'Dimensionnement par chaudière'!N101,\"\")","v":""}]
[{"$f":"IF($E48=\"\",\"\",IF('Dimensionnement par chaudière'!E102<>\"\",'Dimensionnement par chaudière'!E102,\"\"))","v":""},{"$f":"IF($E48=\"\",\"\",IF('Dimensionnement par chaudière'!F102<>\"\",'Dimensionnement par chaudière'!F102,\"\"))","v":""},{"$f":"IF('Dimensionnement par chaudière'!K102<>\"\",'Dimensionnement par chaudière'!K102,\"\")","v":""},{"$f":"IF('Dimensionnement par chaudière'!L102<>\"\",'Dimensionnement par chaudière'!L102,\"\")","v":""},{"$f":"IF('Dimensionnement par chaudière'!M102<>\"\",'Dimensionnement par chaudière'!M102,\"\")","v":""},{"$f":"IF('Dimensionnement par chaudière'!N102<>\"\",'Dimensionnement par chaudière'!N102,\"\")","v":""}]
[{"$f":"IF($E49=\"\",\"\",IF('Dimensionnement par chaudière'!E103<>\"\",'Dimensionnement par chaudière'!E103,\"\"))","v":""},{"$f":"IF($E49=\"\",\"\",IF('Dimensionnement par chaudière'!F103<>\"\",'Dimensionnement par chaudière'!F103,\"\"))","v":""},{"$f":"IF('Dimensionnement par chaudière'!K103<>\"\",'Dimensionnement par chaudière'!K103,\"\")","v":""},{"$f":"IF('Dimensionnement par chaudière'!L103<>\"\",'Dimensionnement par chaudière'!L103,\"\")","v":""},{"$f":"IF('Dimensionnement par chaudière'!M103<>\"\",'Dimensionnement par chaudière'!M103,\"\")","v":""},{"$f":"IF('Dimensionnement par chaudière'!N103<>\"\",'Dimensionnement par chaudière'!N103,\"\")","v":""}]
[{"$f":"IF($E50=\"\",\"\",IF('Dimensionnement par chaudière'!E104<>\"\",'Dimensionnement par chaudière'!E104,\"\"))","v":""},{"$f":"IF($E50=\"\",\"\",IF('Dimensionnement par chaudière'!F104<>\"\",'Dimensionnement par chaudière'!F104,\"\"))","v":""},{"$f":"IF('Dimensionnement par chaudière'!K104<>\"\",'Dimensionnement par chaudière'!K104,\"\")","v":""},{"$f":"IF('Dimensionnement par chaudière'!L104<>\"\",'Dimensionnement par chaudière'!L104,\"\")","v":""},{"$f":"IF('Dimensionnement par chaudière'!M104<>\"\",'Dimensionnement par chaudière'!M104,\"\")","v":""},{"$f":"IF('Dimensionnement par chaudière'!N104<>\"\",'Dimensionnement par chaudière'!N104,\"\")","v":""}]
[{"$f":"IF($E51=\"\",\"\",IF('Dimensionnement par chaudière'!E105<>\"\",'Dimensionnement par chaudière'!E105,\"\"))","v":""},{"$f":"IF($E51=\"\",\"\",IF('Dimensionnement par chaudière'!F105<>\"\",'Dimensionnement par chaudière'!F105,\"\"))","v":""},{"$f":"IF('Dimensionnement par chaudière'!K105<>\"\",'Dimensionnement par chaudière'!K105,\"\")","v":""},{"$f":"IF('Dimensionnement par chaudière'!L105<>\"\",'Dimensionnement par chaudière'!L105,\"\")","v":""},{"$f":"IF('Dimensionnement par chaudière'!M105<>\"\",'Dimensionnement par chaudière'!M105,\"\")","v":""},{"$f":"IF('Dimensionnement par chaudière'!N105<>\"\",'Dimensionnement par chaudière'!N105,\"\")","v":""}]
[{"$f":"IF($E52=\"\",\"\",IF('Dimensionnement par chaudière'!E106<>\"\",'Dimensionnement par chaudière'!E106,\"\"))","v":""},{"$f":"IF($E52=\"\",\"\",IF('Dimensionnement par chaudière'!F106<>\"\",'Dimensionnement par chaudière'!F106,\"\"))","v":""},{"$f":"IF('Dimensionnement par chaudière'!K106<>\"\",'Dimensionnement par chaudière'!K106,\"\")","v":""},{"$f":"IF('Dimensionnement par chaudière'!L106<>\"\",'Dimensionnement par chaudière'!L106,\"\")","v":""},{"$f":"IF('Dimensionnement par chaudière'!M106<>\"\",'Dimensionnement par chaudière'!M106,\"\")","v":""},{"$f":"IF('Dimensionnement par chaudière'!N106<>\"\",'Dimensionnement par chaudière'!N106,\"\")","v":""}]
[{"$f":"IF($E53=\"\",\"\",IF('Dimensionnement par chaudière'!E108<>\"\",'Dimensionnement par chaudière'!E108,\"\"))","v":""},{"$f":"IF($E53=\"\",\"\",IF('Dimensionnement par chaudière'!F108<>\"\",'Dimensionnement par chaudière'!F108,\"\"))","v":""},{"$f":"IF('Dimensionnement par chaudière'!K108<>\"\",'Dimensionnement par chaudière'!K108,\"\")","v":""},{"$f":"IF('Dimensionnement par chaudière'!L108<>\"\",'Dimensionnement par chaudière'!L108,\"\")","v":""},{"$f":"IF('Dimensionnement par chaudière'!M108<>\"\",'Dimensionnement par chaudière'!M108,\"\")","v":""},{"$f":"IF('Dimensionnement par chaudière'!N108<>\"\",'Dimensionnement par chaudière'!N108,\"\")","v":""}]

{"sheet":"Mise à jour","index":10,"n_rows":80,"n_cols":11,"rows_kept":80,"cut":false,"hidden":true,"merged":[]}
[]
["Date","Auteur","MAJ"]
["2017-02-24","AD","Début de la MAJ du tools pour intégration de la MCA 160"]
[null,null,"Actualisation du tarif avec fichier envoyé par N. OGET (PREPARATION TARIF France MARS 2017) incluant MCA 160"]
[]
[null,null,"Problème de références (manque 1 référence dans le tarif par rapport au catalogue : HC648 )  + Manque 1 ligne dans le catalogue p81 (MCA 160 cascade)(rail de montage MCA 160)"]
[]
[null,null,"Dimensionnement par chaudière : "]
[null,null,null,null,"ajout de la mca160 : sélection nombre de chaudière"]
[null,null,null,null,"correction du nom de la cascade  \"montage-puissance-kW-code chaudière\" ex : LV.0608kW.00004"]
[]
[null,null,"Dimensionnement par puissance "]
[null,null,null,null,"non traité"]
[]
[null,null,"Notice de montage fournie par N. OGET le 24/02/2017 (peut être utile d'après lui…)( format papier)"]
["2017-03-15","AD","Création onglet : \"Calcul dim par chaudière\" pour remplacer \"calculs par chaud\""]
[null,null,null,"Devis pour toutes les cascades SANS MCA 160"]
[null,null,null,"Propositions des options comme pour version 2016"]
[null,null,"Listing des différentes possibilités de cascade avec MCA 160 dans \"Gamme DD chaud\""]
[]
[null,null,"Listing des accessoires disponibles pour cascade avec MCA 160 (+éventuellement autres) se baser sur la BdD des Néerlandais"]
[null,null,"création des codes dans gamme DD chaud (dire quel accessoire est nécessaire pour chaque cascade) voir BdD des néerlandais"]
[null,null,null,"appels des bons codes à partir du nom de la cascade"]
[null,null,"traduction de la BdD des Neerlandais"]
[null,null,null,"Remarque : A  partir de la colonne BA , les colonnes ne sont plus triées => partir du fichier de base pour faire les accesooires + rechercher chaque nom 1 par 1…"]
[null,null,"voir prix en plus quand isystem sélectionné"]
["2017-03-23","AD","choix de ne créer que un tool MCA cascade pour les 160 (pas de possibilités de coupler les 45/115 avec les 160)"]
[null,null,null,"Seulement 6 possibilités de possible"]
[null,null,null,"LW.PUISSANCE.00002"]
[null,null,null,"LW.PUISSANCE.00003"]
[null,null,null,"LW.PUISSANCE.00004"]
[null,null,null,"LV.PUISSANCE.00002"]
[null,null,null,"LV.PUISSANCE.00003"]
[null,null,null,"LV.PUISSANCE.00004"]
[null,null,"Suppression de la méthode \"dimensionnement par puissance\" et des feuilles de calculs résultantes"]
[null,null,"dimensionnement par chaudière :"]
[null,null,null,"adaptation des noms, de la sélection de la cascade (nom de la cascade), du prix de la mise en service"]
[null,null,null,"Création de la liste des accessoires nécessaires pour chaque solution à partir de la BdD des hollandais"]
[null,null,null,"Correction de l'onglet DEVIS (appel à faire à la fin à partir de Calcul dim par chaudière°"]
[]
[null,null,"modification de Isystem par IniControl 2 avec au minimum 1 chaudière DIEMATIC (chaudière maître) "]
["2017-04-03","CW","Intégration options / demande de validation à N.Oget et JP.Rabut"]
["2017-04-03","AD","Correction onglet DEVIS pour AR3000"]
["2017-05-17","CW","Modification Devis et options hydraulique. Intégration Sonde extérieure"]
["2017-09-28","AD","Pour chaque solution, une sonde extérieure est imposée FM46 à 40,8€ pour la régulation en plus du système cascade"]
[]
[null,null,"LW00002",null,null,null,null,null,"LV00002"]
[null,null,"Sonde départ","HC223 ","Prix 132,3 ou 129,6",null,null,null,"Sonde départ","HC223 ","Prix 132,3 ou 129,6"]
[null,null,"Câble Bus","AD309 ou AD308","Longueur 12 ou 1,5m et combien?",null,null,null,"Câble Bus","AD309 ou AD308","Longueur 12 ou 1,5m et combien?"]
[null,null,"Pied réglables","HC219","Nécessaire sur murale?"]
[]
[null,null,"LW00003",null,null,null,null,null,"LV00003"]
[null,null,"Sonde départ","HC206","Prix 155,1 ou 151,9",null,null,null,"Sonde départ","HC206","Prix 155,1 ou 151,9"]
[null,null,"Câble Bus","AD309 ou AD308","Longueur 12 ou 1,5m et combien?",null,null,null,"Câble Bus","AD309 ou AD308","Longueur 12 ou 1,5m et combien?"]
[null,null,"Pied réglables","HC219","Nécessaire sur murale?"]
[]
[null,null,"LW00004",null,null,null,null,null,"LV00004"]
[null,null,"Sonde départ","HC206","Prix 155,1 ou 151,9",null,null,null,"Sonde départ","HC206","Prix 155,1 ou 151,9"]
[null,null,"Câble Bus","AD309 ou AD308","Longueur 12 ou 1,5m et combien?",null,null,null,"Câble Bus","AD309 ou AD308","Longueur 12 ou 1,5m et combien?"]
[null,null,"Pied réglables","HC219","Nécessaire sur murale?",null,null,null,"Contre bride","HC218","Prix 170,8 ou 167,3"]
[null,null,"Contre bride","HC218","Prix 170,8 ou 167,3",null,null,null,"Pied réglables","HC219","Pourquoi 12? Pour le moment 10 de prévu sur le tool"]
[]
[]
[null,null,"Rapport d'erreur entre le tool et les propositions catalogues"]
[null,null,"Attente de réponse par Patrick Izarn"]
[]
[null,null,"Adaptateur et contre-bride déplacées en accessoires et plus en option"]
[null,null,"MAJ des Mise en services"]
[]
[null,null,null,"Reste a corriger onglet DEVIS AR3000 : 2 dernières lignes non prises en compte par le logiciel (attente de répone de MALET Françoise)"]
[]
["2017-10-16","AD","Validation des changements précédents "]
[null,null,null,"Adaptateur et contre-bride déplacées en accessoires et plus en option"]
[null,null,null,"MAJ des Mise en services"]
[null,null,null,"Pour chaque solution, une sonde extérieure est imposée FM46 à 40,8€ pour la régulation en plus du système cascade"]
[]
[null,null,"Câble Bus sélectionné AD 309 (longueur 12m) car 1,5m pas au caalogue pour ces produits"]
["2018-03-13","AD","MAJ Tarif 2018"]
["2019-01-14","AD","Maj tarif janvire 2019"]
["2020-02-19","AD","Ajout  des chaudières"]