{"text_format":"1","workbook":"xlsx","n_sheets":4,"sheets":["Conversions d'unités","Tableaux2","Tableaux","calculs"],"not_rendered":{"charts":0,"images":1,"macros":1,"external_links":0,"defined_names":5,"comments":1,"pivot_tables":0},"unopened":[],"bounds":{"document_bytes":16777216,"sheet_cells":100000,"rows_first":2000,"rows_last":500,"rows_between":2000,"halvings":0,"cell_chars":16384,"cell_head_chars":4096},"cells_cut":0,"cells_raw":0,"read":"whole","date_system":"1900"}

{"sheet":"Conversions d'unités","index":0,"n_rows":68,"n_cols":16,"rows_kept":68,"cut":false,"hidden":false,"merged":[]}
[]
[null,null,null,null,null,null,null,null,null,"Conversion d'unités / Utilitaires",null,null,null,null,"version 01/2019"]
[null,null,null,null,null,null,null,null,null,"Thermique / Fluides"]
[null,null,null,null,null,null,null,null,null,null,null,null,null,null,{"$f":"TODAY()","v":"2019-01-14"}]
[]
[null,"?","CONVERSIONS"]
[]
[]
[]
[null,null,null,null,null,null,"valeur à convertir","unité",null,null,"valeur convertie","unité"]
[null,null,"Température",":",null,null,null,"°C",null,"=",{"$f":"calculs!D17","v":0},"°C"]
[]
[]
[null,null,"Pression",":",null,null,null,"kPa",null,"=",{"$f":"calculs!E21","v":0},"atm"]
[]
[]
[null,null,"Puissance",":",null,null,null,"W",null,"=",{"$f":"calculs!E25","v":0},"th/h"]
[]
[]
[null,null,"Energie",":",null,null,null,"th",null,"=",{"$f":"calculs!E29","v":0},"mth"]
[]
[]
[null,null,"Débit",":",null,null,null,"m3/h",null,"=",{"$f":"calculs!E33","v":0},"l/s"]
[]
[]
[null,null,"Longueur",":",null,null,null,"m",null,"=",{"$f":"calculs!E5","v":0},"cm"]
[]
[]
[null,null,"Surface",":",null,null,null,"m2",null,"=",{"$f":"calculs!E9","v":0},"m2"]
[]
[]
[null,null,"Volume",":",null,null,null,"dm3",null,"=",{"$f":"calculs!E13","v":0},"litres"]
[]
[null,null,"POUVOIR CALORIFIQUE"]
[]
[]
[null,null,"Fioul domestique",":","La combustion de ",null,null,null,null,"litres","fournit ",{"$f":"calculs!D48","v":0},"kWh PCI",null,{"$f":"calculs!E48","v":0},"kWh PCS"]
[]
[null,null,null,null,null,null,"kWh PCI    sont consommés en brûlant ",null,null,null,null,{"$f":"calculs!D49","v":0},null,"litres"]
[]
[]
[null,null,"Gaz naturel",":","La combustion de ",null,null,null,null,"Nm3","fournit ",{"$f":"calculs!D50","v":0},"kWh PCI",null,{"$f":"calculs!E50","v":0},"kWh PCS"]
[]
[null,null,null,null,null,null,"kWh PCI    sont consommés en brûlant ",null,null,null,null,{"$f":"calculs!D51","v":0},null,"Nm3"]
[]
[]
[]
[]
[null,null,"Propane",":","La combustion de ",null,null,null,null,"kg","fournit ",{"$f":"calculs!D52","v":0},"kWh PCI",null,{"$f":"calculs!E52","v":0},"kWh PCS"]
[]
[null,null,null,null,null,null,"kWh PCI    sont consommés en brûlant ",null,null,null,null,{"$f":"calculs!D53","v":0},null,"kg"]
[]
[]
[]
[]
[null,null,"Butane",":","La combustion de ",null,null,null,null,"kg","fournit ",{"$f":"calculs!D54","v":0},"kWh PCI",null,{"$f":"calculs!E54","v":0},"kWh PCS"]
[]
[null,null,null,null,null,null,"kWh PCI    sont consommés en brûlant ",null,null,null,null,{"$f":"calculs!D55","v":0},null,"kg"]
[]
[null,null,"DIAMETRES TUBES",null,null,null,null,null,null,null,null,null,null,"consommations hors rendement"]
[]
[null,null,null,null,"Pouce",null,null,"mm"]
[]
[null,null,"Conversion  pouces / mm",":","1\"",null,"=",{"$f":"Tableaux2!G3","v":25.4}]
[]
[null,null,null,null,"Ø nominal",null,null,"Appellation ",null,null,"Ø ext.","Ø int.",null,"DN"]
[null,null,"Tube en acier ",null,"pouce",null,null,"courante",null,null,"mm","mm"]
[null,null,"Correspondance pouces / mm ",":","1\"",null,"=",{"$f":"calculs!D43","v":"26 * 34"},null,null,{"$f":"calculs!B43","v":33.700000000000003},{"$f":"calculs!C43","v":27.900000000000002},null,{"$f":"calculs!E43","v":25}]

{"sheet":"Tableaux2","index":1,"n_rows":55,"n_cols":13,"rows_kept":55,"cut":false,"hidden":true,"merged":[]}
["conversion pouces - mm"]
["1/16\"_",1.5874999999999999,"mm","1/16\"",null,"valeur choisie","correspondance"]
["1/8\"_",3.1749999999999998,null,"1/8\"",null,{"$f":"CONCATENATE(calculs!A40,\"_\")","v":"1\"_"},{"$f":"VLOOKUP(F3,A2:B17,2,0)","v":25.4}]
["3/16\"_",4.7225000000000001,null,"3/16\""]
["1/4\"_",6.35,null,"1/4\""]
["5/16\"_",7.9375,null,"5/16\""]
["3/8\"_",9.5250000000000004,null,"3/8\""]
["7/16\"_",11.112500000000001,null,"7/16\""]
["1/2\"_",12.7,null,"1/2\""]
["9/16\"_",14.2875,null,"9/16\""]
["5/8\"_",15.875,null,"5/8\""]
["11/16\"_",17.462499999999999,null,"11/16\""]
["3/4\"_",19.05,null,"3/4\""]
["13/16\"_",20.637499999999999,null,"13/16\""]
["7/8\"_",22.225000000000001,null,"7/8\""]
["15/16\"_",23.8125,null,"15/16\""]
["1\"_",25.4,null,"1\""]
[]
["tubes acier - correspondance en pouce et mm"]
["diametres nominaux"]
["int. En pouce","ext. Mm","ep","int. Mm","app. Cour.","DN",null,null,"valeur choisie","ext","int","app. Cour","DN"]
["1/4\"_",13.5,2,{"$f":"B22-2*C22","v":9.5},"8 * 13",8,"1/4\"",null,{"$f":"CONCATENATE(calculs!A43,\"_\")","v":"1\"_"},{"$f":"VLOOKUP(I22,A22:B33,2,0)","v":33.700000000000003},{"$f":"VLOOKUP(I22,A22:D33,4,0)","v":27.900000000000002},{"$f":"VLOOKUP(I22,A22:E33,5,0)","v":"26 * 34"},{"$f":"VLOOKUP(I22,A22:F33,6,0)","v":25}]
["3/8\"_",17.2,2,{"$f":"B23-2*C23","v":13.2},"12 * 17",12,"3/8\""]
["1/2\"_",21.3,2.2999999999999998,16.700000000000003,"15 * 21",15,"1/2\""]
["3/4\"_",26.9,2.2999999999999998,22.299999999999997,"20 * 27",20,"3/4\""]
["1\"_",33.700000000000003,2.9,27.900000000000002,"26 * 34",25,"1\""]
["1\"1/4_",42.4,2.9,36.6,"33 * 42",32,"1\"1/4"]
["1\"1/2_",48.3,2.9,42.5,"40 * 49",40,"1\"1/2"]
["2\"_",60.3,3.2,53.9,"50 * 60",50,"2\""]
["2\"1/2_",76.099999999999994,3.2,69.699999999999989,"66 * 76",65,"2\"1/2"]
["3\"_",88.9,3.2,82.5,"80 * 90",80,"3\""]
["3\"1/2_",101.6,3.6,94.399999999999991,"90 * 102",90,"3\"1/2"]
["4\"_",114.3,3.6,107.1,"102 * 114",100,"4\""]
[]
["equivalence pouces /mm"]
["désignation des filetages au pas du gaz "]
["diam nominal en pouces","appelation courante","diam ext théorique du filetage"]
["1/8_","5 * 10",9.7200000000000006]
["1/4_","8 * 13",13.15]
["3/8_","12 * 17",16.66]
["1/2_","15 * 21",20.95]
["5/8_","17 * 23",22.91]
["3/4_","20 * 27",26.44]
["7/8_","24 * 31",30.2]
["1\"_","26 * 34",33.24]
["1\"1/4_","33 * 42",41.91]
["1\"1/2_","40 * 49",47.8]
["1\"3/4_","46 * 55",53.74]
["2\"_","50 * 60",59.61]
["2\"1/4_","60 * 70 (anc. norme)",69.3]
["2\"1/2_","66 * 76",75.180000000000007]
["2\"3/4_","72 * 82",81.53]
["3\"_","80 * 90",87.88]
["3\"1/2_","90 * 102",100.33]
["4\"_","102 * 114",113.03]

{"sheet":"Tableaux","index":2,"n_rows":291,"n_cols":7,"rows_kept":291,"cut":false,"hidden":true,"merged":[]}
["Longueur"]
[]
["Unité 1","Unité 2","Coeff",null,"Unité 1","Unité 2","Coeff"]
["mm_","mm_",1,null,{"$f":"CONCATENATE(calculs!B5,\"_\")","v":"m_"},{"$f":"CONCATENATE(calculs!C5,\"_\")","v":"cm_"},{"$f":"DGET(A3:C19,3,E3:F4)","v":100}]
["mm_","cm_",0.1]
["mm_","dm_",0.01]
["mm_","m_",1E-3]
["cm_","mm_",10]
["cm_","cm_",1]
["cm_","dm_",0.1]
["cm_","m_",0.01]
["dm_","mm_",100]
["dm_","cm_",10]
["dm_","dm_",1]
["dm_","m_",0.1]
["m_","mm_",1000]
["m_","cm_",100]
["m_","dm_",10]
["m_","m_",1]
[]
["Surface"]
[]
["Unité 1","Unité 2","Coeff",null,"Unité 1","Unité 2","Coeff"]
["mm2_","mm2_",1,null,{"$f":"CONCATENATE(calculs!B9,\"_\")","v":"m2_"},{"$f":"CONCATENATE(calculs!C9,\"_\")","v":"m2_"},{"$f":"DGET(A23:C32,3,E23:F24)","v":1}]
["mm2_","cm2_",0.01]
["mm2_","m2_",9.9999999999999995E-7]
["cm2_","mm2_",100]
["cm2_","cm2_",1]
["cm2_","m2_",1E-4]
["m2_","mm2_",{"$f":"1/C26","v":1000000}]
["m2_","cm2_",{"$f":"1/C29","v":10000}]
["m2_","m2_",1]
[]
["Volume"]
[]
["Unité 1","Unité 2","Coeff",null,"Unité 1","Unité 2","Coeff"]
["cm3_","cm3_",1,null,{"$f":"CONCATENATE(calculs!B13,\"_\")","v":"dm3_"},{"$f":"CONCATENATE(calculs!C13,\"_\")","v":"litres_"},{"$f":"DGET(A36:C52,3,E36:F37)","v":1}]
["cm3_","dm3_",1E-3]
["cm3_","m3_",9.9999999999999995E-7]
["cm3_","litres_",1E-3]
["dm3_","cm3_",1000]
["dm3_","dm3_",1]
["dm3_","m3_",1E-3]
["dm3_","litres_",1]
["m3_","cm3_",1000000]
["m3_","dm3_",1000]
["m3_","m3_",1]
["m3_","litres_",1000]
["litres_","cm3_",1000]
["litres_","dm3_",1]
["litres_","m3_",1E-3]
["litres_","litres_",1]
[]
["Pression"]
[]
["Unité 1","Unité 2","Coeff",null,"Unité 1","Unité 2","Coeff"]
["Pa_","Pa_",1,null,{"$f":"CONCATENATE(calculs!B21,\"_\")","v":"kPa_"},{"$f":"CONCATENATE(calculs!C21,\"_\")","v":"atm_"},{"$f":"DGET(A56:C137,3,E56:F57)","v":9.8700000000000003E-3}]
["Pa_","daPa_",0.1]
["Pa_","kPa_",{"$f":"1/C75","v":1E-3}]
["Pa_","bar_",1.0000000000000001E-5]
["Pa_","mbar_",0.01]
["Pa_","mmCE_",0.10199999999999999]
["Pa_","mCE_",1.02E-4]
["Pa_","mmHg_",7.4999999999999997E-3]
["Pa_","atm_",9.8700000000000004E-6]
["daPa_","Pa_",10]
["daPa_","kPa_",0.01]
["daPa_","daPa_",1]
["daPa_","bar_",1E-4]
["daPa_","mbar_",0.1]
["daPa_","mmCE_",1.02]
["daPa_","mCE_",1.0200000000000001E-3]
["daPa_","mmHg_",7.4999999999999997E-2]
["daPa_","atm_",9.87E-5]
["kPa_","Pa_",{"$f":"100*C66","v":1000}]
["kPa_","daPa_",{"$f":"100*C68","v":100}]
["kPa_","kPa_",1]
["kPa_","bar_",{"$f":"100*C69","v":0.01}]
["kPa_","mbar_",{"$f":"C70*100","v":10}]
["kPa_","mmCE_",{"$f":"C71*100","v":102}]
["kPa_","mCE_",{"$f":"C72*100","v":0.10200000000000001}]
["kPa_","mmHg_",{"$f":"C73*100","v":7.5}]
["kPa_","atm_",{"$f":"C74*100","v":9.8700000000000003E-3}]
["bar_","Pa_",100000]
["bar_","daPa_",10000]
["bar_","kPa_",{"$f":"C85/100","v":100}]
["bar_","bar_",1]
["bar_","mbar_",1000]
["bar_","mmCE_",10200]
["bar_","mCE_",10.199999999999999]
["bar_","mmHg_",750]
["bar_","atm_",0.98699999999999999]
["mbar_","Pa_",100]
["mbar_","kPa_",{"$f":"C95/100","v":0.1}]
["mbar_","daPa_",10]
["mbar_","bar_",1E-3]
["mbar_","mbar_",1]
["mbar_","mmCE_",10.199999999999999]
["mbar_","mCE_",1.0200000000000001E-2]
["mbar_","mmHg_",0.75]
["mbar_","atm_",9.8700000000000003E-4]
["mmCE_","Pa_",9.81]
["mmCE_","daPa_",0.98099999999999998]
["mmCE_","kPa_",{"$f":"C103/100","v":9.8099999999999993E-3}]
["mmCE_","bar_",9.8099999999999999E-5]
["mmCE_","mbar_",9.8000000000000004E-2]
["mmCE_","mmCE_",1]
["mmCE_","mCE_",1E-3]
["mmCE_","mmHg_",7.2999999999999995E-2]
["mmCE_","atm_",9.6799999999999995E-5]
["mCE_","Pa_",9810]
["mCE_","daPa_",981]
["mCE_","kPa_",{"$f":"C112/100","v":9.81}]
["mCE_","bar_",9.8100000000000007E-2]
["mCE_","mbar_",98.1]
["mCE_","mmCE_",1000]
["mCE_","mCE_",1]
["mCE_","mmHg_",73]
["mCE_","atm_",9.6799999999999997E-2]
["mmHg_","Pa_",133.30000000000001]
["mmHg_","daPa_",13.33]
["mmHg_","kPa_",{"$f":"C121/100","v":0.1333}]
["mmHg_","bar_",1.333E-3]
["mmHg_","mbar_",1.333]
["mmHg_","mmCE_",13.6]
["mmHg_","mCE_",1.3599999999999999E-2]
["mmHg_","mmHg_",1]
["mmHg_","atm_",1.32E-3]
["atm_","Pa_",101300]
["atm_","daPa_",10130]
["atm_","kPa_",{"$f":"C130/100","v":101.3}]
["atm_","bar_",1.0129999999999999]
["atm_","mbar_",1013]
["atm_","mmCE_",10330]
["atm_","mCE_",10.33]
["atm_","mmHg_",760]
["atm_","atm_",1]
[]
["Puissance"]
[]
["Unité 1","Unité 2","Coeff",null,"Unité 1","Unité 2","Coeff"]
["kW_","kW_",1,null,{"$f":"CONCATENATE(calculs!B25,\"_\")","v":"W_"},{"$f":"CONCATENATE(calculs!C25,\"_\")","v":"th/h_"},{"$f":"DGET(A141:C177,3,E141:F142)","v":8.5999999999999998E-4}]
["kW_","W_",1000]
["kW_","th/h_",0.86]
["kW_","kcal/h_",860]
["kW_","th/mn_",1.43E-2]
["kW_","mth/mn_",14.3]
["W_","kW_",1E-3]
["W_","W_",1]
["W_","th/h_",8.5999999999999998E-4]
["W_","kcal/h_",0.86]
["W_","th/mn_",1.43E-5]
["W_","mth/mn_",1.43E-2]
["th/h_","kW_",1.163]
["th/h_","W_",1163]
["th/h_","th/h_",1]
["th/h_","kcal/h_",1000]
["th/h_","th/mn_",1.7000000000000001E-2]
["th/h_","mth/mn_",17]
["kcal/h_","kW_",1.163E-3]
["kcal/h_","W_",1.163]
["kcal/h_","th/h_",1E-3]
["kcal/h_","kcal/h_",1]
["kcal/h_","th/mn_",1.7E-5]
["kcal/h_","mth/mn_",1.7000000000000001E-2]
["th/mn_","kW_",70]
["th/mn_","W_",70000]
["th/mn_","th/h_",60]
["th/mn_","kcal/h_",60000]
["th/mn_","th/mn_",1]
["th/mn_","mth/mn_",1000]
["mth/mn_","kW_",7.0000000000000007E-2]
["mth/mn_","W_",70]
["mth/mn_","th/h_",0.06]
["mth/mn_","kcal/h_",60]
["mth/mn_","th/mn_",1E-3]
["mth/mn_","mth/mn_",1]
[]
["Energie"]
[]
["Unité 1","Unité 2","Coeff",null,"Unité 1","Unité 2","Coeff"]
["kWh_","kWh_",1,null,{"$f":"CONCATENATE(calculs!B29,\"_\")","v":"th_"},{"$f":"CONCATENATE(calculs!C29,\"_\")","v":"mth_"},{"$f":"DGET(A181:C262,3,E181:F182)","v":1000}]
["kWh_","Wh_",1000]
["kWh_","kcal_",860]
["kWh_","mth_",860]
["kWh_","th_",0.86]
["kWh_","kth_",8.5999999999999998E-4]
["kWh_","J_",3600000]
["kWh_","kJ_",3600]
["kWh_","MJ_",3.6]
["Wh_","kWh_",1E-3]
["Wh_","Wh_",1]
["Wh_","kcal_",0.86]
["Wh_","mth_",0.86]
["Wh_","th_",8.5999999999999998E-4]
["Wh_","kth_",8.6000000000000002E-7]
["Wh_","J_",3600]
["Wh_","kJ_",3.6]
["Wh_","MJ_",3.5999999999999999E-3]
["kcal_","kWh_",1.163E-3]
["kcal_","Wh_",1.163]
["kcal_","kcal_",1]
["kcal_","mth_",1]
["kcal_","th_",1E-3]
["kcal_","kth_",9.9999999999999995E-7]
["kcal_","J_",4180]
["kcal_","kJ_",4.18]
["kcal_","MJ_",4.1799999999999997E-3]
["mth_","kWh_",1.163E-3]
["mth_","Wh_",1.163]
["mth_","kcal_",1]
["mth_","mth_",1]
["mth_","th_",1E-3]
["mth_","kth_",9.9999999999999995E-7]
["mth_","J_",4180]
["mth_","kJ_",4.18]
["mth_","MJ_",4.1799999999999997E-3]
["th_","kWh_",1.163]
["th_","Wh_",1163]
["th_","kcal_",1000]
["th_","mth_",1000]
["th_","th_",1]
["th_","kth_",1E-3]
["th_","J_",4180000]
["th_","kJ_",4180]
["th_","MJ_",4.18]
["kth_","kWh_",1163]
["kth_","Wh_",1.1629999999999999E-6]
["kth_","kcal_",1000000]
["kth_","mth_",1000000]
["kth_","th_",1000]
["kth_","kth_",1]
["kth_","J_",4180000000]
["kth_","kJ_",4180000]
["kth_","MJ_",4180]
["J_","kWh_",2.7799999999999997E-7]
["J_","Wh_",2.7799999999999998E-4]
["J_","kcal_",2.3900000000000001E-4]
["J_","mth_",2.3900000000000001E-4]
["J_","th_",2.3900000000000001E-7]
["J_","kth_",2.39E-10]
["J_","J_",1]
["J_","kJ_",1E-3]
["J_","MJ_",9.9999999999999995E-7]
["kJ_","kWh_",2.7799999999999998E-4]
["kJ_","Wh_",0.27800000000000002]
["kJ_","kcal_",0.23899999999999999]
["kJ_","mth_",0.23899999999999999]
["kJ_","th_",2.3900000000000001E-4]
["kJ_","kth_",2.3900000000000001E-7]
["kJ_","J_",1000]
["kJ_","kJ_",1]
["kJ_","MJ_",1E-3]
["MJ_","kWh_",0.27800000000000002]
["MJ_","Wh_",278]
["MJ_","kcal_",239]
["MJ_","mth_",239]
["MJ_","th_",0.23899999999999999]
["MJ_","kth_",2.3900000000000001E-4]
["MJ_","J_",1000000]
["MJ_","kJ_",1000]
["MJ_","MJ_",1]
[]
["Débit"]
[]
["Unité 1","Unité 2","Coeff",null,"Unité 1","Unité 2","Coeff"]
["m3/h_","m3/h_",1,null,{"$f":"CONCATENATE(calculs!B33,\"_\")","v":"m3/h_"},{"$f":"CONCATENATE(calculs!C33,\"_\")","v":"l/s_"},{"$f":"DGET(A266:C291,3,E266:F267)","v":0.27777777777777779}]
["m3/h_","m3/s_",{"$f":"1/3600","v":2.7777777777777778E-4}]
["m3/h_","l/h_",1000]
["m3/h_","l/mn_",{"$f":"1000/60","v":16.666666666666668}]
["m3/h_","l/s_",{"$f":"1000/3600","v":0.27777777777777779}]
["m3/s_","m3/h_",3600]
["m3/s_","m3/s_",1]
["m3/s_","l/h_",{"$f":"C276*3600","v":3600000}]
["m3/s_","l/mn_",{"$f":"C276*60","v":60000}]
["m3/s_","l/s_",1000]
["l/h_","m3/h_",1E-3]
["l/h_","m3/s_",{"$f":"C277/3600","v":2.7777777777777776E-7}]
["l/h_","l/h_",1]
["l/h_","l/mn_",{"$f":"C279/60","v":1.6666666666666666E-2}]
["l/h_","l/s_",{"$f":"C279/3600","v":2.7777777777777778E-4}]
["l/mn_","m3/h_",{"$f":"1/C270","v":0.06}]
["l/mn_","m3/s_",{"$f":"1/C275","v":1.6666666666666667E-5}]
["l/mn_","l/h_",60]
["l/mn_","l/mn_",1]
["l/mn_","l/s_",{"$f":"1/60","v":1.6666666666666666E-2}]
["l/s_","m3/h_",{"$f":"1/C271","v":3.5999999999999996}]
["l/s_","m3/s_",{"$f":"C287/3600","v":9.999999999999998E-4}]
["l/s_","l/h_",3600]
["l/s_","l/mn_",60]
["l/s_","l/s_",1]

{"sheet":"calculs","index":3,"n_rows":55,"n_cols":5,"rows_kept":55,"cut":false,"hidden":true,"merged":[]}
["conversions unités"]
[]
["longueur"]
["v1","u1","u2","coeff","v2"]
[{"$f":"'Conversions d''unités'!G26","v":0},{"$f":"'Conversions d''unités'!H26","v":"m"},{"$f":"'Conversions d''unités'!L26","v":"cm"},{"$f":"Tableaux!G4","v":100},{"$f":"A5*D5","v":0}]
[]
["Surface"]
["v1","u1","u2","coeff","v2"]
[{"$f":"'Conversions d''unités'!G29","v":0},{"$f":"'Conversions d''unités'!H29","v":"m2"},{"$f":"'Conversions d''unités'!L29","v":"m2"},{"$f":"Tableaux!G24","v":1},{"$f":"A9*D9","v":0}]
[]
["Volume"]
["v1","u1","u2","coeff","v2"]
[{"$f":"'Conversions d''unités'!G32","v":0},{"$f":"'Conversions d''unités'!H32","v":"dm3"},{"$f":"'Conversions d''unités'!L32","v":"litres"},{"$f":"Tableaux!G37","v":1},{"$f":"A13*D13","v":0}]
[]
["Température"]
["v1","u1","u2","v2"]
[{"$f":"'Conversions d''unités'!G11","v":0},{"$f":"'Conversions d''unités'!H11","v":"°C"},{"$f":"'Conversions d''unités'!L11","v":"°C"},{"$f":"IF(AND(B17=\"°C\",C17=\"K\"),273.15+A17,IF(AND(B17=\"°C\",C17=\"°F\"),1.8*A17+32,IF(AND(B17=\"K\",C17=\"°C\"),A17-273.15,IF(AND(B17=\"K\",C17=\"°F\"),1.8*(A17-273.15)+32,IF(AND(B17=\"°F\",C17=\"°C\"),(A17-32)/1.8,IF(AND(B17=\"°F\",C17=\"K\"),(A17-32)/1.8+273.15,A17))))))","v":0}]
[]
["Pression"]
["v1","u1","u2","coeff","v2"]
[{"$f":"'Conversions d''unités'!G14","v":0},{"$f":"'Conversions d''unités'!H14","v":"kPa"},{"$f":"'Conversions d''unités'!L14","v":"atm"},{"$f":"Tableaux!G57","v":9.8700000000000003E-3},{"$f":"A21*D21","v":0}]
[]
["Puissance"]
["v1","u1","u2","coeff","v2"]
[{"$f":"'Conversions d''unités'!G17","v":0},{"$f":"'Conversions d''unités'!H17","v":"W"},{"$f":"'Conversions d''unités'!L17","v":"th/h"},{"$f":"Tableaux!G142","v":8.5999999999999998E-4},{"$f":"A25*D25","v":0}]
[]
["Energie"]
["v1","u1","u2","coeff","v2"]
[{"$f":"'Conversions d''unités'!G20","v":0},{"$f":"'Conversions d''unités'!H20","v":"th"},{"$f":"'Conversions d''unités'!L20","v":"mth"},{"$f":"Tableaux!G182","v":1000},{"$f":"A29*D29","v":0}]
[]
["Débit"]
["v1","u1","u2","coeff","v2"]
[{"$f":"'Conversions d''unités'!G23","v":0},{"$f":"'Conversions d''unités'!H23","v":"m3/h"},{"$f":"'Conversions d''unités'!L23","v":"l/s"},{"$f":"Tableaux!G267","v":0.27777777777777779},{"$f":"A33*D33","v":0}]
[]
[]
["diamètres fluides"]
[]
["conversion pouces - mm"]
[]
[{"$f":"'Conversions d''unités'!E64","v":"1\""},{"$f":"Tableaux2!G3","v":25.4}]
[]
["tubes acier"]
[{"$f":"'Conversions d''unités'!E68","v":"1\""},{"$f":"Tableaux2!J22","v":33.700000000000003},{"$f":"Tableaux2!K22","v":27.900000000000002},{"$f":"Tableaux2!L22","v":"26 * 34"},{"$f":"Tableaux2!M22","v":25}]
[]
[]
["Combustion"]
[null,null,null,"pci","pcs"]
["fioul :",{"$f":"'Conversions d''unités'!H37","v":0},{"$f":"'Conversions d''unités'!J37","v":"litres"},{"$f":"IF(C48=\"litres\",B48*10.08)","v":0},{"$f":"D48*1.06","v":0}]
[null,{"$f":"'Conversions d''unités'!E39","v":0},"kWh pCI",{"$f":"IF(E49=\"litres\",B49/10.08)","v":0},{"$f":"'Conversions d''unités'!N39","v":"litres"}]
["gaz",{"$f":"'Conversions d''unités'!H42","v":0},"Nm3",{"$f":"9.45*B50","v":0},{"$f":"1.11*D50","v":0}]
[null,{"$f":"'Conversions d''unités'!E44","v":0},"kWh pCI",{"$f":"B51/9.45","v":0},"Nm3"]
["prop",{"$f":"'Conversions d''unités'!H49","v":0},"kg",{"$f":"12.88*B52","v":0},{"$f":"1.08*D52","v":0}]
[null,{"$f":"'Conversions d''unités'!E51","v":0},"kWh pCI",{"$f":"B53/12.88","v":0},"kg"]
["but",{"$f":"'Conversions d''unités'!H56","v":0},"kg",{"$f":"12.3*B54","v":0},{"$f":"13.369*B54","v":0}]
[null,{"$f":"'Conversions d''unités'!E58","v":0},"kWh pCI",{"$f":"B55/12.3","v":0},"kg"]